{"text_format":"1","workbook":"xlsx","n_sheets":5,"sheets":["INGRESO DE DATOS","Global Premier Health  Plan","Global Select Health  Plan","Resumen tarifas","Tablas"],"not_rendered":{"charts":0,"images":5,"macros":1,"external_links":0,"defined_names":3,"comments":1,"pivot_tables":0},"unopened":[],"bounds":{"document_bytes":16777216,"sheet_cells":100000,"rows_first":2000,"rows_last":500,"rows_between":2000,"halvings":0,"cell_chars":16384,"cell_head_chars":4096},"cells_cut":0,"cells_raw":0,"read":"whole","date_system":"1900"}

{"sheet":"INGRESO DE DATOS","index":0,"n_rows":30,"n_cols":8,"rows_kept":30,"cut":false,"hidden":false,"merged":[[20,3,20,7],[26,1,28,1],[26,3,28,3],[9,0,9,12],[18,5,18,6],[14,1,14,2],[16,1,16,2],[14,3,14,7],[16,5,16,6],[18,1,18,2]]}
[]
[]
[]
[]
[]
[]
[]
[]
[]
[]
[]
[]
["LLENE LA INFORMACIÓN DEL ASEGURADO PROPUESTO:"]
[]
[null,"Nombre del Asegurado Titular",null,"JOHN DOE"]
[]
[null,"Número de adultos en la póliza",null,2,null,"Número de niños en la póliza",null,2]
[]
[null,"Edad del Asegurado Titular",null,32,null,"Edad del/la cónyuge ",null,46]
[]
[null,null,"Cotizador por","NOMBRE DEL AGENTE"]
[]
[]
[]
["SELECCIONE EL PRODUCTO PARA VER LA COTIZACIÓN CORRESPONDIENTE: "]
[]
[null,"Número de niños menores de 16 años: (Incluir en ésta casilla solo la cantidad de niños cuya edad sea menor de 16 años)",null,"Número de niños menores de 10 años: (Incluir en ésta casilla solo la cantidad de niños cuya edad sea menor de 10 años)"]
[]
[]
[null,1,null,1]

{"sheet":"Global Premier Health  Plan","index":1,"n_rows":75,"n_cols":10,"rows_kept":75,"cut":false,"hidden":false,"merged":[[12,0,12,1],[13,0,13,1],[14,0,14,1],[73,4,73,9],[74,4,75,9],[62,0,62,1],[73,0,73,1],[12,5,12,8],[14,5,14,8],[41,0,41,1],[42,1,43,1],[42,0,43,0],[77,0,77,1],[87,0,87,1],[12,3,12,4],[16,3,16,4],[18,3,18,4],[51,4,51,5],[52,4,52,5],[64,4,64,5],[65,4,65,5],[26,4,26,9],[36,4,36,9],[47,4,47,9],[60,4,60,9],[58,0,58,1],[21,0,21,1],[36,0,36,1]]}
[null,null,null,null,null,null,null," "," "," "]
[]
[]
[]
[]
[]
[]
[]
[]
[]
[]
[]
["Global Premier Health Plan",null,null,"Nombre del Asegurado Titular:",null,{"$f":"+'INGRESO DE DATOS'!$D$15","v":"JOHN DOE"}]
[]
[null,null,null,null,"Cotizado por:",{"$f":"+'INGRESO DE DATOS'!$D$21","v":"NOMBRE DEL AGENTE"}]
[]
[null,null,null,"Número de adultos en la póliza:",null,{"$f":"+'INGRESO DE DATOS'!$D$17","v":2},null,"Edad del Asegurado Titular:",{"$f":"+'INGRESO DE DATOS'!$D$19","v":32}]
[]
[null,null,null,"Número de niños en la póliza:",null,{"$f":"+'INGRESO DE DATOS'!$H$17","v":2},null,"Edad del/la conyuge:",{"$f":"+'INGRESO DE DATOS'!$H$19","v":46}]
[null,null,null,null,null,null,null," "," "]
[null,null,null,null,"Fecha de la cotización :",{"$f":"NOW()","v":"2023-04-17T12:29:16.010"}]
[null,null,null,null,null,null," ",false,null," "]
[null,null,null,null,"Deducibles",null,"PLAN 1","PLAN 2","PLAN 3","PLAN 4"]
[null,null,null,null,"En el país de residencia",null,250,2000,5000,10000]
[null,null,null,null,"Fuera del país de residencia",null,5000,2000,5000,10000]
[]
[null,null,null,null,"Tarifas Anuales"]
[null,null,null,null,"Prima para Asegurado Titular",null,{"$f":"(VLOOKUP($I$17,Tablas!$A$155:$G$221,3,TRUE))*1.1494","v":6076.0962080000008},{"$f":"(VLOOKUP($I$17,Tablas!$A$155:$G$221,4,TRUE))*1.1494","v":5514.1315600000007},{"$f":"(VLOOKUP($I$17,Tablas!$A$155:$G$221,5,TRUE))*1.1494","v":4050.2097440000002},{"$f":"(VLOOKUP($I$17,Tablas!$A$155:$G$221,6,TRUE))*1.1494","v":2958.3257200000003}]
[null,null,null,null,"Prima para conyuge",null,{"$f":"(IF($F$17=1,0,(VLOOKUP($I$19,Tablas!$A$155:$G$221,3,TRUE))))*1.1494","v":8781.9677119999997},{"$f":"(IF($F$17=1,0,(VLOOKUP($I$19,Tablas!$A$155:$G$221,4,TRUE))))*1.1494","v":7970.6752160000005},{"$f":"(IF($F$17=1,0,(VLOOKUP($I$19,Tablas!$A$155:$G$221,5,TRUE))))*1.1494","v":5721.2534400000004},{"$f":"(IF($F$17=1,0,(VLOOKUP($I$19,Tablas!$A$155:$G$221,6,TRUE))))*1.1494","v":4179.1724240000003}]
[null,null,null,null,"Prima para hijo (s)",null,{"$f":"(IF($F$19=0,0,(VLOOKUP($F$19,Tablas!$A$222:$G$224,3,TRUE))))*1.1494","v":3673.4824000000003},{"$f":"(IF($F$19=0,0,(VLOOKUP($F$19,Tablas!$A$222:$G$224,4,TRUE))))*1.1494","v":3334.2714719999999},{"$f":"(IF($F$19=0,0,(VLOOKUP($F$19,Tablas!$A$222:$G$224,5,TRUE))))*1.1494","v":2537.0476320000002},{"$f":"(IF($F$19=0,0,(VLOOKUP($F$19,Tablas!$A$222:$G$224,6,TRUE))))*1.1494","v":1854.7178160000001}]
[null,null,null,null,"Total de Prima neta",null,{"$f":"(SUM(G28:G30))","v":18531.546320000001},{"$f":"(SUM(H28:H30))","v":16819.078248000002},{"$f":"(SUM(I28:I30))","v":12308.510816},{"$f":"(SUM(J28:J30))","v":8992.2159600000014}]
[null,null,null,null,"Costo Administrativo Anual",null,86,86,86,86]
[null,null,null,null," IVA (14.49%) ",null,{"$f":"(G32)*0%","v":0},{"$f":"(H32)*0%","v":0},{"$f":"(I32)*0%","v":0},{"$f":"(J32)*0%","v":0}]
[]
[null,null,null,null,"TOTAL ANUAL",null,{"$f":"SUM(G31:G33)","v":18617.546320000001},{"$f":"SUM(H31:H33)","v":16905.078248000002},{"$f":"SUM(I31:I33)","v":12394.510816},{"$f":"SUM(J31:J33)","v":9078.2159600000014}]
[]
[null,null,null,null,"Tarifas Semianuales"]
[null,null,null,null,"Prima para Asegurado Titular",null,{"$f":"(VLOOKUP($I$17,Tablas!$A$530:$G$596,3,TRUE))*1.1494","v":3220.3309902400006},{"$f":"(VLOOKUP($I$17,Tablas!$A$530:$G$596,4,TRUE))*1.1494","v":2922.4897268000004},{"$f":"(VLOOKUP($I$17,Tablas!$A$530:$G$596,5,TRUE))*1.1494","v":2146.6111643200002},{"$f":"(VLOOKUP($I$17,Tablas!$A$530:$G$596,6,TRUE))*1.1494","v":1567.9126316000002}]
[null,null,null,null,"Prima para conyuge",null,{"$f":"(IF($F$17=1,0,(VLOOKUP($I$19,Tablas!$A$530:$G$596,3,TRUE))))*1.1494","v":4654.4428873600009},{"$f":"(IF($F$17=1,0,(VLOOKUP($I$19,Tablas!$A$530:$G$596,4,TRUE))))*1.1494","v":4224.4578644800004},{"$f":"(IF($F$17=1,0,(VLOOKUP($I$19,Tablas!$A$530:$G$596,5,TRUE))))*1.1494","v":3032.2643232},{"$f":"(IF($F$17=1,0,(VLOOKUP($I$19,Tablas!$A$530:$G$596,6,TRUE))))*1.1494","v":2214.9613847199998}]
[null,null,null,null,"Prima para hijo (s)",null,{"$f":"(IF($F$19=0,0,(VLOOKUP($F$19,Tablas!$A$597:$G$599,3,TRUE))))*1.1494","v":1946.9456720000003},{"$f":"(IF($F$19=0,0,(VLOOKUP($F$19,Tablas!$A$597:$G$599,4,TRUE))))*1.1494","v":1767.16388016},{"$f":"(IF($F$19=0,0,(VLOOKUP($F$19,Tablas!$A$597:$G$599,5,TRUE))))*1.1494","v":1344.6352449600001},{"$f":"(IF($F$19=0,0,(VLOOKUP($F$19,Tablas!$A$597:$G$599,6,TRUE))))*1.1494","v":983.00044248000006}]
[null,null,null,null,"Total de Prima neta",null,{"$f":"(SUM(G38:G40))","v":9821.7195496000022},{"$f":"(SUM(H38:H40))","v":8914.111471440001},{"$f":"(SUM(I38:I40))","v":6523.5107324800001},{"$f":"(SUM(J38:J40))","v":4765.8744588}]
[null,null,null,null,"Costo Administrativo Anual",null,86,86,86,86]
[null,null,null,null," IVA (14.49%) ",null,{"$f":"(G42)*0%","v":0},{"$f":"(H42)*0%","v":0},{"$f":"(I42)*0%","v":0},{"$f":"(J42)*0%","v":0}]
[null,null,null,null,"TOTAL de primera cuota",null,{"$f":"SUM(G41:G43)","v":9907.7195496000022},{"$f":"SUM(H41:H43)","v":9000.111471440001},{"$f":"SUM(I41:I43)","v":6609.5107324800001},{"$f":"SUM(J41:J43)","v":4851.8744588}]
[null,null,null,null,"Costo de segunda cuota",null,{"$f":"G41+G43","v":9821.7195496000022},{"$f":"H41+H43","v":8914.111471440001},{"$f":"I41+I43","v":6523.5107324800001},{"$f":"J41+J43","v":4765.8744588}]
[null,null,null,null,"TOTAL ANUAL",null,{"$f":"G44+G45","v":19729.439099200004},{"$f":"H44+H45","v":17914.222942880002},13133.02146496,{"$f":"J44+J45","v":9617.7489175999999}]
[]
[null,null,null,null,"Tarifas Trimestrales"]
[null,null,null,null,"Prima para Asegurado Titular",null,{"$f":"(VLOOKUP($I$17,Tablas!$A$755:$G$821,3,TRUE))*1.1494","v":1670.9264572000002},{"$f":"(VLOOKUP($I$17,Tablas!$A$755:$G$821,4,TRUE))*1.1494","v":1516.3861790000003},{"$f":"(VLOOKUP($I$17,Tablas!$A$755:$G$821,5,TRUE))*1.1494","v":1113.8076796},{"$f":"(VLOOKUP($I$17,Tablas!$A$755:$G$821,6,TRUE))*1.1494","v":813.53957300000002}]
[null,null,null,null,"Prima para conyuge",null,{"$f":"(IF($F$17=1,0,(VLOOKUP($I$19,Tablas!$A$755:$G$821,3,TRUE))))*1.1494","v":2415.0411208000005},{"$f":"(IF($F$17=1,0,(VLOOKUP($I$19,Tablas!$A$755:$G$821,4,TRUE))))*1.1494","v":2191.9356844000004},{"$f":"(IF($F$17=1,0,(VLOOKUP($I$19,Tablas!$A$755:$G$821,5,TRUE))))*1.1494","v":1573.3446960000001},{"$f":"(IF($F$17=1,0,(VLOOKUP($I$19,Tablas!$A$755:$G$821,6,TRUE))))*1.1494","v":1149.2724166}]
[null,null,null,null,"Prima para hijo (s)",null,{"$f":"(IF($F$19=0,0,(VLOOKUP($F$19,Tablas!$A$822:$G$824,3,TRUE))))*1.1494","v":1010.2076600000003},{"$f":"(IF($F$19=0,0,(VLOOKUP($F$19,Tablas!$A$822:$G$824,4,TRUE))))*1.1494","v":916.9246548000001},{"$f":"(IF($F$19=0,0,(VLOOKUP($F$19,Tablas!$A$822:$G$824,5,TRUE))))*1.1494","v":697.68809880000003},{"$f":"(IF($F$19=0,0,(VLOOKUP($F$19,Tablas!$A$822:$G$824,6,TRUE))))*1.1494","v":510.04739940000007}]
[null,null,null,null,"Total de Prima neta",null,{"$f":"(SUM(G49:G51))","v":5096.1752380000007},{"$f":"(SUM(H49:H51))","v":4625.2465182000005},{"$f":"(SUM(I49:I51))","v":3384.8404743999999},{"$f":"(SUM(J49:J51))","v":2472.8593890000002}]
[null,null,null,null,"Costo Administrativo Anual",null,86,86,86,86]
[null,null,null,null," IVA (14.49%) ",null,{"$f":"(G53)*0%","v":0},{"$f":"(H53)*0%","v":0},{"$f":"(I53)*0%","v":0},{"$f":"(J53)*0%","v":0}]
[]
[null,null,null,null,"TOTAL de primera cuota",null,{"$f":"SUM(G52:G54)","v":5182.1752380000007},{"$f":"SUM(H52:H54)","v":4711.2465182000005},{"$f":"SUM(I52:I54)","v":3470.8404743999999},{"$f":"SUM(J52:J54)","v":2558.8593890000002}]
[null,null,null,null,"Tres (3) cuotas adicionales, cada una de:",null,{"$f":"G52+G54","v":5096.1752380000007},{"$f":"H52+H54","v":4625.2465182000005},{"$f":"I52+I54","v":3384.8404743999999},{"$f":"J52+J54","v":2472.8593890000002}]
[null,null,null,null,"TOTAL ANUAL",null,{"$f":"G56+(G57*3)","v":20470.700952000003},{"$f":"H56+(H57*3)","v":18586.986072800002},13625.3618976,{"$f":"J56+(J57*3)","v":9977.4375560000008}]
[]
[]
[null,null,null,null,"Tarifas Mensuales"]
[null,null,null,null,"Prima para Asegurado Titular",null,{"$f":"(VLOOKUP($I$17,Tablas!$A$229:$G$295,3,TRUE))*1.1494","v":567.10231274666671},{"$f":"(VLOOKUP($I$17,Tablas!$A$229:$G$295,4,TRUE))*1.1494","v":514.65227893333338},{"$f":"(VLOOKUP($I$17,Tablas!$A$229:$G$295,5,TRUE))*1.1494","v":378.0195761066667},{"$f":"(VLOOKUP($I$17,Tablas!$A$229:$G$295,6,TRUE))*1.1494","v":276.11040053333335}]
[null,null,null,null,"Prima para conyuge",null,{"$f":"(IF($F$17=1,0,(VLOOKUP($I$19,Tablas!$A$229:$G$295,3,TRUE))))*1.1494","v":819.65031978666673},{"$f":"(IF($F$17=1,0,(VLOOKUP($I$19,Tablas!$A229:$G$295,4,TRUE))))*1.1494","v":743.92968682666663},{"$f":"(IF($F$17=1,0,(VLOOKUP($I$19,Tablas!$A$229:$G$295,5,TRUE))))*1.1494","v":533.98365440000009},{"$f":"(IF($F$17=1,0,(VLOOKUP($I$19,Tablas!$A$229:$G$295,6,TRUE))))*1.1494","v":390.05609290666666}]
[null,null,null,null,"Prima para hijo (s)",null,{"$f":"(IF($F$19=0,0,(VLOOKUP($F$19,Tablas!$A$296:$G$298,3,TRUE))))*1.1494","v":342.8583573333334},{"$f":"(IF($F$19=0,0,(VLOOKUP($F$19,Tablas!$A$296:$G$298,4,TRUE))))*1.1494","v":311.19867072},{"$f":"(IF($F$19=0,0,(VLOOKUP($F$19,Tablas!$A$296:$G$298,5,TRUE))))*1.1494","v":236.79111232000002},{"$f":"(IF($F$19=0,0,(VLOOKUP($F$19,Tablas!$A$296:$G$298,6,TRUE))))*1.1494","v":173.10699615999999}]
[null,null,null,null,"Total de Prima neta",null,{"$f":"SUM(G62:G64)","v":1729.6109898666668},{"$f":"SUM(H62:H64)","v":1569.7806364799999},{"$f":"SUM(I62:I64)","v":1148.7943428266667},{"$f":"SUM(J62:J64)","v":839.27348960000006}]
[null,null,null,null,"Costo Administrativo Anual",null,86,86,86,86]
[null,null,null,null," IVA (14.49%) ",null,{"$f":"(G66)*0%","v":0},{"$f":"(H66)*0%","v":0},{"$f":"(I66)*0%","v":0},{"$f":"(J66)*0%","v":0}]
[]
[null,null,null,null,"TOTAL de primera cuota",null,{"$f":"SUM(G65:G67)","v":1815.6109898666668},{"$f":"SUM(H65:H67)","v":1655.7806364799999},{"$f":"SUM(I65:I67)","v":1234.7943428266667},{"$f":"SUM(J65:J67)","v":925.27348960000006}]
[null,null,null,null,"Once (11) cuotas mensuales cada una de:",null,{"$f":"G65+G67","v":1729.6109898666668},{"$f":"H65+H67","v":1569.7806364799999},{"$f":"I65+I67","v":1148.7943428266667},{"$f":"J65+J67","v":839.27348960000006}]
[null,null,null,null,"TOTAL ANUAL",null,{"$f":"G69+(G70*11)","v":20841.3318784},{"$f":"H69+(H70*11)","v":18923.367637759999},{"$f":"I69+(I70*11)","v":13871.53211392},{"$f":"J69+(J70*11)","v":10157.2818752}]
[]
[]
[null,null,null,null,"Tarifas en US$ -  Efectivas a partir del 1ro. de Enero de 2023"]
[null,null,null,null,"Este presupuesto solamente tiene carácter informativo y en ningún momento expresa compromiso legal para suministrarle cobertura de seguro. La emisión de una póliza de seguro Bupa está sujeta a todas las evaluaciones de riesgo por parte de Bupa y a la recepción de todos los pagos de prima requeridos."]

{"sheet":"Global Select Health  Plan","index":2,"n_rows":74,"n_cols":10,"rows_kept":74,"cut":false,"hidden":false,"merged":[[73,4,74,9],[26,4,26,9],[36,4,36,9],[47,4,47,9],[60,4,60,9],[72,4,72,9],[64,4,64,5],[65,4,65,5],[57,0,57,1],[61,0,61,1],[72,0,72,1],[76,0,76,1],[86,0,86,1],[41,1,42,1],[41,0,42,0],[51,4,51,5],[52,4,52,5],[21,0,21,1],[35,0,35,1],[40,0,40,1],[12,3,12,4],[16,3,16,4],[12,5,12,8],[14,5,14,8],[12,0,12,1],[13,0,13,1],[14,0,14,1]]}
[null,null,null,null,null,null,null," "," "," "]
[]
[]
[]
[]
[]
[]
[]
[]
[]
[]
[]
["Global Select Health Plan",null,null,"Nombre del Asegurado Titular:",null,{"$f":"+'INGRESO DE DATOS'!$D$15","v":"JOHN DOE"}]
[]
[null,null,null,null,"Cotizado por:",{"$f":"+'INGRESO DE DATOS'!$D$21","v":"NOMBRE DEL AGENTE"}]
[]
[null,null,null,"Número de adultos en la póliza:",null,{"$f":"+'INGRESO DE DATOS'!$D$17","v":2},null,"Edad del Asegurado Titular:",{"$f":"+'INGRESO DE DATOS'!$D$19","v":32}]
[]
[null,null,null,null,"Número de niños en la póliza:",{"$f":"+'INGRESO DE DATOS'!$H$17","v":2},null,"Edad del/la conyuge:",{"$f":"+'INGRESO DE DATOS'!$H$19","v":46}]
[null,null,null,null,null,null,null," "," "]
[null,null,null,null,"Fecha de la cotización:",{"$f":"NOW()","v":"2023-04-17T12:29:16.010"}]
[]
[null,null,null,null,"Deducibles",null,"PLAN 1","PLAN 2","PLAN 3","PLAN 4"]
[null,null,null,null,"En el país de residencia",null,250,2000,5000,10000]
[null,null,null,null,"Fuera del país de residencia",null,5000,2000,5000,10000]
[]
[null,null,null,null,"Tarifas Anuales"]
[null,null,null,null,"Prima para Asegurado Titular",null,{"$f":"(VLOOKUP($I$17,Tablas!$A$305:$G$371,3,TRUE))*1.1494","v":4407.9030240000002},{"$f":"(VLOOKUP($I$17,Tablas!$A$305:$G$371,4,TRUE))*1.1494","v":4227.9529599999996},{"$f":"(VLOOKUP($I$17,Tablas!$A$305:$G$371,5,TRUE))*1.1494","v":3115.0579039999998},{"$f":"(VLOOKUP($I$17,Tablas!$A$305:$G$371,6,TRUE))*1.1494","v":2273.835032}]
[null,null,null,null,"Prima para conyuge",null,{"$f":"(IF($F$17=1,0,(VLOOKUP($I$19,Tablas!$A$305:$G$371,3,TRUE))))*1.1494","v":6616.222256},{"$f":"(IF($F$17=1,0,(VLOOKUP($I$19,Tablas!$A$305:$G$371,4,TRUE))))*1.1494","v":6347.1707040000001},{"$f":"(IF($F$17=1,0,(VLOOKUP($I$19,Tablas!$A$305:$G$371,5,TRUE))))*1.1494","v":4561.6467680000005},{"$f":"(IF($F$17=1,0,(VLOOKUP($I$19,Tablas!$A$305:$G$371,6,TRUE))))*1.1494","v":3332.5703600000002}]
[null,null,null,null,"Prima para hijo (s)",null,{"$f":"(IF($F$19=0,0,(VLOOKUP($F$19,Tablas!$A$372:$G$374,3,TRUE))))*1.1494","v":2870.465584},{"$f":"(IF($F$19=0,0,(VLOOKUP($F$19,Tablas!$A$372:$G$374,4,TRUE))))*1.1494","v":2754.284232},{"$f":"(IF($F$19=0,0,(VLOOKUP($F$19,Tablas!$A$372:$G$374,5,TRUE))))*1.1494","v":2109.6087600000001},{"$f":"(IF($F$19=0,0,(VLOOKUP($F$19,Tablas!$A$372:$G$374,6,TRUE))))*1.1494","v":1540.9316160000001}]
[null,null,null,null,"Total de Prima neta",null,{"$f":"(SUM(G28:G30))","v":13894.590864},{"$f":"(SUM(H28:H30))","v":13329.407895999999},{"$f":"(SUM(I28:I30))","v":9786.313431999999},{"$f":"(SUM(J28:J30))","v":7147.3370080000004}]
[null,null,null,null,"Costo Administrativo Anual",null,86,86,86,86]
[null,null,null,null,"  IVA (14.49%)  ",null,{"$f":"(G32)*0%","v":0},{"$f":"(H32)*0%","v":0},{"$f":"(I32)*0%","v":0},{"$f":"(J32)*0%","v":0}]
[]
[null,null,null,null,"TOTAL ANUAL",null,{"$f":"SUM(G31:G33)","v":13980.590864},{"$f":"SUM(H31:H33)","v":13415.407895999999},{"$f":"SUM(I31:I33)","v":9872.313431999999},{"$f":"SUM(J31:J33)","v":7233.3370080000004}]
[]
[null,null,null,null,"Tarifas Semianuales"]
[null,null,null,null,"Prima para Asegurado Titular",null,{"$f":"(VLOOKUP($I$17,Tablas!$A$605:$G$671,3,TRUE))*1.1494","v":2336.1886027199998},{"$f":"(VLOOKUP($I$17,Tablas!$A$605:$G$671,4,TRUE))*1.1494","v":2240.8150688000001},{"$f":"(VLOOKUP($I$17,Tablas!$A$605:$G$671,5,TRUE))*1.1494","v":1650.9806891200001},{"$f":"(VLOOKUP($I$17,Tablas!$A$605:$G$671,6,TRUE))*1.1494","v":1205.1325669599998}]
[null,null,null,null,"Prima para conyuge",null,{"$f":"(IF($F$17=1,0,(VLOOKUP($I$19,Tablas!$A$605:$G$671,3,TRUE))))*1.1494","v":3506.5977956800002},{"$f":"(IF($F$17=1,0,(VLOOKUP($I$19,Tablas!$A$605:$G$671,4,TRUE))))*1.1494","v":3364.0004731199997},{"$f":"(IF($F$17=1,0,(VLOOKUP($I$19,Tablas!$A$605:$G$671,5,TRUE))))*1.1494","v":2417.67278704},{"$f":"(IF($F$17=1,0,(VLOOKUP($I$19,Tablas!$A$605:$G$671,6,TRUE))))*1.1494","v":1766.2622908000001}]
[null,null,null,null,"Prima para hijo (s)",null,{"$f":"(IF($F$19=0,0,(VLOOKUP($F$19,Tablas!$A$672:$G$674,3,TRUE))))*1.1494","v":1521.3467595200002},{"$f":"(IF($F$19=0,0,(VLOOKUP($F$19,Tablas!$A$672:$G$674,4,TRUE))))*1.1494","v":1459.77064296},{"$f":"(IF($F$19=0,0,(VLOOKUP($F$19,Tablas!$A$672:$G$674,5,TRUE))))*1.1494","v":1118.0926428},{"$f":"(IF($F$19=0,0,(VLOOKUP($F$19,Tablas!$A$672:$G$674,6,TRUE))))*1.1494","v":816.69375648000005}]
[null,null,null,null,"Total de Prima neta",null,{"$f":"(SUM(G38:G40))","v":7364.1331579199996},{"$f":"(SUM(H38:H40))","v":7064.5861848799996},{"$f":"(SUM(I38:I40))","v":5186.7461189599999},{"$f":"(SUM(J38:J40))","v":3788.08861424}]
[null,null,null,null,"Costo Administrativo Anual",null,86,86,86,86]
[null,null,null,null,"  IVA (14.49%)  ",null,{"$f":"(G42)*0%","v":0},{"$f":"(H42)*0%","v":0},{"$f":"(I42)*0%","v":0}]
[null,null,null,null,"TOTAL de primera cuota",null,{"$f":"SUM(G41:G43)","v":7450.1331579199996},{"$f":"SUM(H41:H43)","v":7150.5861848799996},{"$f":"SUM(I41:I43)","v":5272.7461189599999},{"$f":"SUM(J41:J43)","v":3874.08861424}]
[null,null,null,null,"Costo de segunda cuota",null,{"$f":"G41+G43","v":7364.1331579199996},{"$f":"H41+H43","v":7064.5861848799996},{"$f":"I41+I43","v":5186.7461189599999},{"$f":"J41+J43","v":3788.08861424}]
[null,null,null,null,"TOTAL ANUAL",null,{"$f":"G44+G45","v":14814.266315839999},{"$f":"H44+H45","v":14215.172369759999},10459.49223792,7662.1772284799999]
[]
[null,null,null,null,"Tarifas Trimestrales"]
[null,null,null,null,"Prima para Asegurado Titular",null,{"$f":"(VLOOKUP($I$17,Tablas!$A$830:$G$896,3,TRUE))*1.1494","v":1212.1733316},{"$f":"(VLOOKUP($I$17,Tablas!$A$830:$G$896,4,TRUE))*1.1494","v":1162.687064},{"$f":"(VLOOKUP($I$17,Tablas!$A$830:$G$896,5,TRUE))*1.1494","v":856.64092359999995},{"$f":"(VLOOKUP($I$17,Tablas!$A$830:$G$896,6,TRUE))*1.1494","v":625.30463380000003}]
[null,null,null,null,"Prima para conyuge",null,{"$f":"(IF($F$17=1,0,(VLOOKUP($I$19,Tablas!$A$830:$G$896,3,TRUE))))*1.1494","v":1819.4611204},{"$f":"(IF($F$17=1,0,(VLOOKUP($I$19,Tablas!$A$830:$G$896,4,TRUE))))*1.1494","v":1745.4719436},{"$f":"(IF($F$17=1,0,(VLOOKUP($I$19,Tablas!$A$830:$G$896,5,TRUE))))*1.1494","v":1254.4528612000001},{"$f":"(IF($F$17=1,0,(VLOOKUP($I$19,Tablas!$A$830:$G$896,6,TRUE))))*1.1494","v":916.45684900000003}]
[null,null,null,null,"Prima para hijo (s)",null,{"$f":"(IF($F$19=0,0,(VLOOKUP($F$19,Tablas!$A$897:$G$899,3,TRUE))))*1.1494","v":789.37803560000009},{"$f":"(IF($F$19=0,0,(VLOOKUP($F$19,Tablas!$A$897:$G$899,4,TRUE))))*1.1494","v":757.42816380000011},{"$f":"(IF($F$19=0,0,(VLOOKUP($F$19,Tablas!$A$897:$G$899,5,TRUE))))*1.1494","v":580.14240900000004},{"$f":"(IF($F$19=0,0,(VLOOKUP($F$19,Tablas!$A$897:$G$899,6,TRUE))))*1.1494","v":423.75619440000003}]
[null,null,null,null,"Total de Prima neta",null,{"$f":"(SUM(G49:G51))","v":3821.0124876000004},{"$f":"(SUM(H49:H51))","v":3665.5871714000004},{"$f":"(SUM(I49:I51))","v":2691.2361938000004},{"$f":"(SUM(J49:J51))","v":1965.5176772}]
[null,null,null,null,"Costo Administrativo Anual",null,86,86,86,86]
[null,null,null,null,"  IVA (14.49%)  ",null,{"$f":"(G53)*0%","v":0},{"$f":"(H53)*0%","v":0},{"$f":"(I53)*0%","v":0},{"$f":"(J53)*0%","v":0}]
[]
[null,null,null,null,"TOTAL de primera cuota",null,{"$f":"SUM(G52:G54)","v":3907.0124876000004},{"$f":"SUM(H52:H54)","v":3751.5871714000004},{"$f":"SUM(I52:I54)","v":2777.2361938000004},{"$f":"SUM(J52:J54)","v":2051.5176772}]
[null,null,null,null,"Tres (3) cuotas adicionales, cada una de:",null,{"$f":"G52+G54","v":3821.0124876000004},{"$f":"H52+H54","v":3665.5871714000004},{"$f":"I52+I54","v":2691.2361938000004},{"$f":"J52+J54","v":1965.5176772}]
[null,null,null,null,"TOTAL ANUAL",null,{"$f":"G56+(G57*3)","v":15370.049950400002},{"$f":"H56+(H57*3)","v":14748.348685600002},10850.944775200001,{"$f":"J56+(J57*3)","v":7948.0707087999999}]
[]
[]
[null,null,null,null,"Tarifas Mensuales"]
[null,null,null,null,"Prima para Asegurado Titular",null,{"$f":"(VLOOKUP($I$17,Tablas!$A$379:$G$445,3,TRUE))*1.1494","v":411.40428223999999},{"$f":"(VLOOKUP($I$17,Tablas!$A$379:$G$445,4,TRUE))*1.1494","v":394.60894293333337},{"$f":"(VLOOKUP($I$17,Tablas!$A$379:$G$445,5,TRUE))*1.1494","v":290.73873770666665},{"$f":"(VLOOKUP($I$17,Tablas!$A$379:$G$445,6,TRUE))*1.1494","v":212.22460298666667}]
[null,null,null,null,"Prima para conyuge",null,{"$f":"(IF($F$17=1,0,(VLOOKUP($I$19,Tablas!$A$379:$G$445,3,TRUE))))*1.1494","v":617.51407722666659},{"$f":"(IF($F$17=1,0,(VLOOKUP($I$19,Tablas!$A$379:$G$445,4,TRUE))))*1.1494","v":592.40259904000004},{"$f":"(IF($F$17=1,0,(VLOOKUP($I$19,Tablas!$A$379:$G$445,5,TRUE))))*1.1494","v":425.75369834666668},{"$f":"(IF($F$17=1,0,(VLOOKUP($I$19,Tablas!$A$379:$G$445,6,TRUE))))*1.1494","v":311.03990026666668}]
[null,null,null,null,"Prima para hijo (s)",null,{"$f":"(IF($F$19=0,0,(VLOOKUP($F$19,Tablas!$A$446:$G$448,3,TRUE))))*1.1494","v":267.91012117333332},{"$f":"(IF($F$19=0,0,(VLOOKUP($F$19,Tablas!$A$446:$G$448,4,TRUE))))*1.1494","v":257.06652832000003},{"$f":"(IF($F$19=0,0,(VLOOKUP($F$19,Tablas!$A$446:$G$448,5,TRUE))))*1.1494","v":196.89681760000002},{"$f":"(IF($F$19=0,0,(VLOOKUP($F$19,Tablas!$A$446:$G$448,6,TRUE))))*1.1494","v":143.82028416000003}]
[null,null,null,null,"Total de Prima neta",null,{"$f":"(SUM(G62:G64))","v":1296.8284806399997},{"$f":"(SUM(H62:H64))","v":1244.0780702933334},{"$f":"(SUM(I62:I64))","v":913.3892536533333},{"$f":"(SUM(J62:J64))","v":667.0847874133334}]
[null,null,null,null,"Costo Administrativo Anual",null,86,86,86,86]
[null,null,null,null,"  IVA (14.49%)  ",null,{"$f":"(G66)*0%","v":0},{"$f":"(H66)*0%","v":0},{"$f":"(I66)*0%","v":0},{"$f":"(J66)*0%","v":0}]
[]
[null,null,null,null,"TOTAL de primera cuota",null,{"$f":"SUM(G65:G67)","v":1382.8284806399997},{"$f":"SUM(H65:H67)","v":1330.0780702933334},{"$f":"SUM(I65:I67)","v":999.3892536533333},{"$f":"SUM(J65:J67)","v":753.0847874133334}]
[null,null,null,null,"Once (11) cuotas mensuales cada una de:",null,{"$f":"G65+G67","v":1296.8284806399997},{"$f":"H65+H67","v":1244.0780702933334},{"$f":"I65+I67","v":913.3892536533333},{"$f":"J65+J67","v":667.0847874133334}]
[null,null,null,null,"TOTAL ANUAL",null,{"$f":"G69+(G70*11)","v":15647.941767679997},{"$f":"H69+(H70*11)","v":15014.936843520001},{"$f":"I69+(I70*11)","v":11046.671043839999},{"$f":"J69+(J70*11)","v":8091.0174489600004}]
[]
[null,null,null,null,"Tarifas en US$ -  Efectivas a partir del 1ro. de Enero de 2023"]
[null,null,null,null,"Este presupuesto solamente tiene carácter informativo y en ningún momento expresa compromiso legal para suministrarle cobertura de seguro. La emisión de una póliza de seguro Bupa está sujeta a todas las evaluaciones de riesgo por parte de Bupa y a la recepción de todos los pagos de prima requeridos."]

{"sheet":"Resumen tarifas","index":3,"n_rows":106,"n_cols":8,"rows_kept":106,"cut":false,"hidden":false,"merged":[[104,0,104,7],[70,4,70,7],[77,4,77,7],[79,4,79,7],[81,4,81,7],[83,4,83,7],[78,0,78,1],[91,0,91,1],[92,0,92,1],[74,1,74,3],[77,0,77,1],[101,0,101,3],[100,0,100,3],[64,4,64,7],[66,4,66,7],[68,4,68,7],[50,3,50,7],[52,3,52,7],[54,3,54,7],[22,2,22,6],[58,0,58,2],[53,0,53,1],[54,0,54,1],[55,0,55,1],[38,2,38,3],[40,2,40,3],[41,0,41,1],[27,0,27,1],[50,0,50,1],[51,0,51,1],[42,2,42,3],[52,0,52,1],[56,3,56,7],[105,0,107,6],[87,0,87,1],[90,0,90,1],[79,0,79,1],[86,0,86,2],[90,2,90,3],[82,0,82,1],[80,0,80,1],[81,0,81,1],[93,0,93,1],[102,0,102,1],[92,2,92,3],[94,2,94,3],[94,0,94,1],[95,0,95,1],[96,2,96,3],[19,0,19,6],[46,0,46,1],[21,2,21,6],[24,4,24,5],[27,4,27,5],[32,0,32,1],[33,0,33,1],[36,0,36,1],[37,0,37,1],[38,0,38,1],[39,0,39,1],[40,0,40,1],[44,0,44,1],[36,2,36,3],[21,0,21,1],[24,0,24,1],[61,0,61,1],[69,0,69,1],[64,0,64,1],[65,0,65,1],[66,0,66,1],[67,0,67,1],[68,0,68,1]]}
[]
[null,null,null,null," "," "]
[]
[]
[]
[null,null,null,null," "," "," "]
[]
[]
[]
[]
[]
[]
[]
[]
[]
[]
[]
[]
[]
["Cotización de Seguro Médico - Global Health Plans"]
[]
["Nombre del Asegurado Titular",null,{"$f":"+'INGRESO DE DATOS'!$D$15","v":"JOHN DOE"}]
[null,"Cotizado por",{"$f":"+'INGRESO DE DATOS'!$D$21","v":"NOMBRE DEL AGENTE"}]
[]
["Número de adultos en la póliza",null,{"$f":"+'INGRESO DE DATOS'!$D$17","v":2},null,"Edad del Asegurado Titular",null,{"$f":"+'INGRESO DE DATOS'!$D$19","v":32}]
[]
[]
["Número de niños en la póliza",null,{"$f":"+'INGRESO DE DATOS'!$H$17","v":2},null,"Edad del/la cónyuge ",null,{"$f":"+'INGRESO DE DATOS'!$H$19","v":46}]
[]
[]
[null,null,"Fecha de la Cotización:",{"$f":"NOW()","v":"2023-04-17T12:29:16.010"}]
[]
["Bupa Global Ultimtate Health Plan"]
["Deducibles",null,"PLAN 1","PLAN 2"]
["En el país de residencia",null,0,1000]
["Fuera del país de residencia",null,0,1000]
[null,null,"Tarifas Anuales"]
[null,null,{"$f":"#REF!","v":{"$error":"#REF!"}},{"$f":"#REF!","v":{"$error":"#REF!"}}]
[null,null,"Tarifas Semi-anuales"]
[null,null,{"$f":"#REF!","v":{"$error":"#REF!"}},{"$f":"#REF!","v":{"$error":"#REF!"}}]
[null,null,"Tarifas Trimestrales"]
[null,null,{"$f":"#REF!","v":{"$error":"#REF!"}},{"$f":"#REF!","v":{"$error":"#REF!"}}]
[null,null,"Tarifas Mensuales"]
[null,null,{"$f":"#REF!","v":{"$error":"#REF!"}},{"$f":"#REF!","v":{"$error":"#REF!"}}]
["Ahorros en tarifas de prima para niños*",null,{"$f":"#REF!","v":{"$error":"#REF!"}},{"$f":"#REF!","v":{"$error":"#REF!"}}]
[]
["Bupa Global Elite Health Plan"]
["Deducibles",null,null,"PLAN 1","PLAN 2","PLAN 3","PLAN 4","PLAN 5"]
["En el país de residencia",null,null,250,2000,3500,5000,10000]
["Fuera del país de residencia",null,null,5000,2000,3500,5000,10000]
[null,null,null,"Tarifas Anuales"]
[null,null,null,{"$f":"+#REF!","v":{"$error":"#REF!"}},{"$f":"+#REF!","v":{"$error":"#REF!"}},{"$f":"+#REF!","v":{"$error":"#REF!"}},{"$f":"+#REF!","v":{"$error":"#REF!"}},{"$f":"+#REF!","v":{"$error":"#REF!"}}]
[null,null,null,"Tarifas Semi-anuales"]
[null,null,null,{"$f":"+#REF!","v":{"$error":"#REF!"}},{"$f":"+#REF!","v":{"$error":"#REF!"}},{"$f":"+#REF!","v":{"$error":"#REF!"}},{"$f":"+#REF!","v":{"$error":"#REF!"}},{"$f":"+#REF!","v":{"$error":"#REF!"}}]
[null,null,null,"Tarifas Trimestrales"]
[null,null,null,{"$f":"+#REF!","v":{"$error":"#REF!"}},{"$f":"+#REF!","v":{"$error":"#REF!"}},{"$f":"+#REF!","v":{"$error":"#REF!"}},{"$f":"+#REF!","v":{"$error":"#REF!"}},{"$f":"+#REF!","v":{"$error":"#REF!"}}]
[null,null,null,"Tarifas Mensuales"]
[null,null,null,{"$f":"+#REF!","v":{"$error":"#REF!"}},{"$f":"+#REF!","v":{"$error":"#REF!"}},{"$f":"+#REF!","v":{"$error":"#REF!"}},{"$f":"+#REF!","v":{"$error":"#REF!"}},{"$f":"+#REF!","v":{"$error":"#REF!"}}]
["Ahorros en tarifas de prima para niños*",null,null,{"$f":"+#REF!","v":{"$error":"#REF!"}},{"$f":"+#REF!","v":{"$error":"#REF!"}},{"$f":"+#REF!","v":{"$error":"#REF!"}},{"$f":"+#REF!","v":{"$error":"#REF!"}},{"$f":"+#REF!","v":{"$error":"#REF!"}}]
[]
["Bupa Global Premier Health Plan"]
["Deducibles",null,null,null,"PLAN 1","PLAN 2","PLAN 3","PLAN 4"]
["En el país de residencia",null,null,null,250,2000,5000,10000]
["Fuera del país de residencia",null,null,null,5000,2000,5000,10000]
[null,null,null,null,"Tarifas Anuales"]
[null,null,null,null,{"$f":"+'Global Premier Health  Plan'!G35","v":18617.546320000001},{"$f":"+'Global Premier Health  Plan'!H35","v":16905.078248000002},{"$f":"+'Global Premier Health  Plan'!I35","v":12394.510816},{"$f":"+'Global Premier Health  Plan'!J35","v":9078.2159600000014}]
[null,null,null,null,"Tarifas Semi-anuales"]
[null,null,null,null,{"$f":"+'Global Premier Health  Plan'!G45","v":9821.7195496000022},{"$f":"+'Global Premier Health  Plan'!H45","v":8914.111471440001},{"$f":"+'Global Premier Health  Plan'!I45","v":6523.5107324800001},{"$f":"+'Global Premier Health  Plan'!J45","v":4765.8744588}]
[null,null,null,null,"Tarifas Trimestrales"]
[null,null,null,null,{"$f":"+'Global Premier Health  Plan'!G57","v":5096.1752380000007},{"$f":"+'Global Premier Health  Plan'!H57","v":4625.2465182000005},{"$f":"+'Global Premier Health  Plan'!I57","v":3384.8404743999999},{"$f":"+'Global Premier Health  Plan'!J57","v":2472.8593890000002}]
[null,null,null,null,"Tarifas Mensuales"]
[null,null,null,null,{"$f":"+'Global Premier Health  Plan'!G70","v":1729.6109898666668},{"$f":"+'Global Premier Health  Plan'!H70","v":1569.7806364799999},{"$f":"+'Global Premier Health  Plan'!I70","v":1148.7943428266667},{"$f":"+'Global Premier Health  Plan'!J70","v":839.27348960000006}]
[]
["Bupa Global Select Health Plan"]
["Deducibles",null,null,null,"PLAN 1","PLAN 2","PLAN 3","PLAN 4"]
[" En el país de residencia ",null,null,null,250,2000,5000,10000]
[" Fuera del país de residencia ",null,null,null,5000,2000,5000,10000]
[null,null,null,null,"Tarifas Anuales"]
[null,null,null,null,{"$f":"+'Global Select Health  Plan'!G35","v":13980.590864},{"$f":"+'Global Select Health  Plan'!H35","v":13415.407895999999},{"$f":"+'Global Select Health  Plan'!I35","v":9872.313431999999},{"$f":"+'Global Select Health  Plan'!J35","v":7233.3370080000004}]
[null,null,null,null,"Tarifas Semi-anuales"]
[null,null,null,null,{"$f":"+'Global Select Health  Plan'!G45","v":7364.1331579199996},{"$f":"+'Global Select Health  Plan'!H45","v":7064.5861848799996},{"$f":"+'Global Select Health  Plan'!I45","v":5186.7461189599999},{"$f":"+'Global Select Health  Plan'!J45","v":3788.08861424}]
[null,null,null,null,"Tarifas Trimestrales"]
[null,null,null,null,{"$f":"+'Global Select Health  Plan'!G57","v":3821.0124876000004},{"$f":"+'Global Select Health  Plan'!H57","v":3665.5871714000004},{"$f":"+'Global Select Health  Plan'!I57","v":2691.2361938000004},{"$f":"+'Global Select Health  Plan'!J57","v":1965.5176772}]
[null,null,null,null,"Tarifas Mensuales"]
[null,null,null,null,{"$f":"+'Global Select Health  Plan'!G70","v":1296.8284806399997},{"$f":"+'Global Select Health  Plan'!H70","v":1244.0780702933334},{"$f":"+'Global Select Health  Plan'!I70","v":913.3892536533333},{"$f":"+'Global Select Health  Plan'!J70","v":667.0847874133334}]
[]
["Bupa Global Major Medical Health Plan"]
["Deducibles",null,"PLAN 1","PLAN 2"]
[" En el país de residencia ",null,10000,20000]
[" Fuera del país de residencia ",null,10000,20000]
[null,null,"Tarifas Anuales"]
[null,null,{"$f":"#REF!","v":{"$error":"#REF!"}},{"$f":"#REF!","v":{"$error":"#REF!"}}]
[null,null,"Tarifas Semi-anuales"]
[null,null,{"$f":"#REF!","v":{"$error":"#REF!"}},{"$f":"#REF!","v":{"$error":"#REF!"}}]
[null,null,"Tarifas Trimestrales"]
[null,null,{"$f":"#REF!","v":{"$error":"#REF!"}},{"$f":"#REF!","v":{"$error":"#REF!"}}]
[null,null,"Tarifas Mensuales"]
[null,null,{"$f":"#REF!","v":{"$error":"#REF!"}},{"$f":"#REF!","v":{"$error":"#REF!"}}]
[]
["Notas:"]
["Primas anuales incluyen US$86.00 por Costo Administrativo Anual"]
["Costo administrativo anual incluido en el primer pago de los pagos semestrales, trimestrales y mensuales"]
["*Basado en un modo de pago anual"]
[]
["Tarifas en US$ -  Efectivas a partir del 1ro. de Enero de 2023"]
["Este presupuesto solamente tiene carácter informativo y en ningún momento expresa compromiso legal para suministrarle cobertura de seguro. La emisión de una póliza de seguro Bupa está sujeta a todas las evaluaciones de riesgo por parte de Bupa y a la recepción de todos los pagos de prima requeridos."]

{"sheet":"Tablas","index":4,"n_rows":1497,"n_cols":25,"rows_kept":1497,"cut":false,"hidden":true,"merged":[[1424,0,1424,6],[1425,0,1425,1],[1425,2,1425,6],[1348,0,1348,6],[1349,0,1349,6],[1350,0,1350,1],[1350,2,1350,6],[1423,0,1423,6],[1200,0,1200,1],[1200,2,1200,6],[1273,0,1273,6],[1274,0,1274,6],[1275,0,1275,1],[1275,2,1275,6],[1124,0,1124,6],[1125,0,1125,6],[1126,0,1126,1],[1126,2,1126,6],[1199,0,1199,6],[976,0,976,1],[976,2,976,6],[1049,0,1049,6],[1050,0,1050,6],[1051,0,1051,1],[1051,2,1051,6],[900,0,900,6],[901,0,901,6],[902,0,902,1],[902,2,902,6],[975,0,975,6],[1,0,1,6],[2,0,2,6],[77,0,77,1],[77,2,77,6],[76,0,76,6],[3,0,3,1],[3,2,3,6],[376,0,376,1],[376,2,376,6],[150,0,150,6],[151,0,151,6],[152,0,152,1],[152,2,152,6],[225,0,225,6],[226,0,226,1],[375,0,375,6],[226,2,226,6],[300,0,300,6],[301,0,301,6],[302,0,302,1],[302,2,302,6],[526,0,526,6],[450,0,450,6],[451,0,451,6],[452,0,452,1],[452,2,452,6],[525,0,525,6],[527,0,527,1],[527,2,527,6],[600,0,600,6],[601,0,601,6],[602,0,602,1],[602,2,602,6],[751,0,751,6],[675,0,675,6],[676,0,676,6],[677,0,677,1],[677,2,677,6],[750,0,750,6],[752,0,752,1],[752,2,752,6],[825,0,825,6],[826,0,826,6],[827,0,827,1],[827,2,827,6]]}
[]
["BUPA GLOBAL ELITE",null,null,null,null,null,null,null,"FACTOR MENSUAL:",null,9.3333333333333338E-2,9.3333333333333338E-2,9.3333333333333338E-2,9.3333333333333338E-2,9.3333333333333338E-2,9.3333333333333338E-2]
["TARIFAS ANUALES",null,null,null,null,null,null,null,"FACTOR TRIMESTRAL:",null,0.27500000000000002,0.27500000000000002,0.27500000000000002,0.27500000000000002,0.27500000000000002,0.27500000000000002]
["EDAD",null,null,null,null,null,null,null,"FACTOR SEMIANUAL:",null,0.53,0.53,0.53,0.53,0.53,0.53]
[" "," ",250,2000,3500,5000,10000,null,null,null,null,null,null,null,null,null,null,null,null,null,2,6,10,14,18]
[18,18,{"$f":"O6","v":8460.0499999999993},{"$f":"P6","v":7413.7},{"$f":"Q6","v":6158.25},{"$f":"R6","v":5343.0999999999995},{"$f":"S6","v":4068.95},null,9953,8722,7245,6286,4787,null,{"$f":"(I6)*0.85","v":8460.0499999999993},{"$f":"(J6)*0.85","v":7413.7},6158.25,5343.0999999999995,4068.95,null,0,0,0,0,0]
[19,18,{"$f":"O7","v":8460.0499999999993},{"$f":"P7","v":7413.7},{"$f":"Q7","v":6158.25},{"$f":"R7","v":5343.0999999999995},{"$f":"S7","v":4068.95},null,9953,8722,7245,6286,4787,null,{"$f":"(I7)*0.85","v":8460.0499999999993},{"$f":"(J7)*0.85","v":7413.7},{"$f":"(K7)*0.85","v":6158.25},{"$f":"(L7)*0.85","v":5343.0999999999995},{"$f":"(M7)*0.85","v":4068.95},null,0,0,0,0,0]
[20,18,8460.0499999999993,7413.7,6158.25,5343.0999999999995,4068.95,null,9953,8722,7245,6286,4787,null,8460.0499999999993,7413.7,6158.25,5343.0999999999995,4068.95,null,0,0,0,0,0]
[21,18,8460.0499999999993,7413.7,6158.25,5343.0999999999995,4068.95,null,9953,8722,7245,6286,4787,null,8460.0499999999993,7413.7,6158.25,5343.0999999999995,4068.95,null,0,0,0,0,0]
[22,18,8460.0499999999993,7413.7,6158.25,5343.0999999999995,4068.95,null,9953,8722,7245,6286,4787,null,8460.0499999999993,7413.7,6158.25,5343.0999999999995,4068.95,null,0,0,0,0,0]
[23,18,8460.0499999999993,7413.7,6158.25,5343.0999999999995,4068.95,null,9953,8722,7245,6286,4787,null,8460.0499999999993,7413.7,6158.25,5343.0999999999995,4068.95,null,0,0,0,0,0]
[24,18,8460.0499999999993,7413.7,6158.25,5343.0999999999995,4068.95,null,9953,8722,7245,6286,4787,null,8460.0499999999993,7413.7,6158.25,5343.0999999999995,4068.95,null,0,0,0,0,0]
[25,25,9038.9,7922,6540.75,5671.2,4322.25,null,10634,9320,7695,6672,5085,null,9038.9,7922,6540.75,5671.2,4322.25,null,0,0,0,0,0]
[26,25,9038.9,7922,6540.75,5671.2,4322.25,null,10634,9320,7695,6672,5085,null,9038.9,7922,6540.75,5671.2,4322.25,null,0,0,0,0,0]
[27,25,9038.9,7922,6540.75,5671.2,4322.25,null,10634,9320,7695,6672,5085,null,9038.9,7922,6540.75,5671.2,4322.25,null,0,0,0,0,0]
[28,25,9038.9,7922,6540.75,5671.2,4322.25,null,10634,9320,7695,6672,5085,null,9038.9,7922,6540.75,5671.2,4322.25,null,0,0,0,0,0]
[29,25,9038.9,7922,6540.75,5671.2,4322.25,null,10634,9320,7695,6672,5085,null,9038.9,7922,6540.75,5671.2,4322.25,null,0,0,0,0,0]
[30,30,10051.25,8810.25,7219.9,6259.4,4767.6499999999996,null,11825,10365,8494,7364,5609,null,10051.25,8810.25,7219.9,6259.4,4767.6499999999996,null,0,0,0,0,0]
[31,30,10051.25,8810.25,7219.9,6259.4,4767.6499999999996,null,11825,10365,8494,7364,5609,null,10051.25,8810.25,7219.9,6259.4,4767.6499999999996,null,0,0,0,0,0]
[32,30,10051.25,8810.25,7219.9,6259.4,4767.6499999999996,null,11825,10365,8494,7364,5609,null,10051.25,8810.25,7219.9,6259.4,4767.6499999999996,null,0,0,0,0,0]
[33,30,10051.25,8810.25,7219.9,6259.4,4767.6499999999996,null,11825,10365,8494,7364,5609,null,10051.25,8810.25,7219.9,6259.4,4767.6499999999996,null,0,0,0,0,0]
[34,30,10051.25,8810.25,7219.9,6259.4,4767.6499999999996,null,11825,10365,8494,7364,5609,null,10051.25,8810.25,7219.9,6259.4,4767.6499999999996,null,0,0,0,0,0]
[35,35,11220,9831.9499999999989,8011.25,6947.9,5292.0999999999995,null,13200,11567,9425,8174,6226,null,11220,9831.9499999999989,8011.25,6947.9,5292.0999999999995,null,0,0,0,0,0]
[36,35,11220,9831.9499999999989,8011.25,6947.9,5292.0999999999995,null,13200,11567,9425,8174,6226,null,11220,9831.9499999999989,8011.25,6947.9,5292.0999999999995,null,0,0,0,0,0]
[37,35,11220,9831.9499999999989,8011.25,6947.9,5292.0999999999995,null,13200,11567,9425,8174,6226,null,11220,9831.9499999999989,8011.25,6947.9,5292.0999999999995,null,0,0,0,0,0]
[38,35,11220,9831.9499999999989,8011.25,6947.9,5292.0999999999995,null,13200,11567,9425,8174,6226,null,11220,9831.9499999999989,8011.25,6947.9,5292.0999999999995,null,0,0,0,0,0]
[39,35,11220,9831.9499999999989,8011.25,6947.9,5292.0999999999995,null,13200,11567,9425,8174,6226,null,11220,9831.9499999999989,8011.25,6947.9,5292.0999999999995,null,0,0,0,0,0]
[40,40,12985.449999999999,11380.65,9231,8004.45,6098.75,null,15277,13389,10860,9417,7175,null,12985.449999999999,11380.65,9231,8004.45,6098.75,null,0,0,0,0,0]
[41,40,12985.449999999999,11380.65,9231,8004.45,6098.75,null,15277,13389,10860,9417,7175,null,12985.449999999999,11380.65,9231,8004.45,6098.75,null,0,0,0,0,0]
[42,40,12985.449999999999,11380.65,9231,8004.45,6098.75,null,15277,13389,10860,9417,7175,null,12985.449999999999,11380.65,9231,8004.45,6098.75,null,0,0,0,0,0]
[43,40,12985.449999999999,11380.65,9231,8004.45,6098.75,null,15277,13389,10860,9417,7175,null,12985.449999999999,11380.65,9231,8004.45,6098.75,null,0,0,0,0,0]
[44,40,12985.449999999999,11380.65,9231,8004.45,6098.75,null,15277,13389,10860,9417,7175,null,12985.449999999999,11380.65,9231,8004.45,6098.75,null,0,0,0,0,0]
[45,45,14533.3,12737.25,10299.449999999999,8930.1,6801.7,null,17098,14985,12117,10506,8002,null,14533.3,12737.25,10299.449999999999,8930.1,6801.7,null,0,0,0,0,0]
[46,45,14533.3,12737.25,10299.449999999999,8930.1,6801.7,null,17098,14985,12117,10506,8002,null,14533.3,12737.25,10299.449999999999,8930.1,6801.7,null,0,0,0,0,0]
[47,45,14533.3,12737.25,10299.449999999999,8930.1,6801.7,null,17098,14985,12117,10506,8002,null,14533.3,12737.25,10299.449999999999,8930.1,6801.7,null,0,0,0,0,0]
[48,45,14533.3,12737.25,10299.449999999999,8930.1,6801.7,null,17098,14985,12117,10506,8002,null,14533.3,12737.25,10299.449999999999,8930.1,6801.7,null,0,0,0,0,0]
[49,45,14533.3,12737.25,10299.449999999999,8930.1,6801.7,null,17098,14985,12117,10506,8002,null,14533.3,12737.25,10299.449999999999,8930.1,6801.7,null,0,0,0,0,0]
[50,50,16796,14722.85,11876.199999999999,10299.449999999999,7844.65,null,19760,17321,13972,12117,9229,null,16796,14722.85,11876.199999999999,10299.449999999999,7844.65,null,0,0,0,0,0]
[51,50,16796,14722.85,11876.199999999999,10299.449999999999,7844.65,null,19760,17321,13972,12117,9229,null,16796,14722.85,11876.199999999999,10299.449999999999,7844.65,null,0,0,0,0,0]
[52,50,16796,14722.85,11876.199999999999,10299.449999999999,7844.65,null,19760,17321,13972,12117,9229,null,16796,14722.85,11876.199999999999,10299.449999999999,7844.65,null,0,0,0,0,0]
[53,50,16796,14722.85,11876.199999999999,10299.449999999999,7844.65,null,19760,17321,13972,12117,9229,null,16796,14722.85,11876.199999999999,10299.449999999999,7844.65,null,0,0,0,0,0]
[54,50,16796,14722.85,11876.199999999999,10299.449999999999,7844.65,null,19760,17321,13972,12117,9229,null,16796,14722.85,11876.199999999999,10299.449999999999,7844.65,null,0,0,0,0,0]
[55,55,18777.349999999999,16459.399999999998,13259.15,11498.8,8758.4,null,22091,19364,15599,13528,10304,null,18777.349999999999,16459.399999999998,13259.15,11498.8,8758.4,null,0,0,0,0,0]
[56,55,18777.349999999999,16459.399999999998,13259.15,11498.8,8758.4,null,22091,19364,15599,13528,10304,null,18777.349999999999,16459.399999999998,13259.15,11498.8,8758.4,null,0,0,0,0,0]
[57,55,18777.349999999999,16459.399999999998,13259.15,11498.8,8758.4,null,22091,19364,15599,13528,10304,null,18777.349999999999,16459.399999999998,13259.15,11498.8,8758.4,null,0,0,0,0,0]
[58,55,18777.349999999999,16459.399999999998,13259.15,11498.8,8758.4,null,22091,19364,15599,13528,10304,null,18777.349999999999,16459.399999999998,13259.15,11498.8,8758.4,null,0,0,0,0,0]
[59,55,18777.349999999999,16459.399999999998,13259.15,11498.8,8758.4,null,22091,19364,15599,13528,10304,null,18777.349999999999,16459.399999999998,13259.15,11498.8,8758.4,null,0,0,0,0,0]
[60,60,20096.55,17616.25,14178.85,12294.4,9364.4499999999989,null,23643,20725,16681,14464,11017,null,20096.55,17616.25,14178.85,12294.4,9364.4499999999989,null,0,0,0,0,0]
[61,61,22743.45,19936.75,16039.5,13910.25,10594.4,null,26757,23455,18870,16365,12464,null,22743.45,19936.75,16039.5,13910.25,10594.4,null,0,0,0,0,0]
[62,62,25268.799999999999,22147.599999999999,17815.149999999998,15446.199999999999,11764,null,29728,26056,20959,18172,13840,null,25268.799999999999,22147.599999999999,17815.149999999998,15446.199999999999,11764,null,0,0,0,0,0]
[63,63,27978.6,24526.75,19727.649999999998,17105.399999999998,13029.65,null,32916,28855,23209,20124,15329,null,27978.6,24526.75,19727.649999999998,17105.399999999998,13029.65,null,0,0,0,0,0]
[64,64,30884.75,27069.95,21777.85,18883.599999999999,14382.85,null,36335,31847,25621,22216,16921,null,30884.75,27069.95,21777.85,18883.599999999999,14382.85,null,0,0,0,0,0]
[65,65,33977.9,29784.85,23967.45,20784.2,15832.1,null,39974,35041,28197,24452,18626,null,33977.9,29784.85,23967.45,20784.2,15832.1,null,0,0,0,0,0]
[66,66,37264,32663.8,26296.45,22802.1,17369.75,null,43840,38428,30937,26826,20435,null,37264,32663.8,26296.45,22802.1,17369.75,null,0,0,0,0,0]
[67,67,40739.65,35708.5,28765.7,24942.399999999998,18998.349999999999,null,47929,42010,33842,29344,22351,null,40739.65,35708.5,28765.7,24942.399999999998,18998.349999999999,null,0,0,0,0,0]
[68,68,44404,38921.5,31370.95,27203.399999999998,20721.3,null,52240,45790,36907,32004,24378,null,44404,38921.5,31370.95,27203.399999999998,20721.3,null,0,0,0,0,0]
[69,69,48262.15,42301.95,34118.15,29585.95,22534.35,null,56779,49767,40139,34807,26511,null,48262.15,42301.95,34118.15,29585.95,22534.35,null,0,0,0,0,0]
[70,70,52308.15,45849,37000.5,32084.95,24438.35,null,61539,53940,43530,37747,28751,null,52308.15,45849,37000.5,32084.95,24438.35,null,0,0,0,0,0]
[71,71,56544.549999999996,49562.65,40024.799999999996,34707.199999999997,26435,null,66523,58309,47088,40832,31100,null,56544.549999999996,49562.65,40024.799999999996,34707.199999999997,26435,null,0,0,0,0,0]
[72,72,60972.2,53446.299999999996,43185.95,37445.9,28522.6,null,71732,62878,50807,44054,33556,null,60972.2,53446.299999999996,43185.95,37445.9,28522.6,null,0,0,0,0,0]
[73,73,65591.099999999991,57492.299999999996,46489.049999999996,40309.549999999996,30702.85,null,77166,67638,54693,47423,36121,null,65591.099999999991,57492.299999999996,46489.049999999996,40309.549999999996,30702.85,null,0,0,0,0,0]
[74,74,70401.25,61705.75,49926.45,43292.2,32974.9,null,82825,72595,58737,50932,38794,null,70401.25,61705.75,49926.45,43292.2,32974.9,null,0,0,0,0,0]
[75,75,75399.25,66088.349999999991,53503.25,46393.85,35337.049999999996,null,88705,77751,62945,54581,41573,null,75399.25,66088.349999999991,53503.25,46393.85,35337.049999999996,null,0,0,0,0,0]
[76,75,75399.25,66088.349999999991,53503.25,46393.85,35337.049999999996,null,88705,77751,62945,54581,41573,null,75399.25,66088.349999999991,53503.25,46393.85,35337.049999999996,null,0,0,0,0,0]
[77,75,75399.25,66088.349999999991,53503.25,46393.85,35337.049999999996,null,88705,77751,62945,54581,41573,null,75399.25,66088.349999999991,53503.25,46393.85,35337.049999999996,null,0,0,0,0,0]
[78,75,75399.25,66088.349999999991,53503.25,46393.85,35337.049999999996,null,88705,77751,62945,54581,41573,null,75399.25,66088.349999999991,53503.25,46393.85,35337.049999999996,null,0,0,0,0,0]
[79,75,75399.25,66088.349999999991,53503.25,46393.85,35337.049999999996,null,88705,77751,62945,54581,41573,null,75399.25,66088.349999999991,53503.25,46393.85,35337.049999999996,null,0,0,0,0,0]
[80,75,75399.25,66088.349999999991,53503.25,46393.85,35337.049999999996,null,88705,77751,62945,54581,41573,null,75399.25,66088.349999999991,53503.25,46393.85,35337.049999999996,null,0,0,0,0,0]
[81,75,75399.25,66088.349999999991,53503.25,46393.85,35337.049999999996,null,88705,77751,62945,54581,41573,null,75399.25,66088.349999999991,53503.25,46393.85,35337.049999999996,null,0,0,0,0,0]
[82,75,75399.25,66088.349999999991,53503.25,46393.85,35337.049999999996,null,88705,77751,62945,54581,41573,null,75399.25,66088.349999999991,53503.25,46393.85,35337.049999999996,null,0,0,0,0,0]
[83,75,{"$f":"O71","v":75399.25},{"$f":"P71","v":66088.349999999991},{"$f":"Q71","v":53503.25},{"$f":"R71","v":46393.85},{"$f":"S71","v":35337.049999999996},null,88705,77751,62945,54581,41573,null,{"$f":"(I71)*0.85","v":75399.25},{"$f":"(J71)*0.85","v":66088.349999999991},{"$f":"(K71)*0.85","v":53503.25},{"$f":"(L71)*0.85","v":46393.85},{"$f":"(M71)*0.85","v":35337.049999999996},null,0,0,0,0,0]
[84,75,75399.25,66088.349999999991,53503.25,46393.85,35337.049999999996,null,88705,77751,62945,54581,41573,null,75399.25,66088.349999999991,53503.25,46393.85,35337.049999999996,null,0,0,0,0,0]
[1,"1 Child",3576.7999999999997,3134.7999999999997,2621.4,2273.75,1732.3,null,4208,3688,3084,2675,2038,null,3576.7999999999997,{"$f":"J73*0.85","v":3134.7999999999997},{"$f":"K73*0.85","v":2621.4},{"$f":"L73*0.85","v":2273.75},{"$f":"M73*0.85","v":1732.3},null,0,0,0,0,0]
[2,"2 Children",6076.65,5327.8,4455.7,3864.95,2944.4,null,7149,6268,5242,4547,3464,null,6076.65,{"$f":"J74*0.85","v":5327.8},{"$f":"K74*0.85","v":4455.7},{"$f":"L74*0.85","v":3864.95},{"$f":"M74*0.85","v":2944.4},null,0,0,0,0,0]
[3,"3+ Children",8579.9,7519.95,6290,5454.45,4155.6499999999996,null,10094,8847,7400,6417,4889,null,8579.9,7519.95,6290,5454.45,4155.6499999999996,null,0,0,0,0,0]
[]
["BUPA GLOBAL ELITE - MENSUALES"]
["EDAD"]
[" "," ",1000,2000,3500]
[18,null,{"$f":"C6*$K$2","v":789.60466666666662},{"$f":"D6*$K$2","v":691.94533333333334},574.77,498.68933333333331,379.76866666666666,null,{"$f":"I6*$K$2","v":928.94666666666672},{"$f":"J6*$K$2","v":814.0533333333334},676.2,586.69333333333338,446.78666666666669,null,{"$f":"I80*0.85","v":789.60466666666673},{"$f":"J80*0.85","v":691.94533333333334},574.77,498.68933333333337,379.76866666666666]
[19,null,{"$f":"C7*$K$2","v":789.60466666666662},691.94533333333334,574.77,498.68933333333331,379.76866666666666,null,{"$f":"I7*$K$2","v":928.94666666666672},814.0533333333334,676.2,586.69333333333338,446.78666666666669,null,{"$f":"I81*0.85","v":789.60466666666673},{"$f":"J81*0.85","v":691.94533333333334},{"$f":"K81*0.85","v":574.77},{"$f":"L81*0.85","v":498.68933333333337},{"$f":"M81*0.85","v":379.76866666666666}]
[20,null,{"$f":"C8*$K$2","v":789.60466666666662},691.94533333333334,574.77,498.68933333333331,379.76866666666666,null,928.94666666666672,814.0533333333334,676.2,586.69333333333338,446.78666666666669,null,789.60466666666673,691.94533333333334,574.77,498.68933333333337,379.76866666666666]
[21,null,{"$f":"C9*$K$2","v":789.60466666666662},691.94533333333334,574.77,498.68933333333331,379.76866666666666,null,928.94666666666672,814.0533333333334,676.2,586.69333333333338,446.78666666666669,null,789.60466666666673,691.94533333333334,574.77,498.68933333333337,379.76866666666666]
[22,null,{"$f":"C10*$K$2","v":789.60466666666662},691.94533333333334,574.77,498.68933333333331,379.76866666666666,null,928.94666666666672,814.0533333333334,676.2,586.69333333333338,446.78666666666669,null,789.60466666666673,691.94533333333334,574.77,498.68933333333337,379.76866666666666]
[23,null,{"$f":"C11*$K$2","v":789.60466666666662},691.94533333333334,574.77,498.68933333333331,379.76866666666666,null,928.94666666666672,814.0533333333334,676.2,586.69333333333338,446.78666666666669,null,789.60466666666673,691.94533333333334,574.77,498.68933333333337,379.76866666666666]
[24,null,{"$f":"C12*$K$2","v":789.60466666666662},691.94533333333334,574.77,498.68933333333331,379.76866666666666,null,928.94666666666672,814.0533333333334,676.2,586.69333333333338,446.78666666666669,null,789.60466666666673,691.94533333333334,574.77,498.68933333333337,379.76866666666666]
[25,null,{"$f":"C13*$K$2","v":843.63066666666668},739.38666666666666,610.47,529.31200000000001,403.41,null,992.50666666666666,869.86666666666667,718.2,622.72,474.6,null,843.63066666666668,739.38666666666666,610.47,529.31200000000001,403.41]
[26,null,{"$f":"C14*$K$2","v":843.63066666666668},739.38666666666666,610.47,529.31200000000001,403.41,null,992.50666666666666,869.86666666666667,718.2,622.72,474.6,null,843.63066666666668,739.38666666666666,610.47,529.31200000000001,403.41]
[27,null,{"$f":"C15*$K$2","v":843.63066666666668},739.38666666666666,610.47,529.31200000000001,403.41,null,992.50666666666666,869.86666666666667,718.2,622.72,474.6,null,843.63066666666668,739.38666666666666,610.47,529.31200000000001,403.41]
[28,null,{"$f":"C16*$K$2","v":843.63066666666668},739.38666666666666,610.47,529.31200000000001,403.41,null,992.50666666666666,869.86666666666667,718.2,622.72,474.6,null,843.63066666666668,739.38666666666666,610.47,529.31200000000001,403.41]
[29,null,{"$f":"C17*$K$2","v":843.63066666666668},739.38666666666666,610.47,529.31200000000001,403.41,null,992.50666666666666,869.86666666666667,718.2,622.72,474.6,null,843.63066666666668,739.38666666666666,610.47,529.31200000000001,403.41]
[30,null,{"$f":"C18*$K$2","v":938.11666666666667},822.29000000000008,673.85733333333337,584.21066666666661,444.98066666666665,null,1103.6666666666667,967.40000000000009,792.77333333333343,687.30666666666673,523.50666666666666,null,938.11666666666667,822.29000000000008,673.85733333333337,584.21066666666673,444.98066666666665]
[31,null,{"$f":"C19*$K$2","v":938.11666666666667},822.29000000000008,673.85733333333337,584.21066666666661,444.98066666666665,null,1103.6666666666667,967.40000000000009,792.77333333333343,687.30666666666673,523.50666666666666,null,938.11666666666667,822.29000000000008,673.85733333333337,584.21066666666673,444.98066666666665]
[32,null,{"$f":"C20*$K$2","v":938.11666666666667},822.29000000000008,673.85733333333337,584.21066666666661,444.98066666666665,null,1103.6666666666667,967.40000000000009,792.77333333333343,687.30666666666673,523.50666666666666,null,938.11666666666667,822.29000000000008,673.85733333333337,584.21066666666673,444.98066666666665]
[33,null,{"$f":"C21*$K$2","v":938.11666666666667},822.29000000000008,673.85733333333337,584.21066666666661,444.98066666666665,null,1103.6666666666667,967.40000000000009,792.77333333333343,687.30666666666673,523.50666666666666,null,938.11666666666667,822.29000000000008,673.85733333333337,584.21066666666673,444.98066666666665]
[34,null,{"$f":"C22*$K$2","v":938.11666666666667},822.29000000000008,673.85733333333337,584.21066666666661,444.98066666666665,null,1103.6666666666667,967.40000000000009,792.77333333333343,687.30666666666673,523.50666666666666,null,938.11666666666667,822.29000000000008,673.85733333333337,584.21066666666673,444.98066666666665]
[35,null,{"$f":"C23*$K$2","v":1047.2},917.6486666666666,747.7166666666667,648.47066666666672,493.92933333333332,null,1232,1079.5866666666668,879.66666666666674,762.90666666666675,581.09333333333336,null,1047.2,917.64866666666671,747.7166666666667,648.47066666666672,493.92933333333332]
[36,null,{"$f":"C24*$K$2","v":1047.2},917.6486666666666,747.7166666666667,648.47066666666672,493.92933333333332,null,1232,1079.5866666666668,879.66666666666674,762.90666666666675,581.09333333333336,null,1047.2,917.64866666666671,747.7166666666667,648.47066666666672,493.92933333333332]
[37,null,{"$f":"C25*$K$2","v":1047.2},917.6486666666666,747.7166666666667,648.47066666666672,493.92933333333332,null,1232,1079.5866666666668,879.66666666666674,762.90666666666675,581.09333333333336,null,1047.2,917.64866666666671,747.7166666666667,648.47066666666672,493.92933333333332]
[38,null,{"$f":"C26*$K$2","v":1047.2},917.6486666666666,747.7166666666667,648.47066666666672,493.92933333333332,null,1232,1079.5866666666668,879.66666666666674,762.90666666666675,581.09333333333336,null,1047.2,917.64866666666671,747.7166666666667,648.47066666666672,493.92933333333332]
[39,null,{"$f":"C27*$K$2","v":1047.2},917.6486666666666,747.7166666666667,648.47066666666672,493.92933333333332,null,1232,1079.5866666666668,879.66666666666674,762.90666666666675,581.09333333333336,null,1047.2,917.64866666666671,747.7166666666667,648.47066666666672,493.92933333333332]
[40,null,{"$f":"C28*$K$2","v":1211.9753333333333},1062.194,861.56000000000006,747.08199999999999,569.2166666666667,null,1425.8533333333335,1249.6400000000001,1013.6,878.92000000000007,669.66666666666674,null,1211.9753333333333,1062.194,861.56,747.08199999999999,569.2166666666667]
[41,null,{"$f":"C29*$K$2","v":1211.9753333333333},1062.194,861.56000000000006,747.08199999999999,569.2166666666667,null,1425.8533333333335,1249.6400000000001,1013.6,878.92000000000007,669.66666666666674,null,1211.9753333333333,1062.194,861.56,747.08199999999999,569.2166666666667]
[42,null,{"$f":"C30*$K$2","v":1211.9753333333333},1062.194,861.56000000000006,747.08199999999999,569.2166666666667,null,1425.8533333333335,1249.6400000000001,1013.6,878.92000000000007,669.66666666666674,null,1211.9753333333333,1062.194,861.56,747.08199999999999,569.2166666666667]
[43,null,{"$f":"C31*$K$2","v":1211.9753333333333},1062.194,861.56000000000006,747.08199999999999,569.2166666666667,null,1425.8533333333335,1249.6400000000001,1013.6,878.92000000000007,669.66666666666674,null,1211.9753333333333,1062.194,861.56,747.08199999999999,569.2166666666667]
[44,null,{"$f":"C32*$K$2","v":1211.9753333333333},1062.194,861.56000000000006,747.08199999999999,569.2166666666667,null,1425.8533333333335,1249.6400000000001,1013.6,878.92000000000007,669.66666666666674,null,1211.9753333333333,1062.194,861.56,747.08199999999999,569.2166666666667]
[45,null,{"$f":"C33*$K$2","v":1356.4413333333334},1188.81,961.28199999999993,833.47600000000011,634.82533333333333,null,1595.8133333333335,1398.6000000000001,1130.92,980.56000000000006,746.85333333333335,null,1356.4413333333334,1188.8100000000002,961.28200000000004,833.476,634.82533333333333]
[46,null,{"$f":"C34*$K$2","v":1356.4413333333334},1188.81,961.28199999999993,833.47600000000011,634.82533333333333,null,1595.8133333333335,1398.6000000000001,1130.92,980.56000000000006,746.85333333333335,null,1356.4413333333334,1188.8100000000002,961.28200000000004,833.476,634.82533333333333]
[47,null,{"$f":"C35*$K$2","v":1356.4413333333334},1188.81,961.28199999999993,833.47600000000011,634.82533333333333,null,1595.8133333333335,1398.6000000000001,1130.92,980.56000000000006,746.85333333333335,null,1356.4413333333334,1188.8100000000002,961.28200000000004,833.476,634.82533333333333]
[48,null,{"$f":"C36*$K$2","v":1356.4413333333334},1188.81,961.28199999999993,833.47600000000011,634.82533333333333,null,1595.8133333333335,1398.6000000000001,1130.92,980.56000000000006,746.85333333333335,null,1356.4413333333334,1188.8100000000002,961.28200000000004,833.476,634.82533333333333]
[49,null,{"$f":"C37*$K$2","v":1356.4413333333334},1188.81,961.28199999999993,833.47600000000011,634.82533333333333,null,1595.8133333333335,1398.6000000000001,1130.92,980.56000000000006,746.85333333333335,null,1356.4413333333334,1188.8100000000002,961.28200000000004,833.476,634.82533333333333]
[50,null,{"$f":"C38*$K$2","v":1567.6266666666668},1374.1326666666669,1108.4453333333333,961.28199999999993,732.16733333333332,null,1844.2666666666667,1616.6266666666668,1304.0533333333333,1130.92,861.37333333333333,null,1567.6266666666666,1374.1326666666666,1108.4453333333333,961.28200000000004,732.16733333333332]
[51,null,{"$f":"C39*$K$2","v":1567.6266666666668},1374.1326666666669,1108.4453333333333,961.28199999999993,732.16733333333332,null,1844.2666666666667,1616.6266666666668,1304.0533333333333,1130.92,861.37333333333333,null,1567.6266666666666,1374.1326666666666,1108.4453333333333,961.28200000000004,732.16733333333332]
[52,null,{"$f":"C40*$K$2","v":1567.6266666666668},1374.1326666666669,1108.4453333333333,961.28199999999993,732.16733333333332,null,1844.2666666666667,1616.6266666666668,1304.0533333333333,1130.92,861.37333333333333,null,1567.6266666666666,1374.1326666666666,1108.4453333333333,961.28200000000004,732.16733333333332]
[53,null,{"$f":"C41*$K$2","v":1567.6266666666668},1374.1326666666669,1108.4453333333333,961.28199999999993,732.16733333333332,null,1844.2666666666667,1616.6266666666668,1304.0533333333333,1130.92,861.37333333333333,null,1567.6266666666666,1374.1326666666666,1108.4453333333333,961.28200000000004,732.16733333333332]
[54,null,{"$f":"C42*$K$2","v":1567.6266666666668},1374.1326666666669,1108.4453333333333,961.28199999999993,732.16733333333332,null,1844.2666666666667,1616.6266666666668,1304.0533333333333,1130.92,861.37333333333333,null,1567.6266666666666,1374.1326666666666,1108.4453333333333,961.28200000000004,732.16733333333332]
[55,null,{"$f":"C43*$K$2","v":1752.5526666666667},1536.2106666666666,1237.5206666666668,1073.2213333333334,817.45066666666662,null,2061.8266666666668,1807.3066666666668,1455.9066666666668,1262.6133333333335,961.70666666666671,null,1752.5526666666667,1536.2106666666668,1237.5206666666668,1073.2213333333334,817.45066666666673]
[56,null,{"$f":"C44*$K$2","v":1752.5526666666667},1536.2106666666666,1237.5206666666668,1073.2213333333334,817.45066666666662,null,2061.8266666666668,1807.3066666666668,1455.9066666666668,1262.6133333333335,961.70666666666671,null,1752.5526666666667,1536.2106666666668,1237.5206666666668,1073.2213333333334,817.45066666666673]
[57,null,{"$f":"C45*$K$2","v":1752.5526666666667},1536.2106666666666,1237.5206666666668,1073.2213333333334,817.45066666666662,null,2061.8266666666668,1807.3066666666668,1455.9066666666668,1262.6133333333335,961.70666666666671,null,1752.5526666666667,1536.2106666666668,1237.5206666666668,1073.2213333333334,817.45066666666673]
[58,null,{"$f":"C46*$K$2","v":1752.5526666666667},1536.2106666666666,1237.5206666666668,1073.2213333333334,817.45066666666662,null,2061.8266666666668,1807.3066666666668,1455.9066666666668,1262.6133333333335,961.70666666666671,null,1752.5526666666667,1536.2106666666668,1237.5206666666668,1073.2213333333334,817.45066666666673]
[59,null,{"$f":"C47*$K$2","v":1752.5526666666667},1536.2106666666666,1237.5206666666668,1073.2213333333334,817.45066666666662,null,2061.8266666666668,1807.3066666666668,1455.9066666666668,1262.6133333333335,961.70666666666671,null,1752.5526666666667,1536.2106666666668,1237.5206666666668,1073.2213333333334,817.45066666666673]
[60,null,{"$f":"C48*$K$2","v":1875.6780000000001},1644.1833333333334,1323.3593333333333,1147.4773333333333,874.01533333333327,null,2206.6800000000003,1934.3333333333335,1556.8933333333334,1349.9733333333334,1028.2533333333333,null,1875.6780000000001,1644.1833333333334,1323.3593333333333,1147.4773333333333,874.01533333333327]
[61,null,{"$f":"C49*$K$2","v":2122.7220000000002},1860.7633333333333,1497.02,1298.29,988.81066666666663,null,2497.3200000000002,2189.1333333333332,1761.2,1527.4,1163.3066666666666,null,2122.7220000000002,1860.7633333333331,1497.02,1298.29,988.81066666666663]
[62,null,{"$f":"C50*$K$2","v":2358.4213333333332},2067.1093333333333,1662.7473333333332,1441.6453333333334,1097.9733333333334,null,2774.6133333333337,2431.8933333333334,1956.1733333333334,1696.0533333333335,1291.7333333333333,null,2358.4213333333337,2067.1093333333333,1662.7473333333332,1441.6453333333334,1097.9733333333334]
[63,null,{"$f":"C51*$K$2","v":2611.3359999999998},2289.1633333333334,1841.2473333333332,1596.5039999999999,1216.1006666666667,null,3072.1600000000003,2693.1333333333337,2166.1733333333336,1878.24,1430.7066666666667,null,2611.3360000000002,2289.1633333333334,1841.2473333333335,1596.5039999999999,1216.1006666666667]
[64,null,{"$f":"C52*$K$2","v":2882.5766666666668},2526.528666666667,2032.5993333333333,1762.4693333333332,1342.3993333333335,null,3391.2666666666669,2972.3866666666668,2391.2933333333335,2073.4933333333333,1579.2933333333333,null,2882.5766666666668,2526.5286666666666,2032.5993333333333,1762.4693333333332,1342.3993333333333]
[65,null,{"$f":"C53*$K$2","v":3171.2706666666668},2779.9193333333333,2236.962,1939.8586666666667,1477.6626666666668,null,3730.9066666666668,3270.4933333333333,2631.7200000000003,2282.186666666667,1738.4266666666667,null,3171.2706666666668,2779.9193333333333,2236.962,1939.8586666666667,1477.6626666666666]
[66,null,{"$f":"C54*$K$2","v":3477.9733333333334},3048.6213333333335,2454.3353333333334,2128.1959999999999,1621.1766666666667,null,4091.7333333333336,3586.6133333333337,2887.4533333333334,2503.7600000000002,{"$f":"M54*$K$2","v":1907.2666666666667},null,3477.9733333333334,3048.6213333333335,2454.3353333333334,2128.1959999999999,1621.1766666666665]
[67,null,{"$f":"C55*$K$2","v":3802.3673333333336},3332.7933333333335,2684.798666666667,2327.9573333333333,1773.1793333333333,null,4473.3733333333339,3920.9333333333334,3158.5866666666666,2738.7733333333335,2086.0933333333332,null,3802.3673333333336,3332.7933333333335,2684.7986666666666,2327.9573333333333,1773.1793333333333]
[68,null,{"$f":"C56*$K$2","v":4144.3733333333339},3632.6733333333336,2927.9553333333333,2538.9839999999999,1933.9880000000001,null,4875.7333333333336,4273.7333333333336,3444.6533333333336,2987.04,2275.2800000000002,null,4144.373333333333,3632.6733333333336,2927.9553333333333,2538.9839999999999,1933.9880000000001]
[69,null,{"$f":"C57*$K$2","v":4504.467333333334},3948.1819999999998,3184.3606666666669,2761.3553333333334,2103.2060000000001,null,5299.3733333333339,4644.92,3746.3066666666668,3248.6533333333336,2474.36,null,4504.467333333334,3948.1819999999998,3184.3606666666669,2761.3553333333334,2103.2060000000001]
[70,null,{"$f":"C58*$K$2","v":4882.0940000000001},4279.24,3453.38,2994.5953333333337,2280.9126666666666,null,5743.64,5034.4000000000005,4062.8,3523.0533333333333,2683.4266666666667,null,4882.0940000000001,4279.2400000000007,3453.38,2994.5953333333332,2280.9126666666666]
[71,null,{"$f":"C59*$K$2","v":5277.4913333333334},4625.8473333333341,3735.6479999999997,3239.3386666666665,2467.2666666666669,null,6208.8133333333335,5442.1733333333332,4394.88,3810.9866666666667,2902.666666666667,null,5277.4913333333334,4625.8473333333332,3735.6480000000001,3239.3386666666665,2467.2666666666669]
[72,null,{"$f":"C60*$K$2","v":5690.7386666666671},4988.3213333333333,4030.6886666666664,3494.9506666666671,2662.1093333333333,null,6694.9866666666667,5868.6133333333337,4741.9866666666667,4111.7066666666669,3131.8933333333334,null,5690.7386666666662,4988.3213333333333,4030.6886666666664,3494.9506666666666,2662.1093333333333]
[73,null,{"$f":"C61*$K$2","v":6121.8359999999993},5365.9479999999994,4338.9780000000001,3762.2246666666665,2865.5993333333331,null,7202.1600000000008,6312.88,5104.68,4426.1466666666665,3371.2933333333335,null,6121.8360000000002,5365.9480000000003,4338.9780000000001,3762.2246666666665,2865.5993333333336]
[74,null,{"$f":"C62*$K$2","v":6570.7833333333338},5759.2033333333338,4659.8019999999997,4040.6053333333334,3077.6573333333336,null,7730.3333333333339,6775.5333333333338,5482.12,4753.6533333333336,3620.7733333333335,null,6570.7833333333338,5759.2033333333338,4659.8019999999997,4040.6053333333334,3077.6573333333336]
[75,null,{"$f":"C63*$K$2","v":7037.2633333333333},6168.2459999999992,4993.6366666666672,4330.0926666666664,3298.1246666666666,null,8279.1333333333332,7256.76,5874.8666666666668,5094.2266666666665,3880.146666666667,null,7037.2633333333333,6168.2460000000001,4993.6366666666663,4330.0926666666664,3298.1246666666671]
[76,null,{"$f":"C64*$K$2","v":7037.2633333333333},6168.2459999999992,4993.6366666666672,4330.0926666666664,3298.1246666666666,null,8279.1333333333332,7256.76,5874.8666666666668,5094.2266666666665,3880.146666666667,null,7037.2633333333333,6168.2460000000001,4993.6366666666663,4330.0926666666664,3298.1246666666671]
[77,null,{"$f":"C65*$K$2","v":7037.2633333333333},6168.2459999999992,4993.6366666666672,4330.0926666666664,3298.1246666666666,null,8279.1333333333332,7256.76,5874.8666666666668,5094.2266666666665,3880.146666666667,null,7037.2633333333333,6168.2460000000001,4993.6366666666663,4330.0926666666664,3298.1246666666671]
[78,null,{"$f":"C66*$K$2","v":7037.2633333333333},6168.2459999999992,4993.6366666666672,4330.0926666666664,3298.1246666666666,null,8279.1333333333332,7256.76,5874.8666666666668,5094.2266666666665,3880.146666666667,null,7037.2633333333333,6168.2460000000001,4993.6366666666663,4330.0926666666664,3298.1246666666671]
[79,null,{"$f":"C67*$K$2","v":7037.2633333333333},6168.2459999999992,4993.6366666666672,4330.0926666666664,3298.1246666666666,null,8279.1333333333332,7256.76,5874.8666666666668,5094.2266666666665,3880.146666666667,null,7037.2633333333333,6168.2460000000001,4993.6366666666663,4330.0926666666664,3298.1246666666671]
[80,null,{"$f":"C68*$K$2","v":7037.2633333333333},6168.2459999999992,4993.6366666666672,4330.0926666666664,3298.1246666666666,null,8279.1333333333332,7256.76,5874.8666666666668,5094.2266666666665,3880.146666666667,null,7037.2633333333333,6168.2460000000001,4993.6366666666663,4330.0926666666664,3298.1246666666671]
[81,null,{"$f":"C69*$K$2","v":7037.2633333333333},6168.2459999999992,4993.6366666666672,4330.0926666666664,3298.1246666666666,null,8279.1333333333332,7256.76,5874.8666666666668,5094.2266666666665,3880.146666666667,null,7037.2633333333333,6168.2460000000001,4993.6366666666663,4330.0926666666664,3298.1246666666671]
[82,null,{"$f":"C70*$K$2","v":7037.2633333333333},6168.2459999999992,4993.6366666666672,4330.0926666666664,3298.1246666666666,null,8279.1333333333332,{"$f":"J70*$K$2","v":7256.76},5874.8666666666668,5094.2266666666665,3880.146666666667,null,7037.2633333333333,6168.2460000000001,4993.6366666666663,4330.0926666666664,3298.1246666666671]
[83,null,{"$f":"C71*$K$2","v":7037.2633333333333},6168.2459999999992,4993.6366666666672,4330.0926666666664,3298.1246666666666,null,{"$f":"I71*$K$2","v":8279.1333333333332},7256.76,5874.8666666666668,5094.2266666666665,3880.146666666667,null,{"$f":"I145*0.85","v":7037.2633333333333},{"$f":"J145*0.85","v":6168.2460000000001},{"$f":"K145*0.85","v":4993.6366666666663},{"$f":"L145*0.85","v":4330.0926666666664},{"$f":"M145*0.85","v":3298.1246666666671}]
[84,"o más",{"$f":"C72*$K$2","v":7037.2633333333333},6168.2459999999992,4993.6366666666672,4330.0926666666664,3298.1246666666666,null,8279.1333333333332,7256.76,5874.8666666666668,5094.2266666666665,3880.146666666667,null,{"$f":"I146*0.85","v":7037.2633333333333},{"$f":"J146*0.85","v":6168.2460000000001},{"$f":"K146*0.85","v":4993.6366666666663},{"$f":"L146*0.85","v":4330.0926666666664},{"$f":"M146*0.85","v":3298.1246666666671}]
[1,"Hijo",{"$f":"C73*$K$2","v":333.83466666666664},292.5813333333333,244.66400000000002,212.21666666666667,161.68133333333333,null,392.74666666666667,344.21333333333337,287.84000000000003,249.66666666666669,190.21333333333334,null,{"$f":"I147*0.85","v":333.83466666666664},292.58133333333336,244.66400000000002,212.21666666666667,161.68133333333333]
[2,"Hijos",{"$f":"C74*$K$2","v":567.154},497.26133333333337,415.86533333333335,360.72866666666664,274.81066666666669,null,667.24,585.01333333333332,489.25333333333333,424.38666666666671,323.30666666666667,null,{"$f":"I148*0.85","v":567.154},{"$f":"J148*0.85","v":497.26133333333331},{"$f":"K148*0.85","v":415.8653333333333},{"$f":"L148*0.85","v":360.7286666666667},{"$f":"M148*0.85","v":274.81066666666669}]
[3,"Hijos o más",{"$f":"C75*$K$2","v":800.79066666666665},701.86199999999997,587.06666666666672,509.08199999999999,387.86066666666665,null,942.10666666666668,825.72,690.66666666666674,598.92000000000007,456.30666666666667,null,800.79066666666665,701.86199999999997,587.06666666666672,509.08200000000005,387.86066666666665]
[]
["BUPA GLOBAL PREMIER"]
["TARIFAS ANUALES"]
["EDAD"]
[" "," ",250,2000,5000,10000,null,null,null,null,null,null,null,null,null,null,null,null,null,null,2,6,10,14,18]
[18,18,{"$f":"O155","v":4448.5600000000004},{"$f":"P155","v":4035.1200000000003},3035.5200000000004,2217.48,0,null,6542,5934,4464,3261,null,null,{"$f":"I155*0.68","v":4448.5600000000004},{"$f":"J155*0.68","v":4035.1200000000003},3035.5200000000004,2217.48,null,null,0,0,0,0,0]
[19,18,{"$f":"O156","v":4448.5600000000004},{"$f":"P156","v":4035.1200000000003},{"$f":"Q156","v":3035.5200000000004},{"$f":"R156","v":2217.48},{"$f":"S156","v":0},null,6542,5934,4464,3261,null,null,{"$f":"I156*0.68","v":4448.5600000000004},{"$f":"J156*0.68","v":4035.1200000000003},{"$f":"K156*0.68","v":3035.5200000000004},{"$f":"L156*0.68","v":2217.48},null,null,0,0,0,0,0]
[20,18,4448.5600000000004,4035.1200000000003,3035.5200000000004,2217.48,0,null,6542,5934,4464,3261,null,null,4448.5600000000004,4035.1200000000003,3035.5200000000004,2217.48,null,null,0,0,0,0,0]
[21,18,4448.5600000000004,4035.1200000000003,3035.5200000000004,2217.48,0,null,6542,5934,4464,3261,null,null,4448.5600000000004,4035.1200000000003,3035.5200000000004,2217.48,null,null,0,0,0,0,0]
[22,18,4448.5600000000004,4035.1200000000003,3035.5200000000004,2217.48,0,null,6542,5934,4464,3261,null,null,4448.5600000000004,4035.1200000000003,3035.5200000000004,2217.48,null,null,0,0,0,0,0]
[23,18,4448.5600000000004,4035.1200000000003,3035.5200000000004,2217.48,0,null,6542,5934,4464,3261,null,null,4448.5600000000004,4035.1200000000003,3035.5200000000004,2217.48,null,null,0,0,0,0,0]
[24,18,4448.5600000000004,4035.1200000000003,3035.5200000000004,2217.48,0,null,6542,5934,4464,3261,null,null,4448.5600000000004,4035.1200000000003,3035.5200000000004,2217.48,null,null,0,0,0,0,0]
[25,25,4754.5600000000004,4311.88,3209.6000000000004,2345.3200000000002,0,null,6992,6341,4720,3449,null,null,4754.5600000000004,4311.88,3209.6000000000004,2345.3200000000002,null,null,0,0,0,0,0]
[26,25,4754.5600000000004,4311.88,3209.6000000000004,2345.3200000000002,0,null,6992,6341,4720,3449,null,null,4754.5600000000004,4311.88,3209.6000000000004,2345.3200000000002,null,null,0,0,0,0,0]
[27,25,4754.5600000000004,4311.88,3209.6000000000004,2345.3200000000002,0,null,6992,6341,4720,3449,null,null,4754.5600000000004,4311.88,3209.6000000000004,2345.3200000000002,null,null,0,0,0,0,0]
[28,25,4754.5600000000004,4311.88,3209.6000000000004,2345.3200000000002,0,null,6992,6341,4720,3449,null,null,4754.5600000000004,4311.88,3209.6000000000004,2345.3200000000002,null,null,0,0,0,0,0]
[29,25,4754.5600000000004,4311.88,3209.6000000000004,2345.3200000000002,0,null,6992,6341,4720,3449,null,null,4754.5600000000004,4311.88,3209.6000000000004,2345.3200000000002,null,null,0,0,0,0,0]
[30,30,5286.3200000000006,4797.4000000000005,3523.76,2573.8000000000002,0,null,7774,7055,5182,3785,null,null,5286.3200000000006,4797.4000000000005,3523.76,2573.8000000000002,null,null,0,0,0,0,0]
[31,30,5286.3200000000006,4797.4000000000005,3523.76,2573.8000000000002,0,null,7774,7055,5182,3785,null,null,5286.3200000000006,4797.4000000000005,3523.76,2573.8000000000002,null,null,0,0,0,0,0]
[32,30,5286.3200000000006,4797.4000000000005,3523.76,2573.8000000000002,0,null,7774,7055,5182,3785,null,null,5286.3200000000006,4797.4000000000005,3523.76,2573.8000000000002,null,null,0,0,0,0,0]
[33,30,5286.3200000000006,4797.4000000000005,3523.76,2573.8000000000002,0,null,7774,7055,5182,3785,null,null,5286.3200000000006,4797.4000000000005,3523.76,2573.8000000000002,null,null,0,0,0,0,0]
[34,30,5286.3200000000006,4797.4000000000005,3523.76,2573.8000000000002,0,null,7774,7055,5182,3785,null,null,5286.3200000000006,4797.4000000000005,3523.76,2573.8000000000002,null,null,0,0,0,0,0]
[35,35,5899,5354.3200000000006,3895.0400000000004,2845.1200000000003,0,null,8675,7874,5728,4184,null,null,5899,5354.3200000000006,3895.0400000000004,2845.1200000000003,null,null,0,0,0,0,0]
[36,35,5899,5354.3200000000006,3895.0400000000004,2845.1200000000003,0,null,8675,7874,5728,4184,null,null,5899,5354.3200000000006,3895.0400000000004,2845.1200000000003,null,null,0,0,0,0,0]
[37,35,5899,5354.3200000000006,3895.0400000000004,2845.1200000000003,0,null,8675,7874,5728,4184,null,null,5899,5354.3200000000006,3895.0400000000004,2845.1200000000003,null,null,0,0,0,0,0]
[38,35,5899,5354.3200000000006,3895.0400000000004,2845.1200000000003,0,null,8675,7874,5728,4184,null,null,5899,5354.3200000000006,3895.0400000000004,2845.1200000000003,null,null,0,0,0,0,0]
[39,35,5899,5354.3200000000006,3895.0400000000004,2845.1200000000003,0,null,8675,7874,5728,4184,null,null,5899,5354.3200000000006,3895.0400000000004,2845.1200000000003,null,null,0,0,0,0,0]
[40,40,6827.88,6196.84,4472.3600000000006,3268.76,0,null,10041,9113,6577,4807,null,null,6827.88,6196.84,4472.3600000000006,3268.76,null,null,0,0,0,0,0]
[41,40,6827.88,6196.84,4472.3600000000006,3268.76,0,null,10041,9113,6577,4807,null,null,6827.88,6196.84,4472.3600000000006,3268.76,null,null,0,0,0,0,0]
[42,40,6827.88,6196.84,4472.3600000000006,3268.76,0,null,10041,9113,6577,4807,null,null,6827.88,6196.84,4472.3600000000006,3268.76,null,null,0,0,0,0,0]
[43,40,6827.88,6196.84,4472.3600000000006,3268.76,0,null,10041,9113,6577,4807,null,null,6827.88,6196.84,4472.3600000000006,3268.76,null,null,0,0,0,0,0]
[44,40,6827.88,6196.84,4472.3600000000006,3268.76,0,null,10041,9113,6577,4807,null,null,6827.88,6196.84,4472.3600000000006,3268.76,null,null,0,0,0,0,0]
[45,45,7640.4800000000005,6934.64,4977.6000000000004,3635.96,0,null,11236,10198,7320,5347,null,null,7640.4800000000005,6934.64,4977.6000000000004,3635.96,null,null,0,0,0,0,0]
[46,45,7640.4800000000005,6934.64,4977.6000000000004,3635.96,0,null,11236,10198,7320,5347,null,null,7640.4800000000005,6934.64,4977.6000000000004,3635.96,null,null,0,0,0,0,0]
[47,45,7640.4800000000005,6934.64,4977.6000000000004,3635.96,0,null,11236,10198,7320,5347,null,null,7640.4800000000005,6934.64,4977.6000000000004,3635.96,null,null,0,0,0,0,0]
[48,45,7640.4800000000005,6934.64,4977.6000000000004,3635.96,0,null,11236,10198,7320,5347,null,null,7640.4800000000005,6934.64,4977.6000000000004,3635.96,null,null,0,0,0,0,0]
[49,45,7640.4800000000005,6934.64,4977.6000000000004,3635.96,0,null,11236,10198,7320,5347,null,null,7640.4800000000005,6934.64,4977.6000000000004,3635.96,null,null,0,0,0,0,0]
[50,50,8833.880000000001,8015.84,5731.72,4188.8,0,null,12991,11788,8429,6160,null,null,8833.880000000001,8015.84,5731.72,4188.8,null,null,0,0,0,0,0]
[51,50,8833.880000000001,8015.84,5731.72,4188.8,0,null,12991,11788,8429,6160,null,null,8833.880000000001,8015.84,5731.72,4188.8,null,null,0,0,0,0,0]
[52,50,8833.880000000001,8015.84,5731.72,4188.8,0,null,12991,11788,8429,6160,null,null,8833.880000000001,8015.84,5731.72,4188.8,null,null,0,0,0,0,0]
[53,50,8833.880000000001,8015.84,5731.72,4188.8,0,null,12991,11788,8429,6160,null,null,8833.880000000001,8015.84,5731.72,4188.8,null,null,0,0,0,0,0]
[54,50,8833.880000000001,8015.84,5731.72,4188.8,0,null,12991,11788,8429,6160,null,null,8833.880000000001,8015.84,5731.72,4188.8,null,null,0,0,0,0,0]
[55,55,9873.6,8961.7200000000012,6390.64,4670.2400000000007,0,null,14520,13179,9398,6868,null,null,9873.6,8961.7200000000012,6390.64,4670.2400000000007,null,null,0,0,0,0,0]
[56,55,9873.6,8961.7200000000012,6390.64,4670.2400000000007,0,null,14520,13179,9398,6868,null,null,9873.6,8961.7200000000012,6390.64,4670.2400000000007,null,null,0,0,0,0,0]
[57,55,9873.6,8961.7200000000012,6390.64,4670.2400000000007,0,null,14520,13179,9398,6868,null,null,9873.6,8961.7200000000012,6390.64,4670.2400000000007,null,null,0,0,0,0,0]
[58,55,9873.6,8961.7200000000012,6390.64,4670.2400000000007,0,null,14520,13179,9398,6868,null,null,9873.6,8961.7200000000012,6390.64,4670.2400000000007,null,null,0,0,0,0,0]
[59,55,9873.6,8961.7200000000012,6390.64,4670.2400000000007,0,null,14520,13179,9398,6868,null,null,9873.6,8961.7200000000012,6390.64,4670.2400000000007,null,null,0,0,0,0,0]
[60,60,10567.880000000001,9588.68,6831.2800000000007,4990.5200000000004,0,null,15541,14101,10046,7339,null,null,10567.880000000001,9588.68,6831.2800000000007,4990.5200000000004,null,null,0,0,0,0,0]
[61,61,11958.480000000001,10851.44,7721.4000000000005,5641.96,0,null,17586,15958,11355,8297,null,null,11958.480000000001,10851.44,7721.4000000000005,5641.96,null,null,0,0,0,0,0]
[62,62,13284.480000000001,12057.080000000002,8576.16,6266.2000000000007,0,null,19536,17731,12612,9215,null,null,13284.480000000001,12057.080000000002,8576.16,6266.2000000000007,null,null,0,0,0,0,0]
[63,63,14711.800000000001,13351.12,9496.2000000000007,6937.3600000000006,0,null,21635,19634,13965,10202,null,null,14711.800000000001,13351.12,9496.2000000000007,6937.3600000000006,null,null,0,0,0,0,0]
[64,64,16238.400000000001,14737.640000000001,10485.6,7660.2000000000007,0,null,23880,21673,15420,11265,null,null,16238.400000000001,14737.640000000001,10485.6,7660.2000000000007,null,null,0,0,0,0,0]
[65,65,17865.640000000003,16213.920000000002,11543,8433.36,0,null,26273,23844,16975,12402,null,null,17865.640000000003,16213.920000000002,11543,8433.36,null,null,0,0,0,0,0]
[66,66,19593.52,17779.280000000002,12669.080000000002,9255.4800000000014,0,null,28814,26146,18631,13611,null,null,19593.52,17779.280000000002,12669.080000000002,9255.4800000000014,null,null,0,0,0,0,0]
[67,67,21420.68,19439.16,13863.84,10129.960000000001,0,null,31501,28587,20388,14897,null,null,21420.68,19439.16,13863.84,10129.960000000001,null,null,0,0,0,0,0]
[68,68,23346.440000000002,21187.440000000002,15126.6,11051.36,0,null,34333,31158,22245,16252,null,null,23346.440000000002,21187.440000000002,15126.6,11051.36,null,null,0,0,0,0,0]
[69,69,25375.56,23029.56,16458.04,12024.44,0,null,37317,33867,24203,17683,null,null,25375.56,23029.56,16458.04,12024.44,null,null,0,0,0,0,0]
[70,70,27503.280000000002,24960.760000000002,17856.120000000003,13045.800000000001,0,null,40446,36707,26259,19185,null,null,27503.280000000002,24960.760000000002,17856.120000000003,13045.800000000001,null,null,0,0,0,0,0]
[71,71,29731.640000000003,26981.040000000001,19325.600000000002,14118.84,0,null,43723,39678,28420,20763,null,null,29731.640000000003,26981.040000000001,19325.600000000002,14118.84,null,null,0,0,0,0,0]
[72,72,32058.600000000002,29093.800000000003,20861.04,15241.52,0,null,47145,42785,30678,22414,null,null,32058.600000000002,29093.800000000003,20861.04,15241.52,null,null,0,0,0,0,0]
[73,73,34486.200000000004,31297.680000000004,22465.16,16412.48,0,null,50715,46026,33037,24136,null,null,34486.200000000004,31297.680000000004,22465.16,16412.48,null,null,0,0,0,0,0]
[74,74,37015.120000000003,33591.32,24140,17635.800000000003,0,null,54434,49399,35500,25935,null,null,37015.120000000003,33591.32,24140,17635.800000000003,null,null,0,0,0,0,0]
[75,75,39642.639999999999,35977.440000000002,25881.480000000003,18908.760000000002,0,null,58298,52908,38061,27807,null,null,39642.639999999999,35977.440000000002,25881.480000000003,18908.760000000002,null,null,0,0,0,0,0]
[76,75,39642.639999999999,35977.440000000002,25881.480000000003,18908.760000000002,0,null,58298,52908,38061,27807,null,null,39642.639999999999,35977.440000000002,25881.480000000003,18908.760000000002,null,null,0,0,0,0,0]
[77,75,39642.639999999999,35977.440000000002,25881.480000000003,18908.760000000002,0,null,58298,52908,38061,27807,null,null,39642.639999999999,35977.440000000002,25881.480000000003,18908.760000000002,null,null,0,0,0,0,0]
[78,75,39642.639999999999,35977.440000000002,25881.480000000003,18908.760000000002,0,null,58298,52908,38061,27807,null,null,39642.639999999999,35977.440000000002,25881.480000000003,18908.760000000002,null,null,0,0,0,0,0]
[79,75,39642.639999999999,35977.440000000002,25881.480000000003,18908.760000000002,0,null,58298,52908,38061,27807,null,null,39642.639999999999,35977.440000000002,25881.480000000003,18908.760000000002,null,null,0,0,0,0,0]
[80,75,39642.639999999999,35977.440000000002,25881.480000000003,18908.760000000002,0,null,58298,52908,38061,27807,null,null,39642.639999999999,35977.440000000002,25881.480000000003,18908.760000000002,null,null,0,0,0,0,0]
[81,75,39642.639999999999,35977.440000000002,25881.480000000003,18908.760000000002,0,null,58298,52908,38061,27807,null,null,39642.639999999999,35977.440000000002,25881.480000000003,18908.760000000002,null,null,0,0,0,0,0]
[82,75,39642.639999999999,35977.440000000002,25881.480000000003,18908.760000000002,0,null,58298,52908,38061,27807,null,null,39642.639999999999,35977.440000000002,25881.480000000003,18908.760000000002,null,null,0,0,0,0,0]
[83,75,{"$f":"O220","v":39642.639999999999},{"$f":"P220","v":35977.440000000002},{"$f":"Q220","v":25881.480000000003},{"$f":"R220","v":18908.760000000002},{"$f":"S220","v":0},null,58298,52908,38061,27807,null,null,{"$f":"I220*0.68","v":39642.639999999999},{"$f":"J220*0.68","v":35977.440000000002},{"$f":"K220*0.68","v":25881.480000000003},{"$f":"L220*0.68","v":18908.760000000002},null,null,0,0,0,0,0]
[84,75,39642.639999999999,35977.440000000002,25881.480000000003,18908.760000000002,0,null,58298,52908,38061,27807,null,null,39642.639999999999,35977.440000000002,25881.480000000003,18908.760000000002,null,null,0,0,0,0,0]
[1,"1 Child",1880.2,1705.44,1300.1600000000001,949.28000000000009,0,null,2765,2508,1912,1396,null,null,1880.2,1705.44,1300.1600000000001,949.28000000000009,null,null,0,0,0,0,0]
[2,"2 Children",3196.0000000000005,2900.88,2207.2800000000002,1613.64,0,null,4700,4266,3246,2373,null,null,3196.0000000000005,2900.88,2207.2800000000002,1613.64,null,null,0,0,0,0,0]
[3,"3+ Children",4510.4400000000005,4093.6000000000004,3116.44,2276.6400000000003,0,null,6633,6020,4583,3348,null,null,4510.4400000000005,4093.6000000000004,3116.44,2276.6400000000003,null,null,0,0,0,0,0]
[]
["BUPA GLOBAL PREMIER - MENSUALES"]
["EDAD"]
[" "," ",2000,3500,5000]
[18,null,{"$f":"C155*$K$2","v":415.1989333333334},{"$f":"D155*$K$2","v":376.61120000000005},283.31520000000006,206.96480000000003,0,null,{"$f":"I155*$K$2","v":610.5866666666667},{"$f":"J155*$K$2","v":553.84},416.64000000000004,304.36,null,null,{"$f":"I229*0.85","v":518.99866666666674},{"$f":"J229*0.85","v":470.76400000000001},354.14400000000001,258.70600000000002]
[19,null,{"$f":"C156*$K$2","v":415.1989333333334},376.61120000000005,283.31520000000006,206.96480000000003,0,null,{"$f":"I156*$K$2","v":610.5866666666667},553.84,416.64000000000004,304.36,null,null,{"$f":"I230*0.85","v":518.99866666666674},{"$f":"J230*0.85","v":470.76400000000001},{"$f":"K230*0.85","v":354.14400000000001},{"$f":"L230*0.85","v":258.70600000000002}]
[20,null,{"$f":"C157*$K$2","v":415.1989333333334},376.61120000000005,283.31520000000006,206.96480000000003,0,null,610.5866666666667,553.84,416.64000000000004,304.36,null,null,518.99866666666674,470.76400000000001,354.14400000000001,258.70600000000002]
[21,null,{"$f":"C158*$K$2","v":415.1989333333334},376.61120000000005,283.31520000000006,206.96480000000003,0,null,610.5866666666667,553.84,416.64000000000004,304.36,null,null,518.99866666666674,470.76400000000001,354.14400000000001,258.70600000000002]
[22,null,{"$f":"C159*$K$2","v":415.1989333333334},376.61120000000005,283.31520000000006,206.96480000000003,0,null,610.5866666666667,553.84,416.64000000000004,304.36,null,null,518.99866666666674,470.76400000000001,354.14400000000001,258.70600000000002]
[23,null,{"$f":"C160*$K$2","v":415.1989333333334},376.61120000000005,283.31520000000006,206.96480000000003,0,null,610.5866666666667,553.84,416.64000000000004,304.36,null,null,518.99866666666674,470.76400000000001,354.14400000000001,258.70600000000002]
[24,null,{"$f":"C161*$K$2","v":415.1989333333334},376.61120000000005,283.31520000000006,206.96480000000003,0,null,610.5866666666667,553.84,416.64000000000004,304.36,null,null,518.99866666666674,470.76400000000001,354.14400000000001,258.70600000000002]
[25,null,{"$f":"C162*$K$2","v":443.7589333333334},402.44213333333335,299.5626666666667,218.89653333333337,0,null,652.5866666666667,591.82666666666671,440.53333333333336,321.90666666666669,null,null,554.69866666666667,503.05266666666671,374.45333333333332,273.62066666666669]
[26,null,{"$f":"C163*$K$2","v":443.7589333333334},402.44213333333335,299.5626666666667,218.89653333333337,0,null,652.5866666666667,591.82666666666671,440.53333333333336,321.90666666666669,null,null,554.69866666666667,503.05266666666671,374.45333333333332,273.62066666666669]
[27,null,{"$f":"C164*$K$2","v":443.7589333333334},402.44213333333335,299.5626666666667,218.89653333333337,0,null,652.5866666666667,591.82666666666671,440.53333333333336,321.90666666666669,null,null,554.69866666666667,503.05266666666671,374.45333333333332,273.62066666666669]
[28,null,{"$f":"C165*$K$2","v":443.7589333333334},402.44213333333335,299.5626666666667,218.89653333333337,0,null,652.5866666666667,591.82666666666671,440.53333333333336,321.90666666666669,null,null,554.69866666666667,503.05266666666671,374.45333333333332,273.62066666666669]
[29,null,{"$f":"C166*$K$2","v":443.7589333333334},402.44213333333335,299.5626666666667,218.89653333333337,0,null,652.5866666666667,591.82666666666671,440.53333333333336,321.90666666666669,null,null,554.69866666666667,503.05266666666671,374.45333333333332,273.62066666666669]
[30,null,{"$f":"C167*$K$2","v":493.38986666666676},447.75733333333341,328.88426666666669,240.22133333333335,0,null,725.57333333333338,658.4666666666667,483.65333333333336,353.26666666666671,null,null,616.73733333333337,559.69666666666672,411.10533333333336,300.2766666666667]
[31,null,{"$f":"C168*$K$2","v":493.38986666666676},447.75733333333341,328.88426666666669,240.22133333333335,0,null,725.57333333333338,658.4666666666667,483.65333333333336,353.26666666666671,null,null,616.73733333333337,559.69666666666672,411.10533333333336,300.2766666666667]
[32,null,{"$f":"C169*$K$2","v":493.38986666666676},447.75733333333341,328.88426666666669,240.22133333333335,0,null,725.57333333333338,658.4666666666667,483.65333333333336,353.26666666666671,null,null,616.73733333333337,559.69666666666672,411.10533333333336,300.2766666666667]
[33,null,{"$f":"C170*$K$2","v":493.38986666666676},447.75733333333341,328.88426666666669,240.22133333333335,0,null,725.57333333333338,658.4666666666667,483.65333333333336,353.26666666666671,null,null,616.73733333333337,559.69666666666672,411.10533333333336,300.2766666666667]
[34,null,{"$f":"C171*$K$2","v":493.38986666666676},447.75733333333341,328.88426666666669,240.22133333333335,0,null,725.57333333333338,658.4666666666667,483.65333333333336,353.26666666666671,null,null,616.73733333333337,559.69666666666672,411.10533333333336,300.2766666666667]
[35,null,{"$f":"C172*$K$2","v":550.57333333333338},499.7365333333334,363.5370666666667,265.54453333333339,0,null,809.66666666666674,734.90666666666675,534.61333333333334,390.50666666666666,null,null,688.2166666666667,624.67066666666676,454.42133333333334,331.93066666666664]
[36,null,{"$f":"C173*$K$2","v":550.57333333333338},499.7365333333334,363.5370666666667,265.54453333333339,0,null,809.66666666666674,734.90666666666675,534.61333333333334,390.50666666666666,null,null,688.2166666666667,624.67066666666676,454.42133333333334,331.93066666666664]
[37,null,{"$f":"C174*$K$2","v":550.57333333333338},499.7365333333334,363.5370666666667,265.54453333333339,0,null,809.66666666666674,734.90666666666675,534.61333333333334,390.50666666666666,null,null,688.2166666666667,624.67066666666676,454.42133333333334,331.93066666666664]
[38,null,{"$f":"C175*$K$2","v":550.57333333333338},499.7365333333334,363.5370666666667,265.54453333333339,0,null,809.66666666666674,734.90666666666675,534.61333333333334,390.50666666666666,null,null,688.2166666666667,624.67066666666676,454.42133333333334,331.93066666666664]
[39,null,{"$f":"C176*$K$2","v":550.57333333333338},499.7365333333334,363.5370666666667,265.54453333333339,0,null,809.66666666666674,734.90666666666675,534.61333333333334,390.50666666666666,null,null,688.2166666666667,624.67066666666676,454.42133333333334,331.93066666666664]
[40,null,{"$f":"C177*$K$2","v":637.26880000000006},578.3717333333334,417.42026666666675,305.08426666666668,0,null,937.16000000000008,850.54666666666674,613.85333333333335,448.65333333333336,null,null,796.58600000000001,722.96466666666674,521.77533333333338,381.35533333333336]
[41,null,{"$f":"C178*$K$2","v":637.26880000000006},578.3717333333334,417.42026666666675,305.08426666666668,0,null,937.16000000000008,850.54666666666674,613.85333333333335,448.65333333333336,null,null,796.58600000000001,722.96466666666674,521.77533333333338,381.35533333333336]
[42,null,{"$f":"C179*$K$2","v":637.26880000000006},578.3717333333334,417.42026666666675,305.08426666666668,0,null,937.16000000000008,850.54666666666674,613.85333333333335,448.65333333333336,null,null,796.58600000000001,722.96466666666674,521.77533333333338,381.35533333333336]
[43,null,{"$f":"C180*$K$2","v":637.26880000000006},578.3717333333334,417.42026666666675,305.08426666666668,0,null,937.16000000000008,850.54666666666674,613.85333333333335,448.65333333333336,null,null,796.58600000000001,722.96466666666674,521.77533333333338,381.35533333333336]
[44,null,{"$f":"C181*$K$2","v":637.26880000000006},578.3717333333334,417.42026666666675,305.08426666666668,0,null,937.16000000000008,850.54666666666674,613.85333333333335,448.65333333333336,null,null,796.58600000000001,722.96466666666674,521.77533333333338,381.35533333333336]
[45,null,{"$f":"C182*$K$2","v":713.11146666666673},647.23306666666667,464.57600000000008,339.35626666666667,0,null,1048.6933333333334,951.81333333333339,683.2,499.05333333333334,null,null,891.3893333333333,809.04133333333334,580.72,424.19533333333334]
[46,null,{"$f":"C183*$K$2","v":713.11146666666673},647.23306666666667,464.57600000000008,339.35626666666667,0,null,1048.6933333333334,951.81333333333339,683.2,499.05333333333334,null,null,891.3893333333333,809.04133333333334,580.72,424.19533333333334]
[47,null,{"$f":"C184*$K$2","v":713.11146666666673},647.23306666666667,464.57600000000008,339.35626666666667,0,null,1048.6933333333334,951.81333333333339,683.2,499.05333333333334,null,null,891.3893333333333,809.04133333333334,580.72,424.19533333333334]
[48,null,{"$f":"C185*$K$2","v":713.11146666666673},647.23306666666667,464.57600000000008,339.35626666666667,0,null,1048.6933333333334,951.81333333333339,683.2,499.05333333333334,null,null,891.3893333333333,809.04133333333334,580.72,424.19533333333334]
[49,null,{"$f":"C186*$K$2","v":713.11146666666673},647.23306666666667,464.57600000000008,339.35626666666667,0,null,1048.6933333333334,951.81333333333339,683.2,499.05333333333334,null,null,891.3893333333333,809.04133333333334,580.72,424.19533333333334]
[50,null,{"$f":"C187*$K$2","v":824.49546666666674},748.14506666666671,534.96053333333339,390.9546666666667,0,null,1212.4933333333333,1100.2133333333334,786.70666666666671,574.93333333333339,null,null,1030.6193333333333,935.18133333333333,668.70066666666673,488.69333333333338]
[51,null,{"$f":"C188*$K$2","v":824.49546666666674},748.14506666666671,534.96053333333339,390.9546666666667,0,null,1212.4933333333333,1100.2133333333334,786.70666666666671,574.93333333333339,null,null,1030.6193333333333,935.18133333333333,668.70066666666673,488.69333333333338]
[52,null,{"$f":"C189*$K$2","v":824.49546666666674},748.14506666666671,534.96053333333339,390.9546666666667,0,null,1212.4933333333333,1100.2133333333334,786.70666666666671,574.93333333333339,null,null,1030.6193333333333,935.18133333333333,668.70066666666673,488.69333333333338]
[53,null,{"$f":"C190*$K$2","v":824.49546666666674},748.14506666666671,534.96053333333339,390.9546666666667,0,null,1212.4933333333333,1100.2133333333334,786.70666666666671,574.93333333333339,null,null,1030.6193333333333,935.18133333333333,668.70066666666673,488.69333333333338]
[54,null,{"$f":"C191*$K$2","v":824.49546666666674},748.14506666666671,534.96053333333339,390.9546666666667,0,null,1212.4933333333333,1100.2133333333334,786.70666666666671,574.93333333333339,null,null,1030.6193333333333,935.18133333333333,668.70066666666673,488.69333333333338]
[55,null,{"$f":"C192*$K$2","v":921.53600000000006},836.4272000000002,596.45973333333336,435.88906666666674,0,null,1355.2,1230.04,877.14666666666676,641.01333333333332,null,null,1151.92,1045.5339999999999,745.57466666666676,544.86133333333328]
[56,null,{"$f":"C193*$K$2","v":921.53600000000006},836.4272000000002,596.45973333333336,435.88906666666674,0,null,1355.2,1230.04,877.14666666666676,641.01333333333332,null,null,1151.92,1045.5339999999999,745.57466666666676,544.86133333333328]
[57,null,{"$f":"C194*$K$2","v":921.53600000000006},836.4272000000002,596.45973333333336,435.88906666666674,0,null,1355.2,1230.04,877.14666666666676,641.01333333333332,null,null,1151.92,1045.5339999999999,745.57466666666676,544.86133333333328]
[58,null,{"$f":"C195*$K$2","v":921.53600000000006},836.4272000000002,596.45973333333336,435.88906666666674,0,null,1355.2,1230.04,877.14666666666676,641.01333333333332,null,null,1151.92,1045.5339999999999,745.57466666666676,544.86133333333328]
[59,null,{"$f":"C196*$K$2","v":921.53600000000006},836.4272000000002,596.45973333333336,435.88906666666674,0,null,1355.2,1230.04,877.14666666666676,641.01333333333332,null,null,1151.92,1045.5339999999999,745.57466666666676,544.86133333333328]
[60,null,{"$f":"C197*$K$2","v":986.33546666666678},894.94346666666672,637.58613333333346,465.7818666666667,0,null,1450.4933333333333,1316.0933333333335,937.62666666666667,684.97333333333336,null,null,1232.9193333333333,1118.6793333333335,796.98266666666666,582.22733333333338]
[61,null,{"$f":"C198*$K$2","v":1116.1248000000003},1012.8010666666668,720.6640000000001,526.58293333333336,0,null,1641.3600000000001,1489.4133333333334,1059.8,774.38666666666666,null,null,1395.1560000000002,1266.0013333333334,900.82999999999993,658.22866666666664]
[62,null,{"$f":"C199*$K$2","v":1239.8848000000003},1125.3274666666669,800.44159999999999,584.84533333333343,0,null,1823.3600000000001,1654.8933333333334,1177.1200000000001,860.06666666666672,null,null,1549.856,1406.6593333333333,1000.552,731.05666666666673]
[63,null,{"$f":"C200*$K$2","v":1373.1013333333335},1246.1045333333334,886.31200000000013,647.48693333333347,0,null,2019.2666666666667,1832.5066666666667,1303.4000000000001,952.18666666666672,null,null,1716.3766666666666,1557.6306666666667,1107.8900000000001,809.35866666666675]
[64,null,{"$f":"C201*$K$2","v":1515.5840000000003},1375.5130666666669,978.65600000000006,714.95200000000011,0,null,2228.8000000000002,2022.8133333333335,1439.2,1051.4000000000001,null,null,1894.48,1719.3913333333335,1223.32,893.69]
[65,null,{"$f":"C202*$K$2","v":1667.4597333333336},1513.2992000000002,1077.3466666666668,787.11360000000013,0,null,2452.146666666667,2225.44,1584.3333333333335,1157.52,null,null,2084.3246666666669,1891.624,1346.6833333333334,983.89199999999994]
[66,null,{"$f":"C203*$K$2","v":1828.7285333333334},1659.399466666667,1182.447466666667,863.84480000000019,0,null,2689.3066666666668,2440.2933333333335,1738.8933333333334,1270.3600000000001,null,null,2285.9106666666667,2074.2493333333337,1478.0593333333334,1079.806]
[67,null,{"$f":"C204*$K$2","v":1999.2634666666668},1814.3216,1293.9584,945.46293333333347,0,null,2940.0933333333332,2668.1200000000003,1902.88,1390.3866666666668,null,null,2499.0793333333331,2267.902,1617.4480000000001,1181.8286666666668]
[68,null,{"$f":"C205*$K$2","v":2179.0010666666672},1977.4944000000003,1411.816,1031.4602666666667,0,null,3204.4133333333334,2908.08,2076.2000000000003,1516.8533333333335,null,null,2723.7513333333332,2471.8679999999999,1764.7700000000002,1289.3253333333334]
[69,null,{"$f":"C206*$K$2","v":2368.3856000000001},2149.4256,1536.0837333333334,1122.2810666666667,0,null,3482.92,3160.92,2258.9466666666667,1650.4133333333334,null,null,2960.482,2686.7820000000002,1920.1046666666666,1402.8513333333333]
[70,null,{"$f":"C207*$K$2","v":2566.9728000000005},2329.6709333333338,1666.5712000000003,1217.6080000000002,0,null,3774.96,3425.9866666666667,2450.84,1790.6000000000001,null,null,3208.7159999999999,2912.0886666666665,2083.2139999999999,1522.01]
[71,null,{"$f":"C208*$K$2","v":2774.9530666666669},2518.2304000000004,1803.722666666667,1317.7584000000002,0,null,4080.8133333333335,3703.28,2652.5333333333333,1937.88,null,null,3468.6913333333332,3147.788,2254.6533333333332,1647.1980000000001]
[72,null,{"$f":"C209*$K$2","v":2992.1360000000004},2715.4213333333337,1947.0304000000001,1422.5418666666667,0,null,4400.2,3993.2666666666669,2863.28,2091.9733333333334,null,null,3740.1699999999996,3394.2766666666666,2433.788,1778.1773333333333]
[73,null,{"$f":"C210*$K$2","v":3218.7120000000004},2921.1168000000007,2096.748266666667,1531.8314666666668,0,null,4733.4000000000005,4295.76,3083.4533333333334,2252.6933333333336,null,null,4023.3900000000003,3651.3960000000002,2620.9353333333333,1914.7893333333336]
[74,null,{"$f":"C211*$K$2","v":3454.7445333333339},3135.1898666666666,2253.0666666666666,1646.0080000000003,0,null,5080.5066666666671,4610.5733333333337,3313.3333333333335,2420.6,null,null,4318.4306666666671,3918.9873333333335,2816.3333333333335,2057.5099999999998]
[75,null,{"$f":"C212*$K$2","v":3699.9797333333336},3357.8944000000006,2415.6048000000005,1764.8176000000003,0,null,5441.1466666666665,4938.08,3552.36,2595.3200000000002,null,null,4624.9746666666661,4197.3679999999995,3019.5059999999999,2206.0219999999999]
[76,null,{"$f":"C213*$K$2","v":3699.9797333333336},3357.8944000000006,2415.6048000000005,1764.8176000000003,0,null,5441.1466666666665,4938.08,3552.36,2595.3200000000002,null,null,4624.9746666666661,4197.3679999999995,3019.5059999999999,2206.0219999999999]
[77,null,{"$f":"C214*$K$2","v":3699.9797333333336},3357.8944000000006,2415.6048000000005,1764.8176000000003,0,null,5441.1466666666665,4938.08,3552.36,2595.3200000000002,null,null,4624.9746666666661,4197.3679999999995,3019.5059999999999,2206.0219999999999]
[78,null,{"$f":"C215*$K$2","v":3699.9797333333336},3357.8944000000006,2415.6048000000005,1764.8176000000003,0,null,5441.1466666666665,4938.08,3552.36,2595.3200000000002,null,null,4624.9746666666661,4197.3679999999995,3019.5059999999999,2206.0219999999999]
[79,null,{"$f":"C216*$K$2","v":3699.9797333333336},3357.8944000000006,2415.6048000000005,1764.8176000000003,0,null,5441.1466666666665,4938.08,3552.36,2595.3200000000002,null,null,4624.9746666666661,4197.3679999999995,3019.5059999999999,2206.0219999999999]
[80,null,{"$f":"C217*$K$2","v":3699.9797333333336},3357.8944000000006,2415.6048000000005,1764.8176000000003,null,null,5441.1466666666665,4938.08,3552.36,2595.3200000000002,null,null,4624.9746666666661,4197.3679999999995,3019.5059999999999,2206.0219999999999]
[81,null,{"$f":"C218*$K$2","v":3699.9797333333336},3357.8944000000006,2415.6048000000005,1764.8176000000003,null,null,5441.1466666666665,4938.08,3552.36,2595.3200000000002,null,null,4624.9746666666661,4197.3679999999995,3019.5059999999999,2206.0219999999999]
[82,null,{"$f":"C219*$K$2","v":3699.9797333333336},3357.8944000000006,2415.6048000000005,1764.8176000000003,null,null,5441.1466666666665,4938.08,3552.36,{"$f":"L219*$K$2","v":2595.3200000000002},null,null,4624.9746666666661,4197.3679999999995,3019.5059999999999,2206.0219999999999]
[83,null,{"$f":"C220*$K$2","v":3699.9797333333336},3357.8944000000006,2415.6048000000005,1764.8176000000003,null,null,{"$f":"I220*$K$2","v":5441.1466666666665},4938.08,3552.36,2595.3200000000002,null,null,{"$f":"I294*0.85","v":4624.9746666666661},{"$f":"J294*0.85","v":4197.3679999999995},{"$f":"K294*0.85","v":3019.5059999999999},{"$f":"L294*0.85","v":2206.0219999999999}]
[84,"o más",{"$f":"C221*$K$2","v":3699.9797333333336},3357.8944000000006,2415.6048000000005,1764.8176000000003,0,null,5441.1466666666665,4938.08,3552.36,2595.3200000000002,null,null,4624.9746666666661,4197.3679999999995,3019.5059999999999,2206.0219999999999]
[1,"Hijo",{"$f":"C222*$K$2","v":175.48533333333336},159.17440000000002,121.34826666666667,88.599466666666672,0,null,258.06666666666666,234.08,178.45333333333335,130.29333333333335,null,null,{"$f":"I296*0.85","v":219.35666666666665},198.96800000000002,151.68533333333335,110.74933333333334]
[2,"Hijos",{"$f":"C223*$K$2","v":298.29333333333341},270.74880000000002,206.01280000000003,150.60640000000001,0,null,438.66666666666669,398.16,302.96000000000004,221.48000000000002,null,null,{"$f":"I297*0.85","v":372.86666666666667},{"$f":"J297*0.85","v":338.43600000000004},{"$f":"K297*0.85","v":257.51600000000002},{"$f":"L297*0.85","v":188.25800000000001}]
[3,"Hijos o más",{"$f":"C224*$K$2","v":420.97440000000006},382.06933333333336,290.86773333333338,212.48640000000003,0,null,619.08000000000004,561.86666666666667,427.74666666666667,312.48,null,null,526.21800000000007,477.58666666666664,363.58466666666664,265.608]
[]
[]
["BUPA GLOBAL SELECT"]
["TARIFAS ANUALES"]
["EDAD"]
[" "," ",250,2000,5000,null,null,null,null,null,null,null,null,null,null,null,null,null,null,null,2,6,10,14,18]
[18,18,{"$f":"O305","v":3150.96},{"$f":"P305","v":3022.52},2283.04,1667.44,0,null,4146,3977,3004,2194,null,null,{"$f":"I305*0.76","v":3150.96},{"$f":"J305*0.76","v":3022.52},2283.04,1667.44,null,null,0,0,0,0,0]
[19,18,{"$f":"O306","v":3150.96},{"$f":"P306","v":3022.52},{"$f":"Q306","v":2283.04},{"$f":"R306","v":1667.44},{"$f":"S306","v":0},null,4146,3977,3004,2194,null,null,{"$f":"I306*0.76","v":3150.96},{"$f":"J306*0.76","v":3022.52},{"$f":"K306*0.76","v":2283.04},{"$f":"L306*0.76","v":1667.44},null,null,0,0,0,0,0]
[20,18,3150.96,3022.52,2283.04,1667.44,0,null,4146,3977,3004,2194,null,null,3150.96,3022.52,2283.04,1667.44,null,null,0,0,0,0,0]
[21,18,3150.96,3022.52,2283.04,1667.44,0,null,4146,3977,3004,2194,null,null,3150.96,3022.52,2283.04,1667.44,null,null,0,0,0,0,0]
[22,18,3150.96,3022.52,2283.04,1667.44,0,null,4146,3977,3004,2194,null,null,3150.96,3022.52,2283.04,1667.44,null,null,0,0,0,0,0]
[23,18,3150.96,3022.52,2283.04,1667.44,0,null,4146,3977,3004,2194,null,null,3150.96,3022.52,2283.04,1667.44,null,null,0,0,0,0,0]
[24,18,3150.96,3022.52,2283.04,1667.44,0,null,4146,3977,3004,2194,null,null,3150.96,3022.52,2283.04,1667.44,null,null,0,0,0,0,0]
[25,25,3399.48,3261.92,2437.3200000000002,1780.68,0,null,4473,4292,3207,2343,null,null,3399.48,3261.92,2437.3200000000002,1780.68,null,null,0,0,0,0,0]
[26,25,3399.48,3261.92,2437.3200000000002,1780.68,0,null,4473,4292,3207,2343,null,null,3399.48,3261.92,2437.3200000000002,1780.68,null,null,0,0,0,0,0]
[27,25,3399.48,3261.92,2437.3200000000002,1780.68,0,null,4473,4292,3207,2343,null,null,3399.48,3261.92,2437.3200000000002,1780.68,null,null,0,0,0,0,0]
[28,25,3399.48,3261.92,2437.3200000000002,1780.68,0,null,4473,4292,3207,2343,null,null,3399.48,3261.92,2437.3200000000002,1780.68,null,null,0,0,0,0,0]
[29,25,3399.48,3261.92,2437.3200000000002,1780.68,0,null,4473,4292,3207,2343,null,null,3399.48,3261.92,2437.3200000000002,1780.68,null,null,0,0,0,0,0]
[30,30,3834.96,3678.4,2710.16,1978.28,0,null,5046,4840,3566,2603,null,null,3834.96,3678.4,2710.16,1978.28,null,null,0,0,0,0,0]
[31,30,3834.96,3678.4,2710.16,1978.28,0,null,5046,4840,3566,2603,null,null,3834.96,3678.4,2710.16,1978.28,null,null,0,0,0,0,0]
[32,30,3834.96,3678.4,2710.16,1978.28,0,null,5046,4840,3566,2603,null,null,3834.96,3678.4,2710.16,1978.28,null,null,0,0,0,0,0]
[33,30,3834.96,3678.4,2710.16,1978.28,0,null,5046,4840,3566,2603,null,null,3834.96,3678.4,2710.16,1978.28,null,null,0,0,0,0,0]
[34,30,3834.96,3678.4,2710.16,1978.28,0,null,5046,4840,3566,2603,null,null,3834.96,3678.4,2710.16,1978.28,null,null,0,0,0,0,0]
[35,35,4339.6000000000004,4163.28,3033.92,2216.16,0,null,5710,5478,3992,2916,null,null,4339.6000000000004,4163.28,3033.92,2216.16,null,null,0,0,0,0,0]
[36,35,4339.6000000000004,4163.28,3033.92,2216.16,0,null,5710,5478,3992,2916,null,null,4339.6000000000004,4163.28,3033.92,2216.16,null,null,0,0,0,0,0]
[37,35,4339.6000000000004,4163.28,3033.92,2216.16,0,null,5710,5478,3992,2916,null,null,4339.6000000000004,4163.28,3033.92,2216.16,null,null,0,0,0,0,0]
[38,35,4339.6000000000004,4163.28,3033.92,2216.16,0,null,5710,5478,3992,2916,null,null,4339.6000000000004,4163.28,3033.92,2216.16,null,null,0,0,0,0,0]
[39,35,4339.6000000000004,4163.28,3033.92,2216.16,0,null,5710,5478,3992,2916,null,null,4339.6000000000004,4163.28,3033.92,2216.16,null,null,0,0,0,0,0]
[40,40,5085.92,4879.96,3525.64,2574.88,0,null,6692,6421,4639,3388,null,null,5085.92,4879.96,3525.64,2574.88,null,null,0,0,0,0,0]
[41,40,5085.92,4879.96,3525.64,2574.88,0,null,6692,6421,4639,3388,null,null,5085.92,4879.96,3525.64,2574.88,null,null,0,0,0,0,0]
[42,40,5085.92,4879.96,3525.64,2574.88,0,null,6692,6421,4639,3388,null,null,5085.92,4879.96,3525.64,2574.88,null,null,0,0,0,0,0]
[43,40,5085.92,4879.96,3525.64,2574.88,0,null,6692,6421,4639,3388,null,null,5085.92,4879.96,3525.64,2574.88,null,null,0,0,0,0,0]
[44,40,5085.92,4879.96,3525.64,2574.88,0,null,6692,6421,4639,3388,null,null,5085.92,4879.96,3525.64,2574.88,null,null,0,0,0,0,0]
[45,45,5756.24,5522.16,3968.7200000000003,2899.4,0,null,7574,7266,5222,3815,null,null,5756.24,5522.16,3968.7200000000003,2899.4,null,null,0,0,0,0,0]
[46,45,5756.24,5522.16,3968.7200000000003,2899.4,0,null,7574,7266,5222,3815,null,null,5756.24,5522.16,3968.7200000000003,2899.4,null,null,0,0,0,0,0]
[47,45,5756.24,5522.16,3968.7200000000003,2899.4,0,null,7574,7266,5222,3815,null,null,5756.24,5522.16,3968.7200000000003,2899.4,null,null,0,0,0,0,0]
[48,45,5756.24,5522.16,3968.7200000000003,2899.4,0,null,7574,7266,5222,3815,null,null,5756.24,5522.16,3968.7200000000003,2899.4,null,null,0,0,0,0,0]
[49,45,5756.24,5522.16,3968.7200000000003,2899.4,0,null,7574,7266,5222,3815,null,null,5756.24,5522.16,3968.7200000000003,2899.4,null,null,0,0,0,0,0]
[50,50,6721.4400000000005,6447.84,4615.4800000000005,3371.36,0,null,8844,8484,6073,4436,null,null,6721.4400000000005,6447.84,4615.4800000000005,3371.36,null,null,0,0,0,0,0]
[51,50,6721.4400000000005,6447.84,4615.4800000000005,3371.36,0,null,8844,8484,6073,4436,null,null,6721.4400000000005,6447.84,4615.4800000000005,3371.36,null,null,0,0,0,0,0]
[52,50,6721.4400000000005,6447.84,4615.4800000000005,3371.36,0,null,8844,8484,6073,4436,null,null,6721.4400000000005,6447.84,4615.4800000000005,3371.36,null,null,0,0,0,0,0]
[53,50,6721.4400000000005,6447.84,4615.4800000000005,3371.36,0,null,8844,8484,6073,4436,null,null,6721.4400000000005,6447.84,4615.4800000000005,3371.36,null,null,0,0,0,0,0]
[54,50,6721.4400000000005,6447.84,4615.4800000000005,3371.36,0,null,8844,8484,6073,4436,null,null,6721.4400000000005,6447.84,4615.4800000000005,3371.36,null,null,0,0,0,0,0]
[55,55,7581.76,7273.96,5193.08,3793.16,0,null,9976,9571,6833,4991,null,null,7581.76,7273.96,5193.08,3793.16,null,null,0,0,0,0,0]
[56,55,7581.76,7273.96,5193.08,3793.16,0,null,9976,9571,6833,4991,null,null,7581.76,7273.96,5193.08,3793.16,null,null,0,0,0,0,0]
[57,55,7581.76,7273.96,5193.08,3793.16,0,null,9976,9571,6833,4991,null,null,7581.76,7273.96,5193.08,3793.16,null,null,0,0,0,0,0]
[58,55,7581.76,7273.96,5193.08,3793.16,0,null,9976,9571,6833,4991,null,null,7581.76,7273.96,5193.08,3793.16,null,null,0,0,0,0,0]
[59,55,7581.76,7273.96,5193.08,3793.16,0,null,9976,9571,6833,4991,null,null,7581.76,7273.96,5193.08,3793.16,null,null,0,0,0,0,0]
[60,60,8153.28,7822.68,5581.4400000000005,4074.36,0,null,10728,10293,7344,5361,null,null,8153.28,7822.68,5581.4400000000005,4074.36,null,null,0,0,0,0,0]
[61,61,9295.56,8917.84,6355.88,4642.08,0,null,12231,11734,8363,6108,null,null,9295.56,8917.84,6355.88,4642.08,null,null,0,0,0,0,0]
[62,62,10392.24,9971.2000000000007,7105.24,5187,0,null,13674,13120,9349,6825,null,null,10392.24,9971.2000000000007,7105.24,5187,null,null,0,0,0,0,0]
[63,63,11574.04,11105.12,7913.12,5778.28,0,null,15229,14612,10412,7603,null,null,11574.04,11105.12,7913.12,5778.28,null,null,0,0,0,0,0]
[64,64,12837.16,12318.84,8781.0400000000009,6412.12,0,null,16891,16209,11554,8437,null,null,12837.16,12318.84,8781.0400000000009,6412.12,null,null,0,0,0,0,0]
[65,65,14186.92,13613.12,9711.2800000000007,7092.32,0,null,18667,17912,12778,9332,null,null,14186.92,13613.12,9711.2800000000007,7092.32,null,null,0,0,0,0,0]
[66,66,15618.76,14986.44,10700.04,7813.56,0,null,20551,19719,14079,10281,null,null,15618.76,14986.44,10700.04,7813.56,null,null,0,0,0,0,0]
[67,67,17134.96,16439.560000000001,11748.84,8580.4,0,null,22546,21631,15459,11290,null,null,17134.96,16439.560000000001,11748.84,8580.4,null,null,0,0,0,0,0]
[68,68,18734.760000000002,17974,12856.92,9389.0400000000009,0,null,24651,23650,16917,12354,null,null,18734.760000000002,17974,12856.92,9389.0400000000009,null,null,0,0,0,0,0]
[69,69,20415.12,19588.240000000002,14028.08,10244.040000000001,0,null,26862,25774,18458,13479,null,null,20415.12,19588.240000000002,14028.08,10244.040000000001,null,null,0,0,0,0,0]
[70,70,22182.12,21283.040000000001,15257.76,11140.84,0,null,29187,28004,20076,14659,null,null,22182.12,21283.040000000001,15257.76,11140.84,null,null,0,0,0,0,0]
[71,71,24030.44,23056.12,16550.52,12084.76,0,null,31619,30337,21777,15901,null,null,24030.44,23056.12,16550.52,12084.76,null,null,0,0,0,0,0]
[72,72,25964.639999999999,24912.04,17898.759999999998,13071.24,0,null,34164,32779,23551,17199,null,null,25964.639999999999,24912.04,17898.759999999998,13071.24,null,null,0,0,0,0,0]
[73,73,27980.16,26845.48,19310.080000000002,14100.28,0,null,36816,35323,25408,18553,null,null,27980.16,26845.48,19310.080000000002,14100.28,null,null,0,0,0,0,0]
[74,74,30079.279999999999,28861.760000000002,20779.16,15174.16,0,null,39578,37976,27341,19966,null,null,30079.279999999999,28861.760000000002,20779.16,15174.16,null,null,0,0,0,0,0]
[75,75,32262.760000000002,30956.32,22312.080000000002,16293.64,0,null,42451,40732,29358,21439,null,null,32262.760000000002,30956.32,22312.080000000002,16293.64,null,null,0,0,0,0,0]
[76,75,32262.760000000002,30956.32,22312.080000000002,16293.64,0,null,42451,40732,29358,21439,null,null,32262.760000000002,30956.32,22312.080000000002,16293.64,null,null,0,0,0,0,0]
[77,75,32262.760000000002,30956.32,22312.080000000002,16293.64,0,null,42451,40732,29358,21439,null,null,32262.760000000002,30956.32,22312.080000000002,16293.64,null,null,0,0,0,0,0]
[78,75,32262.760000000002,30956.32,22312.080000000002,16293.64,0,null,42451,40732,29358,21439,null,null,32262.760000000002,30956.32,22312.080000000002,16293.64,null,null,0,0,0,0,0]
[79,75,32262.760000000002,30956.32,22312.080000000002,16293.64,0,null,42451,40732,29358,21439,null,null,32262.760000000002,30956.32,22312.080000000002,16293.64,null,null,0,0,0,0,0]
[80,75,32262.760000000002,30956.32,22312.080000000002,16293.64,0,null,42451,40732,29358,21439,null,null,32262.760000000002,30956.32,22312.080000000002,16293.64,null,null,0,0,0,0,0]
[81,75,32262.760000000002,30956.32,22312.080000000002,16293.64,0,null,42451,40732,29358,21439,null,null,32262.760000000002,30956.32,22312.080000000002,16293.64,null,null,0,0,0,0,0]
[82,75,32262.760000000002,30956.32,22312.080000000002,16293.64,0,null,42451,40732,29358,21439,null,null,32262.760000000002,30956.32,22312.080000000002,16293.64,null,null,0,0,0,0,0]
[83,75,{"$f":"O370","v":32262.760000000002},{"$f":"P370","v":30956.32},{"$f":"Q370","v":22312.080000000002},{"$f":"R370","v":16293.64},{"$f":"S370","v":0},null,42451,40732,29358,21439,null,null,{"$f":"I370*0.76","v":32262.760000000002},{"$f":"J370*0.76","v":30956.32},{"$f":"K370*0.76","v":22312.080000000002},{"$f":"L370*0.76","v":16293.64},null,null,0,0,0,0,0]
[84,75,32262.760000000002,30956.32,22312.080000000002,16293.64,0,null,42451,40732,29358,21439,null,null,32262.760000000002,30956.32,22312.080000000002,16293.64,null,null,0,0,0,0,0]
[1,"1 Child",1470.6,1411.32,1080.72,790.4,0,null,1935,1857,1422,1040,null,null,1470.6,1411.32,1080.72,790.4,null,null,0,0,0,0,0]
[2,"2 Children",2497.36,2396.2800000000002,1835.4,1340.64,0,null,3286,3153,2415,1764,null,null,2497.36,2396.2800000000002,1835.4,1340.64,null,null,0,0,0,0,0]
[3,"3+ Children",3526.4,3382,2590.08,1891.64,0,null,4640,4450,3408,2489,null,null,3526.4,3382,2590.08,1891.64,null,null,0,0,0,0,0]
[]
["BUPA GLOBAL SELECT - MENSUALES"]
["EDAD"]
[" "," ",2000,3500,5000]
[18,null,{"$f":"C305*$K$2","v":294.08960000000002},{"$f":"D305*$K$2","v":282.10186666666669},213.08373333333333,155.62773333333334,0,null,{"$f":"I305*$K$2","v":386.96000000000004},{"$f":"J305*$K$2","v":371.18666666666667},280.37333333333333,204.77333333333334,null,null,{"$f":"I379*0.85","v":328.916},{"$f":"J379*0.85","v":315.50866666666667},238.31733333333332,174.05733333333333]
[19,null,{"$f":"C306*$K$2","v":294.08960000000002},282.10186666666669,213.08373333333333,155.62773333333334,0,null,{"$f":"I306*$K$2","v":386.96000000000004},371.18666666666667,280.37333333333333,204.77333333333334,null,null,{"$f":"I380*0.85","v":328.916},{"$f":"J380*0.85","v":315.50866666666667},{"$f":"K380*0.85","v":238.31733333333332},{"$f":"L380*0.85","v":174.05733333333333}]
[20,null,{"$f":"C307*$K$2","v":294.08960000000002},282.10186666666669,213.08373333333333,155.62773333333334,0,null,386.96000000000004,371.18666666666667,280.37333333333333,204.77333333333334,null,null,328.916,315.50866666666667,238.31733333333332,174.05733333333333]
[21,null,{"$f":"C308*$K$2","v":294.08960000000002},282.10186666666669,213.08373333333333,155.62773333333334,0,null,386.96000000000004,371.18666666666667,280.37333333333333,204.77333333333334,null,null,328.916,315.50866666666667,238.31733333333332,174.05733333333333]
[22,null,{"$f":"C309*$K$2","v":294.08960000000002},282.10186666666669,213.08373333333333,155.62773333333334,0,null,386.96000000000004,371.18666666666667,280.37333333333333,204.77333333333334,null,null,328.916,315.50866666666667,238.31733333333332,174.05733333333333]
[23,null,{"$f":"C310*$K$2","v":294.08960000000002},282.10186666666669,213.08373333333333,155.62773333333334,0,null,386.96000000000004,371.18666666666667,280.37333333333333,204.77333333333334,null,null,328.916,315.50866666666667,238.31733333333332,174.05733333333333]
[24,null,{"$f":"C311*$K$2","v":294.08960000000002},282.10186666666669,213.08373333333333,155.62773333333334,0,null,386.96000000000004,371.18666666666667,280.37333333333333,204.77333333333334,null,null,328.916,315.50866666666667,238.31733333333332,174.05733333333333]
[25,null,{"$f":"C312*$K$2","v":317.28480000000002},304.44586666666669,227.48320000000004,166.19680000000002,0,null,417.48,400.5866666666667,299.32,218.68,null,null,354.858,340.49866666666668,254.422,185.87800000000001]
[26,null,{"$f":"C313*$K$2","v":317.28480000000002},304.44586666666669,227.48320000000004,166.19680000000002,0,null,417.48,400.5866666666667,299.32,218.68,null,null,354.858,340.49866666666668,254.422,185.87800000000001]
[27,null,{"$f":"C314*$K$2","v":317.28480000000002},304.44586666666669,227.48320000000004,166.19680000000002,0,null,417.48,400.5866666666667,299.32,218.68,null,null,354.858,340.49866666666668,254.422,185.87800000000001]
[28,null,{"$f":"C315*$K$2","v":317.28480000000002},304.44586666666669,227.48320000000004,166.19680000000002,0,null,417.48,400.5866666666667,299.32,218.68,null,null,354.858,340.49866666666668,254.422,185.87800000000001]
[29,null,{"$f":"C316*$K$2","v":317.28480000000002},304.44586666666669,227.48320000000004,166.19680000000002,0,null,417.48,400.5866666666667,299.32,218.68,null,null,354.858,340.49866666666668,254.422,185.87800000000001]
[30,null,{"$f":"C317*$K$2","v":357.92959999999999},343.31733333333335,252.94826666666665,184.63946666666666,0,null,470.96000000000004,451.73333333333335,332.82666666666665,242.94666666666669,null,null,400.31600000000003,383.97333333333336,282.90266666666668,206.50466666666668]
[31,null,{"$f":"C318*$K$2","v":357.92959999999999},343.31733333333335,252.94826666666665,184.63946666666666,0,null,470.96000000000004,451.73333333333335,332.82666666666665,242.94666666666669,null,null,400.31600000000003,383.97333333333336,282.90266666666668,206.50466666666668]
[32,null,{"$f":"C319*$K$2","v":357.92959999999999},343.31733333333335,252.94826666666665,184.63946666666666,0,null,470.96000000000004,451.73333333333335,332.82666666666665,242.94666666666669,null,null,400.31600000000003,383.97333333333336,282.90266666666668,206.50466666666668]
[33,null,{"$f":"C320*$K$2","v":357.92959999999999},343.31733333333335,252.94826666666665,184.63946666666666,0,null,470.96000000000004,451.73333333333335,332.82666666666665,242.94666666666669,null,null,400.31600000000003,383.97333333333336,282.90266666666668,206.50466666666668]
[34,null,{"$f":"C321*$K$2","v":357.92959999999999},343.31733333333335,252.94826666666665,184.63946666666666,0,null,470.96000000000004,451.73333333333335,332.82666666666665,242.94666666666669,null,null,400.31600000000003,383.97333333333336,282.90266666666668,206.50466666666668]
[35,null,{"$f":"C322*$K$2","v":405.0293333333334},388.57279999999997,283.16586666666666,206.8416,0,null,532.93333333333339,511.28000000000003,372.5866666666667,272.16000000000003,null,null,452.9933333333334,434.58800000000002,316.69866666666667,231.33600000000001]
[36,null,{"$f":"C323*$K$2","v":405.0293333333334},388.57279999999997,283.16586666666666,206.8416,0,null,532.93333333333339,511.28000000000003,372.5866666666667,272.16000000000003,null,null,452.9933333333334,434.58800000000002,316.69866666666667,231.33600000000001]
[37,null,{"$f":"C324*$K$2","v":405.0293333333334},388.57279999999997,283.16586666666666,206.8416,0,null,532.93333333333339,511.28000000000003,372.5866666666667,272.16000000000003,null,null,452.9933333333334,434.58800000000002,316.69866666666667,231.33600000000001]
[38,null,{"$f":"C325*$K$2","v":405.0293333333334},388.57279999999997,283.16586666666666,206.8416,0,null,532.93333333333339,511.28000000000003,372.5866666666667,272.16000000000003,null,null,452.9933333333334,434.58800000000002,316.69866666666667,231.33600000000001]
[39,null,{"$f":"C326*$K$2","v":405.0293333333334},388.57279999999997,283.16586666666666,206.8416,0,null,532.93333333333339,511.28000000000003,372.5866666666667,272.16000000000003,null,null,452.9933333333334,434.58800000000002,316.69866666666667,231.33600000000001]
[40,null,{"$f":"C327*$K$2","v":474.6858666666667},455.46293333333335,329.05973333333333,240.32213333333334,0,null,624.5866666666667,599.29333333333341,432.97333333333336,316.21333333333337,null,null,530.89866666666671,509.3993333333334,368.02733333333333,268.78133333333335]
[41,null,{"$f":"C328*$K$2","v":474.6858666666667},455.46293333333335,329.05973333333333,240.32213333333334,0,null,624.5866666666667,599.29333333333341,432.97333333333336,316.21333333333337,null,null,530.89866666666671,509.3993333333334,368.02733333333333,268.78133333333335]
[42,null,{"$f":"C329*$K$2","v":474.6858666666667},455.46293333333335,329.05973333333333,240.32213333333334,0,null,624.5866666666667,599.29333333333341,432.97333333333336,316.21333333333337,null,null,530.89866666666671,509.3993333333334,368.02733333333333,268.78133333333335]
[43,null,{"$f":"C330*$K$2","v":474.6858666666667},455.46293333333335,329.05973333333333,240.32213333333334,0,null,624.5866666666667,599.29333333333341,432.97333333333336,316.21333333333337,null,null,530.89866666666671,509.3993333333334,368.02733333333333,268.78133333333335]
[44,null,{"$f":"C331*$K$2","v":474.6858666666667},455.46293333333335,329.05973333333333,240.32213333333334,0,null,624.5866666666667,599.29333333333341,432.97333333333336,316.21333333333337,null,null,530.89866666666671,509.3993333333334,368.02733333333333,268.78133333333335]
[45,null,{"$f":"C332*$K$2","v":537.24906666666664},515.40160000000003,370.41386666666671,270.6106666666667,0,null,706.90666666666675,678.16000000000008,487.38666666666671,356.06666666666666,null,null,600.87066666666669,576.43600000000004,414.27866666666671,302.65666666666664]
[46,null,{"$f":"C333*$K$2","v":537.24906666666664},515.40160000000003,370.41386666666671,270.6106666666667,0,null,706.90666666666675,678.16000000000008,487.38666666666671,356.06666666666666,null,null,600.87066666666669,576.43600000000004,414.27866666666671,302.65666666666664]
[47,null,{"$f":"C334*$K$2","v":537.24906666666664},515.40160000000003,370.41386666666671,270.6106666666667,0,null,706.90666666666675,678.16000000000008,487.38666666666671,356.06666666666666,null,null,600.87066666666669,576.43600000000004,414.27866666666671,302.65666666666664]
[48,null,{"$f":"C335*$K$2","v":537.24906666666664},515.40160000000003,370.41386666666671,270.6106666666667,0,null,706.90666666666675,678.16000000000008,487.38666666666671,356.06666666666666,null,null,600.87066666666669,576.43600000000004,414.27866666666671,302.65666666666664]
[49,null,{"$f":"C336*$K$2","v":537.24906666666664},515.40160000000003,370.41386666666671,270.6106666666667,0,null,706.90666666666675,678.16000000000008,487.38666666666671,356.06666666666666,null,null,600.87066666666669,576.43600000000004,414.27866666666671,302.65666666666664]
[50,null,{"$f":"C337*$K$2","v":627.33440000000007},601.79840000000002,430.77813333333341,314.6602666666667,0,null,825.44,791.84,566.81333333333339,414.0266666666667,null,null,701.62400000000002,673.06399999999996,481.79133333333334,351.92266666666666]
[51,null,{"$f":"C338*$K$2","v":627.33440000000007},601.79840000000002,430.77813333333341,314.6602666666667,0,null,825.44,791.84,566.81333333333339,414.0266666666667,null,null,701.62400000000002,673.06399999999996,481.79133333333334,351.92266666666666]
[52,null,{"$f":"C339*$K$2","v":627.33440000000007},601.79840000000002,430.77813333333341,314.6602666666667,0,null,825.44,791.84,566.81333333333339,414.0266666666667,null,null,701.62400000000002,673.06399999999996,481.79133333333334,351.92266666666666]
[53,null,{"$f":"C340*$K$2","v":627.33440000000007},601.79840000000002,430.77813333333341,314.6602666666667,0,null,825.44,791.84,566.81333333333339,414.0266666666667,null,null,701.62400000000002,673.06399999999996,481.79133333333334,351.92266666666666]
[54,null,{"$f":"C341*$K$2","v":627.33440000000007},601.79840000000002,430.77813333333341,314.6602666666667,0,null,825.44,791.84,566.81333333333339,414.0266666666667,null,null,701.62400000000002,673.06399999999996,481.79133333333334,351.92266666666666]
[55,null,{"$f":"C342*$K$2","v":707.63093333333336},678.90293333333341,484.68746666666669,354.0282666666667,0,null,931.09333333333336,893.29333333333341,637.74666666666667,465.82666666666671,null,null,791.42933333333337,759.29933333333338,542.08466666666664,395.95266666666669]
[56,null,{"$f":"C343*$K$2","v":707.63093333333336},678.90293333333341,484.68746666666669,354.0282666666667,0,null,931.09333333333336,893.29333333333341,637.74666666666667,465.82666666666671,null,null,791.42933333333337,759.29933333333338,542.08466666666664,395.95266666666669]
[57,null,{"$f":"C344*$K$2","v":707.63093333333336},678.90293333333341,484.68746666666669,354.0282666666667,0,null,931.09333333333336,893.29333333333341,637.74666666666667,465.82666666666671,null,null,791.42933333333337,759.29933333333338,542.08466666666664,395.95266666666669]
[58,null,{"$f":"C345*$K$2","v":707.63093333333336},678.90293333333341,484.68746666666669,354.0282666666667,0,null,931.09333333333336,893.29333333333341,637.74666666666667,465.82666666666671,null,null,791.42933333333337,759.29933333333338,542.08466666666664,395.95266666666669]
[59,null,{"$f":"C346*$K$2","v":707.63093333333336},678.90293333333341,484.68746666666669,354.0282666666667,0,null,931.09333333333336,893.29333333333341,637.74666666666667,465.82666666666671,null,null,791.42933333333337,759.29933333333338,542.08466666666664,395.95266666666669]
[60,null,{"$f":"C347*$K$2","v":760.97280000000001},730.11680000000001,520.9344000000001,380.27360000000004,0,null,1001.2800000000001,960.68000000000006,685.44,500.36,null,null,851.08800000000008,816.57800000000009,582.62400000000002,425.30599999999998]
[61,null,{"$f":"C348*$K$2","v":867.5856},832.33173333333343,593.21546666666666,433.26080000000002,0,null,1141.56,1095.1733333333334,780.54666666666674,570.08000000000004,null,null,970.32599999999991,930.89733333333334,663.46466666666674,484.56800000000004]
[62,null,{"$f":"C349*$K$2","v":969.94240000000002},930.6453333333335,663.15573333333339,484.12,0,null,1276.24,1224.5333333333333,872.57333333333338,637,null,null,1084.8040000000001,1040.8533333333332,741.6873333333333,541.44999999999993]
[63,null,{"$f":"C350*$K$2","v":1080.2437333333335},1036.4778666666668,738.55786666666665,539.30613333333338,0,null,1421.3733333333334,1363.7866666666666,971.78666666666675,709.61333333333334,null,null,1208.1673333333333,1159.2186666666666,826.01866666666672,603.17133333333334]
[64,null,{"$f":"C351*$K$2","v":1198.1349333333333},1149.7584000000002,819.5637333333334,598.46453333333341,0,null,1576.4933333333333,1512.8400000000001,1078.3733333333334,787.45333333333338,null,null,1340.0193333333334,1285.914,916.61733333333336,669.33533333333332]
[65,null,{"$f":"C352*$K$2","v":1324.1125333333334},1270.5578666666668,906.38613333333342,661.94986666666671,0,null,1742.2533333333333,1671.7866666666666,1192.6133333333335,870.98666666666668,null,null,1480.9153333333334,1421.0186666666666,1013.7213333333334,740.33866666666665]
[66,null,{"$f":"C353*$K$2","v":1457.7509333333335},1398.7344000000001,998.67040000000009,729.26560000000006,0,null,1918.0933333333335,1840.44,1314.04,959.56000000000006,null,null,1630.3793333333333,1564.374,1116.934,815.62599999999998]
[67,null,{"$f":"C354*$K$2","v":1599.2629333333334},1534.3589333333334,1096.5584000000001,800.83733333333339,0,null,2104.2933333333335,2018.8933333333334,1442.8400000000001,1053.7333333333333,null,null,1788.6493333333335,1716.0593333333334,1226.414,895.67333333333329]
[68,null,{"$f":"C355*$K$2","v":1748.5776000000003},1677.5733333333335,1199.9792,876.31040000000007,0,null,2300.7600000000002,2207.3333333333335,1578.92,1153.04,null,null,1955.6460000000002,1876.2333333333333,1342.0820000000001,980.08399999999995]
[69,null,{"$f":"C356*$K$2","v":1905.4112},1828.2357333333337,1309.2874666666667,956.11040000000014,0,null,2507.12,2405.5733333333333,1722.7466666666667,1258.04,null,null,2131.0519999999997,2044.7373333333333,1464.3346666666666,1069.3339999999998]
[70,null,{"$f":"C357*$K$2","v":2070.3312000000001},1986.4170666666669,1424.0576000000001,1039.8117333333334,0,null,2724.1200000000003,2613.7066666666669,1873.76,1368.1733333333334,null,null,2315.5020000000004,2221.6506666666669,1592.6959999999999,1162.9473333333333]
[71,null,{"$f":"C358*$K$2","v":2242.8410666666668},2151.9045333333333,1544.7152000000001,1127.9109333333333,0,null,2951.106666666667,2831.4533333333334,2032.52,1484.0933333333335,null,null,2508.4406666666669,2406.7353333333335,1727.6420000000001,1261.4793333333334]
[72,null,{"$f":"C359*$K$2","v":2423.3663999999999},2325.1237333333333,1670.5509333333332,1219.9824000000001,0,null,3188.6400000000003,3059.3733333333334,2198.0933333333332,1605.24,null,null,2710.3440000000001,2600.4673333333335,1868.3793333333333,1364.454]
[73,null,{"$f":"C360*$K$2","v":2611.4816000000001},2505.5781333333334,1802.2741333333336,1316.0261333333335,0,null,3436.1600000000003,3296.8133333333335,2371.4133333333334,1731.6133333333335,null,null,2920.7360000000003,2802.2913333333336,2015.7013333333334,1471.8713333333335]
[74,null,{"$f":"C361*$K$2","v":2807.3994666666667},2693.764266666667,1939.3882666666668,1416.2549333333334,0,null,3693.9466666666667,3544.4266666666667,2551.8266666666668,1863.4933333333333,null,null,3139.8546666666666,3012.7626666666665,2169.0526666666669,1583.9693333333332]
[75,null,{"$f":"C362*$K$2","v":3011.1909333333338},2889.2565333333337,2082.4608000000003,1520.7397333333333,0,null,3962.0933333333337,3801.6533333333336,2740.08,2000.9733333333334,null,null,3367.7793333333334,3231.4053333333336,2329.0679999999998,1700.8273333333334]
[76,null,{"$f":"C363*$K$2","v":3011.1909333333338},2889.2565333333337,2082.4608000000003,1520.7397333333333,0,null,3962.0933333333337,3801.6533333333336,2740.08,2000.9733333333334,null,null,3367.7793333333334,3231.4053333333336,2329.0679999999998,1700.8273333333334]
[77,null,{"$f":"C364*$K$2","v":3011.1909333333338},2889.2565333333337,2082.4608000000003,1520.7397333333333,0,null,3962.0933333333337,3801.6533333333336,2740.08,2000.9733333333334,null,null,3367.7793333333334,3231.4053333333336,2329.0679999999998,1700.8273333333334]
[78,null,{"$f":"C365*$K$2","v":3011.1909333333338},2889.2565333333337,2082.4608000000003,1520.7397333333333,0,null,3962.0933333333337,3801.6533333333336,2740.08,2000.9733333333334,null,null,3367.7793333333334,3231.4053333333336,2329.0679999999998,1700.8273333333334]
[79,null,{"$f":"C366*$K$2","v":3011.1909333333338},2889.2565333333337,2082.4608000000003,1520.7397333333333,0,null,3962.0933333333337,3801.6533333333336,2740.08,2000.9733333333334,null,null,3367.7793333333334,3231.4053333333336,2329.0679999999998,1700.8273333333334]
[80,null,{"$f":"C367*$K$2","v":3011.1909333333338},2889.2565333333337,2082.4608000000003,1520.7397333333333,null,null,3962.0933333333337,3801.6533333333336,2740.08,2000.9733333333334,null,null,3367.7793333333334,3231.4053333333336,2329.0679999999998,1700.8273333333334]
[81,null,{"$f":"C368*$K$2","v":3011.1909333333338},2889.2565333333337,2082.4608000000003,1520.7397333333333,null,null,3962.0933333333337,3801.6533333333336,2740.08,2000.9733333333334,null,null,3367.7793333333334,3231.4053333333336,2329.0679999999998,1700.8273333333334]
[82,null,{"$f":"C369*$K$2","v":3011.1909333333338},2889.2565333333337,2082.4608000000003,1520.7397333333333,null,null,3962.0933333333337,3801.6533333333336,2740.08,{"$f":"L369*$K$2","v":2000.9733333333334},null,null,3367.7793333333334,3231.4053333333336,2329.0679999999998,1700.8273333333334]
[83,null,{"$f":"C370*$K$2","v":3011.1909333333338},2889.2565333333337,2082.4608000000003,1520.7397333333333,null,null,{"$f":"I370*$K$2","v":3962.0933333333337},3801.6533333333336,2740.08,2000.9733333333334,null,null,{"$f":"I444*0.85","v":3367.7793333333334},{"$f":"J444*0.85","v":3231.4053333333336},{"$f":"K444*0.85","v":2329.0679999999998},{"$f":"L444*0.85","v":1700.8273333333334}]
[84,"o más",{"$f":"C371*$K$2","v":3011.1909333333338},2889.2565333333337,2082.4608000000003,1520.7397333333333,0,null,3962.0933333333337,3801.6533333333336,2740.08,2000.9733333333334,null,null,3367.7793333333334,3231.4053333333336,2329.0679999999998,1700.8273333333334]
[1,"Hijo",{"$f":"C372*$K$2","v":137.256},131.72319999999999,100.86720000000001,73.770666666666671,null,null,180.6,173.32000000000002,132.72,97.066666666666677,null,null,{"$f":"I446*0.85","v":153.51},147.322,112.812,82.506666666666675]
[2,"Hijos",{"$f":"C373*$K$2","v":233.08693333333335},223.65280000000004,171.30400000000003,125.12640000000002,null,null,306.69333333333333,294.28000000000003,225.4,164.64000000000001,null,null,{"$f":"I447*0.85","v":260.68933333333331},{"$f":"J447*0.85","v":250.13800000000001},{"$f":"K447*0.85","v":191.59},{"$f":"L447*0.85","v":139.94400000000002}]
[3,"Hijos o más",{"$f":"C374*$K$2","v":329.13066666666668},315.65333333333336,241.74080000000001,176.55306666666669,null,null,433.06666666666666,415.33333333333337,318.08000000000004,232.30666666666667,null,null,368.10666666666663,353.03333333333336,270.36800000000005,197.46066666666667]
[]
[]
["BUPA GLOBAL ELITE"]
["TARIFAS SEMESTRALES"]
["EDAD"]
[" "," ",1000,2000,3500]
[18,null,{"$f":"C6*$K$4","v":4483.8265000000001},{"$f":"D6*$K$4","v":3929.261},3263.8724999999999,2831.8429999999998,2156.5435000000002,null,{"$f":"I6*$K$4","v":5275.09},{"$f":"J6*$K$4","v":4622.66},3839.8500000000004,3331.5800000000004,2537.11,null,{"$f":"I455*0.85","v":4483.8265000000001},{"$f":"J455*0.85","v":3929.261},3263.8725000000004,2831.8430000000003,2156.5435000000002]
[19,null,{"$f":"C7*$K$4","v":4483.8265000000001},3929.261,3263.8724999999999,2831.8429999999998,2156.5435000000002,null,{"$f":"I7*$K$4","v":5275.09},4622.66,3839.8500000000004,3331.5800000000004,2537.11,null,{"$f":"I456*0.85","v":4483.8265000000001},{"$f":"J456*0.85","v":3929.261},{"$f":"K456*0.85","v":3263.8725000000004},{"$f":"L456*0.85","v":2831.8430000000003},2156.5435000000002]
[20,null,{"$f":"C8*$K$4","v":4483.8265000000001},3929.261,3263.8724999999999,2831.8429999999998,2156.5435000000002,null,5275.09,4622.66,3839.8500000000004,3331.5800000000004,2537.11,null,4483.8265000000001,3929.261,3263.8725000000004,2831.8430000000003,2156.5435000000002]
[21,null,{"$f":"C9*$K$4","v":4483.8265000000001},3929.261,3263.8724999999999,2831.8429999999998,2156.5435000000002,null,5275.09,4622.66,3839.8500000000004,3331.5800000000004,2537.11,null,4483.8265000000001,3929.261,3263.8725000000004,2831.8430000000003,2156.5435000000002]
[22,null,{"$f":"C10*$K$4","v":4483.8265000000001},3929.261,3263.8724999999999,2831.8429999999998,2156.5435000000002,null,5275.09,4622.66,3839.8500000000004,3331.5800000000004,2537.11,null,4483.8265000000001,3929.261,3263.8725000000004,2831.8430000000003,2156.5435000000002]
[23,null,{"$f":"C11*$K$4","v":4483.8265000000001},3929.261,3263.8724999999999,2831.8429999999998,2156.5435000000002,null,5275.09,4622.66,3839.8500000000004,3331.5800000000004,2537.11,null,4483.8265000000001,3929.261,3263.8725000000004,2831.8430000000003,2156.5435000000002]
[24,null,{"$f":"C12*$K$4","v":4483.8265000000001},3929.261,3263.8724999999999,2831.8429999999998,2156.5435000000002,null,5275.09,4622.66,3839.8500000000004,3331.5800000000004,2537.11,null,4483.8265000000001,3929.261,3263.8725000000004,2831.8430000000003,2156.5435000000002]
[25,null,{"$f":"C13*$K$4","v":4790.6170000000002},4198.66,3466.5975000000003,3005.7359999999999,2290.7925,null,5636.02,4939.6000000000004,4078.3500000000004,3536.1600000000003,2695.05,null,4790.6170000000002,4198.66,3466.5975000000003,3005.7360000000003,2290.7925]
[26,null,{"$f":"C14*$K$4","v":4790.6170000000002},4198.66,3466.5975000000003,3005.7359999999999,2290.7925,null,5636.02,4939.6000000000004,4078.3500000000004,3536.1600000000003,2695.05,null,4790.6170000000002,4198.66,3466.5975000000003,3005.7360000000003,2290.7925]
[27,null,{"$f":"C15*$K$4","v":4790.6170000000002},4198.66,3466.5975000000003,3005.7359999999999,2290.7925,null,5636.02,4939.6000000000004,4078.3500000000004,3536.1600000000003,2695.05,null,4790.6170000000002,4198.66,3466.5975000000003,3005.7360000000003,2290.7925]
[28,null,{"$f":"C16*$K$4","v":4790.6170000000002},4198.66,3466.5975000000003,3005.7359999999999,2290.7925,null,5636.02,4939.6000000000004,4078.3500000000004,3536.1600000000003,2695.05,null,4790.6170000000002,4198.66,3466.5975000000003,3005.7360000000003,2290.7925]
[29,null,{"$f":"C17*$K$4","v":4790.6170000000002},4198.66,3466.5975000000003,3005.7359999999999,2290.7925,null,5636.02,4939.6000000000004,4078.3500000000004,3536.1600000000003,2695.05,null,4790.6170000000002,4198.66,3466.5975000000003,3005.7360000000003,2290.7925]
[30,null,{"$f":"C18*$K$4","v":5327.1625000000004},4669.4324999999999,3826.547,3317.482,2526.8544999999999,null,6267.25,5493.4500000000007,4501.8200000000006,3902.92,2972.77,null,5327.1624999999995,4669.4325000000008,3826.5470000000005,3317.482,2526.8544999999999]
[31,null,{"$f":"C19*$K$4","v":5327.1625000000004},4669.4324999999999,3826.547,3317.482,2526.8544999999999,null,6267.25,5493.4500000000007,4501.8200000000006,3902.92,2972.77,null,5327.1624999999995,4669.4325000000008,3826.5470000000005,3317.482,2526.8544999999999]
[32,null,{"$f":"C20*$K$4","v":5327.1625000000004},4669.4324999999999,3826.547,3317.482,2526.8544999999999,null,6267.25,5493.4500000000007,4501.8200000000006,3902.92,2972.77,null,5327.1624999999995,4669.4325000000008,3826.5470000000005,3317.482,2526.8544999999999]
[33,null,{"$f":"C21*$K$4","v":5327.1625000000004},4669.4324999999999,3826.547,3317.482,2526.8544999999999,null,6267.25,5493.4500000000007,4501.8200000000006,3902.92,2972.77,null,5327.1624999999995,4669.4325000000008,3826.5470000000005,3317.482,2526.8544999999999]
[34,null,{"$f":"C22*$K$4","v":5327.1625000000004},4669.4324999999999,3826.547,3317.482,2526.8544999999999,null,6267.25,5493.4500000000007,4501.8200000000006,3902.92,2972.77,null,5327.1624999999995,4669.4325000000008,3826.5470000000005,3317.482,2526.8544999999999]
[35,null,{"$f":"C23*$K$4","v":5946.6},5210.9335000000001,4245.9625000000005,3682.3870000000002,2804.8129999999996,null,6996,6130.51,4995.25,4332.22,3299.78,null,5946.5999999999995,5210.9335000000001,4245.9624999999996,3682.3870000000002,2804.8130000000001]
[36,null,{"$f":"C24*$K$4","v":5946.6},5210.9335000000001,4245.9625000000005,3682.3870000000002,2804.8129999999996,null,6996,6130.51,4995.25,4332.22,3299.78,null,5946.5999999999995,5210.9335000000001,4245.9624999999996,3682.3870000000002,2804.8130000000001]
[37,null,{"$f":"C25*$K$4","v":5946.6},5210.9335000000001,4245.9625000000005,3682.3870000000002,2804.8129999999996,null,6996,6130.51,4995.25,4332.22,3299.78,null,5946.5999999999995,5210.9335000000001,4245.9624999999996,3682.3870000000002,2804.8130000000001]
[38,null,{"$f":"C26*$K$4","v":5946.6},5210.9335000000001,4245.9625000000005,3682.3870000000002,2804.8129999999996,null,6996,6130.51,4995.25,4332.22,3299.78,null,5946.5999999999995,5210.9335000000001,4245.9624999999996,3682.3870000000002,2804.8130000000001]
[39,null,{"$f":"C27*$K$4","v":5946.6},5210.9335000000001,4245.9625000000005,3682.3870000000002,2804.8129999999996,null,6996,6130.51,4995.25,4332.22,3299.78,null,5946.5999999999995,5210.9335000000001,4245.9624999999996,3682.3870000000002,2804.8130000000001]
[40,null,{"$f":"C28*$K$4","v":6882.2884999999997},6031.7444999999998,4892.43,4242.3585000000003,3232.3375000000001,null,8096.81,7096.17,5755.8,4991.01,3802.75,null,6882.2885000000006,6031.7444999999998,4892.43,4242.3585000000003,3232.3375000000001]
[41,null,{"$f":"C29*$K$4","v":6882.2884999999997},6031.7444999999998,4892.43,4242.3585000000003,3232.3375000000001,null,8096.81,7096.17,5755.8,4991.01,3802.75,null,6882.2885000000006,6031.7444999999998,4892.43,4242.3585000000003,3232.3375000000001]
[42,null,{"$f":"C30*$K$4","v":6882.2884999999997},6031.7444999999998,4892.43,4242.3585000000003,3232.3375000000001,null,8096.81,7096.17,5755.8,4991.01,3802.75,null,6882.2885000000006,6031.7444999999998,4892.43,4242.3585000000003,3232.3375000000001]
[43,null,{"$f":"C31*$K$4","v":6882.2884999999997},6031.7444999999998,4892.43,4242.3585000000003,3232.3375000000001,null,8096.81,7096.17,5755.8,4991.01,3802.75,null,6882.2885000000006,6031.7444999999998,4892.43,4242.3585000000003,3232.3375000000001]
[44,null,{"$f":"C32*$K$4","v":6882.2884999999997},6031.7444999999998,4892.43,4242.3585000000003,3232.3375000000001,null,8096.81,7096.17,5755.8,4991.01,3802.75,null,6882.2885000000006,6031.7444999999998,4892.43,4242.3585000000003,3232.3375000000001]
[45,null,{"$f":"C33*$K$4","v":7702.6490000000003},6750.7425000000003,5458.7084999999997,4732.9530000000004,3604.9010000000003,null,9061.94,7942.05,6422.01,5568.18,4241.0600000000004,null,7702.6490000000003,6750.7425000000003,5458.7084999999997,4732.9530000000004,3604.9010000000003]
[46,null,{"$f":"C34*$K$4","v":7702.6490000000003},6750.7425000000003,5458.7084999999997,4732.9530000000004,3604.9010000000003,null,9061.94,7942.05,6422.01,5568.18,4241.0600000000004,null,7702.6490000000003,6750.7425000000003,5458.7084999999997,4732.9530000000004,3604.9010000000003]
[47,null,{"$f":"C35*$K$4","v":7702.6490000000003},6750.7425000000003,5458.7084999999997,4732.9530000000004,3604.9010000000003,null,9061.94,7942.05,6422.01,5568.18,4241.0600000000004,null,7702.6490000000003,6750.7425000000003,5458.7084999999997,4732.9530000000004,3604.9010000000003]
[48,null,{"$f":"C36*$K$4","v":7702.6490000000003},6750.7425000000003,5458.7084999999997,4732.9530000000004,3604.9010000000003,null,9061.94,7942.05,6422.01,5568.18,4241.0600000000004,null,7702.6490000000003,6750.7425000000003,5458.7084999999997,4732.9530000000004,3604.9010000000003]
[49,null,{"$f":"C37*$K$4","v":7702.6490000000003},6750.7425000000003,5458.7084999999997,4732.9530000000004,3604.9010000000003,null,9061.94,7942.05,6422.01,5568.18,4241.0600000000004,null,7702.6490000000003,6750.7425000000003,5458.7084999999997,4732.9530000000004,3604.9010000000003]
[50,null,{"$f":"C38*$K$4","v":8901.880000000001},7803.1105000000007,6294.3859999999995,5458.7084999999997,4157.6644999999999,null,10472.800000000001,9180.130000000001,7405.1600000000008,6422.01,4891.37,null,8901.880000000001,7803.1105000000007,6294.3860000000004,5458.7084999999997,4157.6644999999999]
[51,null,{"$f":"C39*$K$4","v":8901.880000000001},7803.1105000000007,6294.3859999999995,5458.7084999999997,4157.6644999999999,null,10472.800000000001,9180.130000000001,7405.1600000000008,6422.01,4891.37,null,8901.880000000001,7803.1105000000007,6294.3860000000004,5458.7084999999997,4157.6644999999999]
[52,null,{"$f":"C40*$K$4","v":8901.880000000001},7803.1105000000007,6294.3859999999995,5458.7084999999997,4157.6644999999999,null,10472.800000000001,9180.130000000001,7405.1600000000008,6422.01,4891.37,null,8901.880000000001,7803.1105000000007,6294.3860000000004,5458.7084999999997,4157.6644999999999]
[53,null,{"$f":"C41*$K$4","v":8901.880000000001},7803.1105000000007,6294.3859999999995,5458.7084999999997,4157.6644999999999,null,10472.800000000001,9180.130000000001,7405.1600000000008,6422.01,4891.37,null,8901.880000000001,7803.1105000000007,6294.3860000000004,5458.7084999999997,4157.6644999999999]
[54,null,{"$f":"C42*$K$4","v":8901.880000000001},7803.1105000000007,6294.3859999999995,5458.7084999999997,4157.6644999999999,null,10472.800000000001,9180.130000000001,7405.1600000000008,6422.01,4891.37,null,8901.880000000001,7803.1105000000007,6294.3860000000004,5458.7084999999997,4157.6644999999999]
[55,null,{"$f":"C43*$K$4","v":9951.9954999999991},8723.482,7027.3495000000003,6094.3639999999996,4641.9520000000002,null,11708.230000000001,10262.92,8267.4700000000012,7169.84,5461.12,null,9951.9955000000009,8723.482,7027.3495000000012,6094.3639999999996,4641.9520000000002]
[56,null,{"$f":"C44*$K$4","v":9951.9954999999991},8723.482,7027.3495000000003,6094.3639999999996,4641.9520000000002,null,11708.230000000001,10262.92,8267.4700000000012,7169.84,5461.12,null,9951.9955000000009,8723.482,7027.3495000000012,6094.3639999999996,4641.9520000000002]
[57,null,{"$f":"C45*$K$4","v":9951.9954999999991},8723.482,7027.3495000000003,6094.3639999999996,4641.9520000000002,null,11708.230000000001,10262.92,8267.4700000000012,7169.84,5461.12,null,9951.9955000000009,8723.482,7027.3495000000012,6094.3639999999996,4641.9520000000002]
[58,null,{"$f":"C46*$K$4","v":9951.9954999999991},8723.482,7027.3495000000003,6094.3639999999996,4641.9520000000002,null,11708.230000000001,10262.92,8267.4700000000012,7169.84,5461.12,null,9951.9955000000009,8723.482,7027.3495000000012,6094.3639999999996,4641.9520000000002]
[59,null,{"$f":"C47*$K$4","v":9951.9954999999991},8723.482,7027.3495000000003,6094.3639999999996,4641.9520000000002,null,11708.230000000001,10262.92,8267.4700000000012,7169.84,5461.12,null,9951.9955000000009,8723.482,7027.3495000000012,6094.3639999999996,4641.9520000000002]
[60,null,{"$f":"C48*$K$4","v":10651.1715},9336.6125000000011,7514.790500000001,6516.0320000000002,4963.1584999999995,null,12530.79,10984.25,8840.93,7665.92,5839.01,null,10651.1715,9336.6124999999993,7514.7905000000001,6516.0320000000002,4963.1585000000005]
[61,null,{"$f":"C49*$K$4","v":12054.0285},10566.477500000001,8500.9350000000013,7372.4325000000008,5615.0320000000002,null,14181.210000000001,12431.150000000001,10001.1,8673.4500000000007,6605.92,null,12054.0285,10566.477500000001,8500.9349999999995,7372.4325000000008,5615.0320000000002]
[62,null,{"$f":"C50*$K$4","v":13392.464},11738.227999999999,9442.0294999999987,8186.4859999999999,6234.92,null,15755.84,13809.68,11108.27,9631.16,7335.2000000000007,null,13392.464,11738.227999999999,9442.0295000000006,8186.4859999999999,6234.92]
[63,null,{"$f":"C51*$K$4","v":14828.657999999999},12999.1775,10455.654499999999,9065.8619999999992,6905.7145,null,17445.48,15293.150000000001,12300.77,10665.720000000001,8124.3700000000008,null,14828.657999999999,12999.177500000002,10455.654500000001,9065.862000000001,6905.714500000001]
[64,null,{"$f":"C52*$K$4","v":16368.917500000001},14347.0735,11542.2605,10008.307999999999,7622.9105000000009,null,19257.55,16878.91,13579.130000000001,11774.480000000001,8968.130000000001,null,16368.9175,14347.073499999999,11542.2605,10008.308000000001,7622.9105000000009]
[65,null,{"$f":"C53*$K$4","v":18008.287},15785.970499999999,12702.748500000002,11015.626,8391.0130000000008,null,21186.22,18571.73,14944.41,12959.560000000001,9871.7800000000007,null,18008.287,15785.970499999999,12702.7485,11015.626,8391.0130000000008]
[66,null,{"$f":"C54*$K$4","v":19749.920000000002},17311.814000000002,13937.1185,12085.112999999999,9205.9675000000007,null,23235.200000000001,20366.84,16396.61,14217.78,{"$f":"M54*$K$4","v":10830.550000000001},null,19749.920000000002,17311.813999999998,13937.1185,12085.112999999999,9205.9675000000007]
[67,null,{"$f":"C55*$K$4","v":21592.014500000001},18925.505000000001,15245.821000000002,13219.472,10069.1255,null,25402.370000000003,22265.300000000003,17936.260000000002,15552.320000000002,11846.03,null,21592.014500000001,18925.505000000001,15245.821000000002,13219.472000000002,10069.1255]
[68,null,{"$f":"C56*$K$4","v":23534.120000000003},20628.395,16626.603500000001,14417.802,10982.289000000001,null,27687.200000000001,24268.7,19560.710000000003,16962.120000000003,12920.34,null,23534.12,20628.395,16626.603500000001,14417.802000000001,10982.289000000001]
[69,null,{"$f":"C57*$K$4","v":25578.9395},22420.033500000001,18082.619500000001,15680.553500000002,11943.2055,null,30092.870000000003,26376.510000000002,21273.670000000002,18447.71,14050.83,null,25578.9395,22420.033500000001,18082.619500000001,15680.553499999998,11943.2055]
[70,null,{"$f":"C58*$K$4","v":27723.319500000001},24299.97,19610.264999999999,17005.023500000003,12952.325499999999,null,32615.670000000002,28588.2,23070.9,20005.91,15238.03,null,27723.319500000001,24299.97,19610.264999999999,17005.023499999999,12952.325500000001]
[71,null,{"$f":"C59*$K$4","v":29968.611499999999},26268.204500000003,21213.144,18394.815999999999,14010.550000000001,null,35257.19,30903.77,24956.640000000003,21640.960000000003,16483,null,29968.611500000003,26268.2045,21213.144,18394.816000000003,14010.55]
[72,null,{"$f":"C60*$K$4","v":32315.266},28326.539000000001,22888.553499999998,19846.327000000001,15116.977999999999,null,38017.96,33325.340000000004,26927.710000000003,23348.620000000003,17784.68,null,32315.266,28326.539000000001,22888.553500000002,19846.327000000001,15116.977999999999]
[73,null,{"$f":"C61*$K$4","v":34763.282999999996},30470.918999999998,24639.196499999998,21364.0615,16272.5105,null,40897.980000000003,35848.14,28987.29,25134.190000000002,19144.13,null,34763.283000000003,30470.918999999998,24639.196500000002,21364.0615,16272.5105]
[74,null,{"$f":"C62*$K$4","v":37312.662499999999},32704.047500000001,26461.018499999998,22944.865999999998,17476.697,null,43897.25,38475.35,31130.61,26993.960000000003,20560.82,null,37312.662499999999,32704.047499999997,26461.018499999998,22944.866000000002,17476.697]
[75,null,{"$f":"C63*$K$4","v":39961.602500000001},35026.825499999999,28356.7225,24588.7405,18728.636499999997,null,47013.65,41208.03,33360.85,28927.93,22033.690000000002,null,39961.602500000001,35026.825499999999,28356.722499999996,24588.7405,18728.636500000001]
[76,null,{"$f":"C64*$K$4","v":39961.602500000001},35026.825499999999,28356.7225,24588.7405,18728.636499999997,null,47013.65,41208.03,33360.85,28927.93,22033.690000000002,null,39961.602500000001,35026.825499999999,28356.722499999996,24588.7405,18728.636500000001]
[77,null,{"$f":"C65*$K$4","v":39961.602500000001},35026.825499999999,28356.7225,24588.7405,18728.636499999997,null,47013.65,41208.03,33360.85,28927.93,22033.690000000002,null,39961.602500000001,35026.825499999999,28356.722499999996,24588.7405,18728.636500000001]
[78,null,{"$f":"C66*$K$4","v":39961.602500000001},35026.825499999999,28356.7225,24588.7405,18728.636499999997,null,47013.65,41208.03,33360.85,28927.93,22033.690000000002,null,39961.602500000001,35026.825499999999,28356.722499999996,24588.7405,18728.636500000001]
[79,null,{"$f":"C67*$K$4","v":39961.602500000001},35026.825499999999,28356.7225,24588.7405,18728.636499999997,null,47013.65,41208.03,33360.85,28927.93,22033.690000000002,null,39961.602500000001,35026.825499999999,28356.722499999996,24588.7405,18728.636500000001]
[80,null,{"$f":"C68*$K$4","v":39961.602500000001},35026.825499999999,28356.7225,24588.7405,18728.636499999997,null,47013.65,41208.03,33360.85,28927.93,22033.690000000002,null,39961.602500000001,35026.825499999999,28356.722499999996,24588.7405,18728.636500000001]
[81,null,{"$f":"C69*$K$4","v":39961.602500000001},35026.825499999999,28356.7225,24588.7405,18728.636499999997,null,47013.65,41208.03,33360.85,28927.93,22033.690000000002,null,39961.602500000001,35026.825499999999,28356.722499999996,24588.7405,18728.636500000001]
[82,null,{"$f":"C70*$K$4","v":39961.602500000001},35026.825499999999,28356.7225,24588.7405,18728.636499999997,null,47013.65,{"$f":"J70*$K$4","v":41208.03},33360.85,28927.93,22033.690000000002,null,39961.602500000001,35026.825499999999,28356.722499999996,24588.7405,18728.636500000001]
[83,null,{"$f":"C71*$K$4","v":39961.602500000001},35026.825499999999,28356.7225,24588.7405,18728.636499999997,null,{"$f":"I71*$K$4","v":47013.65},41208.03,33360.85,28927.93,22033.690000000002,null,{"$f":"I520*0.85","v":39961.602500000001},{"$f":"J520*0.85","v":35026.825499999999},{"$f":"K520*0.85","v":28356.722499999996},{"$f":"L520*0.85","v":24588.7405},18728.636500000001]
[84,"o más",{"$f":"C72*$K$4","v":39961.602500000001},35026.825499999999,28356.7225,24588.7405,18728.636499999997,null,47013.65,41208.03,33360.85,28927.93,22033.690000000002,null,{"$f":"I521*0.85","v":39961.602500000001},35026.825499999999,28356.722499999996,24588.7405,18728.636500000001]
[1,"Hijo",{"$f":"C73*$K$4","v":1895.704},1661.444,1389.3420000000001,1205.0875000000001,918.11900000000003,null,2230.2400000000002,1954.64,1634.52,1417.75,1080.1400000000001,null,{"$f":"I522*0.85","v":1895.7040000000002},1661.444,1389.3419999999999,1205.0874999999999,918.11900000000003]
[2,"Hijos",{"$f":"C74*$K$4","v":3220.6244999999999},2823.7340000000004,2361.5210000000002,2048.4234999999999,1560.5320000000002,null,3788.9700000000003,3322.04,2778.26,2409.9100000000003,1835.92,null,{"$f":"I523*0.85","v":3220.6245000000004},{"$f":"J523*0.85","v":2823.7339999999999},{"$f":"K523*0.85","v":2361.5210000000002},{"$f":"L523*0.85","v":2048.4235000000003},{"$f":"M523*0.85","v":1560.5319999999999}]
[3,"Hijos o más",{"$f":"C75*$K$4","v":4547.3469999999998},3985.5735,3333.7000000000003,2890.8584999999998,2202.4944999999998,null,5349.8200000000006,4688.91,3922,3401.01,2591.17,null,4547.3470000000007,3985.5735,3333.7,2890.8585000000003,2202.4944999999998]
[]
["BUPA GLOBAL PREMIER"]
["TARIFAS SEMESTRALES"]
["EDAD"]
[" "," ",2000,3500,5000]
[18,null,{"$f":"C155*$K$4","v":2357.7368000000001},{"$f":"D155*$K$4","v":2138.6136000000001},1608.8256000000003,1175.2644,0,null,{"$f":"I155*$K$4","v":3467.26},{"$f":"J155*$K$4","v":3145.02},2365.92,1728.3300000000002,null,{"$f":"I530*0.85","v":2947.1710000000003},{"$f":"J530*0.85","v":2673.2669999999998},2011.0319999999999,1469.0805]
[19,null,{"$f":"C156*$K$4","v":2357.7368000000001},2138.6136000000001,1608.8256000000003,1175.2644,0,null,{"$f":"I156*$K$4","v":3467.26},3145.02,2365.92,1728.3300000000002,null,{"$f":"I531*0.85","v":2947.1710000000003},{"$f":"J531*0.85","v":2673.2669999999998},{"$f":"K531*0.85","v":2011.0319999999999},{"$f":"L531*0.85","v":1469.0805}]
[20,null,{"$f":"C157*$K$4","v":2357.7368000000001},2138.6136000000001,1608.8256000000003,1175.2644,0,null,3467.26,3145.02,2365.92,1728.3300000000002,null,2947.1710000000003,2673.2669999999998,2011.0319999999999,1469.0805]
[21,null,{"$f":"C158*$K$4","v":2357.7368000000001},2138.6136000000001,1608.8256000000003,1175.2644,0,null,3467.26,3145.02,2365.92,1728.3300000000002,null,2947.1710000000003,2673.2669999999998,2011.0319999999999,1469.0805]
[22,null,{"$f":"C159*$K$4","v":2357.7368000000001},2138.6136000000001,1608.8256000000003,1175.2644,0,null,3467.26,3145.02,2365.92,1728.3300000000002,null,2947.1710000000003,2673.2669999999998,2011.0319999999999,1469.0805]
[23,null,{"$f":"C160*$K$4","v":2357.7368000000001},2138.6136000000001,1608.8256000000003,1175.2644,0,null,3467.26,3145.02,2365.92,1728.3300000000002,null,2947.1710000000003,2673.2669999999998,2011.0319999999999,1469.0805]
[24,null,{"$f":"C161*$K$4","v":2357.7368000000001},2138.6136000000001,1608.8256000000003,1175.2644,0,null,3467.26,3145.02,2365.92,1728.3300000000002,null,2947.1710000000003,2673.2669999999998,2011.0319999999999,1469.0805]
[25,null,{"$f":"C162*$K$4","v":2519.9168000000004},2285.2964000000002,1701.0880000000002,1243.0196000000001,0,null,3705.76,3360.73,2501.6,1827.97,null,3149.8960000000002,2856.6205,2126.3599999999997,1553.7745]
[26,null,{"$f":"C163*$K$4","v":2519.9168000000004},2285.2964000000002,1701.0880000000002,1243.0196000000001,0,null,3705.76,3360.73,2501.6,1827.97,null,3149.8960000000002,2856.6205,2126.3599999999997,1553.7745]
[27,null,{"$f":"C164*$K$4","v":2519.9168000000004},2285.2964000000002,1701.0880000000002,1243.0196000000001,0,null,3705.76,3360.73,2501.6,1827.97,null,3149.8960000000002,2856.6205,2126.3599999999997,1553.7745]
[28,null,{"$f":"C165*$K$4","v":2519.9168000000004},2285.2964000000002,1701.0880000000002,1243.0196000000001,0,null,3705.76,3360.73,2501.6,1827.97,null,3149.8960000000002,2856.6205,2126.3599999999997,1553.7745]
[29,null,{"$f":"C166*$K$4","v":2519.9168000000004},2285.2964000000002,1701.0880000000002,1243.0196000000001,0,null,3705.76,3360.73,2501.6,1827.97,null,3149.8960000000002,2856.6205,2126.3599999999997,1553.7745]
[30,null,{"$f":"C167*$K$4","v":2801.7496000000006},2542.6220000000003,1867.5928000000001,1364.1140000000003,0,null,4120.22,3739.15,2746.46,2006.0500000000002,null,3502.1869999999999,3178.2775000000001,2334.491,1705.1425000000002]
[31,null,{"$f":"C168*$K$4","v":2801.7496000000006},2542.6220000000003,1867.5928000000001,1364.1140000000003,0,null,4120.22,3739.15,2746.46,2006.0500000000002,null,3502.1869999999999,3178.2775000000001,2334.491,1705.1425000000002]
[32,null,{"$f":"C169*$K$4","v":2801.7496000000006},2542.6220000000003,1867.5928000000001,1364.1140000000003,0,null,4120.22,3739.15,2746.46,2006.0500000000002,null,3502.1869999999999,3178.2775000000001,2334.491,1705.1425000000002]
[33,null,{"$f":"C170*$K$4","v":2801.7496000000006},2542.6220000000003,1867.5928000000001,1364.1140000000003,0,null,4120.22,3739.15,2746.46,2006.0500000000002,null,3502.1869999999999,3178.2775000000001,2334.491,1705.1425000000002]
[34,null,{"$f":"C171*$K$4","v":2801.7496000000006},2542.6220000000003,1867.5928000000001,1364.1140000000003,0,null,4120.22,3739.15,2746.46,2006.0500000000002,null,3502.1869999999999,3178.2775000000001,2334.491,1705.1425000000002]
[35,null,{"$f":"C172*$K$4","v":3126.4700000000003},2837.7896000000005,2064.3712000000005,1507.9136000000003,0,null,4597.75,4173.22,3035.84,2217.52,null,3908.0875000000001,3547.2370000000001,2580.4639999999999,1884.8919999999998]
[36,null,{"$f":"C173*$K$4","v":3126.4700000000003},2837.7896000000005,2064.3712000000005,1507.9136000000003,0,null,4597.75,4173.22,3035.84,2217.52,null,3908.0875000000001,3547.2370000000001,2580.4639999999999,1884.8919999999998]
[37,null,{"$f":"C174*$K$4","v":3126.4700000000003},2837.7896000000005,2064.3712000000005,1507.9136000000003,0,null,4597.75,4173.22,3035.84,2217.52,null,3908.0875000000001,3547.2370000000001,2580.4639999999999,1884.8919999999998]
[38,null,{"$f":"C175*$K$4","v":3126.4700000000003},2837.7896000000005,2064.3712000000005,1507.9136000000003,0,null,4597.75,4173.22,3035.84,2217.52,null,3908.0875000000001,3547.2370000000001,2580.4639999999999,1884.8919999999998]
[39,null,{"$f":"C176*$K$4","v":3126.4700000000003},2837.7896000000005,2064.3712000000005,1507.9136000000003,0,null,4597.75,4173.22,3035.84,2217.52,null,3908.0875000000001,3547.2370000000001,2580.4639999999999,1884.8919999999998]
[40,null,{"$f":"C177*$K$4","v":3618.7764000000002},3284.3252000000002,2370.3508000000006,1732.4428000000003,0,null,5321.7300000000005,4829.8900000000003,3485.8100000000004,2547.71,null,4523.4705000000004,4105.4065000000001,2962.9385000000002,2165.5535]
[41,null,{"$f":"C178*$K$4","v":3618.7764000000002},3284.3252000000002,2370.3508000000006,1732.4428000000003,0,null,5321.7300000000005,4829.8900000000003,3485.8100000000004,2547.71,null,4523.4705000000004,4105.4065000000001,2962.9385000000002,2165.5535]
[42,null,{"$f":"C179*$K$4","v":3618.7764000000002},3284.3252000000002,2370.3508000000006,1732.4428000000003,0,null,5321.7300000000005,4829.8900000000003,3485.8100000000004,2547.71,null,4523.4705000000004,4105.4065000000001,2962.9385000000002,2165.5535]
[43,null,{"$f":"C180*$K$4","v":3618.7764000000002},3284.3252000000002,2370.3508000000006,1732.4428000000003,0,null,5321.7300000000005,4829.8900000000003,3485.8100000000004,2547.71,null,4523.4705000000004,4105.4065000000001,2962.9385000000002,2165.5535]
[44,null,{"$f":"C181*$K$4","v":3618.7764000000002},3284.3252000000002,2370.3508000000006,1732.4428000000003,0,null,5321.7300000000005,4829.8900000000003,3485.8100000000004,2547.71,null,4523.4705000000004,4105.4065000000001,2962.9385000000002,2165.5535]
[45,null,{"$f":"C182*$K$4","v":4049.4544000000005},3675.3592000000003,2638.1280000000002,1927.0588,0,null,5955.08,5404.9400000000005,3879.6000000000004,2833.9100000000003,null,5061.8180000000002,4594.1990000000005,3297.6600000000003,2408.8235000000004]
[46,null,{"$f":"C183*$K$4","v":4049.4544000000005},3675.3592000000003,2638.1280000000002,1927.0588,0,null,5955.08,5404.9400000000005,3879.6000000000004,2833.9100000000003,null,5061.8180000000002,4594.1990000000005,3297.6600000000003,2408.8235000000004]
[47,null,{"$f":"C184*$K$4","v":4049.4544000000005},3675.3592000000003,2638.1280000000002,1927.0588,0,null,5955.08,5404.9400000000005,3879.6000000000004,2833.9100000000003,null,5061.8180000000002,4594.1990000000005,3297.6600000000003,2408.8235000000004]
[48,null,{"$f":"C185*$K$4","v":4049.4544000000005},3675.3592000000003,2638.1280000000002,1927.0588,0,null,5955.08,5404.9400000000005,3879.6000000000004,2833.9100000000003,null,5061.8180000000002,4594.1990000000005,3297.6600000000003,2408.8235000000004]
[49,null,{"$f":"C186*$K$4","v":4049.4544000000005},3675.3592000000003,2638.1280000000002,1927.0588,0,null,5955.08,5404.9400000000005,3879.6000000000004,2833.9100000000003,null,5061.8180000000002,4594.1990000000005,3297.6600000000003,2408.8235000000004]
[50,null,{"$f":"C187*$K$4","v":4681.9564000000009},4248.3951999999999,3037.8116000000005,2220.0640000000003,0,null,6885.2300000000005,6247.64,4467.37,3264.8,null,5852.4454999999998,5310.4939999999997,3797.2644999999998,2775.08]
[51,null,{"$f":"C188*$K$4","v":4681.9564000000009},4248.3951999999999,3037.8116000000005,2220.0640000000003,0,null,6885.2300000000005,6247.64,4467.37,3264.8,null,5852.4454999999998,5310.4939999999997,3797.2644999999998,2775.08]
[52,null,{"$f":"C189*$K$4","v":4681.9564000000009},4248.3951999999999,3037.8116000000005,2220.0640000000003,0,null,6885.2300000000005,6247.64,4467.37,3264.8,null,5852.4454999999998,5310.4939999999997,3797.2644999999998,2775.08]
[53,null,{"$f":"C190*$K$4","v":4681.9564000000009},4248.3951999999999,3037.8116000000005,2220.0640000000003,0,null,6885.2300000000005,6247.64,4467.37,3264.8,null,5852.4454999999998,5310.4939999999997,3797.2644999999998,2775.08]
[54,null,{"$f":"C191*$K$4","v":4681.9564000000009},4248.3951999999999,3037.8116000000005,2220.0640000000003,0,null,6885.2300000000005,6247.64,4467.37,3264.8,null,5852.4454999999998,5310.4939999999997,3797.2644999999998,2775.08]
[55,null,{"$f":"C192*$K$4","v":5233.0080000000007},4749.7116000000005,3387.0392000000002,2475.2272000000003,0,null,7695.6,6984.8700000000008,4980.9400000000005,3640.04,null,6541.26,5937.1395000000002,4233.799,3094.0340000000001]
[56,null,{"$f":"C193*$K$4","v":5233.0080000000007},4749.7116000000005,3387.0392000000002,2475.2272000000003,0,null,7695.6,6984.8700000000008,4980.9400000000005,3640.04,null,6541.26,5937.1395000000002,4233.799,3094.0340000000001]
[57,null,{"$f":"C194*$K$4","v":5233.0080000000007},4749.7116000000005,3387.0392000000002,2475.2272000000003,0,null,7695.6,6984.8700000000008,4980.9400000000005,3640.04,null,6541.26,5937.1395000000002,4233.799,3094.0340000000001]
[58,null,{"$f":"C195*$K$4","v":5233.0080000000007},4749.7116000000005,3387.0392000000002,2475.2272000000003,0,null,7695.6,6984.8700000000008,4980.9400000000005,3640.04,null,6541.26,5937.1395000000002,4233.799,3094.0340000000001]
[59,null,{"$f":"C196*$K$4","v":5233.0080000000007},4749.7116000000005,3387.0392000000002,2475.2272000000003,0,null,7695.6,6984.8700000000008,4980.9400000000005,3640.04,null,6541.26,5937.1395000000002,4233.799,3094.0340000000001]
[60,null,{"$f":"C197*$K$4","v":5600.9764000000005},5082.0004000000008,3620.5784000000003,2644.9756000000002,0,null,8236.73,7473.5300000000007,5324.38,3889.67,null,7001.2204999999994,6352.5005000000001,4525.723,3306.2195000000002]
[61,null,{"$f":"C198*$K$4","v":6337.9944000000014},5751.2632000000003,4092.3420000000006,2990.2388000000001,0,null,9320.58,8457.74,6018.1500000000005,4397.41,null,7922.4929999999995,7189.0789999999997,5115.4275000000007,3737.7984999999999]
[62,null,{"$f":"C199*$K$4","v":7040.7744000000012},6390.2524000000012,4545.3648000000003,3321.0860000000007,0,null,10354.08,9397.43,6684.3600000000006,4883.95,null,8800.9679999999989,7987.8154999999997,5681.7060000000001,4151.3575000000001]
[63,null,{"$f":"C200*$K$4","v":7797.2540000000008},7076.0936000000011,5032.9860000000008,3676.8008000000004,0,null,11466.550000000001,10406.02,7401.4500000000007,5407.06,null,9746.567500000001,8845.1170000000002,6291.2325000000001,4596.0010000000002]
[64,null,{"$f":"C201*$K$4","v":8606.3520000000008},7810.9492000000009,5557.3680000000004,4059.9060000000004,0,null,12656.400000000001,11486.69,8172.6,5970.4500000000007,null,10757.94,9763.6864999999998,6946.71,5074.8825000000006]
[65,null,{"$f":"C202*$K$4","v":9468.7892000000029},8593.3776000000016,6117.79,4469.6808000000001,0,null,13924.69,12637.320000000002,8996.75,6573.06,null,11835.986500000001,10741.722000000002,7647.2375000000002,5587.1010000000006]
[66,null,{"$f":"C203*$K$4","v":10384.5656},9423.0184000000027,6714.6124000000009,4905.4044000000013,0,null,15271.42,13857.380000000001,9874.43,7213.83,null,12980.707,11778.773000000001,8393.2654999999995,6131.7555000000002]
[67,null,{"$f":"C204*$K$4","v":11352.9604},10302.754800000001,7347.8352000000004,5368.8788000000004,0,null,16695.530000000002,15151.11,10805.640000000001,7895.4100000000008,null,14191.200500000001,12878.443499999999,9184.7940000000017,6711.0985000000001]
[68,null,{"$f":"C205*$K$4","v":12373.613200000002},11229.343200000001,8017.0980000000009,5857.220800000001,0,null,18196.490000000002,16513.740000000002,11789.85,8613.5600000000013,null,15467.016500000002,14036.679,10021.372499999999,7321.5260000000007]
[69,null,{"$f":"C206*$K$4","v":13449.046800000002},12205.666800000001,8722.7612000000008,6372.9532000000008,0,null,19778.010000000002,17949.510000000002,12827.59,9371.99,null,16811.308500000003,15257.083500000001,10903.451499999999,7966.1914999999999]
[70,null,{"$f":"C207*$K$4","v":14576.738400000002},13229.202800000001,9463.7436000000016,6914.2740000000013,0,null,21436.38,19454.710000000003,13917.27,10168.050000000001,null,18220.922999999999,16536.503500000003,11829.6795,8642.8425000000007]
[71,null,{"$f":"C208*$K$4","v":15757.769200000002},14299.951200000001,10242.568000000001,7482.9852000000001,0,null,23173.190000000002,21029.34,15062.6,11004.390000000001,null,19697.211500000001,17874.938999999998,12803.21,9353.7315000000017]
[72,null,{"$f":"C209*$K$4","v":16991.058000000001},15419.714000000002,11056.351200000001,8078.0056000000004,0,null,24986.850000000002,22676.050000000003,16259.34,11879.42,null,21238.822500000002,19274.642500000002,13820.439,10097.507]
[73,null,{"$f":"C210*$K$4","v":18277.686000000002},16587.770400000001,11906.534800000001,8698.6144000000004,0,null,26878.95,24393.780000000002,17509.61,12792.08,null,22847.107499999998,20734.713000000003,14883.1685,10873.268]
[74,null,{"$f":"C211*$K$4","v":19618.013600000002},17803.399600000001,12794.2,9346.974000000002,0,null,28850.02,26181.47,18815,13745.550000000001,null,24522.517,22254.249500000002,15992.75,11683.717500000001]
[75,null,{"$f":"C212*$K$4","v":21010.599200000001},19068.043200000004,13717.184400000002,10021.642800000001,0,null,30897.940000000002,28041.24,20172.330000000002,14737.710000000001,null,26263.249,23835.054,17146.480500000001,12527.0535]
[76,null,{"$f":"C213*$K$4","v":21010.599200000001},19068.043200000004,13717.184400000002,10021.642800000001,0,null,30897.940000000002,28041.24,20172.330000000002,14737.710000000001,null,26263.249,23835.054,17146.480500000001,12527.0535]
[77,null,{"$f":"C214*$K$4","v":21010.599200000001},19068.043200000004,13717.184400000002,10021.642800000001,0,null,30897.940000000002,28041.24,20172.330000000002,14737.710000000001,null,26263.249,23835.054,17146.480500000001,12527.0535]
[78,null,{"$f":"C215*$K$4","v":21010.599200000001},19068.043200000004,13717.184400000002,10021.642800000001,0,null,30897.940000000002,28041.24,20172.330000000002,14737.710000000001,null,26263.249,23835.054,17146.480500000001,12527.0535]
[79,null,{"$f":"C216*$K$4","v":21010.599200000001},19068.043200000004,13717.184400000002,10021.642800000001,0,null,30897.940000000002,28041.24,20172.330000000002,14737.710000000001,null,26263.249,23835.054,17146.480500000001,12527.0535]
[80,null,{"$f":"C217*$K$4","v":21010.599200000001},19068.043200000004,13717.184400000002,10021.642800000001,0,null,30897.940000000002,28041.24,20172.330000000002,14737.710000000001,null,26263.249,23835.054,17146.480500000001,12527.0535]
[81,null,{"$f":"C218*$K$4","v":21010.599200000001},19068.043200000004,13717.184400000002,10021.642800000001,0,null,30897.940000000002,28041.24,20172.330000000002,14737.710000000001,null,26263.249,23835.054,17146.480500000001,12527.0535]
[82,null,{"$f":"C219*$K$4","v":21010.599200000001},19068.043200000004,13717.184400000002,10021.642800000001,0,null,30897.940000000002,28041.24,20172.330000000002,{"$f":"L219*$K$4","v":14737.710000000001},null,26263.249,23835.054,17146.480500000001,12527.0535]
[83,null,{"$f":"C220*$K$4","v":21010.599200000001},19068.043200000004,13717.184400000002,10021.642800000001,0,null,{"$f":"I220*$K$4","v":30897.940000000002},28041.24,20172.330000000002,14737.710000000001,null,{"$f":"I595*0.85","v":26263.249},{"$f":"J595*0.85","v":23835.054},{"$f":"K595*0.85","v":17146.480500000001},{"$f":"L595*0.85","v":12527.0535}]
[84,"o más",{"$f":"C221*$K$4","v":21010.599200000001},19068.043200000004,13717.184400000002,10021.642800000001,0,null,30897.940000000002,28041.24,20172.330000000002,14737.710000000001,null,{"$f":"I596*0.85","v":26263.249},{"$f":"J596*0.85","v":23835.054},{"$f":"K596*0.85","v":17146.480500000001},{"$f":"L596*0.85","v":12527.0535}]
[1,"Hijo",{"$f":"C222*$K$4","v":996.50600000000009},903.8832000000001,689.08480000000009,503.11840000000007,0,null,1465.45,1329.24,1013.36,739.88,null,{"$f":"I597*0.85","v":1245.6324999999999},1129.854,861.35599999999999,628.89800000000002]
[2,"Hijos",{"$f":"C223*$K$4","v":1693.8800000000003},1537.4664,1169.8584000000001,855.22920000000011,0,null,2491,2260.98,1720.38,1257.69,null,{"$f":"I598*0.85","v":2117.35},{"$f":"J598*0.85","v":1921.8329999999999},{"$f":"K598*0.85","v":1462.3230000000001},{"$f":"L598*0.85","v":1069.0364999999999}]
[3,"Hijos o más",{"$f":"C224*$K$4","v":2390.5332000000003},2169.6080000000002,1651.7132000000001,1206.6192000000003,0,null,3515.4900000000002,3190.6000000000004,2428.9900000000002,1774.44,null,2988.1665000000003,2712.01,2064.6415000000002,1508.2740000000001]
[]
["BUPA GLOBAL SELECT"]
["TARIFAS SEMESTRALES"]
["EDAD"]
[" "," ",2000,3500,5000]
[18,null,{"$f":"C305*$K$4","v":1670.0088000000001},{"$f":"D305*$K$4","v":1601.9356},1210.0112000000001,883.74320000000012,0,null,{"$f":"I305*$K$4","v":2197.38},{"$f":"J305*$K$4","v":2107.81},1592.1200000000001,1162.8200000000002,null,{"$f":"I605*0.85","v":1867.7730000000001},{"$f":"J605*0.85","v":1791.6384999999998},1353.3020000000001,988.39700000000016]
[19,null,{"$f":"C306*$K$4","v":1670.0088000000001},1601.9356,1210.0112000000001,883.74320000000012,0,null,{"$f":"I306*$K$4","v":2197.38},2107.81,1592.1200000000001,1162.8200000000002,null,{"$f":"I606*0.85","v":1867.7730000000001},{"$f":"J606*0.85","v":1791.6384999999998},{"$f":"K606*0.85","v":1353.3020000000001},{"$f":"L606*0.85","v":988.39700000000016}]
[20,null,{"$f":"C307*$K$4","v":1670.0088000000001},1601.9356,1210.0112000000001,883.74320000000012,0,null,2197.38,2107.81,1592.1200000000001,1162.8200000000002,null,1867.7730000000001,1791.6384999999998,1353.3020000000001,988.39700000000016]
[21,null,{"$f":"C308*$K$4","v":1670.0088000000001},1601.9356,1210.0112000000001,883.74320000000012,0,null,2197.38,2107.81,1592.1200000000001,1162.8200000000002,null,1867.7730000000001,1791.6384999999998,1353.3020000000001,988.39700000000016]
[22,null,{"$f":"C309*$K$4","v":1670.0088000000001},1601.9356,1210.0112000000001,883.74320000000012,0,null,2197.38,2107.81,1592.1200000000001,1162.8200000000002,null,1867.7730000000001,1791.6384999999998,1353.3020000000001,988.39700000000016]
[23,null,{"$f":"C310*$K$4","v":1670.0088000000001},1601.9356,1210.0112000000001,883.74320000000012,0,null,2197.38,2107.81,1592.1200000000001,1162.8200000000002,null,1867.7730000000001,1791.6384999999998,1353.3020000000001,988.39700000000016]
[24,null,{"$f":"C311*$K$4","v":1670.0088000000001},1601.9356,1210.0112000000001,883.74320000000012,0,null,2197.38,2107.81,1592.1200000000001,1162.8200000000002,null,1867.7730000000001,1791.6384999999998,1353.3020000000001,988.39700000000016]
[25,null,{"$f":"C312*$K$4","v":1801.7244000000001},1728.8176000000001,1291.7796000000001,943.76040000000012,0,null,2370.69,2274.7600000000002,1699.71,1241.79,null,2015.0864999999999,1933.546,1444.7535,1055.5214999999998]
[26,null,{"$f":"C313*$K$4","v":1801.7244000000001},1728.8176000000001,1291.7796000000001,943.76040000000012,0,null,2370.69,2274.7600000000002,1699.71,1241.79,null,2015.0864999999999,1933.546,1444.7535,1055.5214999999998]
[27,null,{"$f":"C314*$K$4","v":1801.7244000000001},1728.8176000000001,1291.7796000000001,943.76040000000012,0,null,2370.69,2274.7600000000002,1699.71,1241.79,null,2015.0864999999999,1933.546,1444.7535,1055.5214999999998]
[28,null,{"$f":"C315*$K$4","v":1801.7244000000001},1728.8176000000001,1291.7796000000001,943.76040000000012,0,null,2370.69,2274.7600000000002,1699.71,1241.79,null,2015.0864999999999,1933.546,1444.7535,1055.5214999999998]
[29,null,{"$f":"C316*$K$4","v":1801.7244000000001},1728.8176000000001,1291.7796000000001,943.76040000000012,0,null,2370.69,2274.7600000000002,1699.71,1241.79,null,2015.0864999999999,1933.546,1444.7535,1055.5214999999998]
[30,null,{"$f":"C317*$K$4","v":2032.5288},1949.5520000000001,1436.3848,1048.4884,0,null,2674.38,2565.2000000000003,1889.98,1379.5900000000001,null,2273.223,2180.42,1606.4829999999999,1172.6515000000002]
[31,null,{"$f":"C318*$K$4","v":2032.5288},1949.5520000000001,1436.3848,1048.4884,0,null,2674.38,2565.2000000000003,1889.98,1379.5900000000001,null,2273.223,2180.42,1606.4829999999999,1172.6515000000002]
[32,null,{"$f":"C319*$K$4","v":2032.5288},1949.5520000000001,1436.3848,1048.4884,0,null,2674.38,2565.2000000000003,1889.98,1379.5900000000001,null,2273.223,2180.42,1606.4829999999999,1172.6515000000002]
[33,null,{"$f":"C320*$K$4","v":2032.5288},1949.5520000000001,1436.3848,1048.4884,0,null,2674.38,2565.2000000000003,1889.98,1379.5900000000001,null,2273.223,2180.42,1606.4829999999999,1172.6515000000002]
[34,null,{"$f":"C321*$K$4","v":2032.5288},1949.5520000000001,1436.3848,1048.4884,0,null,2674.38,2565.2000000000003,1889.98,1379.5900000000001,null,2273.223,2180.42,1606.4829999999999,1172.6515000000002]
[35,null,{"$f":"C322*$K$4","v":2299.9880000000003},2206.5383999999999,1607.9776000000002,1174.5647999999999,0,null,3026.3,2903.34,2115.7600000000002,1545.48,null,2572.355,2467.8389999999999,1798.3960000000002,1313.6579999999999]
[36,null,{"$f":"C323*$K$4","v":2299.9880000000003},2206.5383999999999,1607.9776000000002,1174.5647999999999,0,null,3026.3,2903.34,2115.7600000000002,1545.48,null,2572.355,2467.8389999999999,1798.3960000000002,1313.6579999999999]
[37,null,{"$f":"C324*$K$4","v":2299.9880000000003},2206.5383999999999,1607.9776000000002,1174.5647999999999,0,null,3026.3,2903.34,2115.7600000000002,1545.48,null,2572.355,2467.8389999999999,1798.3960000000002,1313.6579999999999]
[38,null,{"$f":"C325*$K$4","v":2299.9880000000003},2206.5383999999999,1607.9776000000002,1174.5647999999999,0,null,3026.3,2903.34,2115.7600000000002,1545.48,null,2572.355,2467.8389999999999,1798.3960000000002,1313.6579999999999]
[39,null,{"$f":"C326*$K$4","v":2299.9880000000003},2206.5383999999999,1607.9776000000002,1174.5647999999999,0,null,3026.3,2903.34,2115.7600000000002,1545.48,null,2572.355,2467.8389999999999,1798.3960000000002,1313.6579999999999]
[40,null,{"$f":"C327*$K$4","v":2695.5376000000001},2586.3788,1868.5892000000001,1364.6864,0,null,3546.76,3403.13,2458.67,1795.64,null,3014.7460000000001,2892.6605,2089.8694999999998,1526.2940000000001]
[41,null,{"$f":"C328*$K$4","v":2695.5376000000001},2586.3788,1868.5892000000001,1364.6864,0,null,3546.76,3403.13,2458.67,1795.64,null,3014.7460000000001,2892.6605,2089.8694999999998,1526.2940000000001]
[42,null,{"$f":"C329*$K$4","v":2695.5376000000001},2586.3788,1868.5892000000001,1364.6864,0,null,3546.76,3403.13,2458.67,1795.64,null,3014.7460000000001,2892.6605,2089.8694999999998,1526.2940000000001]
[43,null,{"$f":"C330*$K$4","v":2695.5376000000001},2586.3788,1868.5892000000001,1364.6864,0,null,3546.76,3403.13,2458.67,1795.64,null,3014.7460000000001,2892.6605,2089.8694999999998,1526.2940000000001]
[44,null,{"$f":"C331*$K$4","v":2695.5376000000001},2586.3788,1868.5892000000001,1364.6864,0,null,3546.76,3403.13,2458.67,1795.64,null,3014.7460000000001,2892.6605,2089.8694999999998,1526.2940000000001]
[45,null,{"$f":"C332*$K$4","v":3050.8072000000002},2926.7447999999999,2103.4216000000001,1536.682,0,null,4014.2200000000003,3850.98,2767.6600000000003,2021.95,null,3412.087,3273.3330000000001,2352.5110000000004,1718.6575]
[46,null,{"$f":"C333*$K$4","v":3050.8072000000002},2926.7447999999999,2103.4216000000001,1536.682,0,null,4014.2200000000003,3850.98,2767.6600000000003,2021.95,null,3412.087,3273.3330000000001,2352.5110000000004,1718.6575]
[47,null,{"$f":"C334*$K$4","v":3050.8072000000002},2926.7447999999999,2103.4216000000001,1536.682,0,null,4014.2200000000003,3850.98,2767.6600000000003,2021.95,null,3412.087,3273.3330000000001,2352.5110000000004,1718.6575]
[48,null,{"$f":"C335*$K$4","v":3050.8072000000002},2926.7447999999999,2103.4216000000001,1536.682,0,null,4014.2200000000003,3850.98,2767.6600000000003,2021.95,null,3412.087,3273.3330000000001,2352.5110000000004,1718.6575]
[49,null,{"$f":"C336*$K$4","v":3050.8072000000002},2926.7447999999999,2103.4216000000001,1536.682,0,null,4014.2200000000003,3850.98,2767.6600000000003,2021.95,null,3412.087,3273.3330000000001,2352.5110000000004,1718.6575]
[50,null,{"$f":"C337*$K$4","v":3562.3632000000002},3417.3552000000004,2446.2044000000005,1786.8208000000002,0,null,4687.3200000000006,4496.5200000000004,3218.69,2351.08,null,3984.2220000000002,3822.0420000000004,2735.8865000000001,1998.4179999999999]
[51,null,{"$f":"C338*$K$4","v":3562.3632000000002},3417.3552000000004,2446.2044000000005,1786.8208000000002,0,null,4687.3200000000006,4496.5200000000004,3218.69,2351.08,null,3984.2220000000002,3822.0420000000004,2735.8865000000001,1998.4179999999999]
[52,null,{"$f":"C339*$K$4","v":3562.3632000000002},3417.3552000000004,2446.2044000000005,1786.8208000000002,0,null,4687.3200000000006,4496.5200000000004,3218.69,2351.08,null,3984.2220000000002,3822.0420000000004,2735.8865000000001,1998.4179999999999]
[53,null,{"$f":"C340*$K$4","v":3562.3632000000002},3417.3552000000004,2446.2044000000005,1786.8208000000002,0,null,4687.3200000000006,4496.5200000000004,3218.69,2351.08,null,3984.2220000000002,3822.0420000000004,2735.8865000000001,1998.4179999999999]
[54,null,{"$f":"C341*$K$4","v":3562.3632000000002},3417.3552000000004,2446.2044000000005,1786.8208000000002,0,null,4687.3200000000006,4496.5200000000004,3218.69,2351.08,null,3984.2220000000002,3822.0420000000004,2735.8865000000001,1998.4179999999999]
[55,null,{"$f":"C342*$K$4","v":4018.3328000000001},3855.1988000000001,2752.3324000000002,2010.3748000000001,0,null,5287.2800000000007,5072.63,3621.4900000000002,2645.23,null,4494.1880000000001,4311.7354999999998,3078.2665000000002,2248.4454999999998]
[56,null,{"$f":"C343*$K$4","v":4018.3328000000001},3855.1988000000001,2752.3324000000002,2010.3748000000001,0,null,5287.2800000000007,5072.63,3621.4900000000002,2645.23,null,4494.1880000000001,4311.7354999999998,3078.2665000000002,2248.4454999999998]
[57,null,{"$f":"C344*$K$4","v":4018.3328000000001},3855.1988000000001,2752.3324000000002,2010.3748000000001,0,null,5287.2800000000007,5072.63,3621.4900000000002,2645.23,null,4494.1880000000001,4311.7354999999998,3078.2665000000002,2248.4454999999998]
[58,null,{"$f":"C345*$K$4","v":4018.3328000000001},3855.1988000000001,2752.3324000000002,2010.3748000000001,0,null,5287.2800000000007,5072.63,3621.4900000000002,2645.23,null,4494.1880000000001,4311.7354999999998,3078.2665000000002,2248.4454999999998]
[59,null,{"$f":"C346*$K$4","v":4018.3328000000001},3855.1988000000001,2752.3324000000002,2010.3748000000001,0,null,5287.2800000000007,5072.63,3621.4900000000002,2645.23,null,4494.1880000000001,4311.7354999999998,3078.2665000000002,2248.4454999999998]
[60,null,{"$f":"C347*$K$4","v":4321.2384000000002},4146.0204000000003,2958.1632000000004,2159.4108000000001,0,null,5685.84,5455.29,3892.32,2841.33,null,4832.9639999999999,4636.9965000000002,3308.4720000000002,2415.1304999999998]
[61,null,{"$f":"C348*$K$4","v":4926.6467999999995},4726.4552000000003,3368.6164000000003,2460.3024,0,null,6482.43,6219.02,4432.3900000000003,3237.2400000000002,null,5510.0654999999997,5286.1670000000004,3767.5315000000001,2751.654]
[62,null,{"$f":"C349*$K$4","v":5507.8872000000001},5284.7360000000008,3765.7772,2749.11,0,null,7247.22,6953.6,4954.97,3617.25,null,6160.1369999999997,5910.56,4211.7245000000003,3074.6624999999999]
[63,null,{"$f":"C350*$K$4","v":6134.2412000000004},5885.713600000001,4193.9535999999998,3062.4884000000002,0,null,8071.3700000000008,7744.3600000000006,5518.3600000000006,4029.59,null,6860.6645000000008,6582.7060000000001,4690.6060000000007,3425.1514999999999]
[64,null,{"$f":"C351*$K$4","v":6803.6948000000002},6528.9852000000001,4653.9512000000004,3398.4236000000001,0,null,8952.23,8590.77,6123.62,4471.6100000000006,null,7609.3954999999996,7302.1545000000006,5205.0770000000002,3800.8685000000005]
[65,null,{"$f":"C352*$K$4","v":7519.0676000000003},7214.9536000000007,5146.9784000000009,3758.9295999999999,0,null,9893.51,9493.36,6772.34,4945.96,null,8409.4835000000003,8069.3560000000007,5756.4889999999996,4204.0659999999998]
[66,null,{"$f":"C353*$K$4","v":8277.9428000000007},7942.8132000000005,5671.021200000001,4141.1868000000004,0,null,10892.03,10451.07,7461.8700000000008,5448.93,null,9258.2255000000005,8883.4094999999998,6342.589500000001,4631.5905000000002]
[67,null,{"$f":"C354*$K$4","v":9081.5288},8712.966800000002,6226.8852000000006,4547.6120000000001,0,null,11949.380000000001,11464.43,8193.27,5983.7000000000007,null,10156.973,9744.7654999999995,6964.2795000000006,5086.1450000000004]
[68,null,{"$f":"C355*$K$4","v":9929.4228000000021},9526.2200000000012,6814.1676000000007,4976.1912000000011,0,null,13065.03,12534.5,8966.01,6547.62,null,11105.2755,10654.324999999999,7621.1085000000003,5565.4769999999999]
[69,null,{"$f":"C356*$K$4","v":10820.0136},10381.767200000002,7434.8824000000004,5429.3412000000008,0,null,14236.86,13660.220000000001,9782.74,7143.8700000000008,null,12101.331,11611.187,8315.3289999999997,6072.2895000000008]
[70,null,{"$f":"C357*$K$4","v":11756.5236},11280.011200000001,8086.6128000000008,5904.6451999999999,0,null,15469.11,14842.12,10640.28,7769.27,null,13148.7435,12615.802,9044.2380000000012,6603.8795]
[71,null,{"$f":"C358*$K$4","v":12736.1332},12219.7436,8771.7756000000008,6404.9228000000003,0,null,16758.07,16078.61,11541.810000000001,8427.5300000000007,null,14244.359499999999,13666.818499999999,9810.5385000000006,7163.4005000000006]
[72,null,{"$f":"C359*$K$4","v":13761.2592},13203.381200000002,9486.3428000000004,6927.7572,0,null,18106.920000000002,17372.870000000003,12482.03,9115.4700000000012,null,15390.882000000001,14766.939500000002,10609.7255,7748.1495000000004]
[73,null,{"$f":"C360*$K$4","v":14829.4848},14228.1044,10234.342400000001,7473.1484000000009,0,null,19512.48,18721.190000000002,13466.24,9833.09,null,16585.608,15913.011500000002,11446.304,8358.1265000000003]
[74,null,{"$f":"C361*$K$4","v":15942.018400000001},15296.732800000002,11012.954800000001,8042.3047999999999,0,null,20976.34,20127.280000000002,14490.730000000001,10581.980000000001,null,17829.888999999999,17108.188000000002,12317.120500000001,8994.6830000000009]
[75,null,{"$f":"C362*$K$4","v":17099.2628},16406.849600000001,11825.402400000001,8635.6291999999994,0,null,22499.030000000002,21587.960000000003,15559.740000000002,11362.67,null,19124.175500000001,18349.766000000003,13225.779,9658.2695000000003]
[76,null,{"$f":"C363*$K$4","v":17099.2628},16406.849600000001,11825.402400000001,8635.6291999999994,0,null,22499.030000000002,21587.960000000003,15559.740000000002,11362.67,null,19124.175500000001,18349.766000000003,13225.779,9658.2695000000003]
[77,null,{"$f":"C364*$K$4","v":17099.2628},16406.849600000001,11825.402400000001,8635.6291999999994,0,null,22499.030000000002,21587.960000000003,15559.740000000002,11362.67,null,19124.175500000001,18349.766000000003,13225.779,9658.2695000000003]
[78,null,{"$f":"C365*$K$4","v":17099.2628},16406.849600000001,11825.402400000001,8635.6291999999994,0,null,22499.030000000002,21587.960000000003,15559.740000000002,11362.67,null,19124.175500000001,18349.766000000003,13225.779,9658.2695000000003]
[79,null,{"$f":"C366*$K$4","v":17099.2628},16406.849600000001,11825.402400000001,8635.6291999999994,0,null,22499.030000000002,21587.960000000003,15559.740000000002,11362.67,null,19124.175500000001,18349.766000000003,13225.779,9658.2695000000003]
[80,null,{"$f":"C367*$K$4","v":17099.2628},16406.849600000001,11825.402400000001,8635.6291999999994,0,null,22499.030000000002,21587.960000000003,15559.740000000002,11362.67,null,19124.175500000001,18349.766000000003,13225.779,9658.2695000000003]
[81,null,{"$f":"C368*$K$4","v":17099.2628},16406.849600000001,11825.402400000001,8635.6291999999994,0,null,22499.030000000002,21587.960000000003,15559.740000000002,11362.67,null,19124.175500000001,18349.766000000003,13225.779,9658.2695000000003]
[82,null,{"$f":"C369*$K$4","v":17099.2628},16406.849600000001,11825.402400000001,8635.6291999999994,0,null,22499.030000000002,21587.960000000003,15559.740000000002,{"$f":"L369*$K$4","v":11362.67},null,19124.175500000001,18349.766000000003,13225.779,9658.2695000000003]
[83,null,{"$f":"C370*$K$4","v":17099.2628},16406.849600000001,11825.402400000001,8635.6291999999994,0,null,{"$f":"I370*$K$4","v":22499.030000000002},21587.960000000003,15559.740000000002,11362.67,null,{"$f":"I670*0.85","v":19124.175500000001},{"$f":"J670*0.85","v":18349.766000000003},{"$f":"K670*0.85","v":13225.779},{"$f":"L670*0.85","v":9658.2695000000003}]
[84,"o más",{"$f":"C371*$K$4","v":17099.2628},16406.849600000001,11825.402400000001,8635.6291999999994,0,null,22499.030000000002,21587.960000000003,15559.740000000002,11362.67,null,19124.175500000001,18349.766000000003,13225.779,9658.2695000000003]
[1,"Hijo",{"$f":"C372*$K$4","v":779.41800000000001},747.99959999999999,572.78160000000003,418.91200000000003,0,null,1025.55,984.21,753.66000000000008,551.20000000000005,null,{"$f":"I672*0.85","v":871.71749999999997},836.57849999999996,640.6110000000001,468.52000000000004]
[2,"Hijos",{"$f":"C373*$K$4","v":1323.6008000000002},1270.0284000000001,972.76200000000006,710.53920000000005,0,null,1741.5800000000002,1671.0900000000001,1279.95,934.92000000000007,null,{"$f":"I673*0.85","v":1480.3430000000001},{"$f":"J673*0.85","v":1420.4265},{"$f":"K673*0.85","v":1087.9575},{"$f":"L673*0.85","v":794.68200000000002}]
[3,"Hijos o más",{"$f":"C374*$K$4","v":1868.9920000000002},1792.46,1372.7424000000001,1002.5692000000001,0,null,2459.2000000000003,2358.5,1806.24,1319.17,null,2090.3200000000002,2004.7249999999999,1535.3039999999999,1121.2945]
[]
["BUPA GLOBAL ELITE"]
["TARIFAS TRIMESTRALES"]
["EDAD"]
[" "," ",1000,2000,3500]
[18,null,{"$f":"C6*$K$3","v":2326.5137500000001},{"$f":"D6*$K$3","v":2038.7675000000002},1693.5187500000002,1469.3525,1118.9612500000001,null,{"$f":"I6*$K$3","v":2737.0750000000003},{"$f":"J6*$K$3","v":2398.5500000000002},1992.3750000000002,1728.65,1316.4250000000002,null,{"$f":"I680*0.85","v":2326.5137500000001},{"$f":"J680*0.85","v":2038.7675000000002},1693.5187500000002,1469.3525,1118.9612500000001]
[19,null,{"$f":"C7*$K$3","v":2326.5137500000001},2038.7675000000002,1693.5187500000002,1469.3525,1118.9612500000001,null,{"$f":"I7*$K$3","v":2737.0750000000003},2398.5500000000002,1992.3750000000002,1728.65,1316.4250000000002,null,{"$f":"I681*0.85","v":2326.5137500000001},{"$f":"J681*0.85","v":2038.7675000000002},{"$f":"K681*0.85","v":1693.5187500000002},{"$f":"L681*0.85","v":1469.3525},{"$f":"M681*0.85","v":1118.9612500000001}]
[20,null,{"$f":"C8*$K$3","v":2326.5137500000001},2038.7675000000002,1693.5187500000002,1469.3525,1118.9612500000001,null,2737.0750000000003,2398.5500000000002,1992.3750000000002,1728.65,1316.4250000000002,null,2326.5137500000001,2038.7675000000002,1693.5187500000002,1469.3525,1118.9612500000001]
[21,null,{"$f":"C9*$K$3","v":2326.5137500000001},2038.7675000000002,1693.5187500000002,1469.3525,1118.9612500000001,null,2737.0750000000003,2398.5500000000002,1992.3750000000002,1728.65,1316.4250000000002,null,2326.5137500000001,2038.7675000000002,1693.5187500000002,1469.3525,1118.9612500000001]
[22,null,{"$f":"C10*$K$3","v":2326.5137500000001},2038.7675000000002,1693.5187500000002,1469.3525,1118.9612500000001,null,2737.0750000000003,2398.5500000000002,1992.3750000000002,1728.65,1316.4250000000002,null,2326.5137500000001,2038.7675000000002,1693.5187500000002,1469.3525,1118.9612500000001]
[23,null,{"$f":"C11*$K$3","v":2326.5137500000001},2038.7675000000002,1693.5187500000002,1469.3525,1118.9612500000001,null,2737.0750000000003,2398.5500000000002,1992.3750000000002,1728.65,1316.4250000000002,null,2326.5137500000001,2038.7675000000002,1693.5187500000002,1469.3525,1118.9612500000001]
[24,null,{"$f":"C12*$K$3","v":2326.5137500000001},2038.7675000000002,1693.5187500000002,1469.3525,1118.9612500000001,null,2737.0750000000003,2398.5500000000002,1992.3750000000002,1728.65,1316.4250000000002,null,2326.5137500000001,2038.7675000000002,1693.5187500000002,1469.3525,1118.9612500000001]
[25,null,{"$f":"C13*$K$3","v":2485.6975000000002},2178.5500000000002,1798.7062500000002,1559.5800000000002,1188.6187500000001,null,2924.3500000000004,2563,2116.125,1834.8000000000002,1398.375,null,2485.6975000000002,2178.5499999999997,1798.70625,1559.5800000000002,1188.6187499999999]
[26,null,{"$f":"C14*$K$3","v":2485.6975000000002},2178.5500000000002,1798.7062500000002,1559.5800000000002,1188.6187500000001,null,2924.3500000000004,2563,2116.125,1834.8000000000002,1398.375,null,2485.6975000000002,2178.5499999999997,1798.70625,1559.5800000000002,1188.6187499999999]
[27,null,{"$f":"C15*$K$3","v":2485.6975000000002},2178.5500000000002,1798.7062500000002,1559.5800000000002,1188.6187500000001,null,2924.3500000000004,2563,2116.125,1834.8000000000002,1398.375,null,2485.6975000000002,2178.5499999999997,1798.70625,1559.5800000000002,1188.6187499999999]
[28,null,{"$f":"C16*$K$3","v":2485.6975000000002},2178.5500000000002,1798.7062500000002,1559.5800000000002,1188.6187500000001,null,2924.3500000000004,2563,2116.125,1834.8000000000002,1398.375,null,2485.6975000000002,2178.5499999999997,1798.70625,1559.5800000000002,1188.6187499999999]
[29,null,{"$f":"C17*$K$3","v":2485.6975000000002},2178.5500000000002,1798.7062500000002,1559.5800000000002,1188.6187500000001,null,2924.3500000000004,2563,2116.125,1834.8000000000002,1398.375,null,2485.6975000000002,2178.5499999999997,1798.70625,1559.5800000000002,1188.6187499999999]
[30,null,{"$f":"C18*$K$3","v":2764.09375},2422.8187500000004,1985.4725000000001,1721.335,1311.10375,null,3251.8750000000005,2850.3750000000005,2335.8500000000004,2025.1000000000001,1542.4750000000001,null,2764.0937500000005,2422.8187500000004,1985.4725000000003,1721.335,1311.10375]
[31,null,{"$f":"C19*$K$3","v":2764.09375},2422.8187500000004,1985.4725000000001,1721.335,1311.10375,null,3251.8750000000005,2850.3750000000005,2335.8500000000004,2025.1000000000001,1542.4750000000001,null,2764.0937500000005,2422.8187500000004,1985.4725000000003,1721.335,1311.10375]
[32,null,{"$f":"C20*$K$3","v":2764.09375},2422.8187500000004,1985.4725000000001,1721.335,1311.10375,null,3251.8750000000005,2850.3750000000005,2335.8500000000004,2025.1000000000001,1542.4750000000001,null,2764.0937500000005,2422.8187500000004,1985.4725000000003,1721.335,1311.10375]
[33,null,{"$f":"C21*$K$3","v":2764.09375},2422.8187500000004,1985.4725000000001,1721.335,1311.10375,null,3251.8750000000005,2850.3750000000005,2335.8500000000004,2025.1000000000001,1542.4750000000001,null,2764.0937500000005,2422.8187500000004,1985.4725000000003,1721.335,1311.10375]
[34,null,{"$f":"C22*$K$3","v":2764.09375},2422.8187500000004,1985.4725000000001,1721.335,1311.10375,null,3251.8750000000005,2850.3750000000005,2335.8500000000004,2025.1000000000001,1542.4750000000001,null,2764.0937500000005,2422.8187500000004,1985.4725000000003,1721.335,1311.10375]
[35,null,{"$f":"C23*$K$3","v":3085.5000000000005},2703.7862500000001,2203.09375,1910.6725000000001,1455.3274999999999,null,3630.0000000000005,3180.9250000000002,2591.875,2247.8500000000004,1712.15,null,3085.5000000000005,2703.7862500000001,2203.09375,1910.6725000000004,1455.3275000000001]
[36,null,{"$f":"C24*$K$3","v":3085.5000000000005},2703.7862500000001,2203.09375,1910.6725000000001,1455.3274999999999,null,3630.0000000000005,3180.9250000000002,2591.875,2247.8500000000004,1712.15,null,3085.5000000000005,2703.7862500000001,2203.09375,1910.6725000000004,1455.3275000000001]
[37,null,{"$f":"C25*$K$3","v":3085.5000000000005},2703.7862500000001,2203.09375,1910.6725000000001,1455.3274999999999,null,3630.0000000000005,3180.9250000000002,2591.875,2247.8500000000004,1712.15,null,3085.5000000000005,2703.7862500000001,2203.09375,1910.6725000000004,1455.3275000000001]
[38,null,{"$f":"C26*$K$3","v":3085.5000000000005},2703.7862500000001,2203.09375,1910.6725000000001,1455.3274999999999,null,3630.0000000000005,3180.9250000000002,2591.875,2247.8500000000004,1712.15,null,3085.5000000000005,2703.7862500000001,2203.09375,1910.6725000000004,1455.3275000000001]
[39,null,{"$f":"C27*$K$3","v":3085.5000000000005},2703.7862500000001,2203.09375,1910.6725000000001,1455.3274999999999,null,3630.0000000000005,3180.9250000000002,2591.875,2247.8500000000004,1712.15,null,3085.5000000000005,2703.7862500000001,2203.09375,1910.6725000000004,1455.3275000000001]
[40,null,{"$f":"C28*$K$3","v":3570.9987500000002},3129.67875,2538.5250000000001,2201.2237500000001,1677.1562500000002,null,4201.1750000000002,3681.9750000000004,2986.5000000000005,2589.6750000000002,1973.1250000000002,null,3570.9987500000002,3129.67875,2538.5250000000005,2201.2237500000001,1677.1562500000002]
[41,null,{"$f":"C29*$K$3","v":3570.9987500000002},3129.67875,2538.5250000000001,2201.2237500000001,1677.1562500000002,null,4201.1750000000002,3681.9750000000004,2986.5000000000005,2589.6750000000002,1973.1250000000002,null,3570.9987500000002,3129.67875,2538.5250000000005,2201.2237500000001,1677.1562500000002]
[42,null,{"$f":"C30*$K$3","v":3570.9987500000002},3129.67875,2538.5250000000001,2201.2237500000001,1677.1562500000002,null,4201.1750000000002,3681.9750000000004,2986.5000000000005,2589.6750000000002,1973.1250000000002,null,3570.9987500000002,3129.67875,2538.5250000000005,2201.2237500000001,1677.1562500000002]
[43,null,{"$f":"C31*$K$3","v":3570.9987500000002},3129.67875,2538.5250000000001,2201.2237500000001,1677.1562500000002,null,4201.1750000000002,3681.9750000000004,2986.5000000000005,2589.6750000000002,1973.1250000000002,null,3570.9987500000002,3129.67875,2538.5250000000005,2201.2237500000001,1677.1562500000002]
[44,null,{"$f":"C32*$K$3","v":3570.9987500000002},3129.67875,2538.5250000000001,2201.2237500000001,1677.1562500000002,null,4201.1750000000002,3681.9750000000004,2986.5000000000005,2589.6750000000002,1973.1250000000002,null,3570.9987500000002,3129.67875,2538.5250000000005,2201.2237500000001,1677.1562500000002]
[45,null,{"$f":"C33*$K$3","v":3996.6575000000003},3502.7437500000001,2832.3487500000001,2455.7775000000001,1870.4675000000002,null,4701.9500000000007,4120.875,3332.1750000000002,2889.15,2200.5500000000002,null,3996.6575000000007,3502.7437500000001,2832.3487500000001,2455.7775000000001,1870.4675000000002]
[46,null,{"$f":"C34*$K$3","v":3996.6575000000003},3502.7437500000001,2832.3487500000001,2455.7775000000001,1870.4675000000002,null,4701.9500000000007,4120.875,3332.1750000000002,2889.15,2200.5500000000002,null,3996.6575000000007,3502.7437500000001,2832.3487500000001,2455.7775000000001,1870.4675000000002]
[47,null,{"$f":"C35*$K$3","v":3996.6575000000003},3502.7437500000001,2832.3487500000001,2455.7775000000001,1870.4675000000002,null,4701.9500000000007,4120.875,3332.1750000000002,2889.15,2200.5500000000002,null,3996.6575000000007,3502.7437500000001,2832.3487500000001,2455.7775000000001,1870.4675000000002]
[48,null,{"$f":"C36*$K$3","v":3996.6575000000003},3502.7437500000001,2832.3487500000001,2455.7775000000001,1870.4675000000002,null,4701.9500000000007,4120.875,3332.1750000000002,2889.15,2200.5500000000002,null,3996.6575000000007,3502.7437500000001,2832.3487500000001,2455.7775000000001,1870.4675000000002]
[49,null,{"$f":"C37*$K$3","v":3996.6575000000003},3502.7437500000001,2832.3487500000001,2455.7775000000001,1870.4675000000002,null,4701.9500000000007,4120.875,3332.1750000000002,2889.15,2200.5500000000002,null,3996.6575000000007,3502.7437500000001,2832.3487500000001,2455.7775000000001,1870.4675000000002]
[50,null,{"$f":"C38*$K$3","v":4618.9000000000005},4048.7837500000005,3265.9549999999999,2832.3487500000001,2157.2787499999999,null,5434,4763.2750000000005,3842.3,3332.1750000000002,2537.9750000000004,null,4618.8999999999996,4048.7837500000005,3265.9549999999999,2832.3487500000001,2157.2787500000004]
[51,null,{"$f":"C39*$K$3","v":4618.9000000000005},4048.7837500000005,3265.9549999999999,2832.3487500000001,2157.2787499999999,null,5434,4763.2750000000005,3842.3,3332.1750000000002,2537.9750000000004,null,4618.8999999999996,4048.7837500000005,3265.9549999999999,2832.3487500000001,2157.2787500000004]
[52,null,{"$f":"C40*$K$3","v":4618.9000000000005},4048.7837500000005,3265.9549999999999,2832.3487500000001,2157.2787499999999,null,5434,4763.2750000000005,3842.3,3332.1750000000002,2537.9750000000004,null,4618.8999999999996,4048.7837500000005,3265.9549999999999,2832.3487500000001,2157.2787500000004]
[53,null,{"$f":"C41*$K$3","v":4618.9000000000005},4048.7837500000005,3265.9549999999999,2832.3487500000001,2157.2787499999999,null,5434,4763.2750000000005,3842.3,3332.1750000000002,2537.9750000000004,null,4618.8999999999996,4048.7837500000005,3265.9549999999999,2832.3487500000001,2157.2787500000004]
[54,null,{"$f":"C42*$K$3","v":4618.9000000000005},4048.7837500000005,3265.9549999999999,2832.3487500000001,2157.2787499999999,null,5434,4763.2750000000005,3842.3,3332.1750000000002,2537.9750000000004,null,4618.8999999999996,4048.7837500000005,3265.9549999999999,2832.3487500000001,2157.2787500000004]
[55,null,{"$f":"C43*$K$3","v":5163.7712499999998},4526.335,3646.2662500000001,3162.17,2408.56,null,6075.0250000000005,5325.1,4289.7250000000004,3720.2000000000003,2833.6000000000004,null,5163.7712500000007,4526.335,3646.2662500000001,3162.17,2408.5600000000004]
[56,null,{"$f":"C44*$K$3","v":5163.7712499999998},4526.335,3646.2662500000001,3162.17,2408.56,null,6075.0250000000005,5325.1,4289.7250000000004,3720.2000000000003,2833.6000000000004,null,5163.7712500000007,4526.335,3646.2662500000001,3162.17,2408.5600000000004]
[57,null,{"$f":"C45*$K$3","v":5163.7712499999998},4526.335,3646.2662500000001,3162.17,2408.56,null,6075.0250000000005,5325.1,4289.7250000000004,3720.2000000000003,2833.6000000000004,null,5163.7712500000007,4526.335,3646.2662500000001,3162.17,2408.5600000000004]
[58,null,{"$f":"C46*$K$3","v":5163.7712499999998},4526.335,3646.2662500000001,3162.17,2408.56,null,6075.0250000000005,5325.1,4289.7250000000004,3720.2000000000003,2833.6000000000004,null,5163.7712500000007,4526.335,3646.2662500000001,3162.17,2408.5600000000004]
[59,null,{"$f":"C47*$K$3","v":5163.7712499999998},4526.335,3646.2662500000001,3162.17,2408.56,null,6075.0250000000005,5325.1,4289.7250000000004,3720.2000000000003,2833.6000000000004,null,5163.7712500000007,4526.335,3646.2662500000001,3162.17,2408.5600000000004]
[60,null,{"$f":"C48*$K$3","v":5526.5512500000004},4844.46875,3899.1837500000006,3380.96,2575.2237500000001,null,6501.8250000000007,5699.3750000000009,4587.2750000000005,3977.6000000000004,3029.6750000000002,null,5526.5512500000004,4844.4687500000009,3899.1837500000001,3380.96,2575.2237500000001]
[61,null,{"$f":"C49*$K$3","v":6254.4487500000005},5482.6062500000007,4410.8625000000002,3825.3187500000004,2913.46,null,7358.1750000000002,6450.1250000000009,5189.25,4500.375,3427.6000000000004,null,6254.4487499999996,5482.6062500000007,4410.8625000000002,3825.3187499999999,2913.46]
[62,null,{"$f":"C50*$K$3","v":6948.92},6090.59,4899.1662500000002,4247.7049999999999,3235.1000000000004,null,8175.2000000000007,7165.4000000000005,5763.7250000000004,4997.3,3806.0000000000005,null,6948.92,6090.59,4899.1662500000002,4247.7049999999999,3235.1000000000004]
[63,null,{"$f":"C51*$K$3","v":7694.1149999999998},6744.8562500000007,5425.1037500000002,4703.9849999999997,3583.1537500000004,null,9051.9000000000015,7935.1250000000009,6382.4750000000004,5534.1,4215.4750000000004,null,7694.1150000000007,6744.8562500000007,5425.1037500000002,4703.9850000000006,3583.1537500000004]
[64,null,{"$f":"C52*$K$3","v":8493.3062500000015},7444.2362500000008,5988.9087500000005,5192.99,3955.2837500000005,null,9992.125,8757.9250000000011,7045.7750000000005,6109.4000000000005,4653.2750000000005,null,8493.3062499999996,7444.2362500000008,5988.9087500000005,5192.9900000000007,3955.2837500000005]
[65,null,{"$f":"C53*$K$3","v":9343.9225000000006},8190.8337500000007,6591.0487500000008,5715.6550000000007,4353.8275000000003,null,10992.85,9636.2750000000015,7754.1750000000002,6724.3,5122.1500000000005,null,9343.9225000000006,8190.8337500000007,6591.0487499999999,5715.6549999999997,4353.8275000000003]
[66,null,{"$f":"C54*$K$3","v":10247.6},8982.5450000000001,7231.5237500000012,6270.5775000000003,4776.6812500000005,null,12056.000000000002,10567.7,8507.6750000000011,7377.1500000000005,{"$f":"M54*$K$3","v":5619.625},null,10247.600000000002,8982.5450000000001,7231.5237500000003,6270.5775000000003,4776.6812499999996]
[67,null,{"$f":"C55*$K$3","v":11203.403750000001},9819.8375000000015,7910.567500000001,6859.16,5224.5462500000003,null,13180.475,11552.750000000002,9306.5500000000011,8069.6,6146.5250000000005,null,11203.403749999999,9819.8375000000015,7910.567500000001,6859.16,5224.5462500000003]
[68,null,{"$f":"C56*$K$3","v":12211.1},10703.4125,8627.0112500000014,7480.9350000000004,5698.3575000000001,null,14366.000000000002,12592.250000000002,10149.425000000001,8801.1,6703.9500000000007,null,12211.1,10703.4125,8627.0112500000014,7480.9350000000004,5698.3575000000001]
[69,null,{"$f":"C57*$K$3","v":13272.091250000001},11633.036250000001,9382.4912500000009,8136.1362500000005,6196.94625,null,15614.225,13685.925000000001,11038.225,9571.9250000000011,7290.5250000000005,null,13272.091249999999,11633.036250000001,9382.4912500000009,8136.1362500000005,6196.94625]
[70,null,{"$f":"C58*$K$3","v":14384.741250000001},12608.475,10175.137500000001,8823.3612500000017,6720.5462500000003,null,16923.225000000002,14833.500000000002,11970.750000000002,10380.425000000001,7906.5250000000005,null,14384.741250000001,12608.475,10175.137500000001,8823.3612499999999,6720.5462500000003]
[71,null,{"$f":"C59*$K$3","v":15549.751249999999},13629.728750000002,11006.82,9544.48,7269.6250000000009,null,18293.825000000001,16034.975000000002,12949.2,11228.800000000001,8552.5,null,15549.751249999999,13629.728750000002,11006.82,9544.4800000000014,7269.625]
[72,null,{"$f":"C60*$K$3","v":16767.355},14697.7325,11876.13625,10297.622500000001,7843.7150000000001,null,19726.300000000003,17291.45,13971.925000000001,12114.85,9227.9000000000015,null,16767.355000000003,14697.7325,11876.136250000001,10297.622499999999,7843.7150000000011]
[73,null,{"$f":"C61*$K$3","v":18037.552499999998},15810.3825,12784.48875,11085.126249999999,8443.2837500000005,null,21220.65,18600.45,15040.575000000001,13041.325000000001,9933.2750000000015,null,18037.552500000002,15810.3825,12784.48875,11085.126250000001,8443.2837500000005]
[74,null,{"$f":"C62*$K$3","v":19360.34375},16969.081250000003,13729.77375,11905.355,9068.0975000000017,null,22776.875000000004,19963.625,16152.675000000001,14006.300000000001,10668.35,null,19360.343750000004,16969.081249999999,13729.77375,11905.355000000001,9068.0974999999999]
[75,null,{"$f":"C63*$K$3","v":20734.793750000001},18174.296249999999,14713.393750000001,12758.30875,9717.6887499999993,null,24393.875000000004,21381.525000000001,17309.875,15009.775000000001,11432.575000000001,null,20734.793750000004,18174.296249999999,14713.393749999999,12758.30875,9717.6887500000012]
[76,null,{"$f":"C64*$K$3","v":20734.793750000001},18174.296249999999,14713.393750000001,12758.30875,9717.6887499999993,null,24393.875000000004,21381.525000000001,17309.875,15009.775000000001,11432.575000000001,null,20734.793750000004,18174.296249999999,14713.393749999999,12758.30875,9717.6887500000012]
[77,null,{"$f":"C65*$K$3","v":20734.793750000001},18174.296249999999,14713.393750000001,12758.30875,9717.6887499999993,null,24393.875000000004,21381.525000000001,17309.875,15009.775000000001,11432.575000000001,null,20734.793750000004,18174.296249999999,14713.393749999999,12758.30875,9717.6887500000012]
[78,null,{"$f":"C66*$K$3","v":20734.793750000001},18174.296249999999,14713.393750000001,12758.30875,9717.6887499999993,null,24393.875000000004,21381.525000000001,17309.875,15009.775000000001,11432.575000000001,null,20734.793750000004,18174.296249999999,14713.393749999999,12758.30875,9717.6887500000012]
[79,null,{"$f":"C67*$K$3","v":20734.793750000001},18174.296249999999,14713.393750000001,12758.30875,9717.6887499999993,null,24393.875000000004,21381.525000000001,17309.875,15009.775000000001,11432.575000000001,null,20734.793750000004,18174.296249999999,14713.393749999999,12758.30875,9717.6887500000012]
[80,null,{"$f":"C68*$K$3","v":20734.793750000001},18174.296249999999,14713.393750000001,12758.30875,9717.6887499999993,null,24393.875000000004,21381.525000000001,17309.875,15009.775000000001,11432.575000000001,null,20734.793750000004,18174.296249999999,14713.393749999999,12758.30875,9717.6887500000012]
[81,null,{"$f":"C69*$K$3","v":20734.793750000001},18174.296249999999,14713.393750000001,12758.30875,9717.6887499999993,null,24393.875000000004,21381.525000000001,17309.875,15009.775000000001,11432.575000000001,null,20734.793750000004,18174.296249999999,14713.393749999999,12758.30875,9717.6887500000012]
[82,null,{"$f":"C70*$K$3","v":20734.793750000001},18174.296249999999,14713.393750000001,12758.30875,9717.6887499999993,null,24393.875000000004,{"$f":"J70*$K$3","v":21381.525000000001},17309.875,15009.775000000001,11432.575000000001,null,20734.793750000004,18174.296249999999,14713.393749999999,12758.30875,9717.6887500000012]
[83,null,{"$f":"C71*$K$3","v":20734.793750000001},18174.296249999999,14713.393750000001,12758.30875,9717.6887499999993,null,{"$f":"I71*$K$3","v":24393.875000000004},21381.525000000001,17309.875,15009.775000000001,11432.575000000001,null,{"$f":"I745*0.85","v":20734.793750000004},{"$f":"J745*0.85","v":18174.296249999999},{"$f":"K745*0.85","v":14713.393749999999},{"$f":"L745*0.85","v":12758.30875},{"$f":"M745*0.85","v":9717.6887500000012}]
[84,"o más",{"$f":"C72*$K$3","v":20734.793750000001},18174.296249999999,14713.393750000001,12758.30875,9717.6887499999993,null,24393.875000000004,21381.525000000001,17309.875,15009.775000000001,11432.575000000001,null,20734.793750000004,18174.296249999999,14713.393749999999,12758.30875,9717.6887500000012]
[1,"Hijo",{"$f":"C73*$K$3","v":983.62},862.07,720.8850000000001,625.28125,476.38250000000005,null,1157.2,1014.2,848.1,735.62500000000011,560.45000000000005,null,{"$f":"I747*0.85","v":983.62},862.07,720.88499999999999,625.28125000000011,476.38250000000005]
[2,"Hijos",{"$f":"C74*$K$3","v":1671.0787500000001},1465.1450000000002,1225.3175000000001,1062.8612499999999,809.71,null,1965.9750000000001,1723.7,1441.5500000000002,1250.4250000000002,952.6,null,{"$f":"I748*0.85","v":1671.0787500000001},{"$f":"J748*0.85","v":1465.145},{"$f":"K748*0.85","v":1225.3175000000001},{"$f":"L748*0.85","v":1062.8612500000002},{"$f":"M748*0.85","v":809.71}]
[3,"Hijos o más",{"$f":"C75*$K$3","v":2359.4725000000003},2067.9862499999999,1729.7500000000002,1499.9737500000001,1142.80375,null,2775.8500000000004,2432.9250000000002,2035.0000000000002,1764.6750000000002,1344.4750000000001,null,2359.4725000000003,2067.9862499999999,1729.7500000000002,1499.9737500000001,1142.80375]
[]
["BUPA GLOBAL PREMIER"]
["TARIFAS TRIMESTRALES"]
["EDAD"]
[" "," ",2000,3500,5000]
[18,null,{"$f":"C155*$K$3","v":1223.3540000000003},{"$f":"D155*$K$3","v":1109.6580000000001},834.76800000000014,609.80700000000002,0,null,{"$f":"I155*$K$3","v":1799.0500000000002},{"$f":"J155*$K$3","v":1631.8500000000001},1227.6000000000001,896.77500000000009,null,{"$f":"I755*0.85","v":1529.1925000000001},{"$f":"J755*0.85","v":1387.0725},1043.46,762.25875000000008]
[19,null,{"$f":"C156*$K$3","v":1223.3540000000003},1109.6580000000001,834.76800000000014,609.80700000000002,0,null,{"$f":"I156*$K$3","v":1799.0500000000002},1631.8500000000001,1227.6000000000001,896.77500000000009,null,{"$f":"I756*0.85","v":1529.1925000000001},{"$f":"J756*0.85","v":1387.0725},{"$f":"K756*0.85","v":1043.46},{"$f":"L756*0.85","v":762.25875000000008}]
[20,null,{"$f":"C157*$K$3","v":1223.3540000000003},1109.6580000000001,834.76800000000014,609.80700000000002,0,null,1799.0500000000002,1631.8500000000001,1227.6000000000001,896.77500000000009,null,1529.1925000000001,1387.0725,1043.46,762.25875000000008]
[21,null,{"$f":"C158*$K$3","v":1223.3540000000003},1109.6580000000001,834.76800000000014,609.80700000000002,0,null,1799.0500000000002,1631.8500000000001,1227.6000000000001,896.77500000000009,null,1529.1925000000001,1387.0725,1043.46,762.25875000000008]
[22,null,{"$f":"C159*$K$3","v":1223.3540000000003},1109.6580000000001,834.76800000000014,609.80700000000002,0,null,1799.0500000000002,1631.8500000000001,1227.6000000000001,896.77500000000009,null,1529.1925000000001,1387.0725,1043.46,762.25875000000008]
[23,null,{"$f":"C160*$K$3","v":1223.3540000000003},1109.6580000000001,834.76800000000014,609.80700000000002,0,null,1799.0500000000002,1631.8500000000001,1227.6000000000001,896.77500000000009,null,1529.1925000000001,1387.0725,1043.46,762.25875000000008]
[24,null,{"$f":"C161*$K$3","v":1223.3540000000003},1109.6580000000001,834.76800000000014,609.80700000000002,0,null,1799.0500000000002,1631.8500000000001,1227.6000000000001,896.77500000000009,null,1529.1925000000001,1387.0725,1043.46,762.25875000000008]
[25,null,{"$f":"C162*$K$3","v":1307.5040000000001},1185.7670000000001,882.64000000000021,644.96300000000008,0,null,1922.8000000000002,1743.7750000000001,1298,948.47500000000002,null,1634.38,1482.20875,1103.3,806.20375000000001]
[26,null,{"$f":"C163*$K$3","v":1307.5040000000001},1185.7670000000001,882.64000000000021,644.96300000000008,0,null,1922.8000000000002,1743.7750000000001,1298,948.47500000000002,null,1634.38,1482.20875,1103.3,806.20375000000001]
[27,null,{"$f":"C164*$K$3","v":1307.5040000000001},1185.7670000000001,882.64000000000021,644.96300000000008,0,null,1922.8000000000002,1743.7750000000001,1298,948.47500000000002,null,1634.38,1482.20875,1103.3,806.20375000000001]
[28,null,{"$f":"C165*$K$3","v":1307.5040000000001},1185.7670000000001,882.64000000000021,644.96300000000008,0,null,1922.8000000000002,1743.7750000000001,1298,948.47500000000002,null,1634.38,1482.20875,1103.3,806.20375000000001]
[29,null,{"$f":"C166*$K$3","v":1307.5040000000001},1185.7670000000001,882.64000000000021,644.96300000000008,0,null,1922.8000000000002,1743.7750000000001,1298,948.47500000000002,null,1634.38,1482.20875,1103.3,806.20375000000001]
[30,null,{"$f":"C167*$K$3","v":1453.7380000000003},1319.2850000000003,969.03400000000011,707.79500000000007,0,null,2137.8500000000004,1940.1250000000002,1425.0500000000002,1040.875,null,1817.1725000000004,1649.10625,1211.2925,884.74374999999998]
[31,null,{"$f":"C168*$K$3","v":1453.7380000000003},1319.2850000000003,969.03400000000011,707.79500000000007,0,null,2137.8500000000004,1940.1250000000002,1425.0500000000002,1040.875,null,1817.1725000000004,1649.10625,1211.2925,884.74374999999998]
[32,null,{"$f":"C169*$K$3","v":1453.7380000000003},1319.2850000000003,969.03400000000011,707.79500000000007,0,null,2137.8500000000004,1940.1250000000002,1425.0500000000002,1040.875,null,1817.1725000000004,1649.10625,1211.2925,884.74374999999998]
[33,null,{"$f":"C170*$K$3","v":1453.7380000000003},1319.2850000000003,969.03400000000011,707.79500000000007,0,null,2137.8500000000004,1940.1250000000002,1425.0500000000002,1040.875,null,1817.1725000000004,1649.10625,1211.2925,884.74374999999998]
[34,null,{"$f":"C171*$K$3","v":1453.7380000000003},1319.2850000000003,969.03400000000011,707.79500000000007,0,null,2137.8500000000004,1940.1250000000002,1425.0500000000002,1040.875,null,1817.1725000000004,1649.10625,1211.2925,884.74374999999998]
[35,null,{"$f":"C172*$K$3","v":1622.2250000000001},1472.4380000000003,1071.1360000000002,782.40800000000013,0,null,2385.625,2165.3500000000004,1575.2,1150.6000000000001,null,2027.78125,1840.5475000000004,1338.92,978.0100000000001]
[36,null,{"$f":"C173*$K$3","v":1622.2250000000001},1472.4380000000003,1071.1360000000002,782.40800000000013,0,null,2385.625,2165.3500000000004,1575.2,1150.6000000000001,null,2027.78125,1840.5475000000004,1338.92,978.0100000000001]
[37,null,{"$f":"C174*$K$3","v":1622.2250000000001},1472.4380000000003,1071.1360000000002,782.40800000000013,0,null,2385.625,2165.3500000000004,1575.2,1150.6000000000001,null,2027.78125,1840.5475000000004,1338.92,978.0100000000001]
[38,null,{"$f":"C175*$K$3","v":1622.2250000000001},1472.4380000000003,1071.1360000000002,782.40800000000013,0,null,2385.625,2165.3500000000004,1575.2,1150.6000000000001,null,2027.78125,1840.5475000000004,1338.92,978.0100000000001]
[39,null,{"$f":"C176*$K$3","v":1622.2250000000001},1472.4380000000003,1071.1360000000002,782.40800000000013,0,null,2385.625,2165.3500000000004,1575.2,1150.6000000000001,null,2027.78125,1840.5475000000004,1338.92,978.0100000000001]
[40,null,{"$f":"C177*$K$3","v":1877.6670000000001},1704.1310000000001,1229.8990000000003,898.90900000000011,0,null,2761.2750000000001,2506.0750000000003,1808.6750000000002,1321.9250000000002,null,2347.0837500000002,2130.1637500000002,1537.3737500000002,1123.63625]
[41,null,{"$f":"C178*$K$3","v":1877.6670000000001},1704.1310000000001,1229.8990000000003,898.90900000000011,0,null,2761.2750000000001,2506.0750000000003,1808.6750000000002,1321.9250000000002,null,2347.0837500000002,2130.1637500000002,1537.3737500000002,1123.63625]
[42,null,{"$f":"C179*$K$3","v":1877.6670000000001},1704.1310000000001,1229.8990000000003,898.90900000000011,0,null,2761.2750000000001,2506.0750000000003,1808.6750000000002,1321.9250000000002,null,2347.0837500000002,2130.1637500000002,1537.3737500000002,1123.63625]
[43,null,{"$f":"C180*$K$3","v":1877.6670000000001},1704.1310000000001,1229.8990000000003,898.90900000000011,0,null,2761.2750000000001,2506.0750000000003,1808.6750000000002,1321.9250000000002,null,2347.0837500000002,2130.1637500000002,1537.3737500000002,1123.63625]
[44,null,{"$f":"C181*$K$3","v":1877.6670000000001},1704.1310000000001,1229.8990000000003,898.90900000000011,0,null,2761.2750000000001,2506.0750000000003,1808.6750000000002,1321.9250000000002,null,2347.0837500000002,2130.1637500000002,1537.3737500000002,1123.63625]
[45,null,{"$f":"C182*$K$3","v":2101.1320000000005},1907.0260000000003,1368.8400000000001,999.88900000000012,0,null,3089.9,2804.4500000000003,2013.0000000000002,1470.4250000000002,null,2626.415,2383.7825000000003,1711.0500000000002,1249.8612500000002]
[46,null,{"$f":"C183*$K$3","v":2101.1320000000005},1907.0260000000003,1368.8400000000001,999.88900000000012,0,null,3089.9,2804.4500000000003,2013.0000000000002,1470.4250000000002,null,2626.415,2383.7825000000003,1711.0500000000002,1249.8612500000002]
[47,null,{"$f":"C184*$K$3","v":2101.1320000000005},1907.0260000000003,1368.8400000000001,999.88900000000012,0,null,3089.9,2804.4500000000003,2013.0000000000002,1470.4250000000002,null,2626.415,2383.7825000000003,1711.0500000000002,1249.8612500000002]
[48,null,{"$f":"C185*$K$3","v":2101.1320000000005},1907.0260000000003,1368.8400000000001,999.88900000000012,0,null,3089.9,2804.4500000000003,2013.0000000000002,1470.4250000000002,null,2626.415,2383.7825000000003,1711.0500000000002,1249.8612500000002]
[49,null,{"$f":"C186*$K$3","v":2101.1320000000005},1907.0260000000003,1368.8400000000001,999.88900000000012,0,null,3089.9,2804.4500000000003,2013.0000000000002,1470.4250000000002,null,2626.415,2383.7825000000003,1711.0500000000002,1249.8612500000002]
[50,null,{"$f":"C187*$K$3","v":2429.3170000000005},2204.3560000000002,1576.2230000000002,1151.92,0,null,3572.5250000000001,3241.7000000000003,2317.9750000000004,1694.0000000000002,null,3036.6462499999998,2755.4450000000002,1970.2787500000002,1439.9]
[51,null,{"$f":"C188*$K$3","v":2429.3170000000005},2204.3560000000002,1576.2230000000002,1151.92,0,null,3572.5250000000001,3241.7000000000003,2317.9750000000004,1694.0000000000002,null,3036.6462499999998,2755.4450000000002,1970.2787500000002,1439.9]
[52,null,{"$f":"C189*$K$3","v":2429.3170000000005},2204.3560000000002,1576.2230000000002,1151.92,0,null,3572.5250000000001,3241.7000000000003,2317.9750000000004,1694.0000000000002,null,3036.6462499999998,2755.4450000000002,1970.2787500000002,1439.9]
[53,null,{"$f":"C190*$K$3","v":2429.3170000000005},2204.3560000000002,1576.2230000000002,1151.92,0,null,3572.5250000000001,3241.7000000000003,2317.9750000000004,1694.0000000000002,null,3036.6462499999998,2755.4450000000002,1970.2787500000002,1439.9]
[54,null,{"$f":"C191*$K$3","v":2429.3170000000005},2204.3560000000002,1576.2230000000002,1151.92,0,null,3572.5250000000001,3241.7000000000003,2317.9750000000004,1694.0000000000002,null,3036.6462499999998,2755.4450000000002,1970.2787500000002,1439.9]
[55,null,{"$f":"C192*$K$3","v":2715.2400000000002},2464.4730000000004,1757.4260000000002,1284.3160000000003,0,null,3993.0000000000005,3624.2250000000004,2584.4500000000003,1888.7,null,3394.05,3080.5912500000004,2196.7825000000003,1605.395]
[56,null,{"$f":"C193*$K$3","v":2715.2400000000002},2464.4730000000004,1757.4260000000002,1284.3160000000003,0,null,3993.0000000000005,3624.2250000000004,2584.4500000000003,1888.7,null,3394.05,3080.5912500000004,2196.7825000000003,1605.395]
[57,null,{"$f":"C194*$K$3","v":2715.2400000000002},2464.4730000000004,1757.4260000000002,1284.3160000000003,0,null,3993.0000000000005,3624.2250000000004,2584.4500000000003,1888.7,null,3394.05,3080.5912500000004,2196.7825000000003,1605.395]
[58,null,{"$f":"C195*$K$3","v":2715.2400000000002},2464.4730000000004,1757.4260000000002,1284.3160000000003,0,null,3993.0000000000005,3624.2250000000004,2584.4500000000003,1888.7,null,3394.05,3080.5912500000004,2196.7825000000003,1605.395]
[59,null,{"$f":"C196*$K$3","v":2715.2400000000002},2464.4730000000004,1757.4260000000002,1284.3160000000003,0,null,3993.0000000000005,3624.2250000000004,2584.4500000000003,1888.7,null,3394.05,3080.5912500000004,2196.7825000000003,1605.395]
[60,null,{"$f":"C197*$K$3","v":2906.1670000000004},2636.8870000000002,1878.6020000000003,1372.3930000000003,0,null,4273.7750000000005,3877.7750000000001,2762.65,2018.2250000000001,null,3632.7087500000002,3296.1087499999999,2348.2525000000001,1715.49125]
[61,null,{"$f":"C198*$K$3","v":3288.5820000000008},2984.1460000000002,2123.3850000000002,1551.5390000000002,0,null,4836.1500000000005,4388.4500000000007,3122.6250000000005,2281.6750000000002,null,4110.7275,3730.1825000000003,2654.2312500000003,1939.4237500000002]
[62,null,{"$f":"C199*$K$3","v":3653.2320000000009},3315.6970000000006,2358.444,1723.2050000000004,0,null,5372.4000000000005,4876.0250000000005,3468.3,2534.125,null,4566.54,4144.6212500000001,2948.0550000000003,2154.0062499999999]
[63,null,{"$f":"C200*$K$3","v":4045.7450000000008},3671.5580000000004,2611.4550000000004,1907.7740000000003,0,null,5949.6250000000009,5399.35,3840.3750000000005,2805.55,null,5057.1812500000005,4589.4475000000002,3264.3187500000004,2384.7175000000002]
[64,null,{"$f":"C201*$K$3","v":4465.5600000000004},4052.8510000000006,2883.5400000000004,2106.5550000000003,0,null,6567.0000000000009,5960.0750000000007,4240.5,3097.8750000000005,null,5581.9500000000007,5066.0637500000003,3604.4249999999997,2633.1937500000004]
[65,null,{"$f":"C202*$K$3","v":4913.0510000000013},4458.8280000000004,3174.3250000000003,2319.1740000000004,0,null,7225.0750000000007,6557.1,4668.125,3410.55,null,6141.3137500000003,5573.5349999999999,3967.90625,2898.9675000000002]
[66,null,{"$f":"C203*$K$3","v":5388.2180000000008},4889.3020000000015,3483.9970000000008,2545.2570000000005,0,null,7923.85,7190.1500000000005,5123.5250000000005,3743.0250000000001,null,6735.2725,6111.6275000000005,4354.9962500000001,3181.57125]
[67,null,{"$f":"C204*$K$3","v":5890.6870000000008},5345.7690000000002,3812.5560000000005,2785.7390000000005,0,null,8662.7750000000015,7861.4250000000002,5606.7000000000007,4096.6750000000002,null,7363.3587500000012,6682.2112500000003,4765.6950000000006,3482.1737499999999]
[68,null,{"$f":"C205*$K$3","v":6420.2710000000015},5826.5460000000012,4159.8150000000005,3039.1240000000003,0,null,9441.5750000000007,8568.4500000000007,6117.3750000000009,4469.3,null,8025.3387500000008,7283.1825000000008,5199.7687500000011,3798.9050000000002]
[69,null,{"$f":"C206*$K$3","v":6978.2790000000014},6333.1290000000008,4525.9610000000002,3306.7210000000005,0,null,10262.175000000001,9313.4250000000011,6655.8250000000007,4862.8250000000007,null,8722.848750000001,7916.411250000001,5657.4512500000001,4133.4012500000008]
[70,null,{"$f":"C207*$K$3","v":7563.402000000001},6864.2090000000007,4910.4330000000009,3587.5950000000007,0,null,11122.650000000001,10094.425000000001,7221.2250000000004,5275.875,null,9454.2525000000005,8580.2612500000014,6138.0412500000002,4484.4937499999996]
[71,null,{"$f":"C208*$K$3","v":8176.2010000000018},7419.786000000001,5314.5400000000009,3882.6810000000005,0,null,12023.825000000001,10911.45,7815.5000000000009,5709.8250000000007,null,10220.251250000001,9274.7325000000001,6643.1750000000002,4853.3512500000006]
[72,null,{"$f":"C209*$K$3","v":8816.1150000000016},8000.7950000000019,5736.786000000001,4191.4180000000006,0,null,12964.875000000002,11765.875000000002,8436.4500000000007,6163.85,null,11020.143750000001,10000.993750000001,7170.9825000000001,5239.2725]
[73,null,{"$f":"C210*$K$3","v":9483.7050000000017},8606.862000000001,6177.9190000000008,4513.4320000000007,0,null,13946.625000000002,12657.150000000001,9085.1750000000011,6637.4000000000005,null,11854.63125,10758.577500000001,7722.3987500000003,5641.79]
[74,null,{"$f":"C211*$K$3","v":10179.158000000001},9237.6130000000012,6638.5000000000009,4849.8450000000012,0,null,14969.35,13584.725,9762.5,7132.1250000000009,null,12723.9475,11547.016250000001,8298.125,6062.3062500000005]
[75,null,{"$f":"C212*$K$3","v":10901.726000000001},9893.7960000000021,7117.4070000000011,5199.9090000000006,0,null,16031.95,14549.7,10466.775000000001,7646.9250000000002,null,13627.157500000001,12367.245000000001,8896.7587500000009,6499.8862499999996]
[76,null,{"$f":"C213*$K$3","v":10901.726000000001},9893.7960000000021,7117.4070000000011,5199.9090000000006,0,null,16031.95,14549.7,10466.775000000001,7646.9250000000002,null,13627.157500000001,12367.245000000001,8896.7587500000009,6499.8862499999996]
[77,null,{"$f":"C214*$K$3","v":10901.726000000001},9893.7960000000021,7117.4070000000011,5199.9090000000006,0,null,16031.95,14549.7,10466.775000000001,7646.9250000000002,null,13627.157500000001,12367.245000000001,8896.7587500000009,6499.8862499999996]
[78,null,{"$f":"C215*$K$3","v":10901.726000000001},9893.7960000000021,7117.4070000000011,5199.9090000000006,0,null,16031.95,14549.7,10466.775000000001,7646.9250000000002,null,13627.157500000001,12367.245000000001,8896.7587500000009,6499.8862499999996]
[79,null,{"$f":"C216*$K$3","v":10901.726000000001},9893.7960000000021,7117.4070000000011,5199.9090000000006,0,null,16031.95,14549.7,10466.775000000001,7646.9250000000002,null,13627.157500000001,12367.245000000001,8896.7587500000009,6499.8862499999996]
[80,null,{"$f":"C217*$K$3","v":10901.726000000001},9893.7960000000021,7117.4070000000011,5199.9090000000006,0,null,16031.95,14549.7,10466.775000000001,7646.9250000000002,null,13627.157500000001,12367.245000000001,8896.7587500000009,6499.8862499999996]
[81,null,{"$f":"C218*$K$3","v":10901.726000000001},9893.7960000000021,7117.4070000000011,5199.9090000000006,0,null,16031.95,14549.7,10466.775000000001,7646.9250000000002,null,13627.157500000001,12367.245000000001,8896.7587500000009,6499.8862499999996]
[82,null,{"$f":"C219*$K$3","v":10901.726000000001},9893.7960000000021,7117.4070000000011,5199.9090000000006,0,null,16031.95,14549.7,10466.775000000001,{"$f":"L219*$K$3","v":7646.9250000000002},null,13627.157500000001,12367.245000000001,8896.7587500000009,6499.8862499999996]
[83,null,{"$f":"C220*$K$3","v":10901.726000000001},9893.7960000000021,7117.4070000000011,5199.9090000000006,0,null,{"$f":"I220*$K$3","v":16031.95},14549.7,10466.775000000001,7646.9250000000002,null,{"$f":"I820*0.85","v":13627.157500000001},{"$f":"J820*0.85","v":12367.245000000001},{"$f":"K820*0.85","v":8896.7587500000009},{"$f":"L820*0.85","v":6499.8862499999996}]
[84,"o más",{"$f":"C221*$K$3","v":10901.726000000001},9893.7960000000021,7117.4070000000011,5199.9090000000006,0,null,16031.95,14549.7,10466.775000000001,7646.9250000000002,null,13627.157500000001,12367.245000000001,8896.7587500000009,6499.8862499999996]
[1,"Hijo",{"$f":"C222*$K$3","v":517.05500000000006},468.99600000000004,357.54400000000004,261.05200000000002,0,null,760.37500000000011,689.7,525.80000000000007,383.90000000000003,null,{"$f":"I822*0.85","v":646.31875000000014},586.245,446.93000000000006,326.315]
[2,"Hijos",{"$f":"C223*$K$3","v":878.9000000000002},797.74200000000008,607.00200000000007,443.75100000000009,0,null,1292.5,1173.1500000000001,892.65000000000009,652.57500000000005,null,{"$f":"I823*0.85","v":1098.625},{"$f":"J823*0.85","v":997.17750000000001},{"$f":"K823*0.85","v":758.75250000000005},{"$f":"L823*0.85","v":554.68875000000003}]
[3,"Hijos o más",{"$f":"C224*$K$3","v":1240.3710000000003},1125.7400000000002,857.02100000000007,626.07600000000014,0,null,1824.075,1655.5000000000002,1260.325,920.7,null,1550.4637499999999,1407.1750000000002,1071.2762500000001,782.59500000000003]
[]
["BUPA GLOBAL SELECT"]
["TARIFAS TRIMESTRALES"]
["EDAD"]
[" "," ",2000,3500,5000]
[18,null,{"$f":"C305*$K$3","v":866.51400000000012},{"$f":"D305*$K$3","v":831.1930000000001},627.83600000000001,458.54600000000005,0,null,{"$f":"I305*$K$3","v":1140.1500000000001},{"$f":"J305*$K$3","v":1093.6750000000002},826.1,603.35,null,{"$f":"I830*0.85","v":969.12750000000005},{"$f":"J830*0.85","v":929.62375000000009},702.18499999999995,512.84749999999997]
[19,null,{"$f":"C306*$K$3","v":866.51400000000012},831.1930000000001,627.83600000000001,458.54600000000005,0,null,{"$f":"I306*$K$3","v":1140.1500000000001},1093.6750000000002,826.1,603.35,null,{"$f":"I831*0.85","v":969.12750000000005},{"$f":"J831*0.85","v":929.62375000000009},{"$f":"K831*0.85","v":702.18499999999995},{"$f":"L831*0.85","v":512.84749999999997}]
[20,null,{"$f":"C307*$K$3","v":866.51400000000012},831.1930000000001,627.83600000000001,458.54600000000005,0,null,1140.1500000000001,1093.6750000000002,826.1,603.35,null,969.12750000000005,929.62375000000009,702.18499999999995,512.84749999999997]
[21,null,{"$f":"C308*$K$3","v":866.51400000000012},831.1930000000001,627.83600000000001,458.54600000000005,0,null,1140.1500000000001,1093.6750000000002,826.1,603.35,null,969.12750000000005,929.62375000000009,702.18499999999995,512.84749999999997]
[22,null,{"$f":"C309*$K$3","v":866.51400000000012},831.1930000000001,627.83600000000001,458.54600000000005,0,null,1140.1500000000001,1093.6750000000002,826.1,603.35,null,969.12750000000005,929.62375000000009,702.18499999999995,512.84749999999997]
[23,null,{"$f":"C310*$K$3","v":866.51400000000012},831.1930000000001,627.83600000000001,458.54600000000005,0,null,1140.1500000000001,1093.6750000000002,826.1,603.35,null,969.12750000000005,929.62375000000009,702.18499999999995,512.84749999999997]
[24,null,{"$f":"C311*$K$3","v":866.51400000000012},831.1930000000001,627.83600000000001,458.54600000000005,0,null,1140.1500000000001,1093.6750000000002,826.1,603.35,null,969.12750000000005,929.62375000000009,702.18499999999995,512.84749999999997]
[25,null,{"$f":"C312*$K$3","v":934.85700000000008},897.02800000000013,670.26300000000015,489.68700000000007,0,null,1230.075,1180.3000000000002,881.92500000000007,644.32500000000005,null,1045.56375,1003.2550000000001,749.63625000000002,547.67624999999998]
[26,null,{"$f":"C313*$K$3","v":934.85700000000008},897.02800000000013,670.26300000000015,489.68700000000007,0,null,1230.075,1180.3000000000002,881.92500000000007,644.32500000000005,null,1045.56375,1003.2550000000001,749.63625000000002,547.67624999999998]
[27,null,{"$f":"C314*$K$3","v":934.85700000000008},897.02800000000013,670.26300000000015,489.68700000000007,0,null,1230.075,1180.3000000000002,881.92500000000007,644.32500000000005,null,1045.56375,1003.2550000000001,749.63625000000002,547.67624999999998]
[28,null,{"$f":"C315*$K$3","v":934.85700000000008},897.02800000000013,670.26300000000015,489.68700000000007,0,null,1230.075,1180.3000000000002,881.92500000000007,644.32500000000005,null,1045.56375,1003.2550000000001,749.63625000000002,547.67624999999998]
[29,null,{"$f":"C316*$K$3","v":934.85700000000008},897.02800000000013,670.26300000000015,489.68700000000007,0,null,1230.075,1180.3000000000002,881.92500000000007,644.32500000000005,null,1045.56375,1003.2550000000001,749.63625000000002,547.67624999999998]
[30,null,{"$f":"C317*$K$3","v":1054.614},1011.5600000000001,745.29399999999998,544.02700000000004,0,null,1387.65,1331,980.65000000000009,715.82500000000005,null,1179.5025000000001,1131.3499999999999,833.55250000000001,608.45125000000007]
[31,null,{"$f":"C318*$K$3","v":1054.614},1011.5600000000001,745.29399999999998,544.02700000000004,0,null,1387.65,1331,980.65000000000009,715.82500000000005,null,1179.5025000000001,1131.3499999999999,833.55250000000001,608.45125000000007]
[32,null,{"$f":"C319*$K$3","v":1054.614},1011.5600000000001,745.29399999999998,544.02700000000004,0,null,1387.65,1331,980.65000000000009,715.82500000000005,null,1179.5025000000001,1131.3499999999999,833.55250000000001,608.45125000000007]
[33,null,{"$f":"C320*$K$3","v":1054.614},1011.5600000000001,745.29399999999998,544.02700000000004,0,null,1387.65,1331,980.65000000000009,715.82500000000005,null,1179.5025000000001,1131.3499999999999,833.55250000000001,608.45125000000007]
[34,null,{"$f":"C321*$K$3","v":1054.614},1011.5600000000001,745.29399999999998,544.02700000000004,0,null,1387.65,1331,980.65000000000009,715.82500000000005,null,1179.5025000000001,1131.3499999999999,833.55250000000001,608.45125000000007]
[35,null,{"$f":"C322*$K$3","v":1193.3900000000001},1144.902,834.32800000000009,609.44399999999996,0,null,1570.2500000000002,1506.45,1097.8000000000002,801.90000000000009,null,1334.7125000000001,1280.4825000000001,933.13000000000011,681.61500000000001]
[36,null,{"$f":"C323*$K$3","v":1193.3900000000001},1144.902,834.32800000000009,609.44399999999996,0,null,1570.2500000000002,1506.45,1097.8000000000002,801.90000000000009,null,1334.7125000000001,1280.4825000000001,933.13000000000011,681.61500000000001]
[37,null,{"$f":"C324*$K$3","v":1193.3900000000001},1144.902,834.32800000000009,609.44399999999996,0,null,1570.2500000000002,1506.45,1097.8000000000002,801.90000000000009,null,1334.7125000000001,1280.4825000000001,933.13000000000011,681.61500000000001]
[38,null,{"$f":"C325*$K$3","v":1193.3900000000001},1144.902,834.32800000000009,609.44399999999996,0,null,1570.2500000000002,1506.45,1097.8000000000002,801.90000000000009,null,1334.7125000000001,1280.4825000000001,933.13000000000011,681.61500000000001]
[39,null,{"$f":"C326*$K$3","v":1193.3900000000001},1144.902,834.32800000000009,609.44399999999996,0,null,1570.2500000000002,1506.45,1097.8000000000002,801.90000000000009,null,1334.7125000000001,1280.4825000000001,933.13000000000011,681.61500000000001]
[40,null,{"$f":"C327*$K$3","v":1398.6280000000002},1341.989,969.55100000000004,708.0920000000001,0,null,1840.3000000000002,1765.7750000000001,1275.7250000000001,931.7,null,1564.2550000000001,1500.9087500000001,1084.36625,791.94500000000005]
[41,null,{"$f":"C328*$K$3","v":1398.6280000000002},1341.989,969.55100000000004,708.0920000000001,0,null,1840.3000000000002,1765.7750000000001,1275.7250000000001,931.7,null,1564.2550000000001,1500.9087500000001,1084.36625,791.94500000000005]
[42,null,{"$f":"C329*$K$3","v":1398.6280000000002},1341.989,969.55100000000004,708.0920000000001,0,null,1840.3000000000002,1765.7750000000001,1275.7250000000001,931.7,null,1564.2550000000001,1500.9087500000001,1084.36625,791.94500000000005]
[43,null,{"$f":"C330*$K$3","v":1398.6280000000002},1341.989,969.55100000000004,708.0920000000001,0,null,1840.3000000000002,1765.7750000000001,1275.7250000000001,931.7,null,1564.2550000000001,1500.9087500000001,1084.36625,791.94500000000005]
[44,null,{"$f":"C331*$K$3","v":1398.6280000000002},1341.989,969.55100000000004,708.0920000000001,0,null,1840.3000000000002,1765.7750000000001,1275.7250000000001,931.7,null,1564.2550000000001,1500.9087500000001,1084.36625,791.94500000000005]
[45,null,{"$f":"C332*$K$3","v":1582.9660000000001},1518.5940000000001,1091.3980000000001,797.33500000000004,0,null,2082.8500000000004,1998.15,1436.0500000000002,1049.125,null,1770.4225000000004,1698.4275,1220.6425000000002,891.75625000000002]
[46,null,{"$f":"C333*$K$3","v":1582.9660000000001},1518.5940000000001,1091.3980000000001,797.33500000000004,0,null,2082.8500000000004,1998.15,1436.0500000000002,1049.125,null,1770.4225000000004,1698.4275,1220.6425000000002,891.75625000000002]
[47,null,{"$f":"C334*$K$3","v":1582.9660000000001},1518.5940000000001,1091.3980000000001,797.33500000000004,0,null,2082.8500000000004,1998.15,1436.0500000000002,1049.125,null,1770.4225000000004,1698.4275,1220.6425000000002,891.75625000000002]
[48,null,{"$f":"C335*$K$3","v":1582.9660000000001},1518.5940000000001,1091.3980000000001,797.33500000000004,0,null,2082.8500000000004,1998.15,1436.0500000000002,1049.125,null,1770.4225000000004,1698.4275,1220.6425000000002,891.75625000000002]
[49,null,{"$f":"C336*$K$3","v":1582.9660000000001},1518.5940000000001,1091.3980000000001,797.33500000000004,0,null,2082.8500000000004,1998.15,1436.0500000000002,1049.125,null,1770.4225000000004,1698.4275,1220.6425000000002,891.75625000000002]
[50,null,{"$f":"C337*$K$3","v":1848.3960000000002},1773.1560000000002,1269.2570000000003,927.12400000000014,0,null,2432.1000000000004,2333.1000000000004,1670.075,1219.9000000000001,null,2067.2850000000003,1983.1350000000002,1419.56375,1036.915]
[51,null,{"$f":"C338*$K$3","v":1848.3960000000002},1773.1560000000002,1269.2570000000003,927.12400000000014,0,null,2432.1000000000004,2333.1000000000004,1670.075,1219.9000000000001,null,2067.2850000000003,1983.1350000000002,1419.56375,1036.915]
[52,null,{"$f":"C339*$K$3","v":1848.3960000000002},1773.1560000000002,1269.2570000000003,927.12400000000014,0,null,2432.1000000000004,2333.1000000000004,1670.075,1219.9000000000001,null,2067.2850000000003,1983.1350000000002,1419.56375,1036.915]
[53,null,{"$f":"C340*$K$3","v":1848.3960000000002},1773.1560000000002,1269.2570000000003,927.12400000000014,0,null,2432.1000000000004,2333.1000000000004,1670.075,1219.9000000000001,null,2067.2850000000003,1983.1350000000002,1419.56375,1036.915]
[54,null,{"$f":"C341*$K$3","v":1848.3960000000002},1773.1560000000002,1269.2570000000003,927.12400000000014,0,null,2432.1000000000004,2333.1000000000004,1670.075,1219.9000000000001,null,2067.2850000000003,1983.1350000000002,1419.56375,1036.915]
[55,null,{"$f":"C342*$K$3","v":2084.9840000000004},2000.3390000000002,1428.0970000000002,1043.1190000000001,0,null,2743.4,2632.0250000000001,1879.075,1372.5250000000001,null,2331.89,2237.2212500000001,1597.2137499999999,1166.64625]
[56,null,{"$f":"C343*$K$3","v":2084.9840000000004},2000.3390000000002,1428.0970000000002,1043.1190000000001,0,null,2743.4,2632.0250000000001,1879.075,1372.5250000000001,null,2331.89,2237.2212500000001,1597.2137499999999,1166.64625]
[57,null,{"$f":"C344*$K$3","v":2084.9840000000004},2000.3390000000002,1428.0970000000002,1043.1190000000001,0,null,2743.4,2632.0250000000001,1879.075,1372.5250000000001,null,2331.89,2237.2212500000001,1597.2137499999999,1166.64625]
[58,null,{"$f":"C345*$K$3","v":2084.9840000000004},2000.3390000000002,1428.0970000000002,1043.1190000000001,0,null,2743.4,2632.0250000000001,1879.075,1372.5250000000001,null,2331.89,2237.2212500000001,1597.2137499999999,1166.64625]
[59,null,{"$f":"C346*$K$3","v":2084.9840000000004},2000.3390000000002,1428.0970000000002,1043.1190000000001,0,null,2743.4,2632.0250000000001,1879.075,1372.5250000000001,null,2331.89,2237.2212500000001,1597.2137499999999,1166.64625]
[60,null,{"$f":"C347*$K$3","v":2242.152},2151.2370000000001,1534.8960000000002,1120.4490000000001,0,null,2950.2000000000003,2830.5750000000003,2019.6000000000001,1474.2750000000001,null,2507.67,2405.98875,1716.66,1253.13375]
[61,null,{"$f":"C348*$K$3","v":2556.279},2452.4060000000004,1747.8670000000002,1276.5720000000001,0,null,3363.5250000000001,3226.8500000000004,2299.8250000000003,1679.7,null,2858.9962500000001,2742.8225000000002,1954.8512500000002,1427.7449999999999]
[62,null,{"$f":"C349*$K$3","v":2857.866},2742.0800000000004,1953.941,1426.4250000000002,0,null,3760.3500000000004,3608.0000000000005,2570.9750000000004,1876.8750000000002,null,3196.2975000000001,3066.8,2185.3287500000001,1595.3437500000002]
[63,null,{"$f":"C350*$K$3","v":3182.8610000000003},3053.9080000000004,2176.1080000000002,1589.027,0,null,4187.9750000000004,4018.3,2863.3,2090.8250000000003,null,3559.7787500000004,3415.5550000000003,2433.8050000000003,1777.2012500000001]
[64,null,{"$f":"C351*$K$3","v":3530.2190000000001},3387.6810000000005,2414.7860000000005,1763.3330000000001,0,null,4645.0250000000005,4457.4750000000004,3177.3500000000004,2320.1750000000002,null,3948.2712500000002,3788.8537500000002,2700.7475000000004,1972.1487500000001]
[65,null,{"$f":"C352*$K$3","v":3901.4030000000002},3743.6080000000006,2670.6020000000003,1950.3880000000001,0,null,5133.4250000000002,4925.8,3513.9500000000003,2566.3000000000002,null,4363.4112500000001,4186.93,2986.8575000000001,2181.355]
[66,null,{"$f":"C353*$K$3","v":4295.1590000000006},4121.2710000000006,2942.5110000000004,2148.7290000000003,0,null,5651.5250000000005,5422.7250000000004,3871.7250000000004,2827.2750000000001,null,4803.7962500000003,4609.3162499999999,3290.9662500000004,2403.1837500000001]
[67,null,{"$f":"C354*$K$3","v":4712.1140000000005},4520.8790000000008,3230.9310000000005,2359.61,0,null,6200.1500000000005,5948.5250000000005,4251.2250000000004,3104.7500000000005,null,5270.1275000000005,5056.2462500000001,3613.5412500000002,2639.0375000000004]
[68,null,{"$f":"C355*$K$3","v":5152.0590000000011},4942.8500000000004,3535.6530000000002,2581.9860000000003,0,null,6779.0250000000005,6503.7500000000009,4652.1750000000002,3397.3500000000004,null,5762.1712500000003,5528.1875000000009,3954.3487500000001,2887.7475000000004]
[69,null,{"$f":"C356*$K$3","v":5614.1580000000004},5386.7660000000005,3857.7220000000002,2817.1110000000003,0,null,7387.05,7087.85,5075.9500000000007,3706.7250000000004,null,6278.9925000000003,6024.6725000000006,4314.5575000000008,3150.7162500000004]
[70,null,{"$f":"C357*$K$3","v":6100.0830000000005},5852.8360000000011,4195.884,3063.7310000000002,0,null,8026.4250000000011,7701.1,5520.9000000000005,4031.2250000000004,null,6822.4612500000012,6545.9350000000004,4692.7650000000003,3426.5412500000002]
[71,null,{"$f":"C358*$K$3","v":6608.3710000000001},6340.433,4551.3930000000009,3323.3090000000002,0,null,8695.2250000000004,8342.6750000000011,5988.6750000000002,4372.7750000000005,null,7390.9412499999999,7091.2737500000003,5090.3737499999997,3716.8587500000003]
[72,null,{"$f":"C359*$K$3","v":7140.2760000000007},6850.8110000000006,4922.1589999999997,3594.5910000000003,0,null,9395.1,9014.2250000000004,6476.5250000000005,4729.7250000000004,null,7985.835,7662.0912500000004,5505.0462500000003,4020.2662500000001]
[73,null,{"$f":"C360*$K$3","v":7694.5440000000008},7382.5070000000005,5310.2720000000008,3877.5770000000007,0,null,10124.400000000001,9713.8250000000007,6987.2000000000007,5102.0750000000007,null,8605.7400000000016,8256.7512500000012,5939.1200000000008,4336.7637500000001]
[74,null,{"$f":"C361*$K$3","v":8271.8019999999997},7936.9840000000013,5714.2690000000002,4172.8940000000002,0,null,10883.95,10443.400000000001,7518.7750000000005,5490.6500000000005,null,9251.3575000000001,8876.8900000000012,6390.9587500000007,4667.0525000000007]
[75,null,{"$f":"C362*$K$3","v":8872.2590000000018},8512.9880000000012,6135.822000000001,4480.7510000000002,0,null,11674.025000000001,11201.300000000001,8073.4500000000007,5895.7250000000004,null,9922.9212500000012,9521.1050000000014,6862.4325000000008,5011.36625]
[76,null,{"$f":"C363*$K$3","v":8872.2590000000018},8512.9880000000012,6135.822000000001,4480.7510000000002,0,null,11674.025000000001,11201.300000000001,8073.4500000000007,5895.7250000000004,null,9922.9212500000012,9521.1050000000014,6862.4325000000008,5011.36625]
[77,null,{"$f":"C364*$K$3","v":8872.2590000000018},8512.9880000000012,6135.822000000001,4480.7510000000002,0,null,11674.025000000001,11201.300000000001,8073.4500000000007,5895.7250000000004,null,9922.9212500000012,9521.1050000000014,6862.4325000000008,5011.36625]
[78,null,{"$f":"C365*$K$3","v":8872.2590000000018},8512.9880000000012,6135.822000000001,4480.7510000000002,0,null,11674.025000000001,11201.300000000001,8073.4500000000007,5895.7250000000004,null,9922.9212500000012,9521.1050000000014,6862.4325000000008,5011.36625]
[79,null,{"$f":"C366*$K$3","v":8872.2590000000018},8512.9880000000012,6135.822000000001,4480.7510000000002,0,null,11674.025000000001,11201.300000000001,8073.4500000000007,5895.7250000000004,null,9922.9212500000012,9521.1050000000014,6862.4325000000008,5011.36625]
[80,null,{"$f":"C367*$K$3","v":8872.2590000000018},8512.9880000000012,6135.822000000001,4480.7510000000002,0,null,11674.025000000001,11201.300000000001,8073.4500000000007,5895.7250000000004,null,9922.9212500000012,9521.1050000000014,6862.4325000000008,5011.36625]
[81,null,{"$f":"C368*$K$3","v":8872.2590000000018},8512.9880000000012,6135.822000000001,4480.7510000000002,0,null,11674.025000000001,11201.300000000001,8073.4500000000007,5895.7250000000004,null,9922.9212500000012,9521.1050000000014,6862.4325000000008,5011.36625]
[82,null,{"$f":"C369*$K$3","v":8872.2590000000018},8512.9880000000012,6135.822000000001,4480.7510000000002,0,null,11674.025000000001,11201.300000000001,8073.4500000000007,{"$f":"L369*$K$3","v":5895.7250000000004},null,9922.9212500000012,9521.1050000000014,6862.4325000000008,5011.36625]
[83,null,{"$f":"C370*$K$3","v":8872.2590000000018},8512.9880000000012,6135.822000000001,4480.7510000000002,0,null,{"$f":"I370*$K$3","v":11674.025000000001},11201.300000000001,8073.4500000000007,5895.7250000000004,null,{"$f":"I895*0.85","v":9922.9212500000012},{"$f":"J895*0.85","v":9521.1050000000014},{"$f":"K895*0.85","v":6862.4325000000008},{"$f":"L895*0.85","v":5011.36625}]
[84,"o más",{"$f":"C371*$K$3","v":8872.2590000000018},8512.9880000000012,6135.822000000001,4480.7510000000002,0,null,11674.025000000001,11201.300000000001,8073.4500000000007,5895.7250000000004,null,9922.9212500000012,9521.1050000000014,6862.4325000000008,5011.36625]
[1,"Hijo",{"$f":"C372*$K$3","v":404.41500000000002},388.113,297.19800000000004,217.36,0,null,532.125,510.67500000000007,391.05,286,null,{"$f":"I897*0.85","v":452.30624999999998},434.07375000000008,332.39249999999998,243.1]
[2,"Hijos",{"$f":"C373*$K$3","v":686.77400000000011},658.97700000000009,504.73500000000007,368.67600000000004,0,null,903.65000000000009,867.07500000000005,664.125,485.1,null,{"$f":"I898*0.85","v":768.10250000000008},{"$f":"J898*0.85","v":737.01375000000007},{"$f":"K898*0.85","v":564.50625000000002},{"$f":"L898*0.85","v":412.33500000000004}]
[3,"Hijos o más",{"$f":"C374*$K$3","v":969.7600000000001},930.05000000000007,712.27200000000005,520.20100000000002,0,null,1276,1223.75,937.2,684.47500000000002,null,1084.5999999999999,1040.1875,796.62,581.80375000000004]
[]
["BUPA GLOBAL ULTIMATE"]
["TARIFAS ANUALES"]
["EDAD"]
[" "," ",0,1000,2000,null,null,null,null,null,null,null,null,null,null,null,null,null,null,null,2,6]
[18,18,23080,14891,null,null,null,null,null,null,null,null,null,null,0,0,null,null,null,null,0,0]
[19,18,23080,14891,null,null,null,null,null,null,null,null,null,null,0,0,null,null,null,null,0,0]
[20,18,23080,14891,null,null,null,null,null,null,null,null,null,null,0,0,null,null,null,null,0,0]
[21,18,23080,14891,null,null,null,null,null,null,null,null,null,null,0,0,null,null,null,null,0,0]
[22,18,23080,14891,null,null,null,null,null,null,null,null,null,null,0,0,null,null,null,null,0,0]
[23,18,23080,14891,null,null,null,null,null,null,null,null,null,null,0,0,null,null,null,null,0,0]
[24,18,23080,14891,null,null,null,null,null,null,null,null,null,null,0,0,null,null,null,null,0,0]
[25,25,24743,15964,null,null,null,null,null,null,null,null,null,null,0,0,null,null,null,null,0,0]
[26,25,24743,15964,null,null,null,null,null,null,null,null,null,null,0,0,null,null,null,null,0,0]
[27,25,24743,15964,null,null,null,null,null,null,null,null,null,null,0,0,null,null,null,null,0,0]
[28,25,24743,15964,null,null,null,null,null,null,null,null,null,null,0,0,null,null,null,null,0,0]
[29,25,24743,15964,null,null,null,null,null,null,null,null,null,null,0,0,null,null,null,null,0,0]
[30,30,27612,17818,null,null,null,null,null,null,null,null,null,null,0,0,null,null,null,null,0,0]
[31,30,27612,17818,null,null,null,null,null,null,null,null,null,null,0,0,null,null,null,null,0,0]
[32,30,27612,17818,null,null,null,null,null,null,null,null,null,null,0,0,null,null,null,null,0,0]
[33,30,27612,17818,null,null,null,null,null,null,null,null,null,null,0,0,null,null,null,null,0,0]
[34,30,27612,17818,null,null,null,null,null,null,null,null,null,null,0,0,null,null,null,null,0,0]
[35,35,30886,19928,null,null,null,null,null,null,null,null,null,null,0,0,null,null,null,null,0,0]
[36,35,30886,19928,null,null,null,null,null,null,null,null,null,null,0,0,null,null,null,null,0,0]
[37,35,30886,19928,null,null,null,null,null,null,null,null,null,null,0,0,null,null,null,null,0,0]
[38,35,30886,19928,null,null,null,null,null,null,null,null,null,null,0,0,null,null,null,null,0,0]
[39,35,30886,19928,null,null,null,null,null,null,null,null,null,null,0,0,null,null,null,null,0,0]
[40,40,35774,23084,null,null,null,null,null,null,null,null,null,null,0,0,null,null,null,null,0,0]
[41,40,35774,23084,null,null,null,null,null,null,null,null,null,null,0,0,null,null,null,null,0,0]
[42,40,35774,23084,null,null,null,null,null,null,null,null,null,null,0,0,null,null,null,null,0,0]
[43,40,35774,23084,null,null,null,null,null,null,null,null,null,null,0,0,null,null,null,null,0,0]
[44,40,35774,23084,null,null,null,null,null,null,null,null,null,null,0,0,null,null,null,null,0,0]
[45,45,40038,25833,null,null,null,null,null,null,null,null,null,null,0,0,null,null,null,null,0,0]
[46,45,40038,25833,null,null,null,null,null,null,null,null,null,null,0,0,null,null,null,null,0,0]
[47,45,40038,25833,null,null,null,null,null,null,null,null,null,null,0,0,null,null,null,null,0,0]
[48,45,40038,25833,null,null,null,null,null,null,null,null,null,null,0,0,null,null,null,null,0,0]
[49,45,40038,25833,null,null,null,null,null,null,null,null,null,null,0,0,null,null,null,null,0,0]
[50,50,46251,29840,null,null,null,null,null,null,null,null,null,null,0,0,null,null,null,null,0,0]
[51,50,46251,29840,null,null,null,null,null,null,null,null,null,null,0,0,null,null,null,null,0,0]
[52,50,46251,29840,null,null,null,null,null,null,null,null,null,null,0,0,null,null,null,null,0,0]
[53,50,46251,29840,null,null,null,null,null,null,null,null,null,null,0,0,null,null,null,null,0,0]
[54,50,46251,29840,null,null,null,null,null,null,null,null,null,null,0,0,null,null,null,null,0,0]
[55,55,51651,33328,null,null,null,null,null,null,null,null,null,null,0,0,null,null,null,null,0,0]
[56,55,51651,33328,null,null,null,null,null,null,null,null,null,null,0,0,null,null,null,null,0,0]
[57,55,51651,33328,null,null,null,null,null,null,null,null,null,null,0,0,null,null,null,null,0,0]
[58,55,51651,33328,null,null,null,null,null,null,null,null,null,null,0,0,null,null,null,null,0,0]
[59,55,51651,33328,null,null,null,null,null,null,null,null,null,null,0,0,null,null,null,null,0,0]
[60,60,55236,35640,null,null,null,null,null,null,null,null,null,null,0,0,null,null,null,null,0,0]
[61,61,62420,40274,null,null,null,null,null,null,null,null,null,null,0,0,null,null,null,null,0,0]
[62,62,69238,44674,null,null,null,null,null,null,null,null,null,null,0,0,null,null,null,null,0,0]
[63,63,76555,49393,null,null,null,null,null,null,null,null,null,null,0,0,null,null,null,null,0,0]
[64,64,84367,54430,null,null,null,null,null,null,null,null,null,null,0,0,null,null,null,null,0,0]
[65,65,92675,59793,null,null,null,null,null,null,null,null,null,null,0,0,null,null,null,null,0,0]
[66,66,101478,65468,null,null,null,null,null,null,null,null,null,null,0,0,null,null,null,null,0,0]
[67,67,110777,71472,null,null,null,null,null,null,null,null,null,null,0,0,null,null,null,null,0,0]
[68,68,120570,77790,null,null,null,null,null,null,null,null,null,null,0,0,null,null,null,null,0,0]
[69,69,130860,84428,null,null,null,null,null,null,null,null,null,null,0,0,null,null,null,null,0,0]
[70,70,141647,91389,null,null,null,null,null,null,null,null,null,null,0,0,null,null,null,null,0,0]
[71,71,152931,98668,null,null,null,null,null,null,null,null,null,null,0,0,null,null,null,null,0,0]
[72,72,164709,106265,null,null,null,null,null,null,null,null,null,null,0,0,null,null,null,null,0,0]
[73,73,176988,114185,null,null,null,null,null,null,null,null,null,null,0,0,null,null,null,null,0,0]
[74,74,189752,122421,null,null,null,null,null,null,null,null,null,null,0,0,null,null,null,null,0,0]
[75,75,203019,130985,null,null,null,null,null,null,null,null,null,null,0,0,null,null,null,null,0,0]
[76,75,203019,130985,null,null,null,null,null,null,null,null,null,null,0,0,null,null,null,null,0,0]
[77,75,203019,130985,null,null,null,null,null,null,null,null,null,null,0,0,null,null,null,null,0,0]
[78,75,203019,130985,null,null,null,null,null,null,null,null,null,null,0,0,null,null,null,null,0,0]
[79,75,203019,130985,null,null,null,null,null,null,null,null,null,null,0,0,null,null,null,null,0,0]
[80,75,203019,130985,null,null,null,null,null,null,null,null,null,null,0,0,null,null,null,null,0,0]
[81,75,203019,130985,null,null,null,null,null,null,null,null,null,null,0,0,null,null,null,null,0,0]
[82,75,203019,130985,null,null,null,null,null,null,null,null,null,null,0,0,null,null,null,null,0,0]
[83,75,203019,130985,null,null,null,null,null,null,null,null,null,null,0,0,null,null,null,null,0,0]
[84,75,203019,130985,null,null,null,null,null,null,null,null,null,null,0,0,null,null,null,null,0,0]
[1,"1 Child",9708,6266,null,null,null,null,null,null,null,null,null,null,0,0,null,null,null,null,0,0]
[2,"2 Children",16503,10649,null,null,null,null,null,null,null,null,null,null,0,0,null,null,null,null,0,0]
[3,"3+ Children",23295,15034,null,null,null,null,null,null,null,null,null,null,0,0,null,null,null,null,0,0]
[]
["BUPA GLOBAL ULTIMATE - MENSUALES"]
["EDAD"]
[" "," ",0,1000,2000]
[18,null,{"$f":"C905*$K$2","v":2154.1333333333332},{"$f":"D905*$K$2","v":1389.8266666666668},0,0,0,null,null,null,null,null,null,null,0,0]
[19,null,{"$f":"C906*$K$2","v":2154.1333333333332},1389.8266666666668,0,0,0,null,null,null,null,null,null,null,0,0]
[20,null,2154.1333333333332,1389.8266666666668,0,0,0,null,null,null,null,null,null,null,0,0]
[21,null,2154.1333333333332,1389.8266666666668,0,0,0,null,null,null,null,null,null,null,0,0]
[22,null,2154.1333333333332,1389.8266666666668,0,0,0,null,null,null,null,null,null,null,0,0]
[23,null,2154.1333333333332,1389.8266666666668,0,0,0,null,null,null,null,null,null,null,0,0]
[24,null,2154.1333333333332,1389.8266666666668,0,0,0,null,null,null,null,null,null,null,0,0]
[25,null,2309.3466666666668,1489.9733333333334,0,0,0,null,null,null,null,null,null,null,0,0]
[26,null,2309.3466666666668,1489.9733333333334,0,0,0,null,null,null,null,null,null,null,0,0]
[27,null,2309.3466666666668,1489.9733333333334,0,0,0,null,null,null,null,null,null,null,0,0]
[28,null,2309.3466666666668,1489.9733333333334,0,0,0,null,null,null,null,null,null,null,0,0]
[29,null,2309.3466666666668,1489.9733333333334,0,0,0,null,null,null,null,null,null,null,0,0]
[30,null,2577.12,1663.0133333333333,0,0,0,null,null,null,null,null,null,null,0,0]
[31,null,2577.12,1663.0133333333333,0,0,0,null,null,null,null,null,null,null,0,0]
[32,null,2577.12,1663.0133333333333,0,0,0,null,null,null,null,null,null,null,0,0]
[33,null,2577.12,1663.0133333333333,0,0,0,null,null,null,null,null,null,null,0,0]
[34,null,2577.12,1663.0133333333333,0,0,0,null,null,null,null,null,null,null,0,0]
[35,null,2882.6933333333336,1859.9466666666667,0,0,0,null,null,null,null,null,null,null,0,0]
[36,null,2882.6933333333336,1859.9466666666667,0,0,0,null,null,null,null,null,null,null,0,0]
[37,null,2882.6933333333336,1859.9466666666667,0,0,0,null,null,null,null,null,null,null,0,0]
[38,null,2882.6933333333336,1859.9466666666667,0,0,0,null,null,null,null,null,null,null,0,0]
[39,null,2882.6933333333336,1859.9466666666667,0,0,0,null,null,null,null,null,null,null,0,0]
[40,null,3338.9066666666668,2154.5066666666667,0,0,0,null,null,null,null,null,null,null,0,0]
[41,null,3338.9066666666668,2154.5066666666667,0,0,0,null,null,null,null,null,null,null,0,0]
[42,null,3338.9066666666668,2154.5066666666667,0,0,0,null,null,null,null,null,null,null,0,0]
[43,null,3338.9066666666668,2154.5066666666667,0,0,0,null,null,null,null,null,null,null,0,0]
[44,null,3338.9066666666668,2154.5066666666667,0,0,0,null,null,null,null,null,null,null,0,0]
[45,null,3736.88,2411.08,0,0,0,null,null,null,null,null,null,null,0,0]
[46,null,3736.88,2411.08,0,0,0,null,null,null,null,null,null,null,0,0]
[47,null,3736.88,2411.08,0,0,0,null,null,null,null,null,null,null,0,0]
[48,null,3736.88,2411.08,0,0,0,null,null,null,null,null,null,null,0,0]
[49,null,3736.88,2411.08,0,0,0,null,null,null,null,null,null,null,0,0]
[50,null,4316.76,2785.0666666666666,0,0,0,null,null,null,null,null,null,null,0,0]
[51,null,4316.76,2785.0666666666666,0,0,0,null,null,null,null,null,null,null,0,0]
[52,null,4316.76,2785.0666666666666,0,0,0,null,null,null,null,null,null,null,0,0]
[53,null,4316.76,2785.0666666666666,0,0,0,null,null,null,null,null,null,null,0,0]
[54,null,4316.76,2785.0666666666666,0,0,0,null,null,null,null,null,null,null,0,0]
[55,null,4820.76,3110.6133333333337,0,0,0,null,null,null,null,null,null,null,0,0]
[56,null,4820.76,3110.6133333333337,0,0,0,null,null,null,null,null,null,null,0,0]
[57,null,4820.76,3110.6133333333337,0,0,0,null,null,null,null,null,null,null,0,0]
[58,null,4820.76,3110.6133333333337,0,0,0,null,null,null,null,null,null,null,0,0]
[59,null,4820.76,3110.6133333333337,0,0,0,null,null,null,null,null,null,null,0,0]
[60,null,5155.3600000000006,3326.4,0,0,0,null,null,null,null,null,null,null,0,0]
[61,null,5825.8666666666668,3758.9066666666668,0,0,0,null,null,null,null,null,null,null,0,0]
[62,null,6462.213333333334,4169.5733333333337,0,0,0,null,null,null,null,null,null,null,0,0]
[63,null,7145.1333333333332,4610.0133333333333,0,0,0,null,null,null,null,null,null,null,0,0]
[64,null,7874.253333333334,5080.1333333333332,0,0,0,null,null,null,null,null,null,null,0,0]
[65,null,8649.6666666666679,5580.68,0,0,0,null,null,null,null,null,null,null,0,0]
[66,null,9471.2800000000007,6110.3466666666673,0,0,0,null,null,null,null,null,null,null,0,0]
[67,null,10339.186666666666,6670.72,0,0,0,null,null,null,null,null,null,null,0,0]
[68,null,11253.2,7260.4000000000005,0,0,0,null,null,null,null,null,null,null,0,0]
[69,null,12213.6,7879.9466666666667,0,0,0,null,null,null,null,null,null,null,0,0]
[70,null,13220.386666666667,8529.6400000000012,0,0,0,null,null,null,null,null,null,null,0,0]
[71,null,14273.560000000001,9209.0133333333342,0,0,0,null,null,null,null,null,null,null,0,0]
[72,null,15372.84,9918.0666666666675,0,0,0,null,null,null,null,null,null,null,0,0]
[73,null,16518.88,10657.266666666666,0,0,0,null,null,null,null,null,null,null,0,0]
[74,null,17710.186666666668,11425.960000000001,0,0,0,null,null,null,null,null,null,null,0,0]
[75,null,18948.440000000002,12225.266666666666,0,0,0,null,null,null,null,null,null,null,0,0]
[76,null,18948.440000000002,12225.266666666666,0,0,0,null,null,null,null,null,null,null,0,0]
[77,null,18948.440000000002,12225.266666666666,0,0,0,null,null,null,null,null,null,null,0,0]
[78,null,18948.440000000002,12225.266666666666,0,0,0,null,null,null,null,null,null,null,0,0]
[79,null,18948.440000000002,12225.266666666666,0,0,0,null,null,null,null,null,null,null,0,0]
[80,null,18948.440000000002,12225.266666666666,0,null,null,null,null,null,null,null,null,null,0,0]
[81,null,18948.440000000002,12225.266666666666,0,null,null,null,null,null,null,null,null,null,0,0]
[82,null,18948.440000000002,12225.266666666666,0,null,null,null,null,null,null,null,null,null,0,0]
[83,null,{"$f":"C970*$K$2","v":18948.440000000002},12225.266666666666,0,null,null,null,null,null,null,null,null,null,0,0]
[84,"o más",18948.440000000002,12225.266666666666,0,0,0,null,null,null,null,null,null,null,0,0]
[1,"Hijo",906.08,584.82666666666671,0,0,0,null,null,null,null,null,null,null,0,0]
[2,"Hijos",1540.28,993.90666666666675,0,0,0,null,null,null,null,null,null,null,0,0]
[3,"Hijos o más",2174.2000000000003,1403.1733333333334,0,0,0,null,null,null,null,null,null,null,0,0]
[]
["BUPA GLOBAL ULTIMATE"]
["TARIFAS TRIMESTRALES"]
["EDAD"]
[" "," ",0,1000,2000]
[18,null,{"$f":"C905*$K$3","v":6347.0000000000009},{"$f":"D905*$K$3","v":4095.0250000000005},0,36.172033333333339,0,null,null,null,null,null,null,null,0,0]
[19,null,{"$f":"C906*$K$3","v":6347.0000000000009},4095.0250000000005,0,36.172033333333339,0,null,null,null,null,null,null,null,0,0]
[20,null,6347.0000000000009,4095.0250000000005,0,36.172033333333339,0,null,null,null,null,null,null,null,0,0]
[21,null,6347.0000000000009,4095.0250000000005,0,36.172033333333339,0,null,null,null,null,null,null,null,0,0]
[22,null,6347.0000000000009,4095.0250000000005,0,36.172033333333339,0,null,null,null,null,null,null,null,0,0]
[23,null,6347.0000000000009,4095.0250000000005,0,36.172033333333339,0,null,null,null,null,null,null,null,0,0]
[24,null,6347.0000000000009,4095.0250000000005,0,38.615500000000004,0,null,null,null,null,null,null,null,0,0]
[25,null,6804.3250000000007,4390.1000000000004,0,38.615500000000004,0,null,null,null,null,null,null,null,0,0]
[26,null,6804.3250000000007,4390.1000000000004,0,38.615500000000004,0,null,null,null,null,null,null,null,0,0]
[27,null,6804.3250000000007,4390.1000000000004,0,38.615500000000004,0,null,null,null,null,null,null,null,0,0]
[28,null,6804.3250000000007,4390.1000000000004,0,38.615500000000004,0,null,null,null,null,null,null,null,0,0]
[29,null,6804.3250000000007,4390.1000000000004,0,42.913383333333343,0,null,null,null,null,null,null,null,0,0]
[30,null,7593.3,4899.9500000000007,0,42.913383333333343,0,null,null,null,null,null,null,null,0,0]
[31,null,7593.3,4899.9500000000007,0,42.913383333333343,0,null,null,null,null,null,null,null,0,0]
[32,null,7593.3,4899.9500000000007,0,42.913383333333343,0,null,null,null,null,null,null,null,0,0]
[33,null,7593.3,4899.9500000000007,0,42.913383333333343,0,null,null,null,null,null,null,null,0,0]
[34,null,7593.3,4899.9500000000007,0,48.083933333333334,0,null,null,null,null,null,null,null,0,0]
[35,null,8493.6500000000015,5480.2000000000007,0,48.083933333333334,0,null,null,null,null,null,null,null,0,0]
[36,null,8493.6500000000015,5480.2000000000007,0,48.083933333333334,0,null,null,null,null,null,null,null,0,0]
[37,null,8493.6500000000015,5480.2000000000007,0,48.083933333333334,0,null,null,null,null,null,null,null,0,0]
[38,null,8493.6500000000015,5480.2000000000007,0,48.083933333333334,0,null,null,null,null,null,null,null,0,0]
[39,null,8493.6500000000015,5480.2000000000007,0,54.061700000000002,0,null,null,null,null,null,null,null,0,0]
[40,null,9837.85,6348.1,0,54.061700000000002,0,null,null,null,null,null,null,null,0,0]
[41,null,9837.85,6348.1,0,54.061700000000002,0,null,null,null,null,null,null,null,0,0]
[42,null,9837.85,6348.1,0,54.061700000000002,0,null,null,null,null,null,null,null,0,0]
[43,null,9837.85,6348.1,0,54.061700000000002,0,null,null,null,null,null,null,null,0,0]
[44,null,9837.85,6348.1,0,60.868500000000004,0,null,null,null,null,null,null,null,0,0]
[45,null,11010.45,7104.0750000000007,0,60.868500000000004,0,null,null,null,null,null,null,null,0,0]
[46,null,11010.45,7104.0750000000007,0,60.868500000000004,0,null,null,null,null,null,null,null,0,0]
[47,null,11010.45,7104.0750000000007,0,60.868500000000004,0,null,null,null,null,null,null,null,0,0]
[48,null,11010.45,7104.0750000000007,0,60.868500000000004,0,null,null,null,null,null,null,null,0,0]
[49,null,11010.45,7104.0750000000007,0,68.569783333333334,0,null,null,null,null,null,null,null,0,0]
[50,null,12719.025000000001,8206,0,68.569783333333334,0,null,null,null,null,null,null,null,0,0]
[51,null,12719.025000000001,8206,0,68.569783333333334,0,null,null,null,null,null,null,null,0,0]
[52,null,12719.025000000001,8206,0,68.569783333333334,0,null,null,null,null,null,null,null,0,0]
[53,null,12719.025000000001,8206,0,68.569783333333334,0,null,null,null,null,null,null,null,0,0]
[54,null,12719.025000000001,8206,0,77.143733333333344,0,null,null,null,null,null,null,null,0,0]
[55,null,14204.025000000001,9165.2000000000007,0,77.143733333333344,0,null,null,null,null,null,null,null,0,0]
[56,null,14204.025000000001,9165.2000000000007,0,77.143733333333344,0,null,null,null,null,null,null,null,0,0]
[57,null,14204.025000000001,9165.2000000000007,0,77.143733333333344,0,null,null,null,null,null,null,null,0,0]
[58,null,14204.025000000001,9165.2000000000007,0,77.143733333333344,0,null,null,null,null,null,null,null,0,0]
[59,null,14204.025000000001,9165.2000000000007,0,82.90333333333335,0,null,null,null,null,null,null,null,0,0]
[60,null,15189.900000000001,9801,0,92.982633333333339,0,null,null,null,null,null,null,null,0,0]
[61,null,17165.5,11075.35,0,103.91278333333334,0,null,null,null,null,null,null,null,0,0]
[62,null,19040.45,12285.35,0,115.73741666666668,0,null,null,null,null,null,null,null,0,0]
[63,null,21052.625,13583.075000000001,0,128.45653333333337,0,null,null,null,null,null,null,null,0,0]
[64,null,23200.925000000003,14968.250000000002,0,142.07013333333333,0,null,null,null,null,null,null,null,0,0]
[65,null,25485.625000000004,16443.075000000001,0,156.51276666666669,0,null,null,null,null,null,null,null,0,0]
[66,null,27906.45,18003.7,0,171.87170000000003,0,null,null,null,null,null,null,null,0,0]
[67,null,30463.675000000003,19654.800000000003,0,188.10330000000002,0,null,null,null,null,null,null,null,0,0]
[68,null,33156.75,21392.25,0,205.20756666666668,0,null,null,null,null,null,null,null,0,0]
[69,null,35986.5,23217.7,0,223.20631666666671,0,null,null,null,null,null,null,null,0,0]
[70,null,38952.925000000003,25131.975000000002,0,242.09955000000002,0,null,null,null,null,null,null,null,0,0]
[71,null,42056.025000000001,27133.7,0,261.86545000000001,0,null,null,null,null,null,null,null,0,0]
[72,null,45294.975000000006,29222.875000000004,0,282.48220000000003,0,null,null,null,null,null,null,null,0,0]
[73,null,48671.700000000004,31400.875000000004,0,303.99343333333337,0,null,null,null,null,null,null,null,0,0]
[74,null,52181.8,33665.775000000001,0,326.44278333333335,0,null,null,null,null,null,null,null,0,0]
[75,null,55830.225000000006,36020.875,0,326.44278333333335,0,null,null,null,null,null,null,null,0,0]
[76,null,55830.225000000006,36020.875,0,326.44278333333335,0,null,null,null,null,null,null,null,0,0]
[77,null,55830.225000000006,36020.875,0,326.44278333333335,0,null,null,null,null,null,null,null,0,0]
[78,null,55830.225000000006,36020.875,0,326.44278333333335,0,null,null,null,null,null,null,null,0,0]
[79,null,55830.225000000006,36020.875,0,326.44278333333335,0,null,null,null,null,null,null,null,0,0]
[80,null,55830.225000000006,36020.875,0,326.44278333333335,0,null,null,null,null,null,null,null,0,0]
[81,null,55830.225000000006,36020.875,0,326.44278333333335,0,null,null,null,null,null,null,null,0,0]
[82,null,55830.225000000006,36020.875,0,326.44278333333335,0,null,null,null,null,null,null,null,0,0]
[83,null,{"$f":"C970*$K$3","v":55830.225000000006},36020.875,0,326.44278333333335,0,null,null,null,null,null,null,null,0,0]
[84,"o más",55830.225000000006,36020.875,0,17.126083333333337,0,null,null,null,null,null,null,null,0,0]
[1,"Hijo",2669.7000000000003,1723.15,0,29.081616666666669,0,null,null,null,null,null,null,null,0,0]
[2,"Hijos",4538.3250000000007,2928.4750000000004,0,41.037150000000004,0,null,null,null,null,null,null,null,0,0]
[3,"Hijos o más",6406.1250000000009,4134.3500000000004,0,0,0]
[]
["BUPA GLOBAL MM"]
["TARIFAS ANUALES"]
["EDAD"]
[" "," ",10000,20000]
[18,null,{"$f":"L1129","v":2286.5},{"$f":"M1129","v":1772.25},0,0,0,null,2690,2085,null,{"$f":"I1129*0.85","v":2286.5},{"$f":"J1129*0.85","v":1772.25}]
[19,null,{"$f":"L1130","v":2286.5},{"$f":"M1130","v":1772.25},{"$f":"N1130","v":0},{"$f":"O1130","v":0},{"$f":"P1130","v":0},null,2690,2085,null,{"$f":"I1130*0.85","v":2286.5},{"$f":"J1130*0.85","v":1772.25}]
[20,null,2286.5,1772.25,0,0,0,null,2690,2085,null,2286.5,1772.25]
[21,null,2286.5,1772.25,0,0,0,null,2690,2085,null,2286.5,1772.25]
[22,null,2286.5,1772.25,0,0,0,null,2690,2085,null,2286.5,1772.25]
[23,null,2286.5,1772.25,0,0,0,null,2690,2085,null,2286.5,1772.25]
[24,null,2286.5,1772.25,0,0,0,null,2690,2085,null,2286.5,1772.25]
[25,null,2446.2999999999997,1881.05,0,0,0,null,2878,2213,null,2446.2999999999997,1881.05]
[26,null,2446.2999999999997,1881.05,0,0,0,null,2878,2213,null,2446.2999999999997,1881.05]
[27,null,2446.2999999999997,1881.05,0,0,0,null,2878,2213,null,2446.2999999999997,1881.05]
[28,null,2446.2999999999997,1881.05,0,0,0,null,2878,2213,null,2446.2999999999997,1881.05]
[29,null,2446.2999999999997,1881.05,0,0,0,null,2878,2213,null,2446.2999999999997,1881.05]
[30,null,2725.1,2078.25,0,0,0,null,3206,2445,null,2725.1,2078.25]
[31,null,2725.1,2078.25,0,0,0,null,3206,2445,null,2725.1,2078.25]
[32,null,2725.1,2078.25,0,0,0,null,3206,2445,null,2725.1,2078.25]
[33,null,2725.1,2078.25,0,0,0,null,3206,2445,null,2725.1,2078.25]
[34,null,2725.1,2078.25,0,0,0,null,3206,2445,null,2725.1,2078.25]
[35,null,3047.25,2314.5499999999997,0,0,0,null,3585,2723,null,3047.25,2314.5499999999997]
[36,null,3047.25,2314.5499999999997,0,0,0,null,3585,2723,null,3047.25,2314.5499999999997]
[37,null,3047.25,2314.5499999999997,0,0,0,null,3585,2723,null,3047.25,2314.5499999999997]
[38,null,3047.25,2314.5499999999997,0,0,0,null,3585,2723,null,3047.25,2314.5499999999997]
[39,null,3047.25,2314.5499999999997,0,0,0,null,3585,2723,null,3047.25,2314.5499999999997]
[40,null,3527.5,2676.65,0,0,0,null,4150,3149,null,3527.5,2676.65]
[41,null,3527.5,2676.65,0,0,0,null,4150,3149,null,3527.5,2676.65]
[42,null,3527.5,2676.65,0,0,0,null,4150,3149,null,3527.5,2676.65]
[43,null,3527.5,2676.65,0,0,0,null,4150,3149,null,3527.5,2676.65]
[44,null,3527.5,2676.65,0,0,0,null,4150,3149,null,3527.5,2676.65]
[45,null,3949.95,3002.2,0,0,0,null,4647,3532,null,3949.95,3002.2]
[46,null,3949.95,3002.2,0,0,0,null,4647,3532,null,3949.95,3002.2]
[47,null,3949.95,3002.2,0,0,0,null,4647,3532,null,3949.95,3002.2]
[48,null,3949.95,3002.2,0,0,0,null,4647,3532,null,3949.95,3002.2]
[49,null,3949.95,3002.2,0,0,0,null,4647,3532,null,3949.95,3002.2]
[50,null,4567.05,3477.35,0,0,0,null,5373,4091,null,4567.05,3477.35]
[51,null,4567.05,3477.35,0,0,0,null,5373,4091,null,4567.05,3477.35]
[52,null,4567.05,3477.35,0,0,0,null,5373,4091,null,4567.05,3477.35]
[53,null,4567.05,3477.35,0,0,0,null,5373,4091,null,4567.05,3477.35]
[54,null,4567.05,3477.35,0,0,0,null,5373,4091,null,4567.05,3477.35]
[55,null,5104.25,3904.0499999999997,0,0,0,null,6005,4593,null,5104.25,3904.0499999999997]
[56,null,5104.25,3904.0499999999997,0,0,0,null,6005,4593,null,5104.25,3904.0499999999997]
[57,null,5104.25,3904.0499999999997,0,0,0,null,6005,4593,null,5104.25,3904.0499999999997]
[58,null,5104.25,3904.0499999999997,0,0,0,null,6005,4593,null,5104.25,3904.0499999999997]
[59,null,5104.25,3904.0499999999997,0,0,0,null,6005,4593,null,5104.25,3904.0499999999997]
[60,null,5460.4,4187.0999999999995,0,0,0,null,6424,4926,null,5460.4,4187.0999999999995]
[61,null,6176.95,4762.55,0,0,0,null,7267,5603,null,6176.95,4762.55]
[62,null,6860.3499999999995,5316.75,0,0,0,null,8071,6255,null,6860.3499999999995,5316.75]
[63,null,7593.05,5913.45,0,0,0,null,8933,6957,null,7593.05,5913.45]
[64,null,8377.6,6558.5999999999995,0,0,0,null,9856,7716,null,8377.6,6558.5999999999995]
[65,null,9211.4499999999989,7247.0999999999995,0,0,0,null,10837,8526,null,9211.4499999999989,7247.0999999999995]
[66,null,10098,7983.2,0,0,0,null,11880,9392,null,10098,7983.2]
[67,null,11034.699999999999,8761.7999999999993,0,0,0,null,12982,10308,null,11034.699999999999,8761.7999999999993]
[68,null,12021.55,9588.85,0,0,0,null,14143,11281,null,12021.55,9588.85]
[69,null,13058.55,10458.4,0,0,0,null,15363,12304,null,13058.55,10458.4]
[70,null,14144,11373,0,0,0,null,16640,13380,null,14144,11373]
[71,null,15287.25,12334.35,0,0,0,null,17985,14511,null,15287.25,12334.35]
[72,null,16477.25,13342.449999999999,0,0,0,null,19385,15697,null,16477.25,13342.449999999999]
[73,null,17718.25,14393.9,0,0,0,null,20845,16934,null,17718.25,14393.9]
[74,null,19008.55,15491.25,0,0,0,null,22363,18225,null,19008.55,15491.25]
[75,null,20351.55,16635.349999999999,0,0,0,null,23943,19571,null,20351.55,16635.349999999999]
[76,null,20351.55,16635.349999999999,0,0,0,null,23943,19571,null,20351.55,16635.349999999999]
[77,null,20351.55,16635.349999999999,0,0,0,null,23943,19571,null,20351.55,16635.349999999999]
[78,null,20351.55,16635.349999999999,0,0,0,null,23943,19571,null,20351.55,16635.349999999999]
[79,null,20351.55,16635.349999999999,0,0,0,null,23943,19571,null,20351.55,16635.349999999999]
[80,null,20351.55,16635.349999999999,0,0,0,null,23943,19571,null,20351.55,16635.349999999999]
[81,null,20351.55,16635.349999999999,0,0,0,null,23943,19571,null,20351.55,16635.349999999999]
[82,null,20351.55,16635.349999999999,0,0,0,null,23943,19571,null,20351.55,16635.349999999999]
[83,null,{"$f":"L1194","v":20351.55},{"$f":"M1194","v":16635.349999999999},{"$f":"N1194","v":0},{"$f":"O1194","v":0},{"$f":"P1194","v":0},null,23943,19571,null,{"$f":"I1194*0.85","v":20351.55},{"$f":"J1194*0.85","v":16635.349999999999}]
[84,"o más",20351.55,16635.349999999999,0,0,0,null,23943,19571,null,20351.55,16635.349999999999]
[1,"Hijo",965.6,758.19999999999993,0,0,0,null,1136,892,null,{"$f":"I1196*0.85","v":965.6},{"$f":"J1196*0.85","v":758.19999999999993}]
[2,"Hijos",1638.8,1287.75,0,0,0,null,1928,1515,null,{"$f":"I1197*0.85","v":1638.8},{"$f":"J1197*0.85","v":1287.75}]
[3,"Hijos o más",2314.5499999999997,1815.6,0,0,0,null,2723,2136,null,2314.5499999999997,1815.6]
[]
["BUPA GLOBAL MM - MENSUALES"]
["EDAD"]
[" "," ",10000,20000]
[18,null,{"$f":"C1129*$K$2","v":213.40666666666667},{"$f":"D1129*$K$2","v":165.41},0,0,0,null,{"$f":"I1129*$K$2","v":251.06666666666669},{"$f":"J1129*$K$2","v":194.60000000000002},null,{"$f":"I1203*0.85","v":213.40666666666669},{"$f":"J1203*0.85","v":165.41000000000003}]
[19,null,{"$f":"C1130*$K$2","v":213.40666666666667},165.41,0,0,0,null,{"$f":"I1130*$K$2","v":251.06666666666669},194.60000000000002,null,{"$f":"I1204*0.85","v":213.40666666666669},{"$f":"J1204*0.85","v":165.41000000000003}]
[20,null,{"$f":"C1131*$K$2","v":213.40666666666667},165.41,0,0,0,null,251.06666666666669,194.60000000000002,null,213.40666666666669,165.41000000000003]
[21,null,{"$f":"C1132*$K$2","v":213.40666666666667},165.41,0,0,0,null,251.06666666666669,194.60000000000002,null,213.40666666666669,165.41000000000003]
[22,null,{"$f":"C1133*$K$2","v":213.40666666666667},165.41,0,0,0,null,251.06666666666669,194.60000000000002,null,213.40666666666669,165.41000000000003]
[23,null,{"$f":"C1134*$K$2","v":213.40666666666667},165.41,0,0,0,null,251.06666666666669,194.60000000000002,null,213.40666666666669,165.41000000000003]
[24,null,{"$f":"C1135*$K$2","v":213.40666666666667},165.41,0,0,0,null,251.06666666666669,194.60000000000002,null,213.40666666666669,165.41000000000003]
[25,null,{"$f":"C1136*$K$2","v":228.32133333333331},175.56466666666668,0,0,0,null,268.61333333333334,206.54666666666668,null,228.32133333333334,175.56466666666668]
[26,null,{"$f":"C1137*$K$2","v":228.32133333333331},175.56466666666668,0,0,0,null,268.61333333333334,206.54666666666668,null,228.32133333333334,175.56466666666668]
[27,null,{"$f":"C1138*$K$2","v":228.32133333333331},175.56466666666668,0,0,0,null,268.61333333333334,206.54666666666668,null,228.32133333333334,175.56466666666668]
[28,null,{"$f":"C1139*$K$2","v":228.32133333333331},175.56466666666668,0,0,0,null,268.61333333333334,206.54666666666668,null,228.32133333333334,175.56466666666668]
[29,null,{"$f":"C1140*$K$2","v":228.32133333333331},175.56466666666668,0,0,0,null,268.61333333333334,206.54666666666668,null,228.32133333333334,175.56466666666668]
[30,null,{"$f":"C1141*$K$2","v":254.34266666666667},193.97,0,0,0,null,299.22666666666669,228.20000000000002,null,254.34266666666667,193.97]
[31,null,{"$f":"C1142*$K$2","v":254.34266666666667},193.97,0,0,0,null,299.22666666666669,228.20000000000002,null,254.34266666666667,193.97]
[32,null,{"$f":"C1143*$K$2","v":254.34266666666667},193.97,0,0,0,null,299.22666666666669,228.20000000000002,null,254.34266666666667,193.97]
[33,null,{"$f":"C1144*$K$2","v":254.34266666666667},193.97,0,0,0,null,299.22666666666669,228.20000000000002,null,254.34266666666667,193.97]
[34,null,{"$f":"C1145*$K$2","v":254.34266666666667},193.97,0,0,0,null,299.22666666666669,228.20000000000002,null,254.34266666666667,193.97]
[35,null,{"$f":"C1146*$K$2","v":284.41000000000003},216.02466666666666,0,0,0,null,334.6,254.14666666666668,null,284.41000000000003,216.02466666666666]
[36,null,{"$f":"C1147*$K$2","v":284.41000000000003},216.02466666666666,0,0,0,null,334.6,254.14666666666668,null,284.41000000000003,216.02466666666666]
[37,null,{"$f":"C1148*$K$2","v":284.41000000000003},216.02466666666666,0,0,0,null,334.6,254.14666666666668,null,284.41000000000003,216.02466666666666]
[38,null,{"$f":"C1149*$K$2","v":284.41000000000003},216.02466666666666,0,0,0,null,334.6,254.14666666666668,null,284.41000000000003,216.02466666666666]
[39,null,{"$f":"C1150*$K$2","v":284.41000000000003},216.02466666666666,0,0,0,null,334.6,254.14666666666668,null,284.41000000000003,216.02466666666666]
[40,null,{"$f":"C1151*$K$2","v":329.23333333333335},249.82066666666668,0,0,0,null,387.33333333333337,293.90666666666669,null,329.23333333333335,249.82066666666668]
[41,null,{"$f":"C1152*$K$2","v":329.23333333333335},249.82066666666668,0,0,0,null,387.33333333333337,293.90666666666669,null,329.23333333333335,249.82066666666668]
[42,null,{"$f":"C1153*$K$2","v":329.23333333333335},249.82066666666668,0,0,0,null,387.33333333333337,293.90666666666669,null,329.23333333333335,249.82066666666668]
[43,null,{"$f":"C1154*$K$2","v":329.23333333333335},249.82066666666668,0,0,0,null,387.33333333333337,293.90666666666669,null,329.23333333333335,249.82066666666668]
[44,null,{"$f":"C1155*$K$2","v":329.23333333333335},249.82066666666668,0,0,0,null,387.33333333333337,293.90666666666669,null,329.23333333333335,249.82066666666668]
[45,null,{"$f":"C1156*$K$2","v":368.66199999999998},280.20533333333333,0,0,0,null,433.72,329.65333333333336,null,368.66200000000003,280.20533333333333]
[46,null,{"$f":"C1157*$K$2","v":368.66199999999998},280.20533333333333,0,0,0,null,433.72,329.65333333333336,null,368.66200000000003,280.20533333333333]
[47,null,{"$f":"C1158*$K$2","v":368.66199999999998},280.20533333333333,0,0,0,null,433.72,329.65333333333336,null,368.66200000000003,280.20533333333333]
[48,null,{"$f":"C1159*$K$2","v":368.66199999999998},280.20533333333333,0,0,0,null,433.72,329.65333333333336,null,368.66200000000003,280.20533333333333]
[49,null,{"$f":"C1160*$K$2","v":368.66199999999998},280.20533333333333,0,0,0,null,433.72,329.65333333333336,null,368.66200000000003,280.20533333333333]
[50,null,{"$f":"C1161*$K$2","v":426.25800000000004},324.55266666666665,0,0,0,null,501.48,381.82666666666671,null,426.25799999999998,324.55266666666671]
[51,null,{"$f":"C1162*$K$2","v":426.25800000000004},324.55266666666665,0,0,0,null,501.48,381.82666666666671,null,426.25799999999998,324.55266666666671]
[52,null,{"$f":"C1163*$K$2","v":426.25800000000004},324.55266666666665,0,0,0,null,501.48,381.82666666666671,null,426.25799999999998,324.55266666666671]
[53,null,{"$f":"C1164*$K$2","v":426.25800000000004},324.55266666666665,0,0,0,null,501.48,381.82666666666671,null,426.25799999999998,324.55266666666671]
[54,null,{"$f":"C1165*$K$2","v":426.25800000000004},324.55266666666665,0,0,0,null,501.48,381.82666666666671,null,426.25799999999998,324.55266666666671]
[55,null,{"$f":"C1166*$K$2","v":476.3966666666667},364.37799999999999,0,0,0,null,560.4666666666667,428.68,null,476.3966666666667,364.37799999999999]
[56,null,{"$f":"C1167*$K$2","v":476.3966666666667},364.37799999999999,0,0,0,null,560.4666666666667,428.68,null,476.3966666666667,364.37799999999999]
[57,null,{"$f":"C1168*$K$2","v":476.3966666666667},364.37799999999999,0,0,0,null,560.4666666666667,428.68,null,476.3966666666667,364.37799999999999]
[58,null,{"$f":"C1169*$K$2","v":476.3966666666667},364.37799999999999,0,0,0,null,560.4666666666667,428.68,null,476.3966666666667,364.37799999999999]
[59,null,{"$f":"C1170*$K$2","v":476.3966666666667},364.37799999999999,0,0,0,null,560.4666666666667,428.68,null,476.3966666666667,364.37799999999999]
[60,null,{"$f":"C1171*$K$2","v":509.63733333333334},390.79599999999999,0,0,0,null,599.57333333333338,459.76000000000005,null,509.63733333333334,390.79600000000005]
[61,null,{"$f":"C1172*$K$2","v":576.51533333333339},444.50466666666671,0,0,0,null,678.25333333333333,522.94666666666672,null,576.51533333333327,444.50466666666671]
[62,null,{"$f":"C1173*$K$2","v":640.29933333333327},496.23,0,0,0,null,753.29333333333341,583.80000000000007,null,640.29933333333338,496.23]
[63,null,{"$f":"C1174*$K$2","v":708.68466666666677},551.92200000000003,0,0,0,null,833.74666666666667,649.32000000000005,null,708.68466666666666,551.92200000000003]
[64,null,{"$f":"C1175*$K$2","v":781.90933333333339},612.13599999999997,0,0,0,null,919.89333333333343,720.16000000000008,null,781.90933333333339,612.13600000000008]
[65,null,{"$f":"C1176*$K$2","v":859.7353333333333},676.39599999999996,0,0,0,null,1011.4533333333334,795.76,null,859.7353333333333,676.39599999999996]
[66,null,{"$f":"C1177*$K$2","v":942.48},745.09866666666665,0,0,0,null,1108.8,876.5866666666667,null,942.4799999999999,745.09866666666665]
[67,null,{"$f":"C1178*$K$2","v":1029.9053333333334},817.76799999999992,0,0,0,null,1211.6533333333334,962.08,null,1029.9053333333334,817.76800000000003]
[68,null,{"$f":"C1179*$K$2","v":1122.0113333333334},894.95933333333346,0,0,0,null,1320.0133333333333,1052.8933333333334,null,1122.0113333333334,894.95933333333335]
[69,null,{"$f":"C1180*$K$2","v":1218.798},976.11733333333336,0,0,0,null,1433.88,1148.3733333333334,null,1218.798,976.11733333333336]
[70,null,{"$f":"C1181*$K$2","v":1320.1066666666668},1061.48,0,0,0,null,1553.0666666666668,1248.8,null,1320.1066666666668,1061.48]
[71,null,{"$f":"C1182*$K$2","v":1426.8100000000002},1151.2060000000001,0,0,0,null,1678.6000000000001,1354.3600000000001,null,1426.8100000000002,1151.2060000000001]
[72,null,{"$f":"C1183*$K$2","v":1537.8766666666668},1245.2953333333332,0,0,0,null,1809.2666666666667,1465.0533333333335,null,1537.8766666666666,1245.2953333333335]
[73,null,{"$f":"C1184*$K$2","v":1653.7033333333334},1343.4306666666666,0,0,0,null,1945.5333333333335,1580.5066666666667,null,1653.7033333333334,1343.4306666666666]
[74,null,{"$f":"C1185*$K$2","v":1774.1313333333333},1445.8500000000001,0,0,0,null,2087.2133333333336,1701,null,1774.1313333333335,1445.85]
[75,null,{"$f":"C1186*$K$2","v":1899.4780000000001},1552.6326666666666,0,0,0,null,2234.6800000000003,1826.6266666666668,null,1899.4780000000003,1552.6326666666666]
[76,null,{"$f":"C1187*$K$2","v":1899.4780000000001},1552.6326666666666,0,0,0,null,2234.6800000000003,1826.6266666666668,null,1899.4780000000003,1552.6326666666666]
[77,null,{"$f":"C1188*$K$2","v":1899.4780000000001},1552.6326666666666,0,0,0,null,2234.6800000000003,1826.6266666666668,null,1899.4780000000003,1552.6326666666666]
[78,null,{"$f":"C1189*$K$2","v":1899.4780000000001},1552.6326666666666,0,0,0,null,2234.6800000000003,1826.6266666666668,null,1899.4780000000003,1552.6326666666666]
[79,null,{"$f":"C1190*$K$2","v":1899.4780000000001},1552.6326666666666,0,0,0,null,2234.6800000000003,1826.6266666666668,null,1899.4780000000003,1552.6326666666666]
[80,null,{"$f":"C1191*$K$2","v":1899.4780000000001},1552.6326666666666,0,null,null,null,2234.6800000000003,1826.6266666666668,null,1899.4780000000003,1552.6326666666666]
[81,null,{"$f":"C1192*$K$2","v":1899.4780000000001},1552.6326666666666,0,null,null,null,2234.6800000000003,1826.6266666666668,null,1899.4780000000003,1552.6326666666666]
[82,null,{"$f":"C1193*$K$2","v":1899.4780000000001},1552.6326666666666,0,null,null,null,2234.6800000000003,1826.6266666666668,null,1899.4780000000003,1552.6326666666666]
[83,null,{"$f":"C1194*$K$2","v":1899.4780000000001},1552.6326666666666,0,null,null,null,{"$f":"I1194*$K$2","v":2234.6800000000003},1826.6266666666668,null,{"$f":"I1268*0.85","v":1899.4780000000003},{"$f":"J1268*0.85","v":1552.6326666666666}]
[84,"o más",{"$f":"C1195*$K$2","v":1899.4780000000001},1552.6326666666666,0,0,0,null,2234.6800000000003,1826.6266666666668,null,1899.4780000000003,1552.6326666666666]
[1,"Hijo",{"$f":"C1196*$K$2","v":90.122666666666674},70.765333333333331,0,0,0,null,106.02666666666667,83.25333333333333,null,{"$f":"I1270*0.85","v":90.122666666666674},{"$f":"J1270*0.85","v":70.765333333333331}]
[2,"Hijos",{"$f":"C1197*$K$2","v":152.95466666666667},120.19000000000001,0,0,0,null,179.94666666666669,141.4,null,{"$f":"I1271*0.85","v":152.95466666666667},{"$f":"J1271*0.85","v":120.19}]
[3,"Hijos o más",{"$f":"C1198*$K$2","v":216.02466666666666},169.45599999999999,0,0,0,null,254.14666666666668,199.36,null,216.02466666666666,169.45600000000002]
[]
["BUPA GLOBAL MM"]
["TARIFAS TRIMESTRALES"]
["EDAD"]
[" "," ",10000,20000]
[18,null,{"$f":"C1129*$K$3","v":628.78750000000002},{"$f":"D1129*$K$3","v":487.36875000000003},0,0,0,null,{"$f":"I1129*$K$3","v":739.75000000000011},{"$f":"J1129*$K$3","v":573.375},null,{"$f":"I1278*0.85","v":628.78750000000014},{"$f":"J1278*0.85","v":487.36874999999998}]
[19,null,{"$f":"C1130*$K$3","v":628.78750000000002},487.36875000000003,0,0,0,null,{"$f":"I1130*$K$3","v":739.75000000000011},573.375,null,{"$f":"I1279*0.85","v":628.78750000000014},{"$f":"J1279*0.85","v":487.36874999999998}]
[20,null,{"$f":"C1131*$K$3","v":628.78750000000002},487.36875000000003,0,0,0,null,739.75000000000011,573.375,null,628.78750000000014,487.36874999999998]
[21,null,{"$f":"C1132*$K$3","v":628.78750000000002},487.36875000000003,0,0,0,null,739.75000000000011,573.375,null,628.78750000000014,487.36874999999998]
[22,null,{"$f":"C1133*$K$3","v":628.78750000000002},487.36875000000003,0,0,0,null,739.75000000000011,573.375,null,628.78750000000014,487.36874999999998]
[23,null,{"$f":"C1134*$K$3","v":628.78750000000002},487.36875000000003,0,0,0,null,739.75000000000011,573.375,null,628.78750000000014,487.36874999999998]
[24,null,{"$f":"C1135*$K$3","v":628.78750000000002},487.36875000000003,0,0,0,null,739.75000000000011,573.375,null,628.78750000000014,487.36874999999998]
[25,null,{"$f":"C1136*$K$3","v":672.73249999999996},517.28875000000005,0,0,0,null,791.45,608.57500000000005,null,672.73250000000007,517.28875000000005]
[26,null,{"$f":"C1137*$K$3","v":672.73249999999996},517.28875000000005,0,0,0,null,791.45,608.57500000000005,null,672.73250000000007,517.28875000000005]
[27,null,{"$f":"C1138*$K$3","v":672.73249999999996},517.28875000000005,0,0,0,null,791.45,608.57500000000005,null,672.73250000000007,517.28875000000005]
[28,null,{"$f":"C1139*$K$3","v":672.73249999999996},517.28875000000005,0,0,0,null,791.45,608.57500000000005,null,672.73250000000007,517.28875000000005]
[29,null,{"$f":"C1140*$K$3","v":672.73249999999996},517.28875000000005,0,0,0,null,791.45,608.57500000000005,null,672.73250000000007,517.28875000000005]
[30,null,{"$f":"C1141*$K$3","v":749.40250000000003},571.51875000000007,0,0,0,null,881.65000000000009,672.375,null,749.40250000000003,571.51874999999995]
[31,null,{"$f":"C1142*$K$3","v":749.40250000000003},571.51875000000007,0,0,0,null,881.65000000000009,672.375,null,749.40250000000003,571.51874999999995]
[32,null,{"$f":"C1143*$K$3","v":749.40250000000003},571.51875000000007,0,0,0,null,881.65000000000009,672.375,null,749.40250000000003,571.51874999999995]
[33,null,{"$f":"C1144*$K$3","v":749.40250000000003},571.51875000000007,0,0,0,null,881.65000000000009,672.375,null,749.40250000000003,571.51874999999995]
[34,null,{"$f":"C1145*$K$3","v":749.40250000000003},571.51875000000007,0,0,0,null,881.65000000000009,672.375,null,749.40250000000003,571.51874999999995]
[35,null,{"$f":"C1146*$K$3","v":837.99375000000009},636.50125000000003,0,0,0,null,985.87500000000011,748.82500000000005,null,837.99375000000009,636.50125000000003]
[36,null,{"$f":"C1147*$K$3","v":837.99375000000009},636.50125000000003,0,0,0,null,985.87500000000011,748.82500000000005,null,837.99375000000009,636.50125000000003]
[37,null,{"$f":"C1148*$K$3","v":837.99375000000009},636.50125000000003,0,0,0,null,985.87500000000011,748.82500000000005,null,837.99375000000009,636.50125000000003]
[38,null,{"$f":"C1149*$K$3","v":837.99375000000009},636.50125000000003,0,0,0,null,985.87500000000011,748.82500000000005,null,837.99375000000009,636.50125000000003]
[39,null,{"$f":"C1150*$K$3","v":837.99375000000009},636.50125000000003,0,0,0,null,985.87500000000011,748.82500000000005,null,837.99375000000009,636.50125000000003]
[40,null,{"$f":"C1151*$K$3","v":970.06250000000011},736.07875000000013,0,0,0,null,1141.25,865.97500000000002,null,970.0625,736.07875000000001]
[41,null,{"$f":"C1152*$K$3","v":970.06250000000011},736.07875000000013,0,0,0,null,1141.25,865.97500000000002,null,970.0625,736.07875000000001]
[42,null,{"$f":"C1153*$K$3","v":970.06250000000011},736.07875000000013,0,0,0,null,1141.25,865.97500000000002,null,970.0625,736.07875000000001]
[43,null,{"$f":"C1154*$K$3","v":970.06250000000011},736.07875000000013,0,0,0,null,1141.25,865.97500000000002,null,970.0625,736.07875000000001]
[44,null,{"$f":"C1155*$K$3","v":970.06250000000011},736.07875000000013,0,0,0,null,1141.25,865.97500000000002,null,970.0625,736.07875000000001]
[45,null,{"$f":"C1156*$K$3","v":1086.2362499999999},825.60500000000002,0,0,0,null,1277.9250000000002,971.30000000000007,null,1086.2362500000002,825.60500000000002]
[46,null,{"$f":"C1157*$K$3","v":1086.2362499999999},825.60500000000002,0,0,0,null,1277.9250000000002,971.30000000000007,null,1086.2362500000002,825.60500000000002]
[47,null,{"$f":"C1158*$K$3","v":1086.2362499999999},825.60500000000002,0,0,0,null,1277.9250000000002,971.30000000000007,null,1086.2362500000002,825.60500000000002]
[48,null,{"$f":"C1159*$K$3","v":1086.2362499999999},825.60500000000002,0,0,0,null,1277.9250000000002,971.30000000000007,null,1086.2362500000002,825.60500000000002]
[49,null,{"$f":"C1160*$K$3","v":1086.2362499999999},825.60500000000002,0,0,0,null,1277.9250000000002,971.30000000000007,null,1086.2362500000002,825.60500000000002]
[50,null,{"$f":"C1161*$K$3","v":1255.9387500000003},956.27125000000001,0,0,0,null,1477.575,1125.0250000000001,null,1255.93875,956.27125000000001]
[51,null,{"$f":"C1162*$K$3","v":1255.9387500000003},956.27125000000001,0,0,0,null,1477.575,1125.0250000000001,null,1255.93875,956.27125000000001]
[52,null,{"$f":"C1163*$K$3","v":1255.9387500000003},956.27125000000001,0,0,0,null,1477.575,1125.0250000000001,null,1255.93875,956.27125000000001]
[53,null,{"$f":"C1164*$K$3","v":1255.9387500000003},956.27125000000001,0,0,0,null,1477.575,1125.0250000000001,null,1255.93875,956.27125000000001]
[54,null,{"$f":"C1165*$K$3","v":1255.9387500000003},956.27125000000001,0,0,0,null,1477.575,1125.0250000000001,null,1255.93875,956.27125000000001]
[55,null,{"$f":"C1166*$K$3","v":1403.66875},1073.61375,0,0,0,null,1651.3750000000002,1263.075,null,1403.66875,1073.61375]
[56,null,{"$f":"C1167*$K$3","v":1403.66875},1073.61375,0,0,0,null,1651.3750000000002,1263.075,null,1403.66875,1073.61375]
[57,null,{"$f":"C1168*$K$3","v":1403.66875},1073.61375,0,0,0,null,1651.3750000000002,1263.075,null,1403.66875,1073.61375]
[58,null,{"$f":"C1169*$K$3","v":1403.66875},1073.61375,0,0,0,null,1651.3750000000002,1263.075,null,1403.66875,1073.61375]
[59,null,{"$f":"C1170*$K$3","v":1403.66875},1073.61375,0,0,0,null,1651.3750000000002,1263.075,null,1403.66875,1073.61375]
[60,null,{"$f":"C1171*$K$3","v":1501.6100000000001},1151.4524999999999,0,0,0,null,1766.6000000000001,1354.65,null,1501.6100000000001,1151.4525000000001]
[61,null,{"$f":"C1172*$K$3","v":1698.6612500000001},1309.7012500000001,0,0,0,null,1998.4250000000002,1540.825,null,1698.6612500000001,1309.7012500000001]
[62,null,{"$f":"C1173*$K$3","v":1886.5962500000001},1462.10625,0,0,0,null,2219.5250000000001,1720.1250000000002,null,1886.5962500000001,1462.10625]
[63,null,{"$f":"C1174*$K$3","v":2088.0887500000003},1626.19875,0,0,0,null,2456.5750000000003,1913.1750000000002,null,2088.0887500000003,1626.19875]
[64,null,{"$f":"C1175*$K$3","v":2303.84},1803.615,0,0,0,null,2710.4,2121.9,null,2303.84,1803.615]
[65,null,{"$f":"C1176*$K$3","v":2533.1487499999998},1992.9525000000001,0,0,0,null,2980.1750000000002,2344.65,null,2533.1487500000003,1992.9525000000001]
[66,null,{"$f":"C1177*$K$3","v":2776.9500000000003},2195.38,0,0,0,null,3267.0000000000005,2582.8000000000002,null,2776.9500000000003,2195.38]
[67,null,{"$f":"C1178*$K$3","v":3034.5425},2409.4949999999999,0,0,0,null,3570.05,2834.7000000000003,null,3034.5425,2409.4950000000003]
[68,null,{"$f":"C1179*$K$3","v":3305.92625},2636.9337500000001,0,0,0,null,3889.3250000000003,3102.2750000000001,null,3305.92625,2636.9337500000001]
[69,null,{"$f":"C1180*$K$3","v":3591.1012500000002},2876.06,0,0,0,null,4224.8250000000007,3383.6000000000004,null,3591.1012500000006,2876.0600000000004]
[70,null,{"$f":"C1181*$K$3","v":3889.6000000000004},3127.5750000000003,0,0,0,null,4576,3679.5000000000005,null,3889.6,3127.5750000000003]
[71,null,{"$f":"C1182*$K$3","v":4203.9937500000005},3391.9462500000004,0,0,0,null,4945.875,3990.5250000000005,null,4203.9937499999996,3391.9462500000004]
[72,null,{"$f":"C1183*$K$3","v":4531.2437500000005},3669.1737499999999,0,0,0,null,5330.875,4316.6750000000002,null,4531.2437499999996,3669.1737499999999]
[73,null,{"$f":"C1184*$K$3","v":4872.5187500000002},3958.3225000000002,0,0,0,null,5732.3750000000009,4656.8500000000004,null,4872.5187500000011,3958.3225000000002]
[74,null,{"$f":"C1185*$K$3","v":5227.3512500000006},4260.09375,0,0,0,null,6149.8250000000007,5011.875,null,5227.3512500000006,4260.09375]
[75,null,{"$f":"C1186*$K$3","v":5596.6762500000004},4574.7212499999996,0,0,0,null,6584.3250000000007,5382.0250000000005,null,5596.6762500000004,4574.7212500000005]
[76,null,{"$f":"C1187*$K$3","v":5596.6762500000004},4574.7212499999996,0,0,0,null,6584.3250000000007,5382.0250000000005,null,5596.6762500000004,4574.7212500000005]
[77,null,{"$f":"C1188*$K$3","v":5596.6762500000004},4574.7212499999996,0,0,0,null,6584.3250000000007,5382.0250000000005,null,5596.6762500000004,4574.7212500000005]
[78,null,{"$f":"C1189*$K$3","v":5596.6762500000004},4574.7212499999996,0,0,0,null,6584.3250000000007,5382.0250000000005,null,5596.6762500000004,4574.7212500000005]
[79,null,{"$f":"C1190*$K$3","v":5596.6762500000004},4574.7212499999996,0,0,0,null,6584.3250000000007,5382.0250000000005,null,5596.6762500000004,4574.7212500000005]
[80,null,{"$f":"C1191*$K$3","v":5596.6762500000004},4574.7212499999996,0,0,0,null,6584.3250000000007,5382.0250000000005,null,5596.6762500000004,4574.7212500000005]
[81,null,{"$f":"C1192*$K$3","v":5596.6762500000004},4574.7212499999996,0,0,0,null,6584.3250000000007,5382.0250000000005,null,5596.6762500000004,4574.7212500000005]
[82,null,{"$f":"C1193*$K$3","v":5596.6762500000004},4574.7212499999996,0,0,0,null,6584.3250000000007,5382.0250000000005,null,5596.6762500000004,4574.7212500000005]
[83,null,{"$f":"C1194*$K$3","v":5596.6762500000004},4574.7212499999996,0,0,0,null,{"$f":"I1194*$K$3","v":6584.3250000000007},5382.0250000000005,null,{"$f":"I1343*0.85","v":5596.6762500000004},{"$f":"J1343*0.85","v":4574.7212500000005}]
[84,"o más",{"$f":"C1195*$K$3","v":5596.6762500000004},4574.7212499999996,0,0,0,null,6584.3250000000007,5382.0250000000005,null,5596.6762500000004,4574.7212500000005]
[1,"Hijo",{"$f":"C1196*$K$3","v":265.54000000000002},208.505,0,0,0,null,312.40000000000003,245.3,null,{"$f":"I1345*0.85","v":265.54000000000002},{"$f":"J1345*0.85","v":208.505}]
[2,"Hijos",{"$f":"C1197*$K$3","v":450.67},354.13125000000002,0,0,0,null,530.20000000000005,416.62500000000006,null,{"$f":"I1346*0.85","v":450.67},{"$f":"J1346*0.85","v":354.13125000000002}]
[3,"Hijos o más",{"$f":"C1198*$K$3","v":636.50125000000003},499.29,0,0,0,null,748.82500000000005,587.40000000000009,null,636.50125000000003,499.29000000000008]
[]
["BUPA GLOBAL MM"]
["TARIFAS SEMESTRAL"]
["EDAD"]
[" "," ",10000,20000]
[18,null,{"$f":"C1129*$K$4","v":1211.845},{"$f":"D1129*$K$4","v":939.29250000000002},0,0,0,null,{"$f":"I1129*$K$4","v":1425.7},{"$f":"J1129*$K$4","v":1105.05},null,{"$f":"I1353*0.85","v":1211.845},{"$f":"J1353*0.85","v":939.2924999999999}]
[19,null,{"$f":"C1130*$K$4","v":1211.845},939.29250000000002,0,0,0,null,{"$f":"I1130*$K$4","v":1425.7},1105.05,null,{"$f":"I1354*0.85","v":1211.845},{"$f":"J1354*0.85","v":939.2924999999999}]
[20,null,{"$f":"C1131*$K$4","v":1211.845},939.29250000000002,0,0,0,null,1425.7,1105.05,null,1211.845,939.2924999999999]
[21,null,{"$f":"C1132*$K$4","v":1211.845},939.29250000000002,0,0,0,null,1425.7,1105.05,null,1211.845,939.2924999999999]
[22,null,{"$f":"C1133*$K$4","v":1211.845},939.29250000000002,0,0,0,null,1425.7,1105.05,null,1211.845,939.2924999999999]
[23,null,{"$f":"C1134*$K$4","v":1211.845},939.29250000000002,0,0,0,null,1425.7,1105.05,null,1211.845,939.2924999999999]
[24,null,{"$f":"C1135*$K$4","v":1211.845},939.29250000000002,0,0,0,null,1425.7,1105.05,null,1211.845,939.2924999999999]
[25,null,{"$f":"C1136*$K$4","v":1296.539},996.95650000000001,0,0,0,null,1525.3400000000001,1172.8900000000001,null,1296.539,996.95650000000001]
[26,null,{"$f":"C1137*$K$4","v":1296.539},996.95650000000001,0,0,0,null,1525.3400000000001,1172.8900000000001,null,1296.539,996.95650000000001]
[27,null,{"$f":"C1138*$K$4","v":1296.539},996.95650000000001,0,0,0,null,1525.3400000000001,1172.8900000000001,null,1296.539,996.95650000000001]
[28,null,{"$f":"C1139*$K$4","v":1296.539},996.95650000000001,0,0,0,null,1525.3400000000001,1172.8900000000001,null,1296.539,996.95650000000001]
[29,null,{"$f":"C1140*$K$4","v":1296.539},996.95650000000001,0,0,0,null,1525.3400000000001,1172.8900000000001,null,1296.539,996.95650000000001]
[30,null,{"$f":"C1141*$K$4","v":1444.3030000000001},1101.4725000000001,0,0,0,null,1699.18,1295.8500000000001,null,1444.3030000000001,1101.4725000000001]
[31,null,{"$f":"C1142*$K$4","v":1444.3030000000001},1101.4725000000001,0,0,0,null,1699.18,1295.8500000000001,null,1444.3030000000001,1101.4725000000001]
[32,null,{"$f":"C1143*$K$4","v":1444.3030000000001},1101.4725000000001,0,0,0,null,1699.18,1295.8500000000001,null,1444.3030000000001,1101.4725000000001]
[33,null,{"$f":"C1144*$K$4","v":1444.3030000000001},1101.4725000000001,0,0,0,null,1699.18,1295.8500000000001,null,1444.3030000000001,1101.4725000000001]
[34,null,{"$f":"C1145*$K$4","v":1444.3030000000001},1101.4725000000001,0,0,0,null,1699.18,1295.8500000000001,null,1444.3030000000001,1101.4725000000001]
[35,null,{"$f":"C1146*$K$4","v":1615.0425},1226.7114999999999,0,0,0,null,1900.0500000000002,1443.19,null,1615.0425,1226.7115000000001]
[36,null,{"$f":"C1147*$K$4","v":1615.0425},1226.7114999999999,0,0,0,null,1900.0500000000002,1443.19,null,1615.0425,1226.7115000000001]
[37,null,{"$f":"C1148*$K$4","v":1615.0425},1226.7114999999999,0,0,0,null,1900.0500000000002,1443.19,null,1615.0425,1226.7115000000001]
[38,null,{"$f":"C1149*$K$4","v":1615.0425},1226.7114999999999,0,0,0,null,1900.0500000000002,1443.19,null,1615.0425,1226.7115000000001]
[39,null,{"$f":"C1150*$K$4","v":1615.0425},1226.7114999999999,0,0,0,null,1900.0500000000002,1443.19,null,1615.0425,1226.7115000000001]
[40,null,{"$f":"C1151*$K$4","v":1869.575},1418.6245000000001,0,0,0,null,2199.5,1668.97,null,1869.575,1418.6244999999999]
[41,null,{"$f":"C1152*$K$4","v":1869.575},1418.6245000000001,0,0,0,null,2199.5,1668.97,null,1869.575,1418.6244999999999]
[42,null,{"$f":"C1153*$K$4","v":1869.575},1418.6245000000001,0,0,0,null,2199.5,1668.97,null,1869.575,1418.6244999999999]
[43,null,{"$f":"C1154*$K$4","v":1869.575},1418.6245000000001,0,0,0,null,2199.5,1668.97,null,1869.575,1418.6244999999999]
[44,null,{"$f":"C1155*$K$4","v":1869.575},1418.6245000000001,0,0,0,null,2199.5,1668.97,null,1869.575,1418.6244999999999]
[45,null,{"$f":"C1156*$K$4","v":2093.4735000000001},1591.1659999999999,0,0,0,null,2462.9100000000003,1871.96,null,2093.4735000000001,1591.1659999999999]
[46,null,{"$f":"C1157*$K$4","v":2093.4735000000001},1591.1659999999999,0,0,0,null,2462.9100000000003,1871.96,null,2093.4735000000001,1591.1659999999999]
[47,null,{"$f":"C1158*$K$4","v":2093.4735000000001},1591.1659999999999,0,0,0,null,2462.9100000000003,1871.96,null,2093.4735000000001,1591.1659999999999]
[48,null,{"$f":"C1159*$K$4","v":2093.4735000000001},1591.1659999999999,0,0,0,null,2462.9100000000003,1871.96,null,2093.4735000000001,1591.1659999999999]
[49,null,{"$f":"C1160*$K$4","v":2093.4735000000001},1591.1659999999999,0,0,0,null,2462.9100000000003,1871.96,null,2093.4735000000001,1591.1659999999999]
[50,null,{"$f":"C1161*$K$4","v":2420.5365000000002},1842.9955,0,0,0,null,2847.69,2168.23,null,2420.5365000000002,1842.9955]
[51,null,{"$f":"C1162*$K$4","v":2420.5365000000002},1842.9955,0,0,0,null,2847.69,2168.23,null,2420.5365000000002,1842.9955]
[52,null,{"$f":"C1163*$K$4","v":2420.5365000000002},1842.9955,0,0,0,null,2847.69,2168.23,null,2420.5365000000002,1842.9955]
[53,null,{"$f":"C1164*$K$4","v":2420.5365000000002},1842.9955,0,0,0,null,2847.69,2168.23,null,2420.5365000000002,1842.9955]
[54,null,{"$f":"C1165*$K$4","v":2420.5365000000002},1842.9955,0,0,0,null,2847.69,2168.23,null,2420.5365000000002,1842.9955]
[55,null,{"$f":"C1166*$K$4","v":2705.2525000000001},2069.1464999999998,0,0,0,null,3182.65,2434.29,null,2705.2525000000001,2069.1464999999998]
[56,null,{"$f":"C1167*$K$4","v":2705.2525000000001},2069.1464999999998,0,0,0,null,3182.65,2434.29,null,2705.2525000000001,2069.1464999999998]
[57,null,{"$f":"C1168*$K$4","v":2705.2525000000001},2069.1464999999998,0,0,0,null,3182.65,2434.29,null,2705.2525000000001,2069.1464999999998]
[58,null,{"$f":"C1169*$K$4","v":2705.2525000000001},2069.1464999999998,0,0,0,null,3182.65,2434.29,null,2705.2525000000001,2069.1464999999998]
[59,null,{"$f":"C1170*$K$4","v":2705.2525000000001},2069.1464999999998,0,0,0,null,3182.65,2434.29,null,2705.2525000000001,2069.1464999999998]
[60,null,{"$f":"C1171*$K$4","v":2894.0120000000002},2219.163,0,0,0,null,3404.7200000000003,2610.7800000000002,null,2894.0120000000002,2219.163]
[61,null,{"$f":"C1172*$K$4","v":3273.7835},2524.1515000000004,0,0,0,null,3851.51,2969.59,null,3273.7835,2524.1514999999999]
[62,null,{"$f":"C1173*$K$4","v":3635.9854999999998},2817.8775000000001,0,0,0,null,4277.63,3315.15,null,3635.9854999999998,2817.8775000000001]
[63,null,{"$f":"C1174*$K$4","v":4024.3165000000004},3134.1285000000003,0,0,0,null,4734.4900000000007,3687.21,null,4024.3165000000004,3134.1284999999998]
[64,null,{"$f":"C1175*$K$4","v":4440.1280000000006},3476.058,0,0,0,null,5223.68,4089.48,null,4440.1279999999997,3476.058]
[65,null,{"$f":"C1176*$K$4","v":4882.0684999999994},3840.9629999999997,0,0,0,null,5743.6100000000006,4518.7800000000007,null,4882.0685000000003,3840.9630000000006]
[66,null,{"$f":"C1177*$K$4","v":5351.9400000000005},4231.0960000000005,0,0,0,null,6296.4000000000005,4977.76,null,5351.9400000000005,4231.0960000000005]
[67,null,{"$f":"C1178*$K$4","v":5848.3909999999996},4643.7539999999999,0,0,0,null,6880.46,5463.2400000000007,null,5848.3909999999996,4643.7540000000008]
[68,null,{"$f":"C1179*$K$4","v":6371.4215000000004},5082.0905000000002,0,0,0,null,7495.79,5978.93,null,6371.4214999999995,5082.0905000000002]
[69,null,{"$f":"C1180*$K$4","v":6921.0315000000001},5542.9520000000002,0,0,0,null,8142.39,6521.12,null,6921.0315000000001,5542.9519999999993]
[70,null,{"$f":"C1181*$K$4","v":7496.3200000000006},6027.6900000000005,0,0,0,null,8819.2000000000007,7091.4000000000005,null,7496.3200000000006,6027.6900000000005]
[71,null,{"$f":"C1182*$K$4","v":8102.2425000000003},6537.2055000000009,0,0,0,null,9532.0500000000011,7690.8300000000008,null,8102.2425000000003,6537.2055000000009]
[72,null,{"$f":"C1183*$K$4","v":8732.942500000001},7071.4984999999997,0,0,0,null,10274.050000000001,8319.41,null,8732.942500000001,7071.4984999999997]
[73,null,{"$f":"C1184*$K$4","v":9390.6725000000006},7628.7669999999998,0,0,0,null,11047.85,8975.02,null,9390.6725000000006,7628.7669999999998]
[74,null,{"$f":"C1185*$K$4","v":10074.531500000001},8210.3625000000011,0,0,0,null,11852.390000000001,9659.25,null,10074.531500000001,8210.3624999999993]
[75,null,{"$f":"C1186*$K$4","v":10786.3215},8816.7354999999989,0,0,0,null,12689.79,10372.630000000001,null,10786.3215,8816.7355000000007]
[76,null,{"$f":"C1187*$K$4","v":10786.3215},8816.7354999999989,0,0,0,null,12689.79,10372.630000000001,null,10786.3215,8816.7355000000007]
[77,null,{"$f":"C1188*$K$4","v":10786.3215},8816.7354999999989,0,0,0,null,12689.79,10372.630000000001,null,10786.3215,8816.7355000000007]
[78,null,{"$f":"C1189*$K$4","v":10786.3215},8816.7354999999989,0,0,0,null,12689.79,10372.630000000001,null,10786.3215,8816.7355000000007]
[79,null,{"$f":"C1190*$K$4","v":10786.3215},8816.7354999999989,0,0,0,null,12689.79,10372.630000000001,null,10786.3215,8816.7355000000007]
[80,null,{"$f":"C1191*$K$4","v":10786.3215},8816.7354999999989,0,0,0,null,12689.79,10372.630000000001,null,10786.3215,8816.7355000000007]
[81,null,{"$f":"C1192*$K$4","v":10786.3215},8816.7354999999989,0,0,0,null,12689.79,10372.630000000001,null,10786.3215,8816.7355000000007]
[82,null,{"$f":"C1193*$K$4","v":10786.3215},8816.7354999999989,0,0,0,null,12689.79,10372.630000000001,null,10786.3215,8816.7355000000007]
[83,null,{"$f":"C1194*$K$4","v":10786.3215},8816.7354999999989,0,0,0,null,{"$f":"I1194*$K$4","v":12689.79},10372.630000000001,null,{"$f":"I1418*0.85","v":10786.3215},{"$f":"J1418*0.85","v":8816.7355000000007}]
[84,"o más",{"$f":"C1195*$K$4","v":10786.3215},8816.7354999999989,0,0,0,null,12689.79,10372.630000000001,null,10786.3215,8816.7355000000007]
[1,"Hijo",{"$f":"C1196*$K$4","v":511.76800000000003},401.846,0,0,0,null,602.08000000000004,472.76000000000005,null,{"$f":"I1420*0.85","v":511.76800000000003},{"$f":"J1420*0.85","v":401.846}]
[2,"Hijos",{"$f":"C1197*$K$4","v":868.56399999999996},682.50750000000005,0,0,0,null,1021.84,802.95,null,{"$f":"I1421*0.85","v":868.56399999999996},{"$f":"J1421*0.85","v":682.50750000000005}]
[3,"Hijos o más",{"$f":"C1198*$K$4","v":1226.7114999999999},962.26800000000003,0,0,0,null,1443.19,1132.0800000000002,null,1226.7115000000001,962.26800000000014]
[]
["BUPA GLOBAL ULTIMATE"]
["TARIFAS SEMESTRALES"]
["EDAD"]
[" "," ",0,1000,2000]
[18,null,{"$f":"C905*$K$4","v":12232.400000000001},{"$f":"D905*$K$4","v":7892.2300000000005},0,0,0]
[19,null,{"$f":"C906*$K$4","v":12232.400000000001},7892.2300000000005,0,154.14643750000002,0]
[20,null,12232.400000000001,7892.2300000000005,0,154.14643750000002,0]
[21,null,12232.400000000001,7892.2300000000005,0,154.14643750000002,0]
[22,null,12232.400000000001,7892.2300000000005,0,154.14643750000002,0]
[23,null,12232.400000000001,7892.2300000000005,0,154.14643750000002,0]
[24,null,12232.400000000001,7892.2300000000005,0,154.14643750000002,0]
[25,null,13113.79,8460.92,0,154.14643750000002,0]
[26,null,13113.79,8460.92,0,162.95296875000003,0]
[27,null,13113.79,8460.92,0,162.95296875000003,0]
[28,null,13113.79,8460.92,0,162.95296875000003,0]
[29,null,13113.79,8460.92,0,162.95296875000003,0]
[30,null,14634.36,9443.5400000000009,0,162.95296875000003,0]
[31,null,14634.36,9443.5400000000009,0,178.89471875000001,0]
[32,null,14634.36,9443.5400000000009,0,178.89471875000001,0]
[33,null,14634.36,9443.5400000000009,0,178.89471875000001,0]
[34,null,14634.36,9443.5400000000009,0,178.89471875000001,0]
[35,null,16369.58,10561.84,0,178.89471875000001,0]
[36,null,16369.58,10561.84,0,197.72912500000001,0]
[37,null,16369.58,10561.84,0,197.72912500000001,0]
[38,null,16369.58,10561.84,0,197.72912500000001,0]
[39,null,16369.58,10561.84,0,197.72912500000001,0]
[40,null,18960.22,12234.52,0,197.72912500000001,0]
[41,null,18960.22,12234.52,0,219.84187500000004,0]
[42,null,18960.22,12234.52,0,219.84187500000004,0]
[43,null,18960.22,12234.52,0,219.84187500000004,0]
[44,null,18960.22,12234.52,0,219.84187500000004,0]
[45,null,21220.14,13691.49,0,219.84187500000004,0]
[46,null,21220.14,13691.49,0,244.59015625000004,0]
[47,null,21220.14,13691.49,0,244.59015625000004,0]
[48,null,21220.14,13691.49,0,244.59015625000004,0]
[49,null,21220.14,13691.49,0,244.59015625000004,0]
[50,null,24513.030000000002,15815.2,0,244.59015625000004,0]
[51,null,24513.030000000002,15815.2,0,272.93818750000003,0]
[52,null,24513.030000000002,15815.2,0,272.93818750000003,0]
[53,null,24513.030000000002,15815.2,0,272.93818750000003,0]
[54,null,24513.030000000002,15815.2,0,272.93818750000003,0]
[55,null,27375.030000000002,17663.84,0,272.93818750000003,0]
[56,null,27375.030000000002,17663.84,0,304.30743750000011,0]
[57,null,27375.030000000002,17663.84,0,304.30743750000011,0]
[58,null,27375.030000000002,17663.84,0,304.30743750000011,0]
[59,null,27375.030000000002,17663.84,0,304.30743750000011,0]
[60,null,29275.08,18889.2,0,304.30743750000011,0]
[61,null,33082.6,21345.22,0,325.19884375000004,0]
[62,null,36696.14,23677.22,0,362.03200000000004,0]
[63,null,40574.15,26178.29,0,402.07921875000005,0]
[64,null,44714.51,28847.9,0,445.14765625000013,0]
[65,null,49117.75,31690.29,0,491.55871875000008,0]
[66,null,53783.340000000004,34698.04,0,541.18384375000005,0]
[67,null,58711.810000000005,37880.160000000003,0,593.95875000000012,0]
[68,null,63902.100000000006,41228.700000000004,0,650.07628125000008,0]
[69,null,69355.8,44746.840000000004,0,709.21503125000004,0]
[70,null,75072.91,48436.170000000006,0,771.63212500000009,0]
[71,null,81053.430000000008,52294.04,0,837.19900000000007,0]
[72,null,87295.77,56320.450000000004,0,906.10850000000016,0]
[73,null,93803.64,60518.05,0,978.10350000000017,0]
[74,null,100568.56000000001,64883.130000000005,0,1053.3125625000002,0]
[75,null,107600.07,69422.05,0,1131.7999687500003,0]
[76,null,107600.07,69422.05,0,1213.5014375000001,0]
[77,null,107600.07,69422.05,0,1213.5014375000001,0]
[78,null,107600.07,69422.05,0,1213.5014375000001,0]
[79,null,107600.07,69422.05,0,1213.5014375000001,0]
[80,null,107600.07,69422.05,0,1213.5014375000001,0]
[81,null,107600.07,69422.05,0,1213.5014375000001,0]
[82,null,107600.07,69422.05,0,1213.5014375000001,0]
[83,null,{"$f":"C970*$K$4","v":107600.07},69422.05,0,1213.5014375000001,0]
[84,"o más",107600.07,69422.05,0,1213.5014375000001,0]
[1,"Hijo",5145.2400000000007,3320.98,0,1213.5014375000001,0]
[2,"Hijos",8746.59,5643.97,0,65.952562500000013,0]
[3,"Hijos o más",12346.35,7968.02,0,112.1065,0]