{"text_format":"1","workbook":"xlsx","n_sheets":5,"sheets":["INGRESO DE DATOS","Bupa Global Premier","Bupa Global Select","Resumen tarifas","Tablas"],"not_rendered":{"charts":0,"images":12,"macros":1,"external_links":0,"defined_names":0,"comments":1,"pivot_tables":0},"unopened":[],"bounds":{"document_bytes":16777216,"sheet_cells":100000,"rows_first":2000,"rows_last":500,"rows_between":2000,"halvings":0,"cell_chars":16384,"cell_head_chars":4096},"cells_cut":0,"cells_raw":0,"read":"whole","date_system":"1900"}

{"sheet":"INGRESO DE DATOS","index":0,"n_rows":44,"n_cols":9,"rows_kept":44,"cut":false,"hidden":false,"merged":[[41,3,41,4],[41,6,41,7],[10,0,10,12],[18,5,18,6],[14,1,14,2],[16,1,16,2],[14,3,14,7],[16,5,16,6],[18,1,18,2]]}
[]
[null,null,null,null,null,null,null," "," "]
[]
[]
[]
[null,null,null,null,null,null,null," "," "]
[]
[]
[]
[]
[]
[]
["1. LLENE LA INFORMACIÓN DEL ASEGURADO PROPUESTO:"]
[]
[null,"Nombre del Asegurado Titular",null,"NOMBRE DEL CLIENTE"]
[]
[null,"Número de adultos en la póliza",null,1,null,"Número de niños en la póliza",null,0]
[]
[null,"Edad del Asegurado Titular",null,29,null,"Edad del/la cónyuge ",null,46]
[]
[null,null,null,null,null,null,"Variante con coaseguro fuera del país de residencia",false]
[]
["2. SELECCIONE EL PRODUCTO PARA VER LA COTIZACIÓN CORRESPONDIENTE: "]
[]
[]
[]
[]
[]
[]
[]
[]
[]
[]
[]
[]
[]
[]
[]
[]
[]
[]
[]
[]
[null,1,null,1]

{"sheet":"Bupa Global Premier","index":1,"n_rows":85,"n_cols":10,"rows_kept":85,"cut":false,"hidden":false,"merged":[[20,0,20,9],[46,1,47,1],[46,0,47,0],[22,0,22,1],[28,5,28,6],[28,7,28,8],[22,3,22,4],[24,3,24,4],[26,3,26,4],[22,5,22,8],[39,4,39,5],[75,4,75,5],[77,4,77,5],[84,4,84,9],[50,4,50,5],[63,4,63,5],[76,4,76,5],[62,4,62,5],[64,4,64,5]]}
[]
[]
[null,null,null,null,null,null,null," "," "," "]
[]
[]
[]
[null,null,null,null,null,null,null," "," "," "]
[]
[]
[]
[]
[]
[]
[]
[]
[]
[]
[]
[]
[]
[]
[]
["Global Premier Health Plan",null,null,"Nombre del Asegurado Titular",null,{"$f":"+'INGRESO DE DATOS'!$D$15","v":"NOMBRE DEL CLIENTE"}]
[]
[null,null,null,"Número de adultos en la póliza",null,{"$f":"+'INGRESO DE DATOS'!$D$17","v":1},null,"Edad del Asegurado Titular",{"$f":"+'INGRESO DE DATOS'!$D$19","v":29}]
[]
[null,null,null,"Número de niños en la póliza",null,{"$f":"+'INGRESO DE DATOS'!$H$17","v":0},null,"Edad del/la conyuge",{"$f":"+'INGRESO DE DATOS'!$H$19","v":46}]
[null,null,null,null,null,null,null," "," "]
[null,null,null,null,null,"Fecha de la cotización ::",null,{"$f":"NOW()","v":"2023-03-27T16:19:20.400"}]
[null,null,null,null,null,null," ",false,null," "]
[null,null,null,null,"Deducibles",null,"PLAN 1","PLAN 2","PLAN 3","PLAN 4"]
[null,null,null,null,"En el país de residencia",null,2000,3500,5000,10000]
[null,null,null,null,"Fuera del país de residencia",null,2000,3500,5000,10000]
[]
[null,null,null,null,"Tarifas anuales"]
[null,null,null,null,"Prima para Asegurado Titular",null,{"$f":"VLOOKUP($I$25,Tablas!$A$155:$G$221,3,TRUE)","v":3872.96},{"$f":"VLOOKUP($I$25,Tablas!$A$155:$G$221,4,TRUE)","v":3233.04},{"$f":"VLOOKUP($I$25,Tablas!$A$155:$G$221,5,TRUE)","v":2772.48},{"$f":"VLOOKUP($I$25,Tablas!$A$155:$G$221,6,TRUE)","v":2062.64}]
[null,null,null,null,"Prima para conyuge",null,{"$f":"IF($F$25=1,0,(VLOOKUP($I$27,Tablas!$A$155:$G$221,3,TRUE)))","v":0},{"$f":"IF($F$25=1,0,(VLOOKUP($I$27,Tablas!$A$155:$G$221,4,TRUE)))","v":0},{"$f":"IF($F$25=1,0,(VLOOKUP($I$27,Tablas!$A$155:$G$221,5,TRUE)))","v":0},{"$f":"IF($F$25=1,0,(VLOOKUP($I$27,Tablas!$A$155:$G$221,6,TRUE)))","v":0}]
[null,null,null,null,"Prima para hijo (s)",null,{"$f":"IF($F$27=0,0,(VLOOKUP($F$27,Tablas!$A$222:$G$224,3,TRUE)))","v":0},{"$f":"IF($F$27=0,0,(VLOOKUP($F$27,Tablas!$A$222:$G$224,4,TRUE)))","v":0},{"$f":"IF($F$27=0,0,(VLOOKUP($F$27,Tablas!$A$222:$G$224,5,TRUE)))","v":0},{"$f":"IF($F$27=0,0,(VLOOKUP($F$27,Tablas!$A$222:$G$224,6,TRUE)))","v":0}]
[null,null,null,null,"Total de Prima neta",null,{"$f":"SUM(G36:G38)","v":3872.96},{"$f":"SUM(H36:H38)","v":3233.04},2772.48,2062.64]
[null,null,null,null,"Ajuste por la variante con coaseguro fuera\n del país de residencia",null,{"$f":"IF('INGRESO DE DATOS'!$H$21,G39*-15%,0)","v":0},{"$f":"IF('INGRESO DE DATOS'!$H$21,H39*-15%,0)","v":0},{"$f":"IF('INGRESO DE DATOS'!$H$21,I39*-15%,0)","v":0},{"$f":"IF('INGRESO DE DATOS'!$H$21,J39*-15%,0)","v":0}]
[null,null,null,null,"Tarifa administrativa anual",null,75,75,75,75]
[null,null,null,null,"VAT (5%) :",null,{"$f":"(G39+G40)*5%","v":193.64800000000002},{"$f":"(H39+H40)*5%","v":161.65200000000002},138.624,103.13200000000001]
[null,null,null,null,"ITBMS (7%)",null,{"$f":"+G41*7%","v":5.2500000000000009},{"$f":"+H41*7%","v":5.2500000000000009},5.2500000000000009,5.2500000000000009]
[null,null,null,null,"TOTAL ANUAL",null,{"$f":"SUM(G39:G43)","v":4146.8580000000002},{"$f":"SUM(H39:H43)","v":3474.942},2991.3539999999998,{"$f":"SUM(J39:J43)","v":2246.0219999999999}]
[]
[null,null,null,null,"Tarifas semi anuales"]
[null,null,null,null,"Prima para Asegurado Titular",null,{"$f":"VLOOKUP($I$25,Tablas!$A$530:$G$596,3,TRUE)","v":2052.6687999999999},{"$f":"VLOOKUP($I$25,Tablas!$A$530:$G$596,4,TRUE)","v":1713.5112000000001},{"$f":"VLOOKUP($I$25,Tablas!$A$530:$G$596,5,TRUE)","v":1469.4144000000001},{"$f":"VLOOKUP($I$25,Tablas!$A$530:$G$596,6,TRUE)","v":1093.1992}]
[null,null,null,null,"Prima para conyuge",null,{"$f":"IF($F$25=1,0,(VLOOKUP($I$27,Tablas!$A$530:$G$596,3,TRUE)))","v":0},{"$f":"IF($F$25=1,0,(VLOOKUP($I$27,Tablas!$A$530:$G$596,4,TRUE)))","v":0},{"$f":"IF($F$25=1,0,(VLOOKUP($I$27,Tablas!$A$530:$G$596,5,TRUE)))","v":0},{"$f":"IF($F$25=1,0,(VLOOKUP($I$27,Tablas!$A$530:$G$596,6,TRUE)))","v":0}]
[null,null,null,null,"Prima para hijo (s)",null,{"$f":"IF($F$27=0,0,(VLOOKUP($F$27,Tablas!$A$597:$G$599,3,TRUE)))","v":0},{"$f":"IF($F$27=0,0,(VLOOKUP($F$27,Tablas!$A$597:$G$599,4,TRUE)))","v":0},{"$f":"IF($F$27=0,0,(VLOOKUP($F$27,Tablas!$A$597:$G$599,5,TRUE)))","v":0},{"$f":"IF($F$27=0,0,(VLOOKUP($F$27,Tablas!$A$597:$G$599,6,TRUE)))","v":0}]
[null,null,null,null,"Total de Prima neta",null,{"$f":"SUM(G47:G49)","v":2052.6687999999999},{"$f":"SUM(H47:H49)","v":1713.5112000000001},1469.4144000000001,1093.1992]
[null,null,null,null,"Ajuste por la variante con coaseguro fuera\n del país de residencia",null,{"$f":"IF('INGRESO DE DATOS'!$H$21,G50*-15%,0)","v":0},{"$f":"IF('INGRESO DE DATOS'!$H$21,H50*-15%,0)","v":0},{"$f":"IF('INGRESO DE DATOS'!$H$21,I50*-15%,0)","v":0},{"$f":"IF('INGRESO DE DATOS'!$H$21,J50*-15%,0)","v":0}]
[null,null,null,null,"Tarifa administrativa anual",null,75,75,75,75]
[null,null,null,null,"VAT (5%) :",null,{"$f":"(G36+G37+G38+G40)*5%/2","v":96.824000000000012},{"$f":"(H36+H37+H38+H40)*5%/2","v":80.826000000000008},69.311999999999998,51.566000000000003]
[null,null,null,null,"ITBMS (7%)",null,{"$f":"+G52*7%+ ((G36+G37+G38+G40)*0.06*0.07)/2","v":13.383216000000001},{"$f":"+H52*7%+ ((H36+H37+H38+H40)*0.06*0.07)/2","v":12.039384000000002},11.072208,9.5815440000000009]
[null,null,null,null,"TOTAL de primera cuota",null,{"$f":"SUM(G50:G54)","v":2237.8760160000002},{"$f":"SUM(H50:H54)","v":1881.3765840000001},1624.7986080000001,1229.3467439999999]
[null,null,null,null,"Costo de segunda cuota",null,{"$f":"((G50+G51)+ G53)+ ((G36+G37+G38+G40)*0.06*0.07)/2","v":2157.6260160000002},{"$f":"((H50+H51)+ H53)+ ((H36+H37+H38+H40)*0.06*0.07)/2","v":1801.1265840000001},1544.5486080000001,1149.0967439999999]
[null,null,null,null,"TOTAL ANUAL",null,{"$f":"G55+G56","v":4395.5020320000003},{"$f":"H55+H56","v":3682.5031680000002},3169.3472160000001,{"$f":"J55+J56","v":2378.4434879999999}]
[]
[null,null,null,null,"Tarifas trimestrales"]
[null,null,null,null,"Prima para Asegurado Titular",null,{"$f":"VLOOKUP($I$25,Tablas!$A$755:$G$821,3,TRUE)","v":1065.0640000000001},{"$f":"VLOOKUP($I$25,Tablas!$A$755:$G$821,4,TRUE)","v":889.08600000000001},{"$f":"VLOOKUP($I$25,Tablas!$A$755:$G$821,5,TRUE)","v":762.43200000000002},{"$f":"VLOOKUP($I$25,Tablas!$A$755:$G$821,6,TRUE)","v":567.226}]
[null,null,null,null,"Prima para conyuge",null,{"$f":"IF($F$25=1,0,(VLOOKUP($I$27,Tablas!$A$755:$G$821,3,TRUE)))","v":0},{"$f":"IF($F$25=1,0,(VLOOKUP($I$27,Tablas!$A$755:$G$821,4,TRUE)))","v":0},{"$f":"IF($F$25=1,0,(VLOOKUP($I$27,Tablas!$A$755:$G$821,5,TRUE)))","v":0},{"$f":"IF($F$25=1,0,(VLOOKUP($I$27,Tablas!$A$755:$G$821,6,TRUE)))","v":0}]
[null,null,null,null,"Prima para hijo (s)",null,{"$f":"IF($F$27=0,0,(VLOOKUP($F$27,Tablas!$A$822:$G$824,3,TRUE)))","v":0},{"$f":"IF($F$27=0,0,(VLOOKUP($F$27,Tablas!$A$822:$G$824,4,TRUE)))","v":0},{"$f":"IF($F$27=0,0,(VLOOKUP($F$27,Tablas!$A$822:$G$824,5,TRUE)))","v":0},{"$f":"IF($F$27=0,0,(VLOOKUP($F$27,Tablas!$A$822:$G$824,6,TRUE)))","v":0}]
[null,null,null,null,"Total de Prima neta",null,{"$f":"SUM(G60:G62)","v":1065.0640000000001},{"$f":"SUM(H60:H62)","v":889.08600000000001},762.43200000000002,567.226]
[null,null,null,null,"Ajuste por la variante con coaseguro fuera\n del país de residencia",null,{"$f":"IF('INGRESO DE DATOS'!$H$21,G63*-15%,0)","v":0},{"$f":"IF('INGRESO DE DATOS'!$H$21,H63*-15%,0)","v":0},{"$f":"IF('INGRESO DE DATOS'!$H$21,I63*-15%,0)","v":0},{"$f":"IF('INGRESO DE DATOS'!$H$21,J63*-15%,0)","v":0}]
[null,null,null,null,"Tarifa administrativa anual",null,75,75,75,75]
[null,null,null,null,"VAT (5%) :",null,{"$f":"(G36+G37+G38+G40)*5%/4","v":48.412000000000006},{"$f":"(H36+H37+H38+H40)*5%/4","v":40.413000000000004},34.655999999999999,25.783000000000001]
[null,null,null,null,"ITBMS (7%)",null,{"$f":"+G65*7% + ((G36+G37+G38+G40)*0.1*0.07)/4","v":12.027680000000004},{"$f":"+H65*7% + ((H36+H37+H38+H40)*0.1*0.07)/4","v":10.907820000000001},10.101840000000001,8.8596200000000014]
[null,null,null,null,"TOTAL de primera cuota",null,{"$f":"SUM(G63:G67)","v":1200.50368},{"$f":"SUM(H63:H67)","v":1015.40682},882.18984,676.86861999999996]
[null,null,null,null,"Costo de tarifa trimestral 2 a 4",null,{"$f":"((G63+G64)+ G66)+((G36+G37+G38+G40)*0.1*0.07)/4","v":1120.25368},{"$f":"((H63+H64)+ H66)+((H36+H37+H38+H40)*0.1*0.07)/4","v":935.15682000000004},801.93984,596.61861999999996]
[null,null,null,null,"TOTAL ANUAL",null,{"$f":"G68+(G69*3)","v":4561.2647200000001},{"$f":"H68+(H69*3)","v":3820.8772800000002},3288.00936,{"$f":"J68+(J69*3)","v":2466.7244799999999}]
[]
[null,null,null,null,"Tarifas mensuales"]
[null,null,null,null,"Prima para Asegurado Titular",null,{"$f":"VLOOKUP($I$25,Tablas!$A$229:$G$295,3,TRUE)","v":361.47626666666667},{"$f":"VLOOKUP($I$25,Tablas!$A$229:$G$295,4,TRUE)","v":301.75040000000001},{"$f":"VLOOKUP($I$25,Tablas!$A$229:$G$295,5,TRUE)","v":258.76480000000004},{"$f":"VLOOKUP($I$25,Tablas!$A$229:$G$295,6,TRUE)","v":192.51306666666667}]
[null,null,null,null,"Prima para conyuge",null,{"$f":"IF($F$25=1,0,(VLOOKUP($I$27,Tablas!$A$229:$G$295,3,TRUE)))","v":0},{"$f":"IF($F$25=1,0,(VLOOKUP($I$27,Tablas!$A$229:$G$295,4,TRUE)))","v":0},{"$f":"IF($F$25=1,0,(VLOOKUP($I$27,Tablas!$A$229:$G$295,5,TRUE)))","v":0},{"$f":"IF($F$25=1,0,(VLOOKUP($I$27,Tablas!$A$229:$G$295,6,TRUE)))","v":0}]
[null,null,null,null,"Prima para hijo (s)",null,{"$f":"IF($F$27=0,0,(VLOOKUP($F$27,Tablas!$A$296:$G$298,3,TRUE)))","v":0},{"$f":"IF($F$27=0,0,(VLOOKUP($F$27,Tablas!$A$296:$G$298,4,TRUE)))","v":0},{"$f":"IF($F$27=0,0,(VLOOKUP($F$27,Tablas!$A$296:$G$298,5,TRUE)))","v":0},{"$f":"IF($F$27=0,0,(VLOOKUP($F$27,Tablas!$A$296:$G$298,6,TRUE)))","v":0}]
[null,null,null,null,"Total de Prima neta",null,{"$f":"SUM(G73:G75)","v":361.47626666666667},{"$f":"SUM(H73:H75)","v":301.75040000000001},258.76480000000004,192.51306666666667]
[null,null,null,null,"Ajuste por la variante con coaseguro fuera\n del país de residencia",null,{"$f":"IF('INGRESO DE DATOS'!$H$21,G76*-15%,0)","v":0},{"$f":"IF('INGRESO DE DATOS'!$H$21,H76*-15%,0)","v":0},{"$f":"IF('INGRESO DE DATOS'!$H$21,I76*-15%,0)","v":0},{"$f":"IF('INGRESO DE DATOS'!$H$21,J76*-15%,0)","v":0}]
[null,null,null,null,"Tarifa administrativa anual",null,75,75,75,75]
[null,null,null,null,"VAT (5%) :",null,{"$f":"(G36+G37+G38+G40)*5%/12","v":16.137333333333334},{"$f":"(H36+H37+H38+H40)*5%/12","v":13.471000000000002},11.552,8.5943333333333332]
[null,null,null,null,"ITBMS (7%)",null,{"$f":"G78*7% + ((G36+G37+G38+G40)*0.12*0.07)/12","v":7.9610720000000015},{"$f":"H78*7% + ((H36+H37+H38+H40)*0.12*0.07)/12","v":7.5131280000000009},7.1907360000000011,6.6938480000000009]
[null,null,null,null,"TOTAL de primera cuota",null,{"$f":"SUM(G76:G80)","v":460.57467200000002},{"$f":"SUM(H76:H80)","v":397.73452800000001},352.50753600000007,282.80124799999999]
[null,null,null,null,"Costo de Tarifa mensual de 2 a 12",null,{"$f":"((G76 + G77)+G79)+((G36+G37+G38+G40)*0.12*0.07)/12","v":380.32467200000002},{"$f":"((H76 + H77)+H79)+((H36+H37+H38+H40)*0.12*0.07)/12","v":317.48452800000001},272.25753600000007,202.55124800000002]
[null,null,null,null,"TOTAL ANUAL",null,{"$f":"G81+(G82*11)","v":4644.1460639999996},{"$f":"H81+(H82*11)","v":3890.0643359999999},3347.3404320000009,{"$f":"J81+(J82*11)","v":2510.8649759999998}]
[]
[null,null,null,null,"Tarifas en US$ -  Efectivas a partir del 1ro de Enero, 2020"]

{"sheet":"Bupa Global Select","index":2,"n_rows":85,"n_cols":10,"rows_kept":85,"cut":false,"hidden":false,"merged":[[50,4,50,5],[63,4,63,5],[76,4,76,5],[26,3,26,4],[46,1,47,1],[46,0,47,0],[20,0,20,9],[22,0,22,1],[28,5,28,6],[28,7,28,8],[22,3,22,4],[24,3,24,4],[22,5,22,8],[39,4,39,5],[84,4,84,9],[62,4,62,5],[64,4,64,5],[75,4,75,5],[77,4,77,5]]}
[]
[]
[null,null,null,null,null,null,null," "," "," "]
[]
[]
[]
[null,null,null,null,null,null,null," "," "," "]
[]
[]
[]
[]
[]
[]
[]
[]
[]
[]
[]
[]
[]
[]
[]
["Bupa Global Select Health Plan",null,null,"Nombre del Asegurado Titular",null,{"$f":"+'INGRESO DE DATOS'!$D$15","v":"NOMBRE DEL CLIENTE"}]
[]
[null,null,null,"Número de adultos en la póliza",null,{"$f":"+'INGRESO DE DATOS'!$D$17","v":1},null,"Edad del Asegurado Titular",{"$f":"+'INGRESO DE DATOS'!$D$19","v":29}]
[]
[null,null,null,"Número de niños en la póliza",null,{"$f":"+'INGRESO DE DATOS'!$H$17","v":0},null,"Edad del/la conyuge",{"$f":"+'INGRESO DE DATOS'!$H$19","v":46}]
[null,null,null,null,null,null,null," "," "]
[null,null,null,null,null,"Fecha de la cotización:",null,{"$f":"NOW()","v":"2023-03-27T16:19:20.400"}]
[null,null,null,null,null,null," ",false,null," "]
[null,null,null,null,"Deducibles",null,"PLAN 1","PLAN 2","PLAN 3","PLAN 4"]
[null,null,null,null,"En el país de residencia",null,2000,3500,5000,10000]
[null,null,null,null,"Fuera del país de residencia",null,2000,3500,5000,10000]
[]
[null,null,null,null,"Tarifas anuales"]
[null,null,null,null,"Prima para Asegurado Titular",null,{"$f":"VLOOKUP($I$25,Tablas!$A$305:$G$371,3,TRUE)","v":2669.12},{"$f":"VLOOKUP($I$25,Tablas!$A$305:$G$371,4,TRUE)","v":2233.64},{"$f":"VLOOKUP($I$25,Tablas!$A$305:$G$371,5,TRUE)","v":1997.28},{"$f":"VLOOKUP($I$25,Tablas!$A$305:$G$371,6,TRUE)","v":1485.8}]
[null,null,null,null,"Prima para conyuge",null,{"$f":"IF($F$25=1,0,(VLOOKUP($I$27,Tablas!$A$305:$G$371,3,TRUE)))","v":0},{"$f":"IF($F$25=1,0,(VLOOKUP($I$27,Tablas!$A$305:$G$371,4,TRUE)))","v":0},{"$f":"IF($F$25=1,0,(VLOOKUP($I$27,Tablas!$A$305:$G$371,5,TRUE)))","v":0},{"$f":"IF($F$25=1,0,(VLOOKUP($I$27,Tablas!$A$305:$G$371,6,TRUE)))","v":0}]
[null,null,null,null,"Prima para hijo (s)",null,{"$f":"IF($F$27=0,0,(VLOOKUP($F$27,Tablas!$A$372:$G$374,3,TRUE)))","v":0},{"$f":"IF($F$27=0,0,(VLOOKUP($F$27,Tablas!$A$372:$G$374,4,TRUE)))","v":0},{"$f":"IF($F$27=0,0,(VLOOKUP($F$27,Tablas!$A$372:$G$374,5,TRUE)))","v":0},{"$f":"IF($F$27=0,0,(VLOOKUP($F$27,Tablas!$A$372:$G$374,6,TRUE)))","v":0}]
[null,null,null,null,"Total de Prima neta",null,{"$f":"SUM(G36:G38)","v":2669.12},{"$f":"SUM(H36:H38)","v":2233.64},1997.28,1485.8]
[null,null,null,null,"Ajuste por la variante con coaseguro fuera\n del país de residencia",null,{"$f":"IF('INGRESO DE DATOS'!$H$21,G39*-15%,0)","v":0},{"$f":"IF('INGRESO DE DATOS'!$H$21,H39*-15%,0)","v":0},{"$f":"IF('INGRESO DE DATOS'!$H$21,I39*-15%,0)","v":0},{"$f":"IF('INGRESO DE DATOS'!$H$21,J39*-15%,0)","v":0}]
[null,null,null,null,"Tarifa administrativa anual",null,75,75,75,75]
[null,null,null,null,"VAT (5%) :",null,{"$f":"(G39+G40)*5%","v":133.45599999999999},{"$f":"(H39+H40)*5%","v":111.682},99.864000000000004,74.290000000000006]
[null,null,null,null,"ITBMS (7%)",null,{"$f":"+G41*7%","v":5.2500000000000009},{"$f":"+H41*7%","v":5.2500000000000009},5.2500000000000009,5.2500000000000009]
[null,null,null,null,"TOTAL ANUAL",null,{"$f":"SUM(G39:G43)","v":2882.826},{"$f":"SUM(H39:H43)","v":2425.5719999999997},2177.3939999999998,{"$f":"SUM(J39:J43)","v":1640.34}]
[]
[null,null,null,null,"Tarifas semi anuales"]
[null,null,null,null,"Prima para Asegurado Titular",null,{"$f":"VLOOKUP($I$25,Tablas!$A$605:$G$671,3,TRUE)","v":1414.6336000000001},{"$f":"VLOOKUP($I$25,Tablas!$A$605:$G$671,4,TRUE)","v":1183.8291999999999},{"$f":"VLOOKUP($I$25,Tablas!$A$605:$G$671,5,TRUE)","v":1058.5584000000001},{"$f":"VLOOKUP($I$25,Tablas!$A$605:$G$671,6,TRUE)","v":787.47400000000005}]
[null,null,null,null,"Prima para conyuge",null,{"$f":"IF($F$25=1,0,(VLOOKUP($I$27,Tablas!$A$605:$G$671,3,TRUE)))","v":0},{"$f":"IF($F$25=1,0,(VLOOKUP($I$27,Tablas!$A$605:$G$671,4,TRUE)))","v":0},{"$f":"IF($F$25=1,0,(VLOOKUP($I$27,Tablas!$A$605:$G$671,5,TRUE)))","v":0},{"$f":"IF($F$25=1,0,(VLOOKUP($I$27,Tablas!$A$605:$G$671,6,TRUE)))","v":0}]
[null,null,null,null,"Prima para hijo (s)",null,{"$f":"IF($F$27=0,0,(VLOOKUP($F$27,Tablas!$A$672:$G$674,3,TRUE)))","v":0},{"$f":"IF($F$27=0,0,(VLOOKUP($F$27,Tablas!$A$672:$G$674,4,TRUE)))","v":0},{"$f":"IF($F$27=0,0,(VLOOKUP($F$27,Tablas!$A$672:$G$674,5,TRUE)))","v":0},{"$f":"IF($F$27=0,0,(VLOOKUP($F$27,Tablas!$A$672:$G$674,6,TRUE)))","v":0}]
[null,null,null,null,"Total de Prima neta",null,{"$f":"SUM(G47:G49)","v":1414.6336000000001},{"$f":"SUM(H47:H49)","v":1183.8291999999999},1058.5584000000001,787.47400000000005]
[null,null,null,null,"Ajuste por la variante con coaseguro fuera\n del país de residencia",null,{"$f":"IF('INGRESO DE DATOS'!$H$21,G50*-15%,0)","v":0},{"$f":"IF('INGRESO DE DATOS'!$H$21,H50*-15%,0)","v":0},{"$f":"IF('INGRESO DE DATOS'!$H$21,I50*-15%,0)","v":0},{"$f":"IF('INGRESO DE DATOS'!$H$21,J50*-15%,0)","v":0}]
[null,null,null,null,"Tarifa administrativa anual",null,75,75,75,75]
[null,null,null,null,"VAT (5%) :",null,{"$f":"(G36+G37+G38+G40)*5%/2","v":66.727999999999994},{"$f":"(H36+H37+H38+H40)*5%/2","v":55.841000000000001},49.932000000000002,37.145000000000003]
[null,null,null,null,"ITBMS (7%)",null,{"$f":"G52*7% + ((G36+G37+G38+G40)*0.06*0.07)/2","v":10.855152},{"$f":"H52*7% + ((H36+H37+H38+H40)*0.06*0.07)/2","v":9.9406440000000007},9.4442880000000002,8.3701800000000013]
[null,null,null,null,"TOTAL de primera cuota",null,{"$f":"SUM(G50:G54)","v":1567.2167520000003},{"$f":"SUM(H50:H54)","v":1324.6108439999998},1192.9346880000001,907.98918000000003]
[null,null,null,null,"Costo de segunda cuota",null,{"$f":"(G50+G51)+G53+((G36+G37+G38+G40)*0.06*0.07)/2","v":1486.9667520000003},{"$f":"(H50+H51)+H53+((H36+H37+H38+H40)*0.06*0.07)/2","v":1244.3608439999998},1112.6846880000001,827.73918000000003]
[null,null,null,null,"TOTAL ANUAL",null,{"$f":"G55+G56","v":3054.1835040000005},{"$f":"H55+H56","v":2568.9716879999996},2305.6193760000001,{"$f":"J55+J56","v":1735.7283600000001}]
[]
[null,null,null,null,"Tarifas trimestrales"]
[null,null,null,null,"Prima para Asegurado Titular",null,{"$f":"VLOOKUP($I$25,Tablas!$A$830:$G$896,3,TRUE)","v":734.00800000000004},{"$f":"VLOOKUP($I$25,Tablas!$A$830:$G$896,4,TRUE)","v":614.25099999999998},{"$f":"VLOOKUP($I$25,Tablas!$A$830:$G$896,5,TRUE)","v":549.25200000000007},{"$f":"VLOOKUP($I$25,Tablas!$A$830:$G$896,6,TRUE)","v":408.59500000000003}]
[null,null,null,null,"Prima para conyuge",null,{"$f":"IF($F$25=1,0,(VLOOKUP($I$27,Tablas!$A$830:$G$896,3,TRUE)))","v":0},{"$f":"IF($F$25=1,0,(VLOOKUP($I$27,Tablas!$A$830:$G$896,4,TRUE)))","v":0},{"$f":"IF($F$25=1,0,(VLOOKUP($I$27,Tablas!$A$830:$G$896,5,TRUE)))","v":0},{"$f":"IF($F$25=1,0,(VLOOKUP($I$27,Tablas!$A$830:$G$896,6,TRUE)))","v":0}]
[null,null,null,null,"Prima para hijo (s)",null,{"$f":"IF($F$27=0,0,(VLOOKUP($F$27,Tablas!$A$897:$G$899,3,TRUE)))","v":0},{"$f":"IF($F$27=0,0,(VLOOKUP($F$27,Tablas!$A$897:$G$899,4,TRUE)))","v":0},{"$f":"IF($F$27=0,0,(VLOOKUP($F$27,Tablas!$A$897:$G$899,5,TRUE)))","v":0},{"$f":"IF($F$27=0,0,(VLOOKUP($F$27,Tablas!$A$897:$G$899,6,TRUE)))","v":0}]
[null,null,null,null,"Total de Prima neta",null,{"$f":"SUM(G60:G62)","v":734.00800000000004},{"$f":"SUM(H60:H62)","v":614.25099999999998},549.25200000000007,408.59500000000003]
[null,null,null,null,"Ajuste por la variante con coaseguro fuera\n del país de residencia",null,{"$f":"IF('INGRESO DE DATOS'!$H$21,G63*-15%,0)","v":0},{"$f":"IF('INGRESO DE DATOS'!$H$21,H63*-15%,0)","v":0},{"$f":"IF('INGRESO DE DATOS'!$H$21,I63*-15%,0)","v":0},{"$f":"IF('INGRESO DE DATOS'!$H$21,J63*-15%,0)","v":0}]
[null,null,null,null,"Tarifa administrativa anual",null,75,75,75,75]
[null,null,null,null,"VAT (5%) :",null,{"$f":"(G36+G37+G38+G40)*5%/4","v":33.363999999999997},{"$f":"(H36+H37+H38+H40)*5%/4","v":27.920500000000001},24.966000000000001,18.572500000000002]
[null,null,null,null,"ITBMS (7%)",null,{"$f":"+G65*7%+ ((G36+G37+G38+G40)*0.1*0.07)/4","v":9.9209600000000009},{"$f":"+H65*7%+ ((H36+H37+H38+H40)*0.1*0.07)/4","v":9.1588700000000003},8.7452400000000008,7.8501500000000011]
[null,null,null,null,"TOTAL de primera cuota",null,{"$f":"SUM(G63:G67)","v":852.29296000000011},{"$f":"SUM(H63:H67)","v":726.3303699999999},657.96324000000004,510.01765]
[null,null,null,null,"Costo de tarifa trimestral 2 a 4",null,{"$f":"(G63+G64)+G66+((G36+G37+G38+G40)*0.1*0.07)/4","v":772.04296000000011},{"$f":"(H63+H64)+H66+((H36+H37+H38+H40)*0.1*0.07)/4","v":646.0803699999999},577.71324000000004,429.76765]
[null,null,null,null,"TOTAL ANUAL",null,{"$f":"G68+(G69*3)","v":3168.4218400000004},{"$f":"H68+(H69*3)","v":2664.5714799999996},2391.1029600000002,{"$f":"J68+(J69*3)","v":1799.3206}]
[]
[null,null,null,null,"Tarifas mensuales"]
[null,null,null,null,"Prima para Asegurado Titular",null,{"$f":"VLOOKUP($I$25,Tablas!$A$379:$G$445,3,TRUE)","v":249.11786666666666},{"$f":"VLOOKUP($I$25,Tablas!$A$379:$G$445,4,TRUE)","v":208.47306666666665},{"$f":"VLOOKUP($I$25,Tablas!$A$379:$G$445,5,TRUE)","v":186.4128},{"$f":"VLOOKUP($I$25,Tablas!$A$379:$G$445,6,TRUE)","v":138.67466666666667}]
[null,null,null,null,"Prima para conyuge",null,{"$f":"IF($F$25=1,0,(VLOOKUP($I$27,Tablas!$A$379:$G$445,3,TRUE)))","v":0},{"$f":"IF($F$25=1,0,(VLOOKUP($I$27,Tablas!$A$379:$G$445,4,TRUE)))","v":0},{"$f":"IF($F$25=1,0,(VLOOKUP($I$27,Tablas!$A$379:$G$445,5,TRUE)))","v":0},{"$f":"IF($F$25=1,0,(VLOOKUP($I$27,Tablas!$A$379:$G$445,6,TRUE)))","v":0}]
[null,null,null,null,"Prima para hijo (s)",null,{"$f":"IF($F$27=0,0,(VLOOKUP($F$27,Tablas!$A$446:$G$448,3,TRUE)))","v":0},{"$f":"IF($F$27=0,0,(VLOOKUP($F$27,Tablas!$A$446:$G$448,4,TRUE)))","v":0},{"$f":"IF($F$27=0,0,(VLOOKUP($F$27,Tablas!$A$446:$G$448,5,TRUE)))","v":0},{"$f":"IF($F$27=0,0,(VLOOKUP($F$27,Tablas!$A$446:$G$448,6,TRUE)))","v":0}]
[null,null,null,null,"Total de Prima neta",null,{"$f":"SUM(G73:G75)","v":249.11786666666666},{"$f":"SUM(H73:H75)","v":208.47306666666665},186.4128,138.67466666666667]
[null,null,null,null,"Ajuste por la variante con coaseguro fuera\n del país de residencia",null,{"$f":"IF('INGRESO DE DATOS'!$H$21,G76*-15%,0)","v":0},{"$f":"IF('INGRESO DE DATOS'!$H$21,H76*-15%,0)","v":0},{"$f":"IF('INGRESO DE DATOS'!$H$21,I76*-15%,0)","v":0},{"$f":"IF('INGRESO DE DATOS'!$H$21,J76*-15%,0)","v":0}]
[null,null,null,null,"Tarifa administrativa anual",null,75,75,75,75]
[null,null,null,null,"VAT (5%) :",null,{"$f":"(G36+G37+G38+G40)*5%/12","v":11.121333333333332},{"$f":"(H36+H37+H38+H40)*5%/12","v":9.3068333333333335},8.322000000000001,6.1908333333333339]
[null,null,null,null,"ITBMS (7%)",null,{"$f":"+G78*7% + ((G36+G37+G38+G40)*0.12*0.07)/12","v":7.1183840000000007},{"$f":"+H78*7% + ((H36+H37+H38+H40)*0.12*0.07)/12","v":6.8135480000000008},6.6480960000000007,6.2900600000000004]
[null,null,null,null,"TOTAL de primera cuota",null,{"$f":"SUM(G76:G80)","v":342.35758399999997},{"$f":"SUM(H76:H80)","v":299.59344800000002},276.38289600000002,226.15556000000001]
[null,null,null,null,"Costo de Tarifa mensual de 2 a 12",null,{"$f":"((G76 + G77)+G79)+((G36+G37+G38+G40)*0.12*0.07)/12","v":262.10758399999997},{"$f":"((H76 + H77)+H79)+((H36+H37+H38+H40)*0.12*0.07)/12","v":219.343448},196.13289600000002,145.90556000000001]
[null,null,null,null,"TOTAL ANUAL",null,{"$f":"G81+(G82*11)","v":3225.5410079999997},{"$f":"H81+(H82*11)","v":2712.3713760000001},2433.8447520000004,{"$f":"J81+(J82*11)","v":1831.11672}]
[]
[null,null,null,null,"Tarifas en US$ -  Efectivas a partir del 1ro de Enero, 2020"]

{"sheet":"Resumen tarifas","index":3,"n_rows":100,"n_cols":8,"rows_kept":100,"cut":false,"hidden":false,"merged":[[18,0,18,1],[21,0,21,1],[24,0,24,1],[68,0,68,1],[55,0,55,2],[61,0,61,1],[62,0,62,1],[63,0,63,1],[58,0,58,3],[39,2,39,4],[53,0,53,1],[54,0,54,1],[47,0,47,1],[48,0,48,1],[49,0,49,1],[40,0,40,1],[16,0,16,6],[43,0,43,1],[18,2,18,6],[21,4,21,5],[24,4,24,5],[29,0,29,1],[30,0,30,1],[33,0,33,1],[33,2,33,4],[34,0,34,1],[35,0,35,1],[35,2,35,4],[36,0,36,1],[37,2,37,4],[38,0,38,1],[39,0,39,1],[75,0,75,1],[76,0,76,1],[66,0,66,1],[67,0,67,1],[74,0,74,1],[71,0,71,3],[99,0,99,6],[79,0,79,1],[80,0,80,1],[81,0,81,1],[77,0,77,1],[78,0,78,1],[90,0,90,1],[80,4,80,6],[84,0,84,1],[87,0,87,1],[97,0,97,1],[94,0,94,1],[83,0,83,2],[87,2,87,3],[89,2,89,3],[91,2,91,3],[41,0,41,1],[37,0,37,1],[64,0,64,1],[44,0,44,2],[65,0,65,1],[50,0,50,1],[51,0,51,1],[52,0,52,1],[93,2,93,3],[91,0,91,1],[92,0,92,1],[93,0,93,1],[88,0,88,1],[89,0,89,1],[47,3,47,5],[61,4,61,6],[74,4,74,6],[49,3,49,5],[63,4,63,6],[76,4,76,6],[51,3,51,5],[65,4,65,6],[78,4,78,6],[53,3,53,5],[67,4,67,6]]}
[]
[null,null,null,null," "," "]
[]
[]
[]
[null,null,null,null," "," "," "]
[]
[]
[]
[]
[]
[]
[]
[]
[]
[]
["Cotizador de Seguro Médico - Bupa Global Health Plans"]
[]
["Nombre del Asegurado Titular",null,{"$f":"+'INGRESO DE DATOS'!$D$15","v":"NOMBRE DEL CLIENTE"}]
[]
[]
["Número de adultos en la póliza",null,{"$f":"+'INGRESO DE DATOS'!$D$17","v":1},null,"Edad del Asegurado Titular",null,{"$f":"+'INGRESO DE DATOS'!$D$19","v":29}]
[]
[]
["Número de niños en la póliza",null,{"$f":"+'INGRESO DE DATOS'!$H$17","v":0},null,"Edad del/la cónyuge ",null,{"$f":"+'INGRESO DE DATOS'!$H$19","v":46}]
[]
[]
[null,null,null,"FECHA DE LA COTIZACIÓN :",{"$f":"NOW()","v":"2023-03-27T16:19:20.400"}]
[]
["Bupa Global Ultimtate Health Plan"]
["DEDUCIBLES",null,"PLAN 1","PLAN 2","PLAN 3"]
["En el país de residencia",null,0,1000,2000]
["Fuera del país de residencia",null,0,1000,2000]
[null,null,"Tarifas anuales"]
[null,null,{"$f":"#REF!","v":{"$error":"#REF!"}},{"$f":"#REF!","v":{"$error":"#REF!"}},{"$f":"#REF!","v":{"$error":"#REF!"}}]
[null,null,"Tarifas semi anuales"]
[null,null,{"$f":"#REF!","v":{"$error":"#REF!"}},{"$f":"#REF!","v":{"$error":"#REF!"}},{"$f":"#REF!","v":{"$error":"#REF!"}}]
[null,null,"Tarifas trimestrales"]
[null,null,{"$f":"#REF!","v":{"$error":"#REF!"}},{"$f":"#REF!","v":{"$error":"#REF!"}},{"$f":"#REF!","v":{"$error":"#REF!"}}]
[null,null,"Tarifas mensuales"]
[null,null,{"$f":"#REF!","v":{"$error":"#REF!"}},{"$f":"#REF!","v":{"$error":"#REF!"}},{"$f":"#REF!","v":{"$error":"#REF!"}}]
["Ahorros en tarifas de prima para niños*",null,{"$f":"#REF!","v":{"$error":"#REF!"}},{"$f":"#REF!","v":{"$error":"#REF!"}},{"$f":"#REF!","v":{"$error":"#REF!"}}]
[]
["Bupa Global Elite Health Plan"]
["DEDUCIBLES",null,null,"PLAN 1","PLAN 2","PLAN 3","PLAN 4","PLAN 5"]
["En el país de residencia",null,null,1000,2000,3500,5000,10000]
["Fuera del país de residencia",null,null,1000,2000,3500,5000,10000]
[null,null,null,"Tarifas anuales"]
[null,null,null,{"$f":"+#REF!","v":{"$error":"#REF!"}},{"$f":"+#REF!","v":{"$error":"#REF!"}},{"$f":"+#REF!","v":{"$error":"#REF!"}},{"$f":"+#REF!","v":{"$error":"#REF!"}},{"$f":"+#REF!","v":{"$error":"#REF!"}}]
[null,null,null,"Tarifas semi anuales"]
[null,null,null,{"$f":"+#REF!","v":{"$error":"#REF!"}},{"$f":"+#REF!","v":{"$error":"#REF!"}},{"$f":"+#REF!","v":{"$error":"#REF!"}},{"$f":"+#REF!","v":{"$error":"#REF!"}},{"$f":"+#REF!","v":{"$error":"#REF!"}}]
[null,null,null,"Tarifas trimestrales"]
[null,null,null,{"$f":"+#REF!","v":{"$error":"#REF!"}},{"$f":"+#REF!","v":{"$error":"#REF!"}},{"$f":"+#REF!","v":{"$error":"#REF!"}},{"$f":"+#REF!","v":{"$error":"#REF!"}},{"$f":"+#REF!","v":{"$error":"#REF!"}}]
[null,null,null,"Tarifas mensuales"]
[null,null,null,{"$f":"+#REF!","v":{"$error":"#REF!"}},{"$f":"+#REF!","v":{"$error":"#REF!"}},{"$f":"+#REF!","v":{"$error":"#REF!"}},{"$f":"+#REF!","v":{"$error":"#REF!"}},{"$f":"+#REF!","v":{"$error":"#REF!"}}]
["Ahorros en tarifas de prima para niños*",null,null,{"$f":"+#REF!","v":{"$error":"#REF!"}},{"$f":"+#REF!","v":{"$error":"#REF!"}},{"$f":"+#REF!","v":{"$error":"#REF!"}},{"$f":"+#REF!","v":{"$error":"#REF!"}},{"$f":"+#REF!","v":{"$error":"#REF!"}}]
[]
["Bupa Global Premier Health Plan"]
["DEDUCIBLES",null,null,null,"PLAN 1","PLAN 2","PLAN 3","PLAN 4"]
["En el país de residencia",null,null,null,2000,3500,5000,10000]
["Fuera del país de residencia",null,null,null,2000,3500,5000,10000]
[null,null,null,null,"Tarifas anuales"]
[null,null,null,null,{"$f":"+'Bupa Global Premier'!G44","v":4146.8580000000002},{"$f":"+'Bupa Global Premier'!H44","v":3474.942},{"$f":"+'Bupa Global Premier'!I44","v":2991.3539999999998},{"$f":"+'Bupa Global Premier'!J44","v":2246.0219999999999}]
[null,null,null,null,"Tarifas semi anuales"]
[null,null,null,null,{"$f":"+'Bupa Global Premier'!G56","v":2157.6260160000002},{"$f":"+'Bupa Global Premier'!H56","v":1801.1265840000001},{"$f":"+'Bupa Global Premier'!I56","v":1544.5486080000001},{"$f":"+'Bupa Global Premier'!J56","v":1149.0967439999999}]
[null,null,null,null,"Tarifas trimestrales"]
[null,null,null,null,{"$f":"+'Bupa Global Premier'!G69","v":1120.25368},{"$f":"+'Bupa Global Premier'!H69","v":935.15682000000004},{"$f":"+'Bupa Global Premier'!I69","v":801.93984},{"$f":"+'Bupa Global Premier'!J69","v":596.61861999999996}]
[null,null,null,null,"Tarifas mensuales"]
[null,null,null,null,{"$f":"+'Bupa Global Premier'!G82","v":380.32467200000002},{"$f":"+'Bupa Global Premier'!H82","v":317.48452800000001},{"$f":"+'Bupa Global Premier'!I82","v":272.25753600000007},{"$f":"+'Bupa Global Premier'!J82","v":202.55124800000002}]
[]
["Bupa Global Select Health Plan"]
["DEDUCIBLES",null,null,null,"PLAN 1","PLAN 2","PLAN 3","PLAN 4"]
[" En el país de residencia ",null,null,null,2000,3500,5000,10000]
[" Fuera del país de residencia ",null,null,null,2000,3500,5000,10000]
[null,null,null,null,"Tarifas anuales"]
[null,null,null,null,{"$f":"+'Bupa Global Select'!G44","v":2882.826},{"$f":"+'Bupa Global Select'!H44","v":2425.5719999999997},{"$f":"+'Bupa Global Select'!I44","v":2177.3939999999998},{"$f":"+'Bupa Global Select'!J44","v":1640.34}]
[null,null,null,null,"Tarifas semi anuales"]
[null,null,null,null,{"$f":"+'Bupa Global Select'!G56","v":1486.9667520000003},{"$f":"+'Bupa Global Select'!H56","v":1244.3608439999998},{"$f":"+'Bupa Global Select'!I56","v":1112.6846880000001},{"$f":"+'Bupa Global Select'!J56","v":827.73918000000003}]
[null,null,null,null,"Tarifas trimestrales"]
[null,null,null,null,{"$f":"+'Bupa Global Select'!G69","v":772.04296000000011},{"$f":"+'Bupa Global Select'!H69","v":646.0803699999999},{"$f":"+'Bupa Global Select'!I69","v":577.71324000000004},{"$f":"+'Bupa Global Select'!J69","v":429.76765}]
[null,null,null,null,"Tarifas mensuales"]
[null,null,null,null,{"$f":"+'Bupa Global Select'!G82","v":262.10758399999997},{"$f":"+'Bupa Global Select'!H82","v":219.343448},{"$f":"+'Bupa Global Select'!I82","v":196.13289600000002},{"$f":"+'Bupa Global Select'!J82","v":145.90556000000001}]
[]
["Bupa Global Major Medical Health Plan"]
["DEDUCIBLES",null,"PLAN 1","PLAN 2"]
[" En el país de residencia ",null,10000,20000]
[" Fuera del país de residencia ",null,10000,20000]
[null,null,"Tarifas anuales"]
[null,null,{"$f":"#REF!","v":{"$error":"#REF!"}},{"$f":"#REF!","v":{"$error":"#REF!"}}]
[null,null,"Tarifas semi anuales"]
[null,null,{"$f":"#REF!","v":{"$error":"#REF!"}},{"$f":"#REF!","v":{"$error":"#REF!"}}]
[null,null,"Tarifas trimestrales"]
[null,null,{"$f":"#REF!","v":{"$error":"#REF!"}},{"$f":"#REF!","v":{"$error":"#REF!"}}]
[null,null,"Tarifas mensuales"]
[null,null,{"$f":"#REF!","v":{"$error":"#REF!"}},{"$f":"#REF!","v":{"$error":"#REF!"}}]
[]
["Una tarifa administrativa de US$75 se cargará automáticamente al primer pago"]
["*Basado en un modo de pago anual"]
[]
["Tarifas en US$ -  Efectivas a partir del 1ro de Enero, 2020"]

{"sheet":"Tablas","index":4,"n_rows":1497,"n_cols":19,"rows_kept":1497,"cut":false,"hidden":true,"merged":[[63,7,65,7],[752,0,752,1],[752,2,752,6],[825,0,825,6],[826,0,826,6],[527,0,527,1],[527,2,527,6],[600,0,600,6],[601,0,601,6],[602,0,602,1],[602,2,602,6],[526,0,526,6],[450,0,450,6],[451,0,451,6],[452,0,452,1],[452,2,452,6],[827,0,827,1],[827,2,827,6],[751,0,751,6],[675,0,675,6],[676,0,676,6],[677,0,677,1],[677,2,677,6],[750,0,750,6],[525,0,525,6],[376,0,376,1],[376,2,376,6],[150,0,150,6],[151,0,151,6],[152,0,152,1],[152,2,152,6],[225,0,225,6],[226,0,226,1],[375,0,375,6],[226,2,226,6],[300,0,300,6],[301,0,301,6],[302,0,302,1],[302,2,302,6],[1,0,1,6],[2,0,2,6],[77,0,77,1],[77,2,77,6],[76,0,76,6],[3,0,3,1],[3,2,3,6],[900,0,900,6],[901,0,901,6],[902,0,902,1],[902,2,902,6],[975,0,975,6],[976,0,976,1],[976,2,976,6],[1049,0,1049,6],[1050,0,1050,6],[1051,0,1051,1],[1051,2,1051,6],[1124,0,1124,6],[1125,0,1125,6],[1126,0,1126,1],[1126,2,1126,6],[1199,0,1199,6],[1200,0,1200,1],[1200,2,1200,6],[1273,0,1273,6],[1274,0,1274,6],[1275,0,1275,1],[1275,2,1275,6],[1424,0,1424,6],[1425,0,1425,1],[1425,2,1425,6],[1348,0,1348,6],[1349,0,1349,6],[1350,0,1350,1],[1350,2,1350,6],[1423,0,1423,6]]}
[]
["BUPA GLOBAL ELITE",null,null,null,null,null,null,null,"FACTOR MENSUAL:",null,9.3333333333333338E-2]
["TARIFAS ANUALES",null,null,null,null,null,null,null,"FACTOR TRIMESTRAL:",null,0.27500000000000002]
["EDAD",null,null,null,null,null,null,null,"FACTOR SEMIANUAL:",null,0.53]
[" "," ",1000,2000,3500,5000,10000]
[18,null,{"$f":"O6","v":6305.3},{"$f":"P6","v":4516.05},3824.15,3315.85,2572.1,null,7418,5313,4499,3901,3026,null,{"$f":"I6*0.85","v":6305.3},{"$f":"J6*0.85","v":4516.05},3824.15,3315.85,2572.1]
[19,null,{"$f":"O7","v":6388.5999999999995},{"$f":"P7","v":4570.45},{"$f":"Q7","v":3864.1},{"$f":"R7","v":3351.5499999999997},{"$f":"S7","v":2599.2999999999997},null,7516,5377,4546,3943,3058,null,{"$f":"I7*0.85","v":6388.5999999999995},4570.45,3864.1,3351.5499999999997,2599.2999999999997]
[20,null,6473.5999999999995,4628.25,3907.45,3388.1,2627.35,null,7616,5445,4597,3986,3091,null,6473.5999999999995,4628.25,3907.45,3388.1,2627.35]
[21,null,6561.15,4686.8999999999996,3951.65,3426.35,2657.1,null,7719,5514,4649,4031,3126,null,6561.15,4686.8999999999996,3951.65,3426.35,2657.1]
[22,null,6652.0999999999995,4748.0999999999995,3996.7,3465.45,2686.85,null,7826,5586,4702,4077,3161,null,6652.0999999999995,4748.0999999999995,3996.7,3465.45,2686.85]
[23,null,6748.15,4809.3,4045.15,3507.95,2720.85,null,7939,5658,4759,4127,3201,null,6748.15,4809.3,4045.15,3507.95,2720.85]
[24,null,6843.3499999999995,4874.75,4093.6,3549.6,2753.15,null,8051,5735,4816,4176,3239,null,6843.3499999999995,4874.75,4093.6,3549.6,2753.15]
[25,null,6942.8,4942.75,4143.75,3593.7999999999997,2787.15,null,8168,5815,4875,4228,3279,null,6942.8,4942.75,4143.75,3593.7999999999997,2787.15]
[26,null,7085.5999999999995,5039.6499999999996,4217.7,3658.4,2836.45,null,8336,5929,4962,4304,3337,null,7085.5999999999995,5039.6499999999996,4217.7,3658.4,2836.45]
[27,null,7234.3499999999995,5140.8,4295.8999999999996,3723.85,2889.15,null,8511,6048,5054,4381,3399,null,7234.3499999999995,5140.8,4295.8999999999996,3723.85,2889.15]
[28,null,7387.3499999999995,5244.5,4375.8,3794.4,2941.85,null,8691,6170,5148,4464,3461,null,7387.3499999999995,5244.5,4375.8,3794.4,2941.85]
[29,null,7548,5353.3,4459.95,3867.5,2999.65,null,8880,6298,5247,4550,3529,null,7548,5353.3,4459.95,3867.5,2999.65]
[30,null,7712.9,5468.05,4548.3499999999995,3944,3059.15,null,9074,6433,5351,4640,3599,null,7712.9,5468.05,4548.3499999999995,3944,3059.15]
[31,null,7883.75,5584.5,4640.1499999999996,4023.0499999999997,3121.2,null,9275,6570,5459,4733,3672,null,7883.75,5584.5,4640.1499999999996,4023.0499999999997,3121.2]
[32,null,8058.8499999999995,5706.05,4732.8,4103.8,3181.5499999999997,null,9481,6713,5568,4828,3743,null,8058.8499999999995,5706.05,4732.8,4103.8,3181.5499999999997]
[33,null,8239.9,5831,4831.3999999999996,4188.8,3249.5499999999997,null,9694,6860,5684,4928,3823,null,8239.9,5831,4831.3999999999996,4188.8,3249.5499999999997]
[34,null,8426.9,5960.2,4931.7,4276.3499999999995,3315.85,null,9914,7012,5802,5031,3901,null,8426.9,5960.2,4931.7,4276.3499999999995,3315.85]
[35,null,8617.2999999999993,6092.8,5037.0999999999995,4368.1499999999996,3388.1,null,10138,7168,5926,5139,3986,null,8617.2999999999993,6092.8,5037.0999999999995,4368.1499999999996,3388.1]
[36,null,8814.5,6229.65,5144.2,4459.95,3459.5,null,10370,7329,6052,5247,4070,null,8814.5,6229.65,5144.2,4459.95,3459.5]
[37,null,9017.65,6372.45,5254.7,4557.7,3534.2999999999997,null,10609,7497,6182,5362,4158,null,9017.65,6372.45,5254.7,4557.7,3534.2999999999997]
[38,null,9225.0499999999993,6516.0999999999995,5369.45,4657.1499999999996,3611.65,null,10853,7666,6317,5479,4249,null,9225.0499999999993,6516.0999999999995,5369.45,4657.1499999999996,3611.65]
[39,null,9439.25,6666.55,5487.5999999999995,4758.3,3689.85,null,11105,7843,6456,5598,4341,null,9439.25,6666.55,5487.5999999999995,4758.3,3689.85]
[40,null,9657.6999999999989,6819.55,5608.3,4862.8499999999995,3772.2999999999997,null,11362,8023,6598,5721,4438,null,9657.6999999999989,6819.55,5608.3,4862.8499999999995,3772.2999999999997]
[41,null,9882.1,6976.8,5733.25,4971.6499999999996,3856.45,null,11626,8208,6745,5849,4537,null,9882.1,6976.8,5733.25,4971.6499999999996,3856.45]
[42,null,10110.75,7137.45,5861.5999999999995,5082.1499999999996,3942.2999999999997,null,11895,8397,6896,5979,4638,null,10110.75,7137.45,5861.5999999999995,5082.1499999999996,3942.2999999999997]
[43,null,10344.5,7304.05,5993.3499999999995,5196.8999999999996,4030.7,null,12170,8593,7051,6114,4742,null,10344.5,7304.05,5993.3499999999995,5196.8999999999996,4030.7]
[44,null,10585.05,7471.5,6126.8,5313.3499999999995,4121.6499999999996,null,12453,8790,7208,6251,4849,null,10585.05,7471.5,6126.8,5313.3499999999995,4121.6499999999996]
[45,null,10830.699999999999,7645.75,6266.2,5432.3499999999995,4213.45,null,12742,8995,7372,6391,4957,null,10830.699999999999,7645.75,6266.2,5432.3499999999995,4213.45]
[46,null,11081.449999999999,7822.55,6408.15,5557.3,4308.6499999999996,null,13037,9203,7539,6538,5069,null,11081.449999999999,7822.55,6408.15,5557.3,4308.6499999999996]
[47,null,11337.3,8005.3,6551.8,5680.55,4406.3999999999996,null,13338,9418,7708,6683,5184,null,11337.3,8005.3,6551.8,5680.55,4406.3999999999996]
[48,null,11599.1,8188.9,6699.7,5808.9,4505,null,13646,9634,7882,6834,5300,null,11599.1,8188.9,6699.7,5808.9,4505]
[49,null,11866.85,8379.2999999999993,6851.8499999999995,5941.5,4607,null,13961,9858,8061,6990,5420,null,11866.85,8379.2999999999993,6851.8499999999995,5941.5,4607]
[50,null,12138,8571.4,7007.4,6076.65,4712.3999999999996,null,14280,10084,8244,7149,5544,null,12138,8571.4,7007.4,6076.65,4712.3999999999996]
[51,null,12415.949999999999,8768.6,7167.2,6214.3499999999995,4818.6499999999996,null,14607,10316,8432,7311,5669,null,12415.949999999999,8768.6,7167.2,6214.3499999999995,4818.6499999999996]
[52,null,12698.15,8970.0499999999993,7326.15,6352.05,4927.45,null,14939,10553,8619,7473,5797,null,12698.15,8970.0499999999993,7326.15,6352.05,4927.45]
[53,null,12987.15,9177.4499999999989,7492.75,6496.55,5038.8,null,15279,10797,8815,7643,5928,null,12987.15,9177.4499999999989,7492.75,6496.55,5038.8]
[54,null,13281.25,9386.5499999999993,7660.2,6641.9,5151.8499999999995,null,15625,11043,9012,7814,6061,null,13281.25,9386.5499999999993,7660.2,6641.9,5151.8499999999995]
[55,null,13580.449999999999,9599.0499999999993,7832.75,6791.5,5267.45,null,15977,11293,9215,7990,6197,null,13580.449999999999,9599.0499999999993,7832.75,6791.5,5267.45]
[56,null,13883.05,9815.7999999999993,8007.8499999999995,6943.65,5385.5999999999995,null,16333,11548,9421,8169,6336,null,13883.05,9815.7999999999993,8007.8499999999995,6943.65,5385.5999999999995]
[57,null,14194.15,10036.799999999999,8186.3499999999995,7097.5,5504.5999999999995,null,16699,11808,9631,8350,6476,null,14194.15,10036.799999999999,8186.3499999999995,7097.5,5504.5999999999995]
[58,null,14509.5,10262.049999999999,8368.25,7255.5999999999995,5627,null,17070,12073,9845,8536,6620,null,14509.5,10262.049999999999,8368.25,7255.5999999999995,5627]
[59,null,14829.1,10491.55,8552.6999999999989,7416.25,5751.0999999999995,null,17446,12343,10062,8725,6766,null,14829.1,10491.55,8552.6999999999989,7416.25,5751.0999999999995]
[60,null,15154.65,10725.3,8742.25,7579.45,5878.5999999999995,null,17829,12618,10285,8917,6916,null,15154.65,10725.3,8742.25,7579.45,5878.5999999999995]
[61,null,16865.7,11951.85,9735.9,8442.1999999999989,6548.4,null,19842,14061,11454,9932,7704,null,16865.7,11951.85,9735.9,8442.1999999999989,6548.4]
[62,null,18709.349999999999,13280.4,10815.4,9378.0499999999993,7272.5999999999995,null,22011,15624,12724,11033,8556,null,18709.349999999999,13280.4,10815.4,9378.0499999999993,7272.5999999999995]
[63,null,20688.149999999998,14706.699999999999,11977.35,10385.299999999999,8054.5999999999995,null,24339,17302,14091,12218,9476,null,20688.149999999998,14706.699999999999,11977.35,10385.299999999999,8054.5999999999995]
[64,null,22800.399999999998,16235,13223.449999999999,11466.5,8893.5499999999993,null,26824,19100,15557,13490,10463,null,22800.399999999998,16235,13223.449999999999,11466.5,8893.5499999999993]
[65,null,25046.1,17862.75,14554.55,12619.949999999999,9787.75,null,29466,21015,17123,14847,11515,null,25046.1,17862.75,14554.55,12619.949999999999,9787.75]
[66,null,27426.95,19589.95,15970.65,13849.05,10740.6,null,32267,23047,18789,16293,12636,null,27426.95,19589.95,15970.65,13849.05,10740.6]
[67,null,29942.1,21417.45,17470.05,15148.699999999999,11748.699999999999,null,35226,25197,20553,17822,13822,null,29942.1,21417.45,17470.05,15148.699999999999,11748.699999999999]
[68,null,32591.55,23346.1,19052.75,16520.599999999999,12812.9,null,38343,27466,22415,19436,15074,null,32591.55,23346.1,19052.75,16520.599999999999,12812.9]
[69,null,35373.599999999999,25374.2,20722.149999999998,17968.149999999998,13934.9,null,41616,29852,24379,21139,16394,null,35373.599999999999,25374.2,20722.149999999998,17968.149999999998,13934.9]
[70,null,38291.65,27503.45,22474.85,19487.95,15114.699999999999,null,45049,32357,26441,22927,17782,null,38291.65,27503.45,22474.85,19487.95,15114.699999999999]
[71,null,41344,29732.149999999998,24311.7,21080.85,16349.75,null,48640,34979,28602,24801,19235,null,41344,29732.149999999998,24311.7,21080.85,16349.75]
[72,null,44528.95,32062.85,26232.7,22746,17640.899999999998,null,52387,37721,30862,26760,20754,null,44528.95,32062.85,26232.7,22746,17640.899999999998]
[73,null,47848.2,34491.299999999996,28237,24484.25,18989,null,56292,40578,33220,28805,22340,null,47848.2,34491.299999999996,28237,24484.25,18989]
[74,null,51302.6,37020.9,30327.149999999998,26297.3,20394.899999999998,null,60356,43554,35679,30938,23994,null,51302.6,37020.9,30327.149999999998,26297.3,20394.899999999998]
[75,null,54890.45,39651.65,32501.45,28181.75,21856.05,null,64577,46649,38237,33155,25713,null,54890.45,39651.65,32501.45,28181.75,21856.05]
[76,null,54890.45,39651.65,32501.45,28181.75,21856.05,null,64577,46649,38237,33155,25713,null,54890.45,39651.65,32501.45,28181.75,21856.05]
[77,null,54890.45,39651.65,32501.45,28181.75,21856.05,null,64577,46649,38237,33155,25713,null,54890.45,39651.65,32501.45,28181.75,21856.05]
[78,null,54890.45,39651.65,32501.45,28181.75,21856.05,null,64577,46649,38237,33155,25713,null,54890.45,39651.65,32501.45,28181.75,21856.05]
[79,null,54890.45,39651.65,32501.45,28181.75,21856.05,null,64577,46649,38237,33155,25713,null,54890.45,39651.65,32501.45,28181.75,21856.05]
[80,null,54890.45,39651.65,32501.45,28181.75,21856.05,null,64577,46649,38237,33155,25713,null,54890.45,39651.65,32501.45,28181.75,21856.05]
[81,null,54890.45,39651.65,32501.45,28181.75,21856.05,null,64577,46649,38237,33155,25713,null,54890.45,39651.65,32501.45,28181.75,21856.05]
[82,null,54890.45,39651.65,32501.45,28181.75,21856.05,null,64577,46649,38237,33155,25713,null,{"$f":"I70*0.85","v":54890.45},39651.65,32501.45,28181.75,21856.05]
[83,null,{"$f":"O71","v":54890.45},{"$f":"P71","v":39651.65},{"$f":"Q71","v":32501.45},{"$f":"R71","v":28181.75},{"$f":"S71","v":21856.05},null,64577,46649,38237,33155,25713,null,54890.45,39651.65,32501.45,28181.75,21856.05]
[84,"o más",54890.45,39651.65,32501.45,28181.75,21856.05,null,64577,46649,38237,33155,25713,null,54890.45,39651.65,32501.45,28181.75,21856.05]
[1,"Hijo",2838.15,2032.35,1721.25,1492.6,1158.55,null,3339,2391,2025,1756,1363,null,2838.15,2032.35,1721.25,1492.6,1158.55]
[2,"Hijos",4823.75,3455.25,2925.7,2536.4,1968.6,null,5675,4065,3442,2984,2316,null,4823.75,3455.25,2925.7,2536.4,1968.6]
[3,"Hijos o más",6809.3499999999995,4877.3,4131,3581.0499999999997,2777.7999999999997,null,8011,5738,4860,4213,3268,null,6809.3499999999995,4877.3,4131,3581.0499999999997,2777.7999999999997]
[]
["BUPA GLOBAL ELITE - MENSUALES"]
["EDAD"]
[" "," ",1000,2000,3500]
[18,null,{"$f":"C6*$K$2","v":588.49466666666672},{"$f":"D6*$K$2","v":421.49800000000005},356.9206666666667,309.47933333333333,240.06266666666667]
[19,null,{"$f":"C7*$K$2","v":596.26933333333329},426.57533333333333,360.64933333333335,312.81133333333332,242.60133333333332]
[20,null,{"$f":"C8*$K$2","v":604.20266666666669},431.97,364.69533333333334,316.22266666666667,245.21933333333334]
[21,null,{"$f":"C9*$K$2","v":612.37400000000002},437.44399999999996,368.82066666666668,319.79266666666666,247.99600000000001]
[22,null,{"$f":"C10*$K$2","v":620.86266666666666},443.15599999999995,373.02533333333332,323.44200000000001,250.77266666666668]
[23,null,{"$f":"C11*$K$2","v":629.82733333333329},448.86800000000005,377.54733333333337,327.40866666666665,253.946]
[24,null,{"$f":"C12*$K$2","v":638.71266666666668},454.97666666666669,382.06933333333336,331.29599999999999,256.96066666666667]
[25,null,{"$f":"C13*$K$2","v":647.99466666666672},461.32333333333338,386.75,335.42133333333334,260.13400000000001]
[26,null,{"$f":"C14*$K$2","v":661.32266666666669},470.36733333333331,393.65199999999999,341.45066666666668,264.7353333333333]
[27,null,{"$f":"C15*$K$2","v":675.20600000000002},479.80800000000005,400.95066666666668,347.55933333333331,269.654]
[28,null,{"$f":"C16*$K$2","v":689.48599999999999},489.48666666666668,408.40800000000002,354.14400000000001,274.57266666666669]
[29,null,{"$f":"C17*$K$2","v":704.48},499.64133333333336,416.262,360.9666666666667,279.96733333333333]
[30,null,{"$f":"C18*$K$2","v":719.87066666666669},510.3513333333334,424.51266666666663,368.10666666666668,285.52066666666667]
[31,null,{"$f":"C19*$K$2","v":735.81666666666672},521.22,433.08066666666667,375.48466666666667,291.31200000000001]
[32,null,{"$f":"C20*$K$2","v":752.15933333333328},532.56466666666665,441.72800000000007,383.02133333333336,296.94466666666665]
[33,null,{"$f":"C21*$K$2","v":769.0573333333333},544.22666666666669,450.93066666666664,390.9546666666667,303.29133333333334]
[34,null,{"$f":"C22*$K$2","v":786.51066666666668},556.28533333333337,460.29200000000003,399.12599999999998,309.47933333333333]
[35,null,{"$f":"C23*$K$2","v":804.28133333333335},568.66133333333335,470.12933333333331,407.69399999999996,316.22266666666667]
[36,null,{"$f":"C24*$K$2","v":822.68666666666672},581.43399999999997,480.12533333333334,416.262,322.88666666666666]
[37,null,{"$f":"C25*$K$2","v":841.64733333333334},594.76200000000006,490.43866666666668,425.38533333333334,329.86799999999999]
[38,null,{"$f":"C26*$K$2","v":861.00466666666659},608.16933333333327,501.14866666666666,434.66733333333332,337.08733333333333]
[39,null,{"$f":"C27*$K$2","v":880.99666666666667},622.21133333333341,512.17599999999993,444.10800000000006,344.38600000000002]
[40,null,{"$f":"C28*$K$2","v":901.38533333333328},636.49133333333339,523.44133333333332,453.86599999999999,352.0813333333333]
[41,null,{"$f":"C29*$K$2","v":922.32933333333347},651.16800000000001,535.10333333333335,464.02066666666667,359.93533333333335]
[42,null,{"$f":"C30*$K$2","v":943.67000000000007},666.16200000000003,547.08266666666668,474.334,367.94799999999998]
[43,null,{"$f":"C31*$K$2","v":965.48666666666668},681.71133333333341,559.37933333333331,485.04399999999998,376.19866666666667]
[44,null,{"$f":"C32*$K$2","v":987.93799999999999},697.34,571.83466666666675,495.91266666666667,384.6873333333333]
[45,null,{"$f":"C33*$K$2","v":1010.8653333333333},713.60333333333335,584.84533333333331,507.01933333333329,393.25533333333334]
[46,null,{"$f":"C34*$K$2","v":1034.2686666666666},730.10466666666673,598.09399999999994,518.68133333333333,402.14066666666668]
[47,null,{"$f":"C35*$K$2","v":1058.1479999999999},747.16133333333335,611.50133333333338,530.18466666666666,411.26400000000001]
[48,null,{"$f":"C36*$K$2","v":1082.5826666666667},764.29733333333331,625.30533333333335,542.16399999999999,420.4666666666667]
[49,null,{"$f":"C37*$K$2","v":1107.5726666666667},782.06799999999998,639.50599999999997,554.54000000000008,429.98666666666668]
[50,null,{"$f":"C38*$K$2","v":1132.8800000000001},799.99733333333336,654.024,567.154,439.82400000000001]
[51,null,{"$f":"C39*$K$2","v":1158.8219999999999},818.40266666666673,668.93866666666668,580.00599999999997,449.74066666666664]
[52,null,{"$f":"C40*$K$2","v":1185.1606666666667},837.20466666666664,683.774,592.85800000000006,459.89533333333333]
[53,null,{"$f":"C41*$K$2","v":1212.134},856.5619999999999,699.32333333333338,606.34466666666674,470.28800000000001]
[54,null,{"$f":"C42*$K$2","v":1239.5833333333335},876.07799999999997,714.952,619.91066666666666,480.83933333333329]
[55,null,{"$f":"C43*$K$2","v":1267.5086666666666},895.91133333333335,731.05666666666673,633.87333333333333,491.62866666666667]
[56,null,{"$f":"C44*$K$2","v":1295.7513333333334},916.14133333333336,747.39933333333329,648.07399999999996,502.65599999999995]
[57,null,{"$f":"C45*$K$2","v":1324.7873333333334},936.76800000000003,764.05933333333337,662.43333333333339,513.76266666666663]
[58,null,{"$f":"C46*$K$2","v":1354.22},957.79133333333334,781.03666666666675,677.18933333333337,525.18666666666672]
[59,null,{"$f":"C47*$K$2","v":1384.0493333333334},979.2113333333333,798.25199999999995,692.18333333333339,536.76933333333329]
[60,null,{"$f":"C48*$K$2","v":1414.434},1001.028,815.94333333333338,707.41533333333336,548.66933333333327]
[61,null,{"$f":"C49*$K$2","v":1574.1320000000001},1115.5060000000001,908.68399999999997,787.93866666666656,611.18399999999997]
[62,null,{"$f":"C50*$K$2","v":1746.2059999999999},1239.5040000000001,1009.4373333333333,875.28466666666668,678.77599999999995]
[63,null,{"$f":"C51*$K$2","v":1930.8939999999998},1372.6253333333334,1117.8860000000002,969.29466666666667,751.76266666666663]
[64,null,{"$f":"C52*$K$2","v":2128.0373333333332},1515.2666666666667,1234.1886666666667,1070.2066666666667,830.06466666666665]
[65,null,{"$f":"C53*$K$2","v":2337.636},1667.19,1358.4246666666666,1177.8619999999999,913.52333333333343]
[66,null,{"$f":"C54*$K$2","v":2559.8486666666668},1828.3953333333334,1490.5940000000001,1292.578,1002.4560000000001]
[67,null,{"$f":"C55*$K$2","v":2794.596},1998.9620000000002,1630.538,1413.8786666666667,1096.5453333333332]
[68,null,{"$f":"C56*$K$2","v":3041.8780000000002},2178.9693333333335,1778.2566666666667,1541.9226666666666,1195.8706666666667]
[69,null,{"$f":"C57*$K$2","v":3301.5360000000001},2368.2586666666671,1934.0673333333332,1677.0273333333332,1300.5906666666667]
[70,null,{"$f":"C58*$K$2","v":3573.8873333333336},2566.9886666666666,2097.6526666666668,1818.8753333333334,1410.7053333333333]
[71,null,{"$f":"C59*$K$2","v":3858.7733333333335},2775.0006666666668,2269.0920000000001,1967.546,1525.9766666666667]
[72,null,{"$f":"C60*$K$2","v":4156.0353333333333},2992.5326666666665,2448.3853333333336,2122.96,1646.4839999999999]
[73,null,{"$f":"C61*$K$2","v":4465.8320000000003},3219.1879999999996,2635.4533333333334,2285.1966666666667,1772.3066666666668]
[74,null,{"$f":"C62*$K$2","v":4788.242666666667},3455.2840000000001,2830.5340000000001,2454.4146666666666,1903.5239999999999]
[75,null,{"$f":"C63*$K$2","v":5123.108666666667},3700.820666666667,3033.4686666666666,2630.2966666666666,2039.8980000000001]
[76,null,{"$f":"C64*$K$2","v":5123.108666666667},3700.820666666667,3033.4686666666666,2630.2966666666666,2039.8980000000001]
[77,null,{"$f":"C65*$K$2","v":5123.108666666667},3700.820666666667,3033.4686666666666,2630.2966666666666,2039.8980000000001]
[78,null,{"$f":"C66*$K$2","v":5123.108666666667},3700.820666666667,3033.4686666666666,2630.2966666666666,2039.8980000000001]
[79,null,{"$f":"C67*$K$2","v":5123.108666666667},3700.820666666667,3033.4686666666666,2630.2966666666666,2039.8980000000001]
[80,null,{"$f":"C68*$K$2","v":5123.108666666667},3700.820666666667,3033.4686666666666,2630.2966666666666,2039.8980000000001]
[81,null,{"$f":"C69*$K$2","v":5123.108666666667},3700.820666666667,3033.4686666666666,2630.2966666666666,2039.8980000000001]
[82,null,{"$f":"C70*$K$2","v":5123.108666666667},3700.820666666667,3033.4686666666666,2630.2966666666666,2039.8980000000001]
[83,null,{"$f":"C71*$K$2","v":5123.108666666667},3700.820666666667,3033.4686666666666,2630.2966666666666,2039.8980000000001]
[84,"o más",{"$f":"C72*$K$2","v":5123.108666666667},3700.820666666667,3033.4686666666666,2630.2966666666666,2039.8980000000001]
[1,"Hijo",{"$f":"C73*$K$2","v":264.89400000000001},189.68600000000001,160.65,139.30933333333334,108.13133333333333]
[2,"Hijos",{"$f":"C74*$K$2","v":450.2166666666667},322.49,273.06533333333334,236.73066666666668,183.73599999999999]
[3,"Hijos o más",{"$f":"C75*$K$2","v":635.53933333333327},455.21466666666669,385.56,334.23133333333334,259.26133333333331]
[]
["BUPA GLOBAL PREMIER"]
["TARIFAS ANUALES"]
["EDAD"]
[" "," ",2000,3500,5000,10000]
[18,null,{"$f":"N155","v":3265.7200000000003},{"$f":"O155","v":2772.48},2404.64,1788.28,null,null,4297,3648,3164,2353,null,{"$f":"I155*0.76","v":3265.7200000000003},{"$f":"J155*0.76","v":2772.48},2404.64,1788.28]
[19,null,{"$f":"N156","v":3306.76},{"$f":"O156","v":2802.12},{"$f":"P156","v":2427.44},{"$f":"Q156","v":1806.52},null,null,4351,3687,3194,2377,null,{"$f":"I156*0.76","v":3306.76},{"$f":"J156*0.76","v":2802.12},{"$f":"K156*0.76","v":2427.44},{"$f":"L156*0.76","v":1806.52}]
[20,null,3347.8,2832.52,2451.7600000000002,1824,null,null,4405,3727,3226,2400,null,3347.8,2832.52,2451.7600000000002,1824]
[21,null,3389.6,2864.44,2476.84,1843,null,null,4460,3769,3259,2425,null,3389.6,2864.44,2476.84,1843]
[22,null,3432.92,2897.12,2502.6799999999998,1861.24,null,null,4517,3812,3293,2449,null,3432.92,2897.12,2502.6799999999998,1861.24]
[23,null,3478.52,2932.08,2530.8000000000002,1882.52,null,null,4577,3858,3330,2477,null,3478.52,2932.08,2530.8000000000002,1882.52]
[24,null,3526.4,2969.32,2558.92,1903.8,null,null,4640,3907,3367,2505,null,3526.4,2969.32,2558.92,1903.8]
[25,null,3574.28,3004.28,2587.8000000000002,1925.08,null,null,4703,3953,3405,2533,null,3574.28,3004.28,2587.8000000000002,1925.08]
[26,null,3644.96,3058.2400000000002,2630.36,1957,null,null,4796,4024,3461,2575,null,3644.96,3058.2400000000002,2630.36,1957]
[27,null,3717.92,3114.48,2676.7200000000003,1991.2,null,null,4892,4098,3522,2620,null,3717.92,3114.48,2676.7200000000003,1991.2]
[28,null,3793.92,3173.76,2723.08,2026.16,null,null,4992,4176,3583,2666,null,3793.92,3173.76,2723.08,2026.16]
[29,null,3872.96,3233.04,2772.48,2062.64,null,null,5096,4254,3648,2714,null,3872.96,3233.04,2772.48,2062.64]
[30,null,3955.04,3296.88,2824.92,2101.4,null,null,5204,4338,3717,2765,null,3955.04,3296.88,2824.92,2101.4]
[31,null,4039.4,3363.76,2876.6,2140.16,null,null,5315,4426,3785,2816,null,4039.4,3363.76,2876.6,2140.16]
[32,null,4127.5600000000004,3430.64,2932.84,2181.96,null,null,5431,4514,3859,2871,null,4127.5600000000004,3430.64,2932.84,2181.96]
[33,null,4217.24,3502.08,2990.6,2224.52,null,null,5549,4608,3935,2927,null,4217.24,3502.08,2990.6,2224.52]
[34,null,4311.4800000000005,3575.8,3051.4,2270.12,null,null,5673,4705,4015,2987,null,4311.4800000000005,3575.8,3051.4,2270.12]
[35,null,4408,3651.04,3112.96,2315.7199999999998,null,null,5800,4804,4096,3047,null,4408,3651.04,3112.96,2315.7199999999998]
[36,null,4506.8,3729.32,3176.04,2362.08,null,null,5930,4907,4179,3108,null,4506.8,3729.32,3176.04,2362.08]
[37,null,4608.6400000000003,3809.88,3248.2400000000002,2416.8000000000002,null,null,6064,5013,4274,3180,null,4608.6400000000003,3809.88,3248.2400000000002,2416.8000000000002]
[38,null,4712.76,3892.7200000000003,3331.08,2477.6,null,null,6201,5122,4383,3260,null,4712.76,3892.7200000000003,3331.08,2477.6]
[39,null,4822.2,3979.36,3416.2,2541.44,null,null,6345,5236,4495,3344,null,4822.2,3979.36,3416.2,2541.44]
[40,null,4931.6400000000003,4066.76,3502.84,2606.8000000000002,null,null,6489,5351,4609,3430,null,4931.6400000000003,4066.76,3502.84,2606.8000000000002]
[41,null,5045.6400000000003,4156.4399999999996,3593.28,2673.68,null,null,6639,5469,4728,3518,null,5045.6400000000003,4156.4399999999996,3593.28,2673.68]
[42,null,5163.4400000000005,4249.92,3685.2400000000002,2742.08,null,null,6794,5592,4849,3608,null,5163.4400000000005,4249.92,3685.2400000000002,2742.08]
[43,null,5281.24,4344.92,3778.7200000000003,2811.2400000000002,null,null,6949,5717,4972,3699,null,5281.24,4344.92,3778.7200000000003,2811.2400000000002]
[44,null,5404.36,4442.2,3875.2400000000002,2882.68,null,null,7111,5845,5099,3793,null,5404.36,4442.2,3875.2400000000002,2882.68]
[45,null,5530.52,4542.5200000000004,3974.04,2957.16,null,null,7277,5977,5229,3891,null,5530.52,4542.5200000000004,3974.04,2957.16]
[46,null,5658.2,4645.12,4076.64,3031.64,null,null,7445,6112,5364,3989,null,5658.2,4645.12,4076.64,3031.64]
[47,null,5790.4400000000005,4750,4180,3109.16,null,null,7619,6250,5500,4091,null,5790.4400000000005,4750,4180,3109.16]
[48,null,5923.4400000000005,4857.16,4286.3999999999996,3188.2,null,null,7794,6391,5640,4195,null,5923.4400000000005,4857.16,4286.3999999999996,3188.2]
[49,null,6060.24,4966.6000000000004,4394.32,3268,null,null,7974,6535,5782,4300,null,6060.24,4966.6000000000004,4394.32,3268]
[50,null,6200.08,5079.84,4503.76,3350.84,null,null,8158,6684,5926,4409,null,6200.08,5079.84,4503.76,3350.84]
[51,null,6342.96,5194.6000000000004,4616.24,3434.44,null,null,8346,6835,6074,4519,null,6342.96,5194.6000000000004,4616.24,3434.44]
[52,null,6488.88,5311.64,4732.5200000000004,3520.32,null,null,8538,6989,6227,4632,null,6488.88,5311.64,4732.5200000000004,3520.32]
[53,null,6637.08,5432.4800000000005,4850.32,3607.7200000000003,null,null,8733,7148,6382,4747,null,6637.08,5432.4800000000005,4850.32,3607.7200000000003]
[54,null,6787.56,5554.08,4969.6400000000003,3696.64,null,null,8931,7308,6539,4864,null,6787.56,5554.08,4969.6400000000003,3696.64]
[55,null,6942.6,5677.96,5092,3787.84,null,null,9135,7471,6700,4984,null,6942.6,5677.96,5092,3787.84]
[56,null,7099.92,5805.64,5216.6400000000003,3881.32,null,null,9342,7639,6864,5107,null,7099.92,5805.64,5216.6400000000003,3881.32]
[57,null,7258.76,5934.08,5342.04,3973.28,null,null,9551,7808,7029,5228,null,7258.76,5934.08,5342.04,3973.28]
[58,null,7422.16,6066.32,5470.4800000000005,4069.8,null,null,9766,7982,7198,5355,null,7422.16,6066.32,5470.4800000000005,4069.8]
[59,null,7589.36,6200.84,5603.4800000000005,4167.84,null,null,9986,8159,7373,5484,null,7589.36,6200.84,5603.4800000000005,4167.84]
[60,null,7758.08,6336.88,5736.4800000000005,4266.6400000000003,null,null,10208,8338,7548,5614,null,7758.08,6336.88,5736.4800000000005,4266.6400000000003]
[61,null,8645,7058.88,6438.72,4790.28,null,null,11375,9288,8472,6303,null,8645,7058.88,6438.72,4790.28]
[62,null,9605.64,7839.4000000000005,7201,5355.72,null,null,12639,10315,9475,7047,null,9605.64,7839.4000000000005,7201,5355.72]
[63,null,10637.72,8682.24,8019.52,5965.24,null,null,13997,11424,10552,7849,null,10637.72,8682.24,8019.52,5965.24]
[64,null,11742.76,9586.64,8896.56,6617.32,null,null,15451,12614,11706,8707,null,11742.76,9586.64,8896.56,6617.32]
[65,null,12920,10551.08,9831.36,7312.72,null,null,17000,13883,12936,9622,null,12920,10551.08,9831.36,7312.72]
[66,null,14169.44,11578.6,10824.68,8051.4400000000005,null,null,18644,15235,14243,10594,null,14169.44,11578.6,10824.68,8051.4400000000005]
[67,null,15491.08,12665.4,11875.76,8833.48,null,null,20383,16665,15626,11623,null,15491.08,12665.4,11875.76,8833.48]
[68,null,16886.439999999999,13813.76,12982.32,9657.32,null,null,22219,18176,17082,12707,null,16886.439999999999,13813.76,12982.32,9657.32]
[69,null,18352.48,15021.4,14149.68,10525.24,null,null,24148,19765,18618,13849,null,18352.48,15021.4,14149.68,10525.24]
[70,null,19892.240000000002,16294.4,15375.56,11436.48,null,null,26174,21440,20231,15048,null,19892.240000000002,16294.4,15375.56,11436.48]
[71,null,21504.959999999999,17624.400000000001,16656.16,12390.28,null,null,28296,23190,21916,16303,null,21504.959999999999,17624.400000000001,16656.16,12390.28]
[72,null,23189.88,19017.48,17997.560000000001,13387.4,null,null,30513,25023,23681,17615,null,23189.88,19017.48,17997.560000000001,13387.4]
[73,null,24945.48,20472.12,19395.2,14427.08,null,null,32823,26937,25520,18983,null,24945.48,20472.12,19395.2,14427.08]
[74,null,26775.56,21986.04,20850.599999999999,15510.08,null,null,35231,28929,27435,20408,null,26775.56,21986.04,20850.599999999999,15510.08]
[75,null,28677.84,23563.040000000001,22366.04,16637.16,null,null,37734,31004,29429,21891,null,28677.84,23563.040000000001,22366.04,16637.16]
[76,null,28677.84,23563.040000000001,22366.04,16637.16,null,null,37734,31004,29429,21891,null,28677.84,23563.040000000001,22366.04,16637.16]
[77,null,28677.84,23563.040000000001,22366.04,16637.16,null,null,37734,31004,29429,21891,null,28677.84,23563.040000000001,22366.04,16637.16]
[78,null,28677.84,23563.040000000001,22366.04,16637.16,null,null,37734,31004,29429,21891,null,28677.84,23563.040000000001,22366.04,16637.16]
[79,null,28677.84,23563.040000000001,22366.04,16637.16,null,null,37734,31004,29429,21891,null,28677.84,23563.040000000001,22366.04,16637.16]
[80,null,28677.84,23563.040000000001,22366.04,16637.16,null,null,37734,31004,29429,21891,null,28677.84,23563.040000000001,22366.04,16637.16]
[81,null,28677.84,23563.040000000001,22366.04,16637.16,null,null,37734,31004,29429,21891,null,28677.84,23563.040000000001,22366.04,16637.16]
[82,null,28677.84,23563.040000000001,22366.04,16637.16,null,null,37734,31004,29429,21891,null,28677.84,23563.040000000001,22366.04,16637.16]
[83,null,{"$f":"N220","v":28677.84},{"$f":"O220","v":23563.040000000001},{"$f":"P220","v":22366.04},{"$f":"Q220","v":16637.16},null,null,37734,31004,29429,21891,null,{"$f":"I220*0.76","v":28677.84},{"$f":"J220*0.76","v":23563.040000000001},{"$f":"K220*0.76","v":22366.04},{"$f":"L220*0.76","v":16637.16}]
[84,"o más",28677.84,23563.040000000001,22366.04,16637.16,null,null,37734,31004,29429,21891,null,28677.84,23563.040000000001,22366.04,16637.16]
[1,"Hijo",1470.6,1247.92,1083,804.84,null,null,1935,1642,1425,1059,null,1470.6,1247.92,1083,804.84]
[2,"Hijos",2499.64,2120.4,1839.2,1368,null,null,3289,2790,2420,1800,null,2499.64,2120.4,1839.2,1368]
[3,"Hijos o más",3527.16,2995.16,2596.92,1931.16,null,null,4641,3941,3417,2541,null,3527.16,2995.16,2596.92,1931.16]
[]
["BUPA GLOBAL PREMIER - MENSUALES"]
["EDAD"]
[" "," ",2000,3500,5000]
[18,null,{"$f":"C155*$K$2","v":304.80053333333336},{"$f":"D155*$K$2","v":258.76480000000004},224.43306666666666,166.90613333333334,0]
[19,null,{"$f":"C156*$K$2","v":308.63093333333336},261.53120000000001,226.56106666666668,168.60853333333333,0]
[20,null,{"$f":"C157*$K$2","v":312.46133333333336},264.36853333333335,228.83093333333338,170.24,0]
[21,null,{"$f":"C158*$K$2","v":316.36266666666666},267.34773333333334,231.17173333333335,172.01333333333335,0]
[22,null,{"$f":"C159*$K$2","v":320.40586666666667},270.39786666666669,233.58346666666665,173.71573333333333,0]
[23,null,{"$f":"C160*$K$2","v":324.6618666666667},273.66079999999999,236.20800000000003,175.70186666666666,0]
[24,null,{"$f":"C161*$K$2","v":329.13066666666668},277.13653333333338,238.83253333333334,177.68800000000002,0]
[25,null,{"$f":"C162*$K$2","v":333.59946666666673},280.39946666666668,241.52800000000002,179.67413333333334,0]
[26,null,{"$f":"C163*$K$2","v":340.1962666666667},285.43573333333336,245.5002666666667,182.65333333333334,0]
[27,null,{"$f":"C164*$K$2","v":347.00586666666669},290.6848,249.82720000000003,185.84533333333334,0]
[28,null,{"$f":"C165*$K$2","v":354.0992},296.21760000000006,254.15413333333333,189.10826666666668,0]
[29,null,{"$f":"C166*$K$2","v":361.47626666666667},301.75040000000001,258.76480000000004,192.51306666666667,0]
[30,null,{"$f":"C167*$K$2","v":369.13706666666667},307.7088,263.6592,196.13066666666668,0]
[31,null,{"$f":"C168*$K$2","v":377.01066666666668},313.95093333333335,268.48266666666666,199.74826666666667,0]
[32,null,{"$f":"C169*$K$2","v":385.23893333333336},320.19306666666665,273.73173333333335,203.64960000000002,0]
[33,null,{"$f":"C170*$K$2","v":393.60906666666665},326.86079999999998,279.12266666666665,207.62186666666668,0]
[34,null,{"$f":"C171*$K$2","v":402.40480000000008},333.74133333333339,284.79733333333337,211.87786666666668,0]
[35,null,{"$f":"C172*$K$2","v":411.41333333333336},340.76373333333333,290.54293333333334,216.13386666666665,0]
[36,null,{"$f":"C173*$K$2","v":420.6346666666667},348.06986666666671,296.43040000000002,220.46080000000001,0]
[37,null,{"$f":"C174*$K$2","v":430.13973333333337},355.58880000000005,303.16906666666671,225.56800000000004,0]
[38,null,{"$f":"C175*$K$2","v":439.85760000000005},363.3205333333334,310.9008,231.24266666666668,0]
[39,null,{"$f":"C176*$K$2","v":450.072},371.40693333333337,318.84533333333331,237.20106666666669,0]
[40,null,{"$f":"C177*$K$2","v":460.28640000000007},379.5642666666667,326.93173333333334,243.30133333333336,0]
[41,null,{"$f":"C178*$K$2","v":470.92640000000006},387.93439999999998,335.37280000000004,249.54346666666666,0]
[42,null,{"$f":"C179*$K$2","v":481.92106666666672},396.6592,343.9557333333334,255.92746666666667,0]
[43,null,{"$f":"C180*$K$2","v":492.91573333333332},405.52586666666667,352.68053333333336,262.38240000000002,0]
[44,null,{"$f":"C181*$K$2","v":504.40693333333331},414.60533333333336,361.68906666666669,269.05013333333335,0]
[45,null,{"$f":"C182*$K$2","v":516.18186666666668},423.96853333333337,370.91040000000004,276.0016,0]
[46,null,{"$f":"C183*$K$2","v":528.09866666666665},433.54453333333333,380.4864,282.95306666666664,0]
[47,null,{"$f":"C184*$K$2","v":540.44106666666676},443.33333333333337,390.13333333333333,290.18826666666666,0]
[48,null,{"$f":"C185*$K$2","v":552.85440000000006},453.33493333333337,400.06399999999996,297.56533333333334,0]
[49,null,{"$f":"C186*$K$2","v":565.62239999999997},463.54933333333338,410.13653333333332,305.01333333333332,0]
[50,null,{"$f":"C187*$K$2","v":578.67413333333332},474.11840000000001,420.35093333333339,312.74506666666667,0]
[51,null,{"$f":"C188*$K$2","v":592.00959999999998},484.82933333333341,430.84906666666666,320.54773333333333,0]
[52,null,{"$f":"C189*$K$2","v":605.62880000000007},495.75306666666671,441.70186666666672,328.56320000000005,0]
[53,null,{"$f":"C190*$K$2","v":619.46080000000006},507.03146666666674,452.69653333333332,336.72053333333338,0]
[54,null,{"$f":"C191*$K$2","v":633.50560000000007},518.38080000000002,463.8330666666667,345.01973333333336,0]
[55,null,{"$f":"C192*$K$2","v":647.97600000000011},529.94293333333337,475.25333333333333,353.53173333333336,0]
[56,null,{"$f":"C193*$K$2","v":662.65920000000006},541.85973333333334,486.88640000000004,362.25653333333338,0]
[57,null,{"$f":"C194*$K$2","v":677.48426666666671},553.84746666666672,498.59040000000005,370.83946666666668,0]
[58,null,{"$f":"C195*$K$2","v":692.7349333333334},566.18986666666672,510.57813333333343,379.84800000000001,0]
[59,null,{"$f":"C196*$K$2","v":708.34026666666671},578.74506666666673,522.99146666666672,388.9984,0]
[60,null,{"$f":"C197*$K$2","v":724.08746666666673},591.44213333333335,535.40480000000002,398.21973333333341,0]
[61,null,{"$f":"C198*$K$2","v":806.86666666666667},658.8288,600.94720000000007,447.09280000000001,0]
[62,null,{"$f":"C199*$K$2","v":896.52639999999997},731.67733333333342,672.09333333333336,499.86720000000003,0]
[63,null,{"$f":"C200*$K$2","v":992.8538666666667},810.3424,748.48853333333341,556.7557333333333,0]
[64,null,{"$f":"C201*$K$2","v":1095.9909333333335},894.75306666666665,830.34559999999999,617.61653333333334,0]
[65,null,{"$f":"C202*$K$2","v":1205.8666666666668},984.76746666666668,917.59360000000015,682.52053333333333,0]
[66,null,{"$f":"C203*$K$2","v":1322.4810666666667},1080.6693333333335,1010.3034666666667,751.4677333333334,0]
[67,null,{"$f":"C204*$K$2","v":1445.8341333333333},1182.104,1108.4042666666667,824.45813333333331,0]
[68,null,{"$f":"C205*$K$2","v":1576.0677333333333},1289.2842666666668,1211.6831999999999,901.34986666666668,0]
[69,null,{"$f":"C206*$K$2","v":1712.8981333333334},1401.9973333333335,1320.6368,982.35573333333332,0]
[70,null,{"$f":"C207*$K$2","v":1856.6090666666669},1520.8106666666667,1435.0522666666666,1067.4048,0]
[71,null,{"$f":"C208*$K$2","v":2007.1296},1644.9440000000002,1554.5749333333333,1156.4261333333334,0]
[72,null,{"$f":"C209*$K$2","v":2164.3888000000002},1774.9648,1679.7722666666668,1249.4906666666666,0]
[73,null,{"$f":"C210*$K$2","v":2328.2447999999999},1910.7311999999999,1810.2186666666669,1346.5274666666667,0]
[74,null,{"$f":"C211*$K$2","v":2499.052266666667},2052.0304000000001,1946.056,1447.6074666666668,0]
[75,null,{"$f":"C212*$K$2","v":2676.5984000000003},2199.2170666666671,2087.4970666666668,1552.8016,0]
[76,null,{"$f":"C213*$K$2","v":2676.5984000000003},2199.2170666666671,2087.4970666666668,1552.8016,0]
[77,null,{"$f":"C214*$K$2","v":2676.5984000000003},2199.2170666666671,2087.4970666666668,1552.8016,0]
[78,null,{"$f":"C215*$K$2","v":2676.5984000000003},2199.2170666666671,2087.4970666666668,1552.8016,0]
[79,null,{"$f":"C216*$K$2","v":2676.5984000000003},2199.2170666666671,2087.4970666666668,1552.8016,0]
[80,null,{"$f":"C217*$K$2","v":2676.5984000000003},2199.2170666666671,2087.4970666666668,1552.8016]
[81,null,{"$f":"C218*$K$2","v":2676.5984000000003},2199.2170666666671,2087.4970666666668,1552.8016]
[82,null,{"$f":"C219*$K$2","v":2676.5984000000003},2199.2170666666671,2087.4970666666668,1552.8016]
[83,null,{"$f":"C220*$K$2","v":2676.5984000000003},2199.2170666666671,2087.4970666666668,1552.8016]
[84,"o más",{"$f":"C221*$K$2","v":2676.5984000000003},2199.2170666666671,2087.4970666666668,1552.8016,0]
[1,"Hijo",{"$f":"C222*$K$2","v":137.256},116.47253333333335,101.08,75.118400000000008,0]
[2,"Hijos",{"$f":"C223*$K$2","v":233.29973333333334},197.90400000000002,171.65866666666668,127.68,0]
[3,"Hijos o más",{"$f":"C224*$K$2","v":329.20159999999998},279.54826666666668,242.37920000000003,180.24160000000001,0]
[]
[]
["BUPA GLOBAL SELECT"]
["TARIFAS ANUALES"]
["EDAD"]
[" "," ",2000,3500,5000,10000]
[18,null,{"$f":"N305","v":2194.88},{"$f":"O305","v":1871.1200000000001},1695.56,1261.5999999999999,null,null,2888,2462,2231,1660,null,{"$f":"I305*0.76","v":2194.88},{"$f":"J305*0.76","v":1871.1200000000001},1695.56,1261.5999999999999]
[19,null,{"$f":"N306","v":2225.2800000000002},{"$f":"O306","v":1893.16},{"$f":"P306","v":1714.56},{"$f":"Q306","v":1275.28},null,null,2928,2491,2256,1678,null,{"$f":"I306*0.76","v":2225.2800000000002},{"$f":"J306*0.76","v":1893.16},{"$f":"K306*0.76","v":1714.56},{"$f":"L306*0.76","v":1275.28}]
[20,null,2258.7199999999998,1917.48,1735.08,1290.48,null,null,2972,2523,2283,1698,null,2258.7199999999998,1917.48,1735.08,1290.48]
[21,null,2291.4,1941.8,1754.84,1305.68,null,null,3015,2555,2309,1718,null,2291.4,1941.8,1754.84,1305.68]
[22,null,2325.6,1969.16,1776.88,1321.64,null,null,3060,2591,2338,1739,null,2325.6,1969.16,1776.88,1321.64]
[23,null,2361.3200000000002,1995,1798.92,1338.3600000000001,null,null,3107,2625,2367,1761,null,2361.3200000000002,1995,1798.92,1338.3600000000001]
[24,null,2396.2800000000002,2023.88,1822.48,1355.08,null,null,3153,2663,2398,1783,null,2396.2800000000002,2023.88,1822.48,1355.08]
[25,null,2435.8000000000002,2052,1846.8,1373.32,null,null,3205,2700,2430,1807,null,2435.8000000000002,2052,1846.8,1373.32]
[26,null,2490.52,2093.8000000000002,1882.52,1400.68,null,null,3277,2755,2477,1843,null,2490.52,2093.8000000000002,1882.52,1400.68]
[27,null,2547.52,2139.4,1918.24,1428.04,null,null,3352,2815,2524,1879,null,2547.52,2139.4,1918.24,1428.04]
[28,null,2606.8000000000002,2184.2400000000002,1957,1456.92,null,null,3430,2874,2575,1917,null,2606.8000000000002,2184.2400000000002,1957,1456.92]
[29,null,2669.12,2233.64,1997.28,1485.8,null,null,3512,2939,2628,1955,null,2669.12,2233.64,1997.28,1485.8]
[30,null,2732.96,2282.2800000000002,2039.84,1518.48,null,null,3596,3003,2684,1998,null,2732.96,2282.2800000000002,2039.84,1518.48]
[31,null,2799.84,2334.7200000000003,2084.6799999999998,1550.4,null,null,3684,3072,2743,2040,null,2799.84,2334.7200000000003,2084.6799999999998,1550.4]
[32,null,2869,2388.6799999999998,2129.52,1583.84,null,null,3775,3143,2802,2084,null,2869,2388.6799999999998,2129.52,1583.84]
[33,null,2938.92,2444.92,2178.16,1620.32,null,null,3867,3217,2866,2132,null,2938.92,2444.92,2178.16,1620.32]
[34,null,3013.4,2501.92,2226.04,1656.04,null,null,3965,3292,2929,2179,null,3013.4,2501.92,2226.04,1656.04]
[35,null,3087.88,2561.96,2279.2400000000002,1695.56,null,null,4063,3371,2999,2231,null,3087.88,2561.96,2279.2400000000002,1695.56]
[36,null,3166.16,2623.52,2330.92,1734.32,null,null,4166,3452,3067,2282,null,3166.16,2623.52,2330.92,1734.32]
[37,null,3247.48,2688.12,2386.4,1776.1200000000001,null,null,4273,3537,3140,2337,null,3247.48,2688.12,2386.4,1776.1200000000001]
[38,null,3329.56,2753.48,2441.88,1817.16,null,null,4381,3623,3213,2391,null,3329.56,2753.48,2441.88,1817.16]
[39,null,3414.68,2819.6,2501.16,1860.48,null,null,4493,3710,3291,2448,null,3414.68,2819.6,2501.16,1860.48]
[40,null,3502.08,2890.28,2559.6799999999998,1904.56,null,null,4608,3803,3368,2506,null,3502.08,2890.28,2559.6799999999998,1904.56]
[41,null,3592.52,2961.7200000000003,2622.76,1950.92,null,null,4727,3897,3451,2567,null,3592.52,2961.7200000000003,2622.76,1950.92]
[42,null,3684.48,3035.44,2685.08,1997.28,null,null,4848,3994,3533,2628,null,3684.48,3035.44,2685.08,1997.28]
[43,null,3777.96,3109.92,2750.44,2045.92,null,null,4971,4092,3619,2692,null,3777.96,3109.92,2750.44,2045.92]
[44,null,3874.48,3188.2,2817.32,2096.08,null,null,5098,4195,3707,2758,null,3874.48,3188.2,2817.32,2096.08]
[45,null,3973.28,3267.2400000000002,2885.7200000000003,2146.2400000000002,null,null,5228,4299,3797,2824,null,3973.28,3267.2400000000002,2885.7200000000003,2146.2400000000002]
[46,null,4075.88,3347.8,2957.16,2199.44,null,null,5363,4405,3891,2894,null,4075.88,3347.8,2957.16,2199.44]
[47,null,4178.4800000000005,3430.64,3029.36,2253.4,null,null,5498,4514,3986,2965,null,4178.4800000000005,3430.64,3029.36,2253.4]
[48,null,4285.6400000000003,3516.52,3103.84,2308.12,null,null,5639,4627,4084,3037,null,4285.6400000000003,3516.52,3103.84,2308.12]
[49,null,4393.5600000000004,3603.92,3177.56,2364.36,null,null,5781,4742,4181,3111,null,4393.5600000000004,3603.92,3177.56,2364.36]
[50,null,4502.24,3693.6,3255.84,2422.12,null,null,5924,4860,4284,3187,null,4502.24,3693.6,3255.84,2422.12]
[51,null,4615.4800000000005,3783.28,3335.64,2481.4,null,null,6073,4978,4389,3265,null,4615.4800000000005,3783.28,3335.64,2481.4]
[52,null,4731,3876,3416.96,2541.44,null,null,6225,5100,4496,3344,null,4731,3876,3416.96,2541.44]
[53,null,4848.8,3971.76,3499.04,2603,null,null,6380,5226,4604,3425,null,4848.8,3971.76,3499.04,2603]
[54,null,4966.6000000000004,4067.52,3583.4,2666.08,null,null,6535,5352,4715,3508,null,4966.6000000000004,4067.52,3583.4,2666.08]
[55,null,5091.24,4167.08,3670.8,2730.68,null,null,6699,5483,4830,3593,null,5091.24,4167.08,3670.8,2730.68]
[56,null,5215.12,4266.6400000000003,3758.2,2796.04,null,null,6862,5614,4945,3679,null,5215.12,4266.6400000000003,3758.2,2796.04]
[57,null,5340.52,4370.76,3848.64,2863.68,null,null,7027,5751,5064,3768,null,5340.52,4370.76,3848.64,2863.68]
[58,null,5469.72,4475.6400000000003,3939.08,2930.56,null,null,7197,5889,5183,3856,null,5469.72,4475.6400000000003,3939.08,2930.56]
[59,null,5602.72,4582.8,4032.56,2999.7200000000003,null,null,7372,6030,5306,3947,null,5602.72,4582.8,4032.56,2999.7200000000003]
[60,null,5735.72,4689.96,4127.5600000000004,3070.4,null,null,7547,6171,5431,4040,null,5735.72,4689.96,4127.5600000000004,3070.4]
[61,null,6437.96,5263,4629.16,3443.56,null,null,8471,6925,6091,4531,null,6437.96,5263,4629.16,3443.56]
[62,null,7200.24,5883.16,5175.6000000000004,3850.16,null,null,9474,7741,6810,5066,null,7200.24,5883.16,5175.6000000000004,3850.16]
[63,null,8018.76,6554.24,5763.84,4287.92,null,null,10551,8624,7584,5642,null,8018.76,6554.24,5763.84,4287.92]
[64,null,8895.7999999999993,7271.68,6397.68,4759.12,null,null,11705,9568,8418,6262,null,8895.7999999999993,7271.68,6397.68,4759.12]
[65,null,9830.6,8038.52,7074.08,5262.24,null,null,12935,10577,9308,6924,null,9830.6,8038.52,7074.08,5262.24]
[66,null,10823.16,8854.76,7795.32,5798.8,null,null,14241,11651,10257,7630,null,10823.16,8854.76,7795.32,5798.8]
[67,null,11875,9719.64,8561.4,6368.8,null,null,15625,12789,11265,8380,null,11875,9719.64,8561.4,6368.8]
[68,null,12981.56,10635.44,9370.0400000000009,6970.72,null,null,17081,13994,12329,9172,null,12981.56,10635.44,9370.0400000000009,6970.72]
[69,null,14148.92,11597.6,10223.52,7605.32,null,null,18617,15260,13452,10007,null,14148.92,11597.6,10223.52,7605.32]
[70,null,15373.28,12609.16,11120.32,8272.6,null,null,20228,16591,14632,10885,null,15373.28,12609.16,11120.32,8272.6]
[71,null,16655.400000000001,13669.36,12061.2,8971.7999999999993,null,null,21915,17986,15870,11805,null,16655.400000000001,13669.36,12061.2,8971.7999999999993]
[72,null,17996.8,14778.2,13046.16,9704.44,null,null,23680,19445,17166,12769,null,17996.8,14778.2,13046.16,9704.44]
[73,null,19393.68,15936.44,14074.44,10468.24,null,null,25518,20969,18519,13774,null,19393.68,15936.44,14074.44,10468.24]
[74,null,20849.84,17142.560000000001,15148.32,11267.76,null,null,27434,22556,19932,14826,null,20849.84,17142.560000000001,15148.32,11267.76]
[75,null,22365.279999999999,18399.599999999999,16264,12098.44,null,null,29428,24210,21400,15919,null,22365.279999999999,18399.599999999999,16264,12098.44]
[76,null,22365.279999999999,18399.599999999999,16264,12098.44,null,null,29428,24210,21400,15919,null,22365.279999999999,18399.599999999999,16264,12098.44]
[77,null,22365.279999999999,18399.599999999999,16264,12098.44,null,null,29428,24210,21400,15919,null,22365.279999999999,18399.599999999999,16264,12098.44]
[78,null,22365.279999999999,18399.599999999999,16264,12098.44,null,null,29428,24210,21400,15919,null,22365.279999999999,18399.599999999999,16264,12098.44]
[79,null,22365.279999999999,18399.599999999999,16264,12098.44,null,null,29428,24210,21400,15919,null,22365.279999999999,18399.599999999999,16264,12098.44]
[80,null,22365.279999999999,18399.599999999999,16264,12098.44,null,null,29428,24210,21400,15919,null,22365.279999999999,18399.599999999999,16264,12098.44]
[81,null,22365.279999999999,18399.599999999999,16264,12098.44,null,null,29428,24210,21400,15919,null,22365.279999999999,18399.599999999999,16264,12098.44]
[82,null,22365.279999999999,18399.599999999999,16264,12098.44,null,null,29428,24210,21400,15919,null,22365.279999999999,18399.599999999999,16264,12098.44]
[83,null,{"$f":"N370","v":22365.279999999999},{"$f":"O370","v":18399.599999999999},{"$f":"P370","v":16264},{"$f":"Q370","v":12098.44},null,null,29428,24210,21400,15919,null,{"$f":"I370*0.76","v":22365.279999999999},{"$f":"J370*0.76","v":18399.599999999999},{"$f":"K370*0.76","v":16264},{"$f":"L370*0.76","v":12098.44}]
[84,"o más",22365.279999999999,18399.599999999999,16264,12098.44,null,null,29428,24210,21400,15919,null,22365.279999999999,18399.599999999999,16264,12098.44]
[1,"Hijo",1104.28,942.4,855,636.12,null,null,1453,1240,1125,837,null,1104.28,942.4,855,636.12]
[2,"Hijos",1877.96,1601.32,1450.08,1079.2,null,null,2471,2107,1908,1420,null,1877.96,1601.32,1450.08,1079.2]
[3,"Hijos o más",2651.64,2259.48,2048.1999999999998,1523.8,null,null,3489,2973,2695,2005,null,2651.64,2259.48,2048.1999999999998,1523.8]
[]
["BUPA GLOBAL SELECT - MENSUALES"]
["EDAD"]
[" "," ",2000,3500,5000]
[18,null,{"$f":"C305*$K$2","v":204.8554666666667},{"$f":"D305*$K$2","v":174.6378666666667},158.25226666666666,117.74933333333333,0]
[19,null,{"$f":"C306*$K$2","v":207.69280000000003},176.69493333333335,160.0256,119.02613333333333,0]
[20,null,{"$f":"C307*$K$2","v":210.81386666666666},178.9648,161.9408,120.4448,0]
[21,null,{"$f":"C308*$K$2","v":213.864},181.23466666666667,163.78506666666667,121.86346666666668,0]
[22,null,{"$f":"C309*$K$2","v":217.05600000000001},183.78826666666669,165.84213333333335,123.35306666666668,0]
[23,null,{"$f":"C310*$K$2","v":220.38986666666671},186.20000000000002,167.89920000000001,124.91360000000002,0]
[24,null,{"$f":"C311*$K$2","v":223.65280000000004},188.89546666666669,170.09813333333335,126.47413333333333,0]
[25,null,{"$f":"C312*$K$2","v":227.34133333333335},191.52,172.36799999999999,128.17653333333334,0]
[26,null,{"$f":"C313*$K$2","v":232.44853333333333},195.42133333333337,175.70186666666666,130.73013333333336,0]
[27,null,{"$f":"C314*$K$2","v":237.76853333333335},199.67733333333334,179.03573333333335,133.28373333333334,0]
[28,null,{"$f":"C315*$K$2","v":243.30133333333336},203.86240000000004,182.65333333333334,135.97920000000002,0]
[29,null,{"$f":"C316*$K$2","v":249.11786666666666},208.47306666666665,186.4128,138.67466666666667,0]
[30,null,{"$f":"C317*$K$2","v":255.07626666666667},213.01280000000003,190.38506666666666,141.72480000000002,0]
[31,null,{"$f":"C318*$K$2","v":261.31840000000005},217.90720000000005,194.57013333333333,144.70400000000001,0]
[32,null,{"$f":"C319*$K$2","v":267.77333333333337},222.94346666666667,198.7552,147.82506666666666,0]
[33,null,{"$f":"C320*$K$2","v":274.29920000000004},228.19253333333336,203.29493333333332,151.22986666666668,0]
[34,null,{"$f":"C321*$K$2","v":281.25066666666669},233.51253333333335,207.76373333333333,154.56373333333335,0]
[35,null,{"$f":"C322*$K$2","v":288.20213333333334},239.11626666666669,212.72906666666671,158.25226666666666,0]
[36,null,{"$f":"C323*$K$2","v":295.50826666666666},244.86186666666669,217.55253333333334,161.86986666666667,0]
[37,null,{"$f":"C324*$K$2","v":303.09813333333335},250.8912,222.73066666666668,165.77120000000002,0]
[38,null,{"$f":"C325*$K$2","v":310.75893333333335},256.99146666666667,227.90880000000001,169.60160000000002,0]
[39,null,{"$f":"C326*$K$2","v":318.70346666666666},263.16266666666667,233.44159999999999,173.6448,0]
[40,null,{"$f":"C327*$K$2","v":326.86079999999998},269.7594666666667,238.90346666666667,177.75893333333335,0]
[41,null,{"$f":"C328*$K$2","v":335.30186666666668},276.42720000000003,244.79093333333336,182.08586666666667,0]
[42,null,{"$f":"C329*$K$2","v":343.88480000000004},283.30773333333337,250.60746666666668,186.4128,0]
[43,null,{"$f":"C330*$K$2","v":352.6096},290.25920000000002,256.70773333333335,190.95253333333335,0]
[44,null,{"$f":"C331*$K$2","v":361.61813333333333},297.56533333333334,262.94986666666671,195.63413333333332,0]
[45,null,{"$f":"C332*$K$2","v":370.83946666666668},304.94240000000002,269.33386666666672,200.31573333333336,0]
[46,null,{"$f":"C333*$K$2","v":380.4154666666667},312.46133333333336,276.0016,205.28106666666667,0]
[47,null,{"$f":"C334*$K$2","v":389.99146666666672},320.19306666666665,282.74026666666668,210.31733333333335,0]
[48,null,{"$f":"C335*$K$2","v":399.99306666666672},328.20853333333332,289.69173333333333,215.42453333333333,0]
[49,null,{"$f":"C336*$K$2","v":410.06560000000007},336.3658666666667,296.57226666666668,220.67360000000002,0]
[50,null,{"$f":"C337*$K$2","v":420.20906666666667},344.73599999999999,303.8784,226.06453333333334,0]
[51,null,{"$f":"C338*$K$2","v":430.77813333333341},353.10613333333339,311.32639999999998,231.59733333333335,0]
[52,null,{"$f":"C339*$K$2","v":441.56},361.76,318.91626666666667,237.20106666666669,0]
[53,null,{"$f":"C340*$K$2","v":452.55466666666672},370.69760000000002,326.57706666666667,242.94666666666669,0]
[54,null,{"$f":"C341*$K$2","v":463.54933333333338},379.6352,334.45066666666668,248.83413333333334,0]
[55,null,{"$f":"C342*$K$2","v":475.18240000000003},388.9274666666667,342.60800000000006,254.86346666666665,0]
[56,null,{"$f":"C343*$K$2","v":486.74453333333332},398.21973333333341,350.76533333333333,260.96373333333332,0]
[57,null,{"$f":"C344*$K$2","v":498.44853333333339},407.93760000000003,359.20640000000003,267.27679999999998,0]
[58,null,{"$f":"C345*$K$2","v":510.50720000000007},417.72640000000007,367.64746666666667,273.51893333333334,0]
[59,null,{"$f":"C346*$K$2","v":522.92053333333342},427.72800000000001,376.37226666666669,279.97386666666671,0]
[60,null,{"$f":"C347*$K$2","v":535.33386666666672},437.7296,385.23893333333336,286.57066666666668,0]
[61,null,{"$f":"C348*$K$2","v":600.87626666666665},491.21333333333337,432.05493333333334,321.39893333333333,0]
[62,null,{"$f":"C349*$K$2","v":672.02240000000006},549.0949333333333,483.05600000000004,359.34826666666669,0]
[63,null,{"$f":"C350*$K$2","v":748.41760000000011},611.72906666666665,537.95839999999998,400.20586666666668,0]
[64,null,{"$f":"C351*$K$2","v":830.27466666666669},678.69013333333339,597.11680000000001,444.18453333333332,0]
[65,null,{"$f":"C352*$K$2","v":917.52266666666674},750.26186666666672,660.2474666666667,491.14240000000001,0]
[66,null,{"$f":"C353*$K$2","v":1010.1616},826.44426666666675,727.56320000000005,541.2213333333334,0]
[67,null,{"$f":"C354*$K$2","v":1108.3333333333335},907.16639999999995,799.06399999999996,594.42133333333334,0]
[68,null,{"$f":"C355*$K$2","v":1211.6122666666668},992.6410666666668,874.53706666666676,650.60053333333337,0]
[69,null,{"$f":"C356*$K$2","v":1320.5658666666668},1082.4426666666668,954.19520000000011,709.8298666666667,0]
[70,null,{"$f":"C357*$K$2","v":1434.8394666666668},1176.8549333333333,1037.8965333333333,772.10933333333344,0]
[71,null,{"$f":"C358*$K$2","v":1554.5040000000001},1275.8069333333335,1125.7120000000002,837.36799999999994,0]
[72,null,{"$f":"C359*$K$2","v":1679.7013333333334},1379.2986666666668,1217.6416000000002,905.74773333333337,0]
[73,null,{"$f":"C360*$K$2","v":1810.0768},1487.4010666666668,1313.6144000000002,977.03573333333338,0]
[74,null,{"$f":"C361*$K$2","v":1945.9850666666669},1599.9722666666669,1413.8432,1051.6576,0]
[75,null,{"$f":"C362*$K$2","v":2087.4261333333334},1717.296,1517.9733333333334,1129.1877333333334,0]
[76,null,{"$f":"C363*$K$2","v":2087.4261333333334},1717.296,1517.9733333333334,1129.1877333333334,0]
[77,null,{"$f":"C364*$K$2","v":2087.4261333333334},1717.296,1517.9733333333334,1129.1877333333334,0]
[78,null,{"$f":"C365*$K$2","v":2087.4261333333334},1717.296,1517.9733333333334,1129.1877333333334,0]
[79,null,{"$f":"C366*$K$2","v":2087.4261333333334},1717.296,1517.9733333333334,1129.1877333333334,0]
[80,null,{"$f":"C367*$K$2","v":2087.4261333333334},1717.296,1517.9733333333334,1129.1877333333334]
[81,null,{"$f":"C368*$K$2","v":2087.4261333333334},1717.296,1517.9733333333334,1129.1877333333334]
[82,null,{"$f":"C369*$K$2","v":2087.4261333333334},1717.296,1517.9733333333334,1129.1877333333334]
[83,null,{"$f":"C370*$K$2","v":2087.4261333333334},1717.296,1517.9733333333334,1129.1877333333334]
[84,"o más",{"$f":"C371*$K$2","v":2087.4261333333334},1717.296,1517.9733333333334,1129.1877333333334,0]
[1,"Hijo",{"$f":"C372*$K$2","v":103.06613333333334},87.957333333333338,79.8,59.371200000000002]
[2,"Hijos",{"$f":"C373*$K$2","v":175.27626666666669},149.45653333333334,135.3408,100.72533333333334]
[3,"Hijos o más",{"$f":"C374*$K$2","v":247.4864},210.88480000000001,191.16533333333334,142.22133333333335]
[]
[]
["BUPA GLOBAL ELITE"]
["TARIFAS SEMESTRALES"]
["EDAD"]
[" "," ",1000,2000,3500]
[18,null,{"$f":"C6*$K$4","v":3341.8090000000002},{"$f":"D6*$K$4","v":2393.5065000000004},2026.7995000000001,1757.4005,1363.213]
[19,null,{"$f":"C7*$K$4","v":3385.9580000000001},2422.3384999999998,2047.973,1776.3215,1377.6289999999999]
[20,null,{"$f":"C8*$K$4","v":3431.0079999999998},2452.9725000000003,2070.9485,1795.693,1392.4955]
[21,null,{"$f":"C9*$K$4","v":3477.4095000000002},2484.0569999999998,2094.3745000000004,1815.9655,1408.2629999999999]
[22,null,{"$f":"C10*$K$4","v":3525.6129999999998},2516.4929999999999,2118.2510000000002,1836.6885,1424.0305000000001]
[23,null,{"$f":"C11*$K$4","v":3576.5194999999999},2548.9290000000001,2143.9295000000002,1859.2135000000001,1442.0505000000001]
[24,null,{"$f":"C12*$K$4","v":3626.9755},2583.6175000000003,2169.6080000000002,1881.288,1459.1695000000002]
[25,null,{"$f":"C13*$K$4","v":3679.6840000000002},2619.6575000000003,2196.1875,1904.7139999999999,1477.1895000000002]
[26,null,{"$f":"C14*$K$4","v":3755.3679999999999},2671.0144999999998,2235.3809999999999,1938.9520000000002,1503.3185000000001]
[27,null,{"$f":"C15*$K$4","v":3834.2055},2724.6240000000003,2276.8269999999998,1973.6405,1531.2495000000001]
[28,null,{"$f":"C16*$K$4","v":3915.2954999999997},2779.585,2319.1740000000004,2011.0320000000002,1559.1804999999999]
[29,null,{"$f":"C17*$K$4","v":4000.44},2837.2490000000003,2363.7735000000002,2049.7750000000001,1589.8145000000002]
[30,null,{"$f":"C18*$K$4","v":4087.837},2898.0665000000004,2410.6254999999996,2090.3200000000002,1621.3495]
[31,null,{"$f":"C19*$K$4","v":4178.3874999999998},2959.7850000000003,2459.2795000000001,2132.2165,1654.2359999999999]
[32,null,{"$f":"C20*$K$4","v":4271.1904999999997},3024.2065000000002,2508.384,2175.0140000000001,1686.2214999999999]
[33,null,{"$f":"C21*$K$4","v":4367.1469999999999},3090.4300000000003,2560.6419999999998,2220.0640000000003,1722.2614999999998]
[34,null,{"$f":"C22*$K$4","v":4466.2569999999996},3158.9059999999999,2613.8009999999999,2266.4654999999998,1757.4005]
[35,null,{"$f":"C23*$K$4","v":4567.1689999999999},3229.1840000000002,2669.663,2315.1194999999998,1795.693]
[36,null,{"$f":"C24*$K$4","v":4671.6850000000004},3301.7145,2726.4259999999999,2363.7735000000002,1833.5350000000001]
[37,null,{"$f":"C25*$K$4","v":4779.3545000000004},3377.3985000000002,2784.991,2415.5810000000001,1873.1789999999999]
[38,null,{"$f":"C26*$K$4","v":4889.2764999999999},3453.5329999999999,2845.8085000000001,2468.2894999999999,1914.1745000000001]
[39,null,{"$f":"C27*$K$4","v":5002.8025000000007},3533.2715000000003,2908.4279999999999,2521.8990000000003,1955.6205]
[40,null,{"$f":"C28*$K$4","v":5118.5810000000001},3614.3615000000004,2972.3990000000003,2577.3105,1999.319]
[41,null,{"$f":"C29*$K$4","v":5237.5130000000008},3697.7040000000002,3038.6224999999999,2634.9744999999998,2043.9185]
[42,null,{"$f":"C30*$K$4","v":5358.6975000000002},3782.8485000000001,3106.6479999999997,2693.5394999999999,2089.4189999999999]
[43,null,{"$f":"C31*$K$4","v":5482.585},3871.1465000000003,3176.4755,2754.357,2136.2710000000002]
[44,null,{"$f":"C32*$K$4","v":5610.0765000000001},3959.895,3247.2040000000002,2816.0754999999999,2184.4744999999998]
[45,null,{"$f":"C33*$K$4","v":5740.2709999999997},4052.2475000000004,3321.0860000000002,2879.1454999999996,2233.1284999999998]
[46,null,{"$f":"C34*$K$4","v":5873.1684999999998},4145.9515000000001,3396.3195000000001,2945.3690000000001,2283.5844999999999]
[47,null,{"$f":"C35*$K$4","v":6008.7690000000002},4242.8090000000002,3472.4540000000002,3010.6915000000004,2335.3919999999998]
[48,null,{"$f":"C36*$K$4","v":6147.5230000000001},4340.1170000000002,3550.8409999999999,3078.7170000000001,2387.65]
[49,null,{"$f":"C37*$K$4","v":6289.4305000000004},4441.0289999999995,3631.4805000000001,3148.9950000000003,2441.71]
[50,null,{"$f":"C38*$K$4","v":6433.14},4542.8419999999996,3713.922,3220.6244999999999,2497.5720000000001]
[51,null,{"$f":"C39*$K$4","v":6580.4534999999996},4647.3580000000002,3798.616,3293.6054999999997,2553.8845000000001]
[52,null,{"$f":"C40*$K$4","v":6730.0195000000003},4754.1265000000003,3882.8595,3366.5865000000003,2611.5484999999999]
[53,null,{"$f":"C41*$K$4","v":6883.1895000000004},4864.0484999999999,3971.1575000000003,3443.1715000000004,2670.5640000000003]
[54,null,{"$f":"C42*$K$4","v":7039.0625},4974.8715000000002,4059.9059999999999,3520.2069999999999,2730.4804999999997]
[55,null,{"$f":"C43*$K$4","v":7197.6385},5087.4965000000002,4151.3575000000001,3599.4950000000003,2791.7485000000001]
[56,null,{"$f":"C44*$K$4","v":7358.0164999999997},5202.3739999999998,4244.1605,3680.1345000000001,2854.3679999999999]
[57,null,{"$f":"C45*$K$4","v":7522.8995000000004},5319.5039999999999,4338.7654999999995,3761.6750000000002,2917.4379999999996]
[58,null,{"$f":"C46*$K$4","v":7690.0350000000008},5438.8864999999996,4435.1725000000006,3845.4679999999998,2982.31]
[59,null,{"$f":"C47*$K$4","v":7859.4230000000007},5560.5214999999998,4532.9309999999996,3930.6125000000002,3048.0830000000001]
[60,null,{"$f":"C48*$K$4","v":8031.9645},5684.4089999999997,4633.3924999999999,4017.1085000000003,3115.6579999999999]
[61,null,{"$f":"C49*$K$4","v":8938.8210000000017},6334.4805000000006,5160.027,4474.366,3470.652]
[62,null,{"$f":"C50*$K$4","v":9915.9555},7038.6120000000001,5732.1620000000003,4970.3665000000001,3854.4780000000001]
[63,null,{"$f":"C51*$K$4","v":10964.719499999999},7794.5509999999995,6347.9955000000009,5504.2089999999998,4268.9380000000001]
[64,null,{"$f":"C52*$K$4","v":12084.212},8604.5500000000011,7008.4285,6077.2449999999999,4713.5815000000002]
[65,null,{"$f":"C53*$K$4","v":13274.432999999999},9467.2574999999997,7713.9115000000002,6688.5734999999995,5187.5075000000006]
[66,null,{"$f":"C54*$K$4","v":14536.283500000001},10382.673500000001,8464.4444999999996,7339.9965000000002,5692.518]
[67,null,{"$f":"C55*$K$4","v":15869.313},11351.248500000002,9259.1265000000003,8028.8109999999997,6226.8109999999997]
[68,null,{"$f":"C56*$K$4","v":17273.521499999999},12373.432999999999,10097.9575,8755.9179999999997,6790.8370000000004]
[69,null,{"$f":"C57*$K$4","v":18748.008000000002},13448.326000000001,10982.7395,9523.1194999999989,7385.4970000000003]
[70,null,{"$f":"C58*$K$4","v":20294.574500000002},14576.828500000001,11911.6705,10328.613500000001,8010.7910000000002]
[71,null,{"$f":"C59*$K$4","v":21912.32},15758.039499999999,12885.201000000001,11172.8505,8665.3675000000003]
[72,null,{"$f":"C60*$K$4","v":23600.343499999999},16993.3105,13903.331000000002,12055.380000000001,9349.6769999999997]
[73,null,{"$f":"C61*$K$4","v":25359.545999999998},18280.388999999999,14965.61,12976.6525,10064.17]
[74,null,{"$f":"C62*$K$4","v":27190.378000000001},19621.077000000001,16073.389499999999,13937.569,10809.296999999999]
[75,null,{"$f":"C63*$K$4","v":29091.9385},21015.374500000002,17225.768500000002,14936.327500000001,11583.7065]
[76,null,{"$f":"C64*$K$4","v":29091.9385},21015.374500000002,17225.768500000002,14936.327500000001,11583.7065]
[77,null,{"$f":"C65*$K$4","v":29091.9385},21015.374500000002,17225.768500000002,14936.327500000001,11583.7065]
[78,null,{"$f":"C66*$K$4","v":29091.9385},21015.374500000002,17225.768500000002,14936.327500000001,11583.7065]
[79,null,{"$f":"C67*$K$4","v":29091.9385},21015.374500000002,17225.768500000002,14936.327500000001,11583.7065]
[80,null,{"$f":"C68*$K$4","v":29091.9385},21015.374500000002,17225.768500000002,14936.327500000001,11583.7065]
[81,null,{"$f":"C69*$K$4","v":29091.9385},21015.374500000002,17225.768500000002,14936.327500000001,11583.7065]
[82,null,{"$f":"C70*$K$4","v":29091.9385},21015.374500000002,17225.768500000002,14936.327500000001,11583.7065]
[83,null,{"$f":"C71*$K$4","v":29091.9385},21015.374500000002,17225.768500000002,14936.327500000001,11583.7065]
[84,"o más",{"$f":"C72*$K$4","v":29091.9385},21015.374500000002,17225.768500000002,14936.327500000001,11583.7065]
[1,"Hijo",{"$f":"C73*$K$4","v":1504.2195000000002},1077.1455000000001,912.26250000000005,791.07799999999997,614.03150000000005]
[2,"Hijos",{"$f":"C74*$K$4","v":2556.5875000000001},1831.2825,1550.6210000000001,1344.2920000000001,1043.3579999999999]
[3,"Hijos o más",{"$f":"C75*$K$4","v":3608.9555},2584.9690000000001,2189.4300000000003,1897.9565,1472.2339999999999]
[]
["BUPA GLOBAL PREMIER"]
["TARIFAS SEMESTRALES"]
["EDAD"]
[" "," ",2000,3500,5000]
[18,null,{"$f":"C155*$K$4","v":1730.8316000000002},{"$f":"D155*$K$4","v":1469.4144000000001},1274.4592,947.78840000000002,0]
[19,null,{"$f":"C156*$K$4","v":1752.5828000000001},1485.1236000000001,1286.5432000000001,957.4556,0]
[20,null,{"$f":"C157*$K$4","v":1774.3340000000003},1501.2356,1299.4328000000003,966.72,0]
[21,null,{"$f":"C158*$K$4","v":1796.4880000000001},1518.1532000000002,1312.7252000000001,976.79000000000008,0]
[22,null,{"$f":"C159*$K$4","v":1819.4476000000002},1535.4736,1326.4204,986.45720000000006,0]
[23,null,{"$f":"C160*$K$4","v":1843.6156000000001},1554.0024000000001,1341.3240000000001,997.73560000000009,0]
[24,null,{"$f":"C161*$K$4","v":1868.9920000000002},1573.7396000000001,1356.2276000000002,1009.014,0]
[25,null,{"$f":"C162*$K$4","v":1894.3684000000003},1592.2684000000002,1371.5340000000001,1020.2924,0]
[26,null,{"$f":"C163*$K$4","v":1931.8288000000002},1620.8672000000001,1394.0908000000002,1037.21,0]
[27,null,{"$f":"C164*$K$4","v":1970.4976000000001},1650.6744000000001,1418.6616000000001,1055.336,0]
[28,null,{"$f":"C165*$K$4","v":2010.7776000000001},1682.0928000000001,1443.2324000000001,1073.8648000000001,0]
[29,null,{"$f":"C166*$K$4","v":2052.6687999999999},1713.5112000000001,1469.4144000000001,1093.1992,0]
[30,null,{"$f":"C167*$K$4","v":2096.1712000000002},1747.3464000000001,1497.2076000000002,1113.7420000000002,0]
[31,null,{"$f":"C168*$K$4","v":2140.8820000000001},1782.7928000000002,1524.598,1134.2847999999999,0]
[32,null,{"$f":"C169*$K$4","v":2187.6068000000005},1818.2392,1554.4052000000001,1156.4388000000001,0]
[33,null,{"$f":"C170*$K$4","v":2235.1372000000001},1856.1024,1585.018,1178.9956,0]
[34,null,{"$f":"C171*$K$4","v":2285.0844000000002},1895.1740000000002,1617.2420000000002,1203.1636000000001,0]
[35,null,{"$f":"C172*$K$4","v":2336.2400000000002},1935.0512000000001,1649.8688000000002,1227.3316,0]
[36,null,{"$f":"C173*$K$4","v":2388.6040000000003},1976.5396000000003,1683.3012000000001,1251.9023999999999,0]
[37,null,{"$f":"C174*$K$4","v":2442.5792000000001},2019.2364000000002,1721.5672000000002,1280.9040000000002,0]
[38,null,{"$f":"C175*$K$4","v":2497.7628000000004},2063.1416000000004,1765.4724000000001,1313.1279999999999,0]
[39,null,{"$f":"C176*$K$4","v":2555.7660000000001},2109.0608000000002,1810.586,1346.9632000000001,0]
[40,null,{"$f":"C177*$K$4","v":2613.7692000000002},2155.3828000000003,1856.5052000000001,1381.6040000000003,0]
[41,null,{"$f":"C178*$K$4","v":2674.1892000000003},2202.9132,1904.4384000000002,1417.0504000000001,0]
[42,null,{"$f":"C179*$K$4","v":2736.6232000000005},2252.4576000000002,1953.1772000000003,1453.3024,0]
[43,null,{"$f":"C180*$K$4","v":2799.0572000000002},2302.8076000000001,2002.7216000000003,1489.9572000000003,0]
[44,null,{"$f":"C181*$K$4","v":2864.3107999999997},2354.366,2053.8772000000004,1527.8204000000001,0]
[45,null,{"$f":"C182*$K$4","v":2931.1756000000005},2407.5356000000002,2106.2411999999999,1567.2947999999999,0]
[46,null,{"$f":"C183*$K$4","v":2998.846},2461.9135999999999,2160.6192000000001,1606.7692,0]
[47,null,{"$f":"C184*$K$4","v":3068.9332000000004},2517.5,2215.4,1647.8548000000001,0]
[48,null,{"$f":"C185*$K$4","v":3139.4232000000006},2574.2948000000001,2271.7919999999999,1689.7460000000001,0]
[49,null,{"$f":"C186*$K$4","v":3211.9272000000001},2632.2980000000002,2328.9895999999999,1732.0400000000002,0]
[50,null,{"$f":"C187*$K$4","v":3286.0424000000003},2692.3152,2386.9928000000004,1775.9452000000001,0]
[51,null,{"$f":"C188*$K$4","v":3361.7688000000003},2753.1380000000004,2446.6071999999999,1820.2532000000001,0]
[52,null,{"$f":"C189*$K$4","v":3439.1064000000001},2815.1692000000003,2508.2356000000004,1865.7696000000001,0]
[53,null,{"$f":"C190*$K$4","v":3517.6523999999999},2879.2144000000003,2570.6696000000002,1912.0916000000002,0]
[54,null,{"$f":"C191*$K$4","v":3597.4068000000002},2943.6624000000002,2633.9092000000005,1959.2192,0]
[55,null,{"$f":"C192*$K$4","v":3679.5780000000004},3009.3188,2698.76,2007.5552000000002,0]
[56,null,{"$f":"C193*$K$4","v":3762.9576000000002},3076.9892000000004,2764.8192000000004,2057.0996,0]
[57,null,{"$f":"C194*$K$4","v":3847.1428000000005},3145.0624000000003,2831.2811999999999,2105.8384000000001,0]
[58,null,{"$f":"C195*$K$4","v":3933.7447999999999},3215.1496000000002,2899.3544000000006,2156.9940000000001,0]
[59,null,{"$f":"C196*$K$4","v":4022.3607999999999},3286.4452000000001,2969.8444000000004,2208.9552000000003,0]
[60,null,{"$f":"C197*$K$4","v":4111.7824000000001},3358.5464000000002,3040.3344000000002,2261.3192000000004,0]
[61,null,{"$f":"C198*$K$4","v":4581.8500000000004},3741.2064,3412.5216000000005,2538.8483999999999,0]
[62,null,{"$f":"C199*$K$4","v":5090.9892},4154.8820000000005,3816.53,2838.5316000000003,0]
[63,null,{"$f":"C200*$K$4","v":5637.9916000000003},4601.5871999999999,4250.3456000000006,3161.5772000000002,0]
[64,null,{"$f":"C201*$K$4","v":6223.6628000000001},5080.9192000000003,4715.1768000000002,3507.1795999999999,0]
[65,null,{"$f":"C202*$K$4","v":6847.6},5592.0724,5210.6208000000006,3875.7416000000003,0]
[66,null,{"$f":"C203*$K$4","v":7509.8032000000003},6136.6580000000004,5737.0804000000007,4267.2632000000003,0]
[67,null,{"$f":"C204*$K$4","v":8210.2723999999998},6712.6620000000003,6294.1528000000008,4681.7443999999996,0]
[68,null,{"$f":"C205*$K$4","v":8949.8132000000005},7321.2928000000002,6880.6296000000002,5118.3796000000002,0]
[69,null,{"$f":"C206*$K$4","v":9726.8144000000011},7961.3420000000006,7499.3304000000007,5578.3771999999999,0]
[70,null,{"$f":"C207*$K$4","v":10542.887200000001},8636.0320000000011,8149.0468000000001,6061.3343999999997,0]
[71,null,{"$f":"C208*$K$4","v":11397.6288},9340.9320000000007,8827.7648000000008,6566.8484000000008,0]
[72,null,{"$f":"C209*$K$4","v":12290.636400000001},10079.2644,9538.7068000000017,7095.3220000000001,0]
[73,null,{"$f":"C210*$K$4","v":13221.1044},10850.223599999999,10279.456,7646.3524000000007,0]
[74,null,{"$f":"C211*$K$4","v":14191.046800000002},11652.601200000001,11050.817999999999,8220.3423999999995,0]
[75,null,{"$f":"C212*$K$4","v":15199.255200000001},12488.4112,11854.001200000001,8817.6948000000011,0]
[76,null,{"$f":"C213*$K$4","v":15199.255200000001},12488.4112,11854.001200000001,8817.6948000000011,0]
[77,null,{"$f":"C214*$K$4","v":15199.255200000001},12488.4112,11854.001200000001,8817.6948000000011,0]
[78,null,{"$f":"C215*$K$4","v":15199.255200000001},12488.4112,11854.001200000001,8817.6948000000011,0]
[79,null,{"$f":"C216*$K$4","v":15199.255200000001},12488.4112,11854.001200000001,8817.6948000000011,0]
[80,null,{"$f":"C217*$K$4","v":15199.255200000001},12488.4112,11854.001200000001,8817.6948000000011,0]
[81,null,{"$f":"C218*$K$4","v":15199.255200000001},12488.4112,11854.001200000001,8817.6948000000011,0]
[82,null,{"$f":"C219*$K$4","v":15199.255200000001},12488.4112,11854.001200000001,8817.6948000000011,0]
[83,null,{"$f":"C220*$K$4","v":15199.255200000001},12488.4112,11854.001200000001,8817.6948000000011,0]
[84,"o más",{"$f":"C221*$K$4","v":15199.255200000001},12488.4112,11854.001200000001,8817.6948000000011,0]
[1,"Hijo",{"$f":"C222*$K$4","v":779.41800000000001},661.39760000000012,573.99,426.56520000000006,0]
[2,"Hijos",{"$f":"C223*$K$4","v":1324.8091999999999},1123.8120000000001,974.77600000000007,725.04000000000008,0]
[3,"Hijos o más",{"$f":"C224*$K$4","v":1869.3948},1587.4348,1376.3676,1023.5148000000002,0]
[]
["BUPA GLOBAL SELECT"]
["TARIFAS SEMESTRALES"]
["EDAD"]
[" "," ",2000,3500,5000]
[18,null,{"$f":"C305*$K$4","v":1163.2864000000002},{"$f":"D305*$K$4","v":991.69360000000006},898.64679999999998,668.64800000000002,0]
[19,null,{"$f":"C306*$K$4","v":1179.3984000000003},1003.3748000000001,908.71680000000003,675.89840000000004,0]
[20,null,{"$f":"C307*$K$4","v":1197.1215999999999},1016.2644,919.5924,683.95440000000008,0]
[21,null,{"$f":"C308*$K$4","v":1214.442},1029.154,930.0652,692.01040000000012,0]
[22,null,{"$f":"C309*$K$4","v":1232.568},1043.6548,941.74640000000011,700.46920000000011,0]
[23,null,{"$f":"C310*$K$4","v":1251.4996000000001},1057.3500000000001,953.4276000000001,709.33080000000007,0]
[24,null,{"$f":"C311*$K$4","v":1270.0284000000001},1072.6564000000001,965.91440000000011,718.19240000000002,0]
[25,null,{"$f":"C312*$K$4","v":1290.9740000000002},1087.56,978.80399999999997,727.8596,0]
[26,null,{"$f":"C313*$K$4","v":1319.9756},1109.7140000000002,997.73560000000009,742.36040000000003,0]
[27,null,{"$f":"C314*$K$4","v":1350.1856},1133.8820000000001,1016.6672000000001,756.86120000000005,0]
[28,null,{"$f":"C315*$K$4","v":1381.6040000000003},1157.6472000000001,1037.21,772.16760000000011,0]
[29,null,{"$f":"C316*$K$4","v":1414.6336000000001},1183.8291999999999,1058.5584000000001,787.47400000000005,0]
[30,null,{"$f":"C317*$K$4","v":1448.4688000000001},1209.6084000000001,1081.1152,804.7944,0]
[31,null,{"$f":"C318*$K$4","v":1483.9152000000001},1237.4016000000001,1104.8804,821.7120000000001,0]
[32,null,{"$f":"C319*$K$4","v":1520.5700000000002},1266.0003999999999,1128.6456000000001,839.43520000000001,0]
[33,null,{"$f":"C320*$K$4","v":1557.6276},1295.8076000000001,1154.4248,858.76959999999997,0]
[34,null,{"$f":"C321*$K$4","v":1597.1020000000001},1326.0176000000001,1179.8012000000001,877.70119999999997,0]
[35,null,{"$f":"C322*$K$4","v":1636.5764000000001},1357.8388,1207.9972000000002,898.64679999999998,0]
[36,null,{"$f":"C323*$K$4","v":1678.0648000000001},1390.4656,1235.3876,919.18960000000004,0]
[37,null,{"$f":"C324*$K$4","v":1721.1644000000001},1424.7036000000001,1264.7920000000001,941.34360000000015,0]
[38,null,{"$f":"C325*$K$4","v":1764.6668},1459.3444000000002,1294.1964,963.09480000000008,0]
[39,null,{"$f":"C326*$K$4","v":1809.7804000000001},1494.3879999999999,1325.6148000000001,986.0544000000001,0]
[40,null,{"$f":"C327*$K$4","v":1856.1024},1531.8484000000001,1356.6304,1009.4168,0]
[41,null,{"$f":"C328*$K$4","v":1904.0356000000002},1569.7116000000003,1390.0628000000002,1033.9876000000002,0]
[42,null,{"$f":"C329*$K$4","v":1952.7744},1608.7832000000001,1423.0924,1058.5584000000001,0]
[43,null,{"$f":"C330*$K$4","v":2002.3188},1648.2576000000001,1457.7332000000001,1084.3376000000001,0]
[44,null,{"$f":"C331*$K$4","v":2053.4744000000001},1689.7460000000001,1493.1796000000002,1110.9223999999999,0]
[45,null,{"$f":"C332*$K$4","v":2105.8384000000001},1731.6372000000001,1529.4316000000001,1137.5072000000002,0]
[46,null,{"$f":"C333*$K$4","v":2160.2164000000002},1774.3340000000003,1567.2947999999999,1165.7032000000002,0]
[47,null,{"$f":"C334*$K$4","v":2214.5944000000004},1818.2392,1605.5608000000002,1194.3020000000001,0]
[48,null,{"$f":"C335*$K$4","v":2271.3892000000001},1863.7556000000002,1645.0352000000003,1223.3036,0]
[49,null,{"$f":"C336*$K$4","v":2328.5868000000005},1910.0776000000001,1684.1068,1253.1108000000002,0]
[50,null,{"$f":"C337*$K$4","v":2386.1871999999998},1957.6079999999999,1725.5952000000002,1283.7236,0]
[51,null,{"$f":"C338*$K$4","v":2446.2044000000005},2005.1384000000003,1767.8892000000001,1315.1420000000001,0]
[52,null,{"$f":"C339*$K$4","v":2507.4300000000003},2054.2800000000002,1810.9888000000001,1346.9632000000001,0]
[53,null,{"$f":"C340*$K$4","v":2569.864},2105.0328000000004,1854.4912000000002,1379.5900000000001,0]
[54,null,{"$f":"C341*$K$4","v":2632.2980000000002},2155.7856000000002,1899.2020000000002,1413.0224000000001,0]
[55,null,{"$f":"C342*$K$4","v":2698.3571999999999},2208.5524,1945.5240000000001,1447.2603999999999,0]
[56,null,{"$f":"C343*$K$4","v":2764.0136000000002},2261.3192000000004,1991.846,1481.9012,0]
[57,null,{"$f":"C344*$K$4","v":2830.4756000000002},2316.5028000000002,2039.7791999999999,1517.7503999999999,0]
[58,null,{"$f":"C345*$K$4","v":2898.9516000000003},2372.0892000000003,2087.7123999999999,1553.1967999999999,0]
[59,null,{"$f":"C346*$K$4","v":2969.4416000000001},2428.884,2137.2568000000001,1589.8516000000002,0]
[60,null,{"$f":"C347*$K$4","v":3039.9316000000003},2485.6788000000001,2187.6068000000005,1627.3120000000001,0]
[61,null,{"$f":"C348*$K$4","v":3412.1188000000002},2789.3900000000003,2453.4548,1825.0868,0]
[62,null,{"$f":"C349*$K$4","v":3816.1271999999999},3118.0747999999999,2743.0680000000002,2040.5848000000001,0]
[63,null,{"$f":"C350*$K$4","v":4249.9428000000007},3473.7472000000002,3054.8352000000004,2272.5976000000001,0]
[64,null,{"$f":"C351*$K$4","v":4714.7739999999994},3853.9904000000001,3390.7704000000003,2522.3335999999999,0]
[65,null,{"$f":"C352*$K$4","v":5210.2180000000008},4260.4156000000003,3749.2624000000001,2788.9872,0]
[66,null,{"$f":"C353*$K$4","v":5736.2748000000001},4693.0228000000006,4131.5195999999996,3073.364,0]
[67,null,{"$f":"C354*$K$4","v":6293.75},5151.4092000000001,4537.5420000000004,3375.4640000000004,0]
[68,null,{"$f":"C355*$K$4","v":6880.2268000000004},5636.7832000000008,4966.1212000000005,3694.4816000000005,0]
[69,null,{"$f":"C356*$K$4","v":7498.9276},6146.7280000000001,5418.4656000000004,4030.8196000000003,0]
[70,null,{"$f":"C357*$K$4","v":8147.8384000000005},6682.8548000000001,5893.7696000000005,4384.4780000000001,0]
[71,null,{"$f":"C358*$K$4","v":8827.362000000001},7244.7608000000009,6392.4360000000006,4755.0540000000001,0]
[72,null,{"$f":"C359*$K$4","v":9538.3040000000001},7832.4460000000008,6914.4648000000007,5143.3532000000005,0]
[73,null,{"$f":"C360*$K$4","v":10278.6504},8446.3132000000005,7459.4532000000008,5548.1671999999999,0]
[74,null,{"$f":"C361*$K$4","v":11050.415200000001},9085.5568000000003,8028.6096000000007,5971.9128000000001,0]
[75,null,{"$f":"C362*$K$4","v":11853.598400000001},9751.7880000000005,8619.92,6412.1732000000002,0]
[76,null,{"$f":"C363*$K$4","v":11853.598400000001},9751.7880000000005,8619.92,6412.1732000000002,0]
[77,null,{"$f":"C364*$K$4","v":11853.598400000001},9751.7880000000005,8619.92,6412.1732000000002,0]
[78,null,{"$f":"C365*$K$4","v":11853.598400000001},9751.7880000000005,8619.92,6412.1732000000002,0]
[79,null,{"$f":"C366*$K$4","v":11853.598400000001},9751.7880000000005,8619.92,6412.1732000000002,0]
[80,null,{"$f":"C367*$K$4","v":11853.598400000001},9751.7880000000005,8619.92,6412.1732000000002,0]
[81,null,{"$f":"C368*$K$4","v":11853.598400000001},9751.7880000000005,8619.92,6412.1732000000002,0]
[82,null,{"$f":"C369*$K$4","v":11853.598400000001},9751.7880000000005,8619.92,6412.1732000000002,0]
[83,null,{"$f":"C370*$K$4","v":11853.598400000001},9751.7880000000005,8619.92,6412.1732000000002,0]
[84,"o más",{"$f":"C371*$K$4","v":11853.598400000001},9751.7880000000005,8619.92,6412.1732000000002,0]
[1,"Hijo",{"$f":"C372*$K$4","v":585.26840000000004},499.47200000000004,453.15000000000003,337.14359999999999,0]
[2,"Hijos",{"$f":"C373*$K$4","v":995.31880000000012},848.69960000000003,768.54240000000004,571.976,0]
[3,"Hijos o más",{"$f":"C374*$K$4","v":1405.3692000000001},1197.5244,1085.546,807.61400000000003,0]
[]
["BUPA GLOBAL ELITE"]
["TARIFAS TRIMESTRALES"]
["EDAD"]
[" "," ",1000,2000,3500]
[18,null,{"$f":"C6*$K$3","v":1733.9575000000002},{"$f":"D6*$K$3","v":1241.9137500000002},1051.6412500000001,911.8587500000001,707.32749999999999]
[19,null,{"$f":"C7*$K$3","v":1756.865},1256.87375,1062.6275000000001,921.67624999999998,714.8075]
[20,null,{"$f":"C8*$K$3","v":1780.24},1272.7687500000002,1074.5487499999999,931.72750000000008,722.52125000000001]
[21,null,{"$f":"C9*$K$3","v":1804.3162500000001},1288.8975,1086.7037500000001,942.24625000000003,730.70249999999999]
[22,null,{"$f":"C10*$K$3","v":1829.3275000000001},1305.7275,1099.0925,952.99874999999997,738.88375000000008]
[23,null,{"$f":"C11*$K$3","v":1855.74125},1322.5575000000001,1112.4162500000002,964.68624999999997,748.23374999999999]
[24,null,{"$f":"C12*$K$3","v":1881.9212500000001},1340.5562500000001,1125.74,976.1400000000001,757.11625000000004]
[25,null,{"$f":"C13*$K$3","v":1909.2700000000002},1359.2562500000001,1139.53125,988.29499999999996,766.46625000000006]
[26,null,{"$f":"C14*$K$3","v":1948.54},1385.9037499999999,1159.8675000000001,1006.0600000000001,780.02375000000006]
[27,null,{"$f":"C15*$K$3","v":1989.44625},1413.7200000000003,1181.3724999999999,1024.0587500000001,794.51625000000013]
[28,null,{"$f":"C16*$K$3","v":2031.52125},1442.2375000000002,1203.3450000000003,1043.46,809.00875000000008]
[29,null,{"$f":"C17*$K$3","v":2075.7000000000003},1472.1575000000003,1226.4862500000002,1063.5625,824.90375000000006]
[30,null,{"$f":"C18*$K$3","v":2121.0475000000001},1503.7137500000001,1250.7962499999999,1084.6000000000001,841.26625000000013]
[31,null,{"$f":"C19*$K$3","v":2168.03125},1535.7375000000002,1276.04125,1106.3387500000001,858.33]
[32,null,{"$f":"C20*$K$3","v":2216.1837500000001},1569.1637500000002,1301.5200000000002,1128.5450000000001,874.92624999999998]
[33,null,{"$f":"C21*$K$3","v":2265.9725000000003},1603.5250000000001,1328.635,1151.92,893.62625000000003]
[34,null,{"$f":"C22*$K$3","v":2317.3975},1639.0550000000001,1356.2175,1175.9962499999999,911.8587500000001]
[35,null,{"$f":"C23*$K$3","v":2369.7575000000002},1675.5200000000002,1385.2024999999999,1201.24125,931.72750000000008]
[36,null,{"$f":"C24*$K$3","v":2423.9875000000002},1713.1537499999999,1414.655,1226.4862500000002,951.36250000000007]
[37,null,{"$f":"C25*$K$3","v":2479.8537500000002},1752.4237500000002,1445.0425,1253.3675000000001,971.9325]
[38,null,{"$f":"C26*$K$3","v":2536.8887500000001},1791.9275,1476.5987500000001,1280.7162499999999,993.20375000000013]
[39,null,{"$f":"C27*$K$3","v":2595.7937500000003},1833.3012500000002,1509.09,1308.5325000000003,1014.70875]
[40,null,{"$f":"C28*$K$3","v":2655.8674999999998},1875.3762500000003,1542.2825000000003,1337.2837500000001,1037.3824999999999]
[41,null,{"$f":"C29*$K$3","v":2717.5775000000003},1918.6200000000001,1576.6437500000002,1367.2037499999999,1060.5237500000001]
[42,null,{"$f":"C30*$K$3","v":2780.4562500000002},1962.7987500000002,1611.94,1397.5912499999999,1084.1324999999999]
[43,null,{"$f":"C31*$K$3","v":2844.7375000000002},2008.6137500000002,1648.1712499999999,1429.1475,1108.4425000000001]
[44,null,{"$f":"C32*$K$3","v":2910.8887500000001},2054.6625000000004,1684.8700000000001,1461.1712499999999,1133.4537499999999]
[45,null,{"$f":"C33*$K$3","v":2978.4425000000001},2102.5812500000002,1723.2050000000002,1493.89625,1158.69875]
[46,null,{"$f":"C34*$K$3","v":3047.3987499999998},2151.2012500000001,1762.24125,1528.2575000000002,1184.8787500000001]
[47,null,{"$f":"C35*$K$3","v":3117.7575000000002},2201.4575000000004,1801.7450000000001,1562.1512500000001,1211.76]
[48,null,{"$f":"C36*$K$3","v":3189.7525000000005},2251.9475000000002,1842.4175,1597.4475,1238.875]
[49,null,{"$f":"C37*$K$3","v":3263.3837500000004},2304.3074999999999,1884.25875,1633.9125000000001,1266.9250000000002]
[50,null,{"$f":"C38*$K$3","v":3337.9500000000003},2357.1350000000002,1927.0350000000001,1671.0787500000001,1295.9100000000001]
[51,null,{"$f":"C39*$K$3","v":3414.38625},2411.3650000000002,1970.98,1708.94625,1325.1287500000001]
[52,null,{"$f":"C40*$K$3","v":3491.99125},2466.7637500000001,2014.6912500000001,1746.8137500000003,1355.0487500000002]
[53,null,{"$f":"C41*$K$3","v":3571.4662500000004},2523.7987499999999,2060.5062500000004,1786.5512500000002,1385.67]
[54,null,{"$f":"C42*$K$3","v":3652.3437500000005},2581.30125,2106.5550000000003,1826.5225,1416.75875]
[55,null,{"$f":"C43*$K$3","v":3734.6237500000002},2639.73875,2154.0062500000004,1867.6625000000001,1448.5487500000002]
[56,null,{"$f":"C44*$K$3","v":3817.8387499999999},2699.3449999999998,2202.1587500000001,1909.5037500000001,1481.04]
[57,null,{"$f":"C45*$K$3","v":3903.3912500000001},2760.12,2251.2462500000001,1951.8125000000002,1513.7649999999999]
[58,null,{"$f":"C46*$K$3","v":3990.1125000000002},2822.0637500000003,2301.2687500000002,1995.29,1547.4250000000002]
[59,null,{"$f":"C47*$K$3","v":4078.0025000000005},2885.17625,2351.9924999999998,2039.4687500000002,1581.5525]
[60,null,{"$f":"C48*$K$3","v":4167.5287500000004},2949.4575,2404.1187500000001,2084.3487500000001,1616.615]
[61,null,{"$f":"C49*$K$3","v":4638.067500000001},3286.7587500000004,2677.3724999999999,2321.605,1800.81]
[62,null,{"$f":"C50*$K$3","v":5145.07125},3652.11,2974.2350000000001,2578.9637499999999,1999.9649999999999]
[63,null,{"$f":"C51*$K$3","v":5689.24125},4044.3425000000002,3293.7712500000002,2855.9575,2215.0149999999999]
[64,null,{"$f":"C52*$K$3","v":6270.11},4464.625,3636.44875,3153.2875000000004,2445.7262500000002]
[65,null,{"$f":"C53*$K$3","v":6887.6774999999998},4912.2562500000004,4002.5012500000003,3470.4862499999999,2691.6312500000004]
[66,null,{"$f":"C54*$K$3","v":7542.411250000001},5387.2362500000008,4391.92875,3808.48875,2953.6650000000004]
[67,null,{"$f":"C55*$K$3","v":8234.0774999999994},5889.7987500000008,4804.2637500000001,4165.8924999999999,3230.8924999999999]
[68,null,{"$f":"C56*$K$3","v":8962.6762500000004},6420.1774999999998,5239.5062500000004,4543.165,3523.5475000000001]
[69,null,{"$f":"C57*$K$3","v":9727.74},6977.9050000000007,5698.5912499999995,4941.24125,3832.0975000000003]
[70,null,{"$f":"C58*$K$3","v":10530.203750000001},7563.4487500000005,6180.5837499999998,5359.1862500000007,4156.5425000000005]
[71,null,{"$f":"C59*$K$3","v":11369.6},8176.3412500000004,6685.7175000000007,5797.2337500000003,4496.1812500000005]
[72,null,{"$f":"C60*$K$3","v":12245.46125},8817.2837500000005,7213.9925000000012,6255.1500000000005,4851.2474999999995]
[73,null,{"$f":"C61*$K$3","v":13158.255000000001},9485.1075000000001,7765.1750000000002,6733.1687500000007,5221.9750000000004]
[74,null,{"$f":"C62*$K$3","v":14108.215},10180.747500000001,8339.9662499999995,7231.7575000000006,5608.5974999999999]
[75,null,{"$f":"C63*$K$3","v":15094.873750000001},10904.203750000001,8937.8987500000003,7749.9812500000007,6010.4137500000006]
[76,null,{"$f":"C64*$K$3","v":15094.873750000001},10904.203750000001,8937.8987500000003,7749.9812500000007,6010.4137500000006]
[77,null,{"$f":"C65*$K$3","v":15094.873750000001},10904.203750000001,8937.8987500000003,7749.9812500000007,6010.4137500000006]
[78,null,{"$f":"C66*$K$3","v":15094.873750000001},10904.203750000001,8937.8987500000003,7749.9812500000007,6010.4137500000006]
[79,null,{"$f":"C67*$K$3","v":15094.873750000001},10904.203750000001,8937.8987500000003,7749.9812500000007,6010.4137500000006]
[80,null,{"$f":"C68*$K$3","v":15094.873750000001},10904.203750000001,8937.8987500000003,7749.9812500000007,6010.4137500000006]
[81,null,{"$f":"C69*$K$3","v":15094.873750000001},10904.203750000001,8937.8987500000003,7749.9812500000007,6010.4137500000006]
[82,null,{"$f":"C70*$K$3","v":15094.873750000001},10904.203750000001,8937.8987500000003,7749.9812500000007,6010.4137500000006]
[83,null,{"$f":"C71*$K$3","v":15094.873750000001},10904.203750000001,8937.8987500000003,7749.9812500000007,6010.4137500000006]
[84,"o más",{"$f":"C72*$K$3","v":15094.873750000001},10904.203750000001,8937.8987500000003,7749.9812500000007,6010.4137500000006]
[1,"Hijo",{"$f":"C73*$K$3","v":780.49125000000004},558.89625000000001,473.34375000000006,410.46500000000003,318.60124999999999]
[2,"Hijos",{"$f":"C74*$K$3","v":1326.53125},950.19375000000002,804.5675,697.5100000000001,541.36500000000001]
[3,"Hijos o más",{"$f":"C75*$K$3","v":1872.57125},1341.2575000000002,1136.0250000000001,984.78875000000005,763.89499999999998]
[]
["BUPA GLOBAL PREMIER"]
["TARIFAS TRIMESTRALES"]
["EDAD"]
[" "," ",2000,3500,5000]
[18,null,{"$f":"C155*$K$3","v":898.07300000000009},{"$f":"D155*$K$3","v":762.43200000000002},661.27600000000007,491.77700000000004,0]
[19,null,{"$f":"C156*$K$3","v":909.35900000000015},770.58300000000008,667.54600000000005,496.79300000000006,0]
[20,null,{"$f":"C157*$K$3","v":920.6450000000001},778.9430000000001,674.23400000000015,501.6,0]
[21,null,{"$f":"C158*$K$3","v":932.1400000000001},787.72100000000012,681.13100000000009,506.82500000000005,0]
[22,null,{"$f":"C159*$K$3","v":944.05300000000011},796.70800000000008,688.23699999999997,511.84100000000007,0]
[23,null,{"$f":"C160*$K$3","v":956.59300000000007},806.322,695.97000000000014,517.69299999999998,0]
[24,null,{"$f":"C161*$K$3","v":969.7600000000001},816.5630000000001,703.70300000000009,523.54500000000007,0]
[25,null,{"$f":"C162*$K$3","v":982.92700000000013},826.17700000000013,711.6450000000001,529.39700000000005,0]
[26,null,{"$f":"C163*$K$3","v":1002.3640000000001},841.01600000000008,723.34900000000005,538.17500000000007,0]
[27,null,{"$f":"C164*$K$3","v":1022.4280000000001},856.48200000000008,736.09800000000018,547.58000000000004,0]
[28,null,{"$f":"C165*$K$3","v":1043.3280000000002},872.78400000000011,748.84700000000009,557.19400000000007,0]
[29,null,{"$f":"C166*$K$3","v":1065.0640000000001},889.08600000000001,762.43200000000002,567.226,0]
[30,null,{"$f":"C167*$K$3","v":1087.636},906.64200000000005,776.85300000000007,577.8850000000001,0]
[31,null,{"$f":"C168*$K$3","v":1110.835},925.03400000000011,791.06500000000005,588.54399999999998,0]
[32,null,{"$f":"C169*$K$3","v":1135.0790000000002},943.42600000000004,806.53100000000006,600.0390000000001,0]
[33,null,{"$f":"C170*$K$3","v":1159.741},963.072,822.41500000000008,611.74300000000005,0]
[34,null,{"$f":"C171*$K$3","v":1185.6570000000002},983.34500000000014,839.1350000000001,624.28300000000002,0]
[35,null,{"$f":"C172*$K$3","v":1212.2},1004.0360000000001,856.06400000000008,636.82299999999998,0]
[36,null,{"$f":"C173*$K$3","v":1239.3700000000001},1025.5630000000001,873.41100000000006,649.572,0]
[37,null,{"$f":"C174*$K$3","v":1267.3760000000002},1047.7170000000001,893.26600000000019,664.62000000000012,0]
[38,null,{"$f":"C175*$K$3","v":1296.0090000000002},1070.498,916.04700000000003,681.34,0]
[39,null,{"$f":"C176*$K$3","v":1326.105},1094.3240000000001,939.45500000000004,698.89600000000007,0]
[40,null,{"$f":"C177*$K$3","v":1356.2010000000002},1118.3590000000002,963.28100000000006,716.87000000000012,0]
[41,null,{"$f":"C178*$K$3","v":1387.5510000000002},1143.021,988.15200000000016,735.26200000000006,0]
[42,null,{"$f":"C179*$K$3","v":1419.9460000000004},1168.7280000000001,1013.4410000000001,754.072,0]
[43,null,{"$f":"C180*$K$3","v":1452.3410000000001},1194.8530000000001,1039.1480000000001,773.09100000000012,0]
[44,null,{"$f":"C181*$K$3","v":1486.1990000000001},1221.605,1065.6910000000003,792.73699999999997,0]
[45,null,{"$f":"C182*$K$3","v":1520.8930000000003},1249.1930000000002,1092.8610000000001,813.21900000000005,0]
[46,null,{"$f":"C183*$K$3","v":1556.0050000000001},1277.4080000000001,1121.076,833.70100000000002,0]
[47,null,{"$f":"C184*$K$3","v":1592.3710000000003},1306.25,1149.5,855.01900000000001,0]
[48,null,{"$f":"C185*$K$3","v":1628.9460000000004},1335.7190000000001,1178.76,876.755,0]
[49,null,{"$f":"C186*$K$3","v":1666.566},1365.8150000000003,1208.4380000000001,898.7,0]
[50,null,{"$f":"C187*$K$3","v":1705.0220000000002},1396.9560000000001,1238.5340000000001,921.48100000000011,0]
[51,null,{"$f":"C188*$K$3","v":1744.3140000000001},1428.5150000000003,1269.4660000000001,944.47100000000012,0]
[52,null,{"$f":"C189*$K$3","v":1784.4420000000002},1460.7010000000002,1301.4430000000002,968.08800000000008,0]
[53,null,{"$f":"C190*$K$3","v":1825.1970000000001},1493.9320000000002,1333.838,992.12300000000016,0]
[54,null,{"$f":"C191*$K$3","v":1866.5790000000002},1527.3720000000001,1366.6510000000003,1016.576,0]
[55,null,{"$f":"C192*$K$3","v":1909.2150000000001},1561.4390000000001,1400.3000000000002,1041.6560000000002,0]
[56,null,{"$f":"C193*$K$3","v":1952.4780000000001},1596.5510000000002,1434.5760000000002,1067.3630000000001,0]
[57,null,{"$f":"C194*$K$3","v":1996.1590000000003},1631.8720000000001,1469.0610000000001,1092.652,0]
[58,null,{"$f":"C195*$K$3","v":2041.0940000000001},1668.2380000000001,1504.3820000000003,1119.1950000000002,0]
[59,null,{"$f":"C196*$K$3","v":2087.0740000000001},1705.2310000000002,1540.9570000000003,1146.1560000000002,0]
[60,null,{"$f":"C197*$K$3","v":2133.4720000000002},1742.6420000000003,1577.5320000000002,1173.3260000000002,0]
[61,null,{"$f":"C198*$K$3","v":2377.375},1941.1920000000002,1770.6480000000001,1317.327,0]
[62,null,{"$f":"C199*$K$3","v":2641.5509999999999},2155.8350000000005,1980.2750000000001,1472.8230000000001,0]
[63,null,{"$f":"C200*$K$3","v":2925.373},2387.616,2205.3680000000004,1640.441,0]
[64,null,{"$f":"C201*$K$3","v":3229.2590000000005},2636.326,2446.5540000000001,1819.7630000000001,0]
[65,null,{"$f":"C202*$K$3","v":3553.0000000000005},2901.547,2703.6240000000003,2010.9980000000003,0]
[66,null,{"$f":"C203*$K$3","v":3896.5960000000005},3184.1150000000002,2976.7870000000003,2214.1460000000002,0]
[67,null,{"$f":"C204*$K$3","v":4260.0470000000005},3482.9850000000001,3265.8340000000003,2429.2069999999999,0]
[68,null,{"$f":"C205*$K$3","v":4643.7709999999997},3798.7840000000006,3570.1380000000004,2655.7629999999999,0]
[69,null,{"$f":"C206*$K$3","v":5046.9320000000007},4130.8850000000002,3891.1620000000003,2894.4410000000003,0]
[70,null,{"$f":"C207*$K$3","v":5470.3660000000009},4480.96,4228.2790000000005,3145.0320000000002,0]
[71,null,{"$f":"C208*$K$3","v":5913.8640000000005},4846.7100000000009,4580.4440000000004,3407.3270000000007,0]
[72,null,{"$f":"C209*$K$3","v":6377.2170000000006},5229.8070000000007,4949.3290000000006,3681.5350000000003,0]
[73,null,{"$f":"C210*$K$3","v":6860.0070000000005},5629.8330000000005,5333.68,3967.4470000000001,0]
[74,null,{"$f":"C211*$K$3","v":7363.2790000000014},6046.161000000001,5733.915,4265.2719999999999,0]
[75,null,{"$f":"C212*$K$3","v":7886.4060000000009},6479.8360000000011,6150.661000000001,4575.2190000000001,0]
[76,null,{"$f":"C213*$K$3","v":7886.4060000000009},6479.8360000000011,6150.661000000001,4575.2190000000001,0]
[77,null,{"$f":"C214*$K$3","v":7886.4060000000009},6479.8360000000011,6150.661000000001,4575.2190000000001,0]
[78,null,{"$f":"C215*$K$3","v":7886.4060000000009},6479.8360000000011,6150.661000000001,4575.2190000000001,0]
[79,null,{"$f":"C216*$K$3","v":7886.4060000000009},6479.8360000000011,6150.661000000001,4575.2190000000001,0]
[80,null,{"$f":"C217*$K$3","v":7886.4060000000009},6479.8360000000011,6150.661000000001,4575.2190000000001,0]
[81,null,{"$f":"C218*$K$3","v":7886.4060000000009},6479.8360000000011,6150.661000000001,4575.2190000000001,0]
[82,null,{"$f":"C219*$K$3","v":7886.4060000000009},6479.8360000000011,6150.661000000001,4575.2190000000001,0]
[83,null,{"$f":"C220*$K$3","v":7886.4060000000009},6479.8360000000011,6150.661000000001,4575.2190000000001,0]
[84,"o más",{"$f":"C221*$K$3","v":7886.4060000000009},6479.8360000000011,6150.661000000001,4575.2190000000001,0]
[1,"Hijo",{"$f":"C222*$K$3","v":404.41500000000002},343.17800000000005,297.82500000000005,221.33100000000002,0]
[2,"Hijos",{"$f":"C223*$K$3","v":687.40100000000007},583.11000000000013,505.78000000000003,376.20000000000005,0]
[3,"Hijos o más",{"$f":"C224*$K$3","v":969.96900000000005},823.66899999999998,714.15300000000013,531.06900000000007,0]
[]
["BUPA GLOBAL SELECT"]
["TARIFAS TRIMESTRALES"]
["EDAD"]
[" "," ",2000,3500,5000]
[18,null,{"$f":"C305*$K$3","v":603.5920000000001},{"$f":"D305*$K$3","v":514.55800000000011},466.279,346.94,0]
[19,null,{"$f":"C306*$K$3","v":611.95200000000011},520.61900000000003,471.50400000000002,350.702,0]
[20,null,{"$f":"C307*$K$3","v":621.14800000000002},527.30700000000002,477.14699999999999,354.88200000000006,0]
[21,null,{"$f":"C308*$K$3","v":630.1350000000001},533.995,482.58100000000002,359.06200000000007,0]
[22,null,{"$f":"C309*$K$3","v":639.54000000000008},541.51900000000012,488.64200000000005,363.45100000000008,0]
[23,null,{"$f":"C310*$K$3","v":649.36300000000006},548.625,494.70300000000009,368.04900000000009,0]
[24,null,{"$f":"C311*$K$3","v":658.97700000000009},556.56700000000012,501.18200000000007,372.64699999999999,0]
[25,null,{"$f":"C312*$K$3","v":669.84500000000014},564.30000000000007,507.87,377.66300000000001,0]
[26,null,{"$f":"C313*$K$3","v":684.89300000000003},575.79500000000007,517.69299999999998,385.18700000000007,0]
[27,null,{"$f":"C314*$K$3","v":700.5680000000001},588.33500000000004,527.51600000000008,392.71100000000001,0]
[28,null,{"$f":"C315*$K$3","v":716.87000000000012},600.66600000000017,538.17500000000007,400.65300000000008,0]
[29,null,{"$f":"C316*$K$3","v":734.00800000000004},614.25099999999998,549.25200000000007,408.59500000000003,0]
[30,null,{"$f":"C317*$K$3","v":751.56400000000008},627.62700000000007,560.95600000000002,417.58200000000005,0]
[31,null,{"$f":"C318*$K$3","v":769.95600000000013},642.04800000000012,573.28700000000003,426.36000000000007,0]
[32,null,{"$f":"C319*$K$3","v":788.97500000000002},656.88700000000006,585.61800000000005,435.55600000000004,0]
[33,null,{"$f":"C320*$K$3","v":808.20300000000009},672.35300000000007,598.99400000000003,445.58800000000002,0]
[34,null,{"$f":"C321*$K$3","v":828.68500000000006},688.02800000000002,612.16100000000006,455.411,0]
[35,null,{"$f":"C322*$K$3","v":849.16700000000014},704.5390000000001,626.79100000000017,466.279,0]
[36,null,{"$f":"C323*$K$3","v":870.69400000000007},721.46800000000007,641.00300000000004,476.93800000000005,0]
[37,null,{"$f":"C324*$K$3","v":893.05700000000013},739.23300000000006,656.2600000000001,488.43300000000005,0]
[38,null,{"$f":"C325*$K$3","v":915.62900000000002},757.20700000000011,671.51700000000005,499.71900000000005,0]
[39,null,{"$f":"C326*$K$3","v":939.03700000000003},775.39,687.81899999999996,511.63200000000006,0]
[40,null,{"$f":"C327*$K$3","v":963.072},794.82700000000011,703.91200000000003,523.75400000000002,0]
[41,null,{"$f":"C328*$K$3","v":987.9430000000001},814.47300000000018,721.25900000000013,536.50300000000004,0]
[42,null,{"$f":"C329*$K$3","v":1013.2320000000001},834.74600000000009,738.39700000000005,549.25200000000007,0]
[43,null,{"$f":"C330*$K$3","v":1038.9390000000001},855.22800000000007,756.37100000000009,562.62800000000004,0]
[44,null,{"$f":"C331*$K$3","v":1065.4820000000002},876.755,774.76300000000015,576.42200000000003,0]
[45,null,{"$f":"C332*$K$3","v":1092.652},898.4910000000001,793.57300000000009,590.21600000000012,0]
[46,null,{"$f":"C333*$K$3","v":1120.8670000000002},920.6450000000001,813.21900000000005,604.84600000000012,0]
[47,null,{"$f":"C334*$K$3","v":1149.0820000000003},943.42600000000004,833.07400000000007,619.68500000000006,0]
[48,null,{"$f":"C335*$K$3","v":1178.5510000000002},967.04300000000012,853.55600000000015,634.73300000000006,0]
[49,null,{"$f":"C336*$K$3","v":1208.2290000000003},991.07800000000009,873.82900000000006,650.19900000000007,0]
[50,null,{"$f":"C337*$K$3","v":1238.116},1015.74,895.35600000000011,666.08299999999997,0]
[51,null,{"$f":"C338*$K$3","v":1269.2570000000003},1040.402,917.30100000000004,682.3850000000001,0]
[52,null,{"$f":"C339*$K$3","v":1301.0250000000001},1065.9000000000001,939.6640000000001,698.89600000000007,0]
[53,null,{"$f":"C340*$K$3","v":1333.42},1092.2340000000002,962.2360000000001,715.82500000000005,0]
[54,null,{"$f":"C341*$K$3","v":1365.8150000000003},1118.568,985.43500000000006,733.17200000000003,0]
[55,null,{"$f":"C342*$K$3","v":1400.0910000000001},1145.9470000000001,1009.4700000000001,750.93700000000001,0]
[56,null,{"$f":"C343*$K$3","v":1434.1580000000001},1173.3260000000002,1033.5050000000001,768.91100000000006,0]
[57,null,{"$f":"C344*$K$3","v":1468.6430000000003},1201.9590000000001,1058.376,787.51200000000006,0]
[58,null,{"$f":"C345*$K$3","v":1504.1730000000002},1230.8010000000002,1083.2470000000001,805.904,0]
[59,null,{"$f":"C346*$K$3","v":1540.7480000000003},1260.2700000000002,1108.9540000000002,824.92300000000012,0]
[60,null,{"$f":"C347*$K$3","v":1577.3230000000001},1289.739,1135.0790000000002,844.36000000000013,0]
[61,null,{"$f":"C348*$K$3","v":1770.4390000000001},1447.325,1273.019,946.97900000000004,0]
[62,null,{"$f":"C349*$K$3","v":1980.066},1617.8690000000001,1423.2900000000002,1058.7940000000001,0]
[63,null,{"$f":"C350*$K$3","v":2205.1590000000001},1802.4160000000002,1585.0560000000003,1179.1780000000001,0]
[64,null,{"$f":"C351*$K$3","v":2446.3449999999998},1999.7120000000002,1759.3620000000003,1308.758,0]
[65,null,{"$f":"C352*$K$3","v":2703.4150000000004},2210.5930000000003,1945.3720000000001,1447.116,0]
[66,null,{"$f":"C353*$K$3","v":2976.3690000000001},2435.0590000000002,2143.7130000000002,1594.67,0]
[67,null,{"$f":"C354*$K$3","v":3265.6250000000005},2672.9009999999998,2354.3850000000002,1751.4200000000003,0]
[68,null,{"$f":"C355*$K$3","v":3569.9290000000001},2924.7460000000005,2576.7610000000004,1916.9480000000003,0]
[69,null,{"$f":"C356*$K$3","v":3890.9530000000004},3189.34,2811.4680000000003,2091.4630000000002,0]
[70,null,{"$f":"C357*$K$3","v":4227.652000000001},3467.5190000000002,3058.0880000000002,2274.9650000000001,0]
[71,null,{"$f":"C358*$K$3","v":4580.2350000000006},3759.0740000000005,3316.8300000000004,2467.2449999999999,0]
[72,null,{"$f":"C359*$K$3","v":4949.12},4064.0050000000006,3587.6940000000004,2668.7210000000005,0]
[73,null,{"$f":"C360*$K$3","v":5333.2620000000006},4382.5210000000006,3870.4710000000005,2878.7660000000001,0]
[74,null,{"$f":"C361*$K$3","v":5733.7060000000001},4714.2040000000006,4165.7880000000005,3098.6340000000005,0]
[75,null,{"$f":"C362*$K$3","v":6150.4520000000002},5059.8900000000003,4472.6000000000004,3327.0710000000004,0]
[76,null,{"$f":"C363*$K$3","v":6150.4520000000002},5059.8900000000003,4472.6000000000004,3327.0710000000004,0]
[77,null,{"$f":"C364*$K$3","v":6150.4520000000002},5059.8900000000003,4472.6000000000004,3327.0710000000004,0]
[78,null,{"$f":"C365*$K$3","v":6150.4520000000002},5059.8900000000003,4472.6000000000004,3327.0710000000004,0]
[79,null,{"$f":"C366*$K$3","v":6150.4520000000002},5059.8900000000003,4472.6000000000004,3327.0710000000004,0]
[80,null,{"$f":"C367*$K$3","v":6150.4520000000002},5059.8900000000003,4472.6000000000004,3327.0710000000004,0]
[81,null,{"$f":"C368*$K$3","v":6150.4520000000002},5059.8900000000003,4472.6000000000004,3327.0710000000004,0]
[82,null,{"$f":"C369*$K$3","v":6150.4520000000002},5059.8900000000003,4472.6000000000004,3327.0710000000004,0]
[83,null,{"$f":"C370*$K$3","v":6150.4520000000002},5059.8900000000003,4472.6000000000004,3327.0710000000004,0]
[84,"o más",{"$f":"C371*$K$3","v":6150.4520000000002},5059.8900000000003,4472.6000000000004,3327.0710000000004,0]
[1,"Hijo",{"$f":"C372*$K$3","v":303.67700000000002},259.16000000000003,235.12500000000003,174.93300000000002,0]
[2,"Hijos",{"$f":"C373*$K$3","v":516.43900000000008},440.363,398.77199999999999,296.78000000000003,0]
[3,"Hijos o más",{"$f":"C374*$K$3","v":729.20100000000002},621.35700000000008,563.255,419.04500000000002,0]
[]
["BUPA GLOBAL ULTIMATE"]
["TARIFAS ANUALES"]
["EDAD"]
[" "," ",0,1000,2000]
[18,null,{"$f":"M905","v":11979.9},{"$f":"N905","v":7729.9},6477.8499999999995,null,null,null,14094,9094,7621,null,{"$f":"I905*0.85","v":11979.9},{"$f":"J905*0.85","v":7729.9},6477.8499999999995]
[19,null,{"$f":"M906","v":12138},{"$f":"N906","v":7831.9},{"$f":"O906","v":6554.3499999999995},null,null,null,14280,9214,7711,null,{"$f":"I906*0.85","v":12138},7831.9,6554.3499999999995]
[20,null,12300.35,7935.5999999999995,6636.8,null,null,null,14471,9336,7808,null,12300.35,7935.5999999999995,6636.8]
[21,null,12467.8,8044.4,6721.8,null,null,null,14668,9464,7908,null,12467.8,8044.4,6721.8]
[22,null,12640.35,8155.75,6808.5,null,null,null,14871,9595,8010,null,12640.35,8155.75,6808.5]
[23,null,12818.85,8269.65,6898.5999999999995,null,null,null,15081,9729,8116,null,12818.85,8269.65,6898.5999999999995]
[24,null,13001.6,8388.65,6992.95,null,null,null,15296,9869,8227,null,13001.6,8388.65,6992.95]
[25,null,13190.3,8510.1999999999989,7087.3,null,null,null,15518,10012,8338,null,13190.3,8510.1999999999989,7087.3]
[26,null,13462.3,8687,7226.7,null,null,null,15838,10220,8502,null,13462.3,8687,7226.7]
[27,null,13746.199999999999,8868.9,7372.05,null,null,null,16172,10434,8673,null,13746.199999999999,8868.9,7372.05]
[28,null,14039.449999999999,9059.2999999999993,7522.5,null,null,null,16517,10658,8850,null,14039.449999999999,9059.2999999999993,7522.5]
[29,null,14342.9,9253.1,7679.75,null,null,null,16874,10886,9035,null,14342.9,9253.1,7679.75]
[30,null,14654.85,9454.5499999999993,7842.95,null,null,null,17241,11123,9227,null,14654.85,9454.5499999999993,7842.95]
[31,null,14978.699999999999,9663.65,8009.55,null,null,null,17622,11369,9423,null,14978.699999999999,9663.65,8009.55]
[32,null,15312.75,9878.6999999999989,8183.8,null,null,null,18015,11622,9628,null,15312.75,9878.6999999999989,8183.8]
[33,null,15657.85,10100.549999999999,8362.2999999999993,null,null,null,18421,11883,9838,null,15657.85,10100.549999999999,8362.2999999999993]
[34,null,16010.6,10330.049999999999,8549.2999999999993,null,null,null,18836,12153,10058,null,16010.6,10330.049999999999,8549.2999999999993]
[35,null,16376.1,10564.65,8739.6999999999989,null,null,null,19266,12429,10282,null,16376.1,10564.65,8739.6999999999989]
[36,null,16749.25,10806.05,8936.9,null,null,null,19705,12713,10514,null,16749.25,10806.05,8936.9]
[37,null,17133.45,11055.1,9139.1999999999989,null,null,null,20157,13006,10752,null,17133.45,11055.1,9139.1999999999989]
[38,null,17528.7,11310.1,9346.6,null,null,null,20622,13306,10996,null,17528.7,11310.1,9346.6]
[39,null,17934.149999999998,11571.05,9560.7999999999993,null,null,null,21099,13613,11248,null,17934.149999999998,11571.05,9560.7999999999993]
[40,null,18349.8,11839.65,9780.9499999999989,null,null,null,21588,13929,11507,null,18349.8,11839.65,9780.9499999999989]
[41,null,18776.5,12113.35,10007.049999999999,null,null,null,22090,14251,11773,null,18776.5,12113.35,10007.049999999999]
[42,null,19210.849999999999,12395.55,10236.549999999999,null,null,null,22601,14583,12043,null,19210.849999999999,12395.55,10236.549999999999]
[43,null,19656.25,12682,10475.4,null,null,null,23125,14920,12324,null,19656.25,12682,10475.4]
[44,null,20113.55,12976.949999999999,10717.65,null,null,null,23663,15267,12609,null,20113.55,12976.949999999999,10717.65]
[45,null,20579.349999999999,13277,10966.699999999999,null,null,null,24211,15620,12902,null,20579.349999999999,13277,10966.699999999999]
[46,null,21055.35,13584.699999999999,11220,null,null,null,24771,15982,13200,null,21055.35,13584.699999999999,11220]
[47,null,21541.55,13898.35,11480.1,null,null,null,25343,16351,13506,null,21541.55,13898.35,11480.1]
[48,null,22038.799999999999,14218.8,11746.15,null,null,null,25928,16728,13819,null,22038.799999999999,14218.8,11746.15]
[49,null,22546.25,14545.199999999999,12017.3,null,null,null,26525,17112,14138,null,22546.25,14545.199999999999,12017.3]
[50,null,23063.899999999998,14879.25,12296.1,null,null,null,27134,17505,14466,null,23063.899999999998,14879.25,12296.1]
[51,null,23590.899999999998,15219.25,12578.3,null,null,null,27754,17905,14798,null,23590.899999999998,15219.25,12578.3]
[52,null,24128.1,15566.9,12866.449999999999,null,null,null,28386,18314,15137,null,24128.1,15566.9,12866.449999999999]
[53,null,24677.200000000001,15920.5,13161.4,null,null,null,29032,18730,15484,null,24677.200000000001,15920.5,13161.4]
[54,null,25234.799999999999,16281.75,13461.449999999999,null,null,null,29688,19155,15837,null,25234.799999999999,16281.75,13461.449999999999]
[55,null,25803.45,16647.25,13768.3,null,null,null,30357,19585,16198,null,25803.45,16647.25,13768.3]
[56,null,26381.45,17020.399999999998,14079.4,null,null,null,31037,20024,16564,null,26381.45,17020.399999999998,14079.4]
[57,null,26971.35,17400.349999999999,14396.449999999999,null,null,null,31731,20471,16937,null,26971.35,17400.349999999999,14396.449999999999]
[58,null,27568.899999999998,17787.099999999999,14719.449999999999,null,null,null,32434,20926,17317,null,27568.899999999998,17787.099999999999,14719.449999999999]
[59,null,28178.35,18178.95,15050.1,null,null,null,33151,21387,17706,null,28178.35,18178.95,15050.1]
[60,null,28797.149999999998,18579.3,15383.3,null,null,null,33879,21858,18098,null,28797.149999999998,18579.3,15383.3]
[61,null,32047.55,20674.55,17143.649999999998,null,null,null,37703,24323,20169,null,32047.55,20674.55,17143.649999999998]
[62,null,35549.549999999996,22936.399999999998,19047.649999999998,null,null,null,41823,26984,22409,null,35549.549999999996,22936.399999999998,19047.649999999998]
[63,null,39309.1,25360.6,21094.45,null,null,null,46246,29836,24817,null,39309.1,25360.6,21094.45]
[64,null,43322.799999999996,27951.399999999998,23285.75,null,null,null,50968,32884,27395,null,43322.799999999996,27951.399999999998,23285.75]
[65,null,47593.2,30703.7,25620.7,null,null,null,55992,36122,30142,null,47593.2,30703.7,25620.7]
[66,null,52116.9,33624.299999999996,28099.3,null,null,null,61314,39558,33058,null,52116.9,33624.299999999996,28099.3]
[67,null,56894.75,36707.25,30720.7,null,null,null,66935,43185,36142,null,56894.75,36707.25,30720.7]
[68,null,61928.45,39954.25,33486.6,null,null,null,72857,47005,39396,null,61928.45,39954.25,33486.6]
[69,null,67216.3,43365.299999999996,36396.15,null,null,null,79078,51018,42819,null,67216.3,43365.299999999996,36396.15]
[70,null,72760,46941.25,39450.199999999997,null,null,null,85600,55225,46412,null,72760,46941.25,39450.199999999997]
[71,null,78558.7,50683.799999999996,42646.2,null,null,null,92422,59628,50172,null,78558.7,50683.799999999996,42646.2]
[72,null,84612.4,54589.549999999996,45986.7,null,null,null,99544,64223,54102,null,84612.4,54589.549999999996,45986.7]
[73,null,90919.4,58659.35,49472.549999999996,null,null,null,106964,69011,58203,null,90919.4,58659.35,49472.549999999996]
[74,null,97483.099999999991,62893.2,53100.35,null,null,null,114686,73992,62471,null,97483.099999999991,62893.2,53100.35]
[75,null,104300.95,67291.95,56871.799999999996,null,null,null,122707,79167,66908,null,104300.95,67291.95,56871.799999999996]
[76,null,104300.95,67291.95,56871.799999999996,null,null,null,122707,79167,66908,null,104300.95,67291.95,56871.799999999996]
[77,null,104300.95,67291.95,56871.799999999996,null,null,null,122707,79167,66908,null,104300.95,67291.95,56871.799999999996]
[78,null,104300.95,67291.95,56871.799999999996,null,null,null,122707,79167,66908,null,104300.95,67291.95,56871.799999999996]
[79,null,104300.95,67291.95,56871.799999999996,null,null,null,122707,79167,66908,null,104300.95,67291.95,56871.799999999996]
[80,null,104300.95,67291.95,56871.799999999996,null,null,null,122707,79167,66908,null,104300.95,67291.95,56871.799999999996]
[81,null,104300.95,67291.95,56871.799999999996,null,null,null,122707,79167,66908,null,104300.95,67291.95,56871.799999999996]
[82,null,104300.95,67291.95,56871.799999999996,null,null,null,122707,79167,66908,null,104300.95,67291.95,56871.799999999996]
[83,null,{"$f":"M970","v":104300.95},{"$f":"N970","v":67291.95},{"$f":"O970","v":56871.799999999996},null,null,null,122707,79167,66908,null,{"$f":"I970*0.85","v":104300.95},67291.95,56871.799999999996]
[84,"o más",104300.95,67291.95,56871.799999999996,null,null,null,122707,79167,66908,null,104300.95,67291.95,56871.799999999996]
[1,"Hijo",5390.7,3479.0499999999997,2915.5,null,null,null,6342,4093,3430,null,5390.7,3479.0499999999997,2915.5]
[2,"Hijos",9166.4,5913.45,4954.6499999999996,null,null,null,10784,6957,5829,null,9166.4,5913.45,4954.6499999999996]
[3,"Hijos o más",12937.85,8348.6999999999989,6995.5,null,null,null,15221,9822,8230,null,12937.85,8348.6999999999989,6995.5]
[]
["BUPA GLOBAL ULTIMATE - MENSUALES"]
["EDAD"]
[" "," ",0,1000,2000]
[18,null,{"$f":"C905*$K$2","v":1118.124},{"$f":"D905*$K$2","v":721.45733333333328},604.59933333333333,0,0]
[19,null,{"$f":"C906*$K$2","v":1132.8800000000001},730.97733333333338,611.73933333333332,0,0]
[20,null,{"$f":"C907*$K$2","v":1148.0326666666667},740.65599999999995,619.43466666666666,0,0]
[21,null,{"$f":"C908*$K$2","v":1163.6613333333332},750.81066666666663,627.36800000000005,0,0]
[22,null,{"$f":"C909*$K$2","v":1179.7660000000001},761.20333333333338,635.46,0,0]
[23,null,{"$f":"C910*$K$2","v":1196.4260000000002},771.83399999999995,643.86933333333332,0,0]
[24,null,{"$f":"C911*$K$2","v":1213.4826666666668},782.94066666666663,652.67533333333336,0,0]
[25,null,{"$f":"C912*$K$2","v":1231.0946666666666},794.28533333333326,661.4813333333334,0,0]
[26,null,{"$f":"C913*$K$2","v":1256.4813333333334},810.78666666666675,674.49199999999996,0,0]
[27,null,{"$f":"C914*$K$2","v":1282.9786666666666},827.76400000000001,688.05799999999999,0,0]
[28,null,{"$f":"C915*$K$2","v":1310.3486666666665},845.53466666666668,702.1,0,0]
[29,null,{"$f":"C916*$K$2","v":1338.6706666666666},863.62266666666676,716.77666666666676,0,0]
[30,null,{"$f":"C917*$K$2","v":1367.7860000000001},882.42466666666667,732.00866666666673,0,0]
[31,null,{"$f":"C918*$K$2","v":1398.0119999999999},901.94066666666663,747.55800000000011,0,0]
[32,null,{"$f":"C919*$K$2","v":1429.19},922.01199999999994,763.82133333333343,0,0]
[33,null,{"$f":"C920*$K$2","v":1461.3993333333335},942.71799999999996,780.48133333333328,0,0]
[34,null,{"$f":"C921*$K$2","v":1494.3226666666667},964.13799999999992,797.93466666666666,0,0]
[35,null,{"$f":"C922*$K$2","v":1528.4360000000001},986.03399999999999,815.70533333333321,0,0]
[36,null,{"$f":"C923*$K$2","v":1563.2633333333333},1008.5646666666667,834.1106666666667,0,0]
[37,null,{"$f":"C924*$K$2","v":1599.1220000000001},1031.8093333333334,852.99199999999996,0,0]
[38,null,{"$f":"C925*$K$2","v":1636.0120000000002},1055.6093333333333,872.34933333333345,0,0]
[39,null,{"$f":"C926*$K$2","v":1673.8539999999998},1079.9646666666667,892.3413333333333,0,0]
[40,null,{"$f":"C927*$K$2","v":1712.6479999999999},1105.0340000000001,912.88866666666661,0,0]
[41,null,{"$f":"C928*$K$2","v":1752.4733333333334},1130.5793333333334,933.99133333333327,0,0]
[42,null,{"$f":"C929*$K$2","v":1793.0126666666665},1156.9179999999999,955.41133333333335,0,0]
[43,null,{"$f":"C930*$K$2","v":1834.5833333333335},1183.6533333333334,977.70400000000006,0,0]
[44,null,{"$f":"C931*$K$2","v":1877.2646666666667},1211.182,1000.314,0,0]
[45,null,{"$f":"C932*$K$2","v":1920.7393333333332},1239.1866666666667,1023.5586666666666,0,0]
[46,null,{"$f":"C933*$K$2","v":1965.1659999999999},1267.9053333333334,1047.2,0,0]
[47,null,{"$f":"C934*$K$2","v":2010.5446666666667},1297.1793333333335,1071.4760000000001,0,0]
[48,null,{"$f":"C935*$K$2","v":2056.9546666666665},1327.088,1096.3073333333334,0,0]
[49,null,{"$f":"C936*$K$2","v":2104.3166666666666},1357.5519999999999,1121.6146666666666,0,0]
[50,null,{"$f":"C937*$K$2","v":2152.6306666666665},1388.73,1147.6360000000002,0,0]
[51,null,{"$f":"C938*$K$2","v":2201.8173333333334},1420.4633333333334,1173.9746666666667,0,0]
[52,null,{"$f":"C939*$K$2","v":2251.9560000000001},1452.9106666666667,1200.8686666666665,0,0]
[53,null,{"$f":"C940*$K$2","v":2303.2053333333333},1485.9133333333334,1228.3973333333333,0,0]
[54,null,{"$f":"C941*$K$2","v":2355.248},1519.63,1256.402,0,0]
[55,null,{"$f":"C942*$K$2","v":2408.3220000000001},1553.7433333333333,1285.0413333333333,0,0]
[56,null,{"$f":"C943*$K$2","v":2462.2686666666668},1588.5706666666665,1314.0773333333334,0,0]
[57,null,{"$f":"C944*$K$2","v":2517.326},1624.0326666666665,1343.6686666666667,0,0]
[58,null,{"$f":"C945*$K$2","v":2573.0973333333332},1660.1293333333333,1373.8153333333332,0,0]
[59,null,{"$f":"C946*$K$2","v":2629.9793333333332},1696.7020000000002,1404.6760000000002,0,0]
[60,null,{"$f":"C947*$K$2","v":2687.7339999999999},1734.068,1435.7746666666667,0,0]
[61,null,{"$f":"C948*$K$2","v":2991.1046666666666},1929.6246666666666,1600.0739999999998,0,0]
[62,null,{"$f":"C949*$K$2","v":3317.9579999999996},2140.7306666666664,1777.7806666666665,0,0]
[63,null,{"$f":"C950*$K$2","v":3668.8493333333336},2366.9893333333334,1968.8153333333335,0,0]
[64,null,{"$f":"C951*$K$2","v":4043.4613333333332},2608.7973333333334,2173.3366666666666,0,0]
[65,null,{"$f":"C952*$K$2","v":4442.0320000000002},2865.6786666666667,2391.2653333333337,0,0]
[66,null,{"$f":"C953*$K$2","v":4864.2440000000006},3138.2679999999996,2622.6013333333335,0,0]
[67,null,{"$f":"C954*$K$2","v":5310.1766666666672},3426.01,2867.2653333333337,0,0]
[68,null,{"$f":"C955*$K$2","v":5779.9886666666671},3729.0633333333335,3125.4160000000002,0,0]
[69,null,{"$f":"C956*$K$2","v":6273.521333333334},4047.4279999999999,3396.9740000000002,0,0]
[70,null,{"$f":"C957*$K$2","v":6790.9333333333334},4381.1833333333334,3682.0186666666664,0,0]
[71,null,{"$f":"C958*$K$2","v":7332.1453333333338},4730.4879999999994,3980.3119999999999,0,0]
[72,null,{"$f":"C959*$K$2","v":7897.1573333333336},5095.0246666666662,4292.0919999999996,0,0]
[73,null,{"$f":"C960*$K$2","v":8485.8106666666663},5474.8726666666671,4617.4380000000001,0,0]
[74,null,{"$f":"C961*$K$2","v":9098.4226666666655},5870.0320000000002,4956.032666666667,0,0]
[75,null,{"$f":"C962*$K$2","v":9734.7553333333326},6280.5820000000003,5308.0346666666665,0,0]
[76,null,{"$f":"C963*$K$2","v":9734.7553333333326},6280.5820000000003,5308.0346666666665,0,0]
[77,null,{"$f":"C964*$K$2","v":9734.7553333333326},6280.5820000000003,5308.0346666666665,0,0]
[78,null,{"$f":"C965*$K$2","v":9734.7553333333326},6280.5820000000003,5308.0346666666665,0,0]
[79,null,{"$f":"C966*$K$2","v":9734.7553333333326},6280.5820000000003,5308.0346666666665,0,0]
[80,null,{"$f":"C967*$K$2","v":9734.7553333333326},6280.5820000000003,5308.0346666666665]
[81,null,{"$f":"C968*$K$2","v":9734.7553333333326},6280.5820000000003,5308.0346666666665]
[82,null,{"$f":"C969*$K$2","v":9734.7553333333326},6280.5820000000003,5308.0346666666665]
[83,null,{"$f":"C970*$K$2","v":9734.7553333333326},6280.5820000000003,5308.0346666666665]
[84,"o más",{"$f":"C971*$K$2","v":9734.7553333333326},6280.5820000000003,5308.0346666666665,0,0]
[1,"Hijo",{"$f":"C972*$K$2","v":503.13200000000001},324.7113333333333,272.11333333333334,0,0]
[2,"Hijos",{"$f":"C973*$K$2","v":855.53066666666666},551.92200000000003,462.43399999999997,0,0]
[3,"Hijos o más",{"$f":"C974*$K$2","v":1207.5326666666667},779.21199999999999,652.91333333333341,0,0]
[]
["BUPA GLOBAL ULTIMATE"]
["TARIFAS TRIMESTRALES"]
["EDAD"]
[" "," ",0,1000,2000]
[18,null,{"$f":"C905*$K$3","v":3294.4725000000003},{"$f":"D905*$K$3","v":2125.7224999999999},1781.4087500000001,{"$f":"F905*$K$4","v":0},0]
[19,null,{"$f":"C906*$K$3","v":3337.9500000000003},2153.7725,1802.44625,{"$f":"F906*$K$4","v":0},0]
[20,null,{"$f":"C907*$K$3","v":3382.5962500000005},2182.29,1825.1200000000001,{"$f":"F907*$K$4","v":0},0]
[21,null,{"$f":"C908*$K$3","v":3428.645},2212.21,1848.4950000000001,{"$f":"F908*$K$4","v":0},0]
[22,null,{"$f":"C909*$K$3","v":3476.0962500000005},2242.8312500000002,1872.3375000000001,{"$f":"F909*$K$4","v":0},0]
[23,null,{"$f":"C910*$K$3","v":3525.1837500000006},2274.1537499999999,1897.115,{"$f":"F910*$K$4","v":0},0]
[24,null,{"$f":"C911*$K$3","v":3575.4400000000005},2306.8787500000003,1923.0612500000002,{"$f":"F911*$K$4","v":0},0]
[25,null,{"$f":"C912*$K$3","v":3627.3325},2340.3049999999998,1949.0075000000002,{"$f":"F912*$K$4","v":0},0]
[26,null,{"$f":"C913*$K$3","v":3702.1325000000002},2388.9250000000002,1987.3425000000002,{"$f":"F913*$K$4","v":0},0]
[27,null,{"$f":"C914*$K$3","v":3780.2049999999999},2438.9475000000002,2027.3137500000003,{"$f":"F914*$K$4","v":0},0]
[28,null,{"$f":"C915*$K$3","v":3860.8487500000001},2491.3074999999999,2068.6875,{"$f":"F915*$K$4","v":0},0]
[29,null,{"$f":"C916*$K$3","v":3944.2975000000001},2544.6025000000004,2111.9312500000001,{"$f":"F916*$K$4","v":0},0]
[30,null,{"$f":"C917*$K$3","v":4030.0837500000002},2600.0012499999998,2156.8112500000002,{"$f":"F917*$K$4","v":0},0]
[31,null,{"$f":"C918*$K$3","v":4119.1424999999999},2657.5037500000003,2202.6262500000003,{"$f":"F918*$K$4","v":0},0]
[32,null,{"$f":"C919*$K$3","v":4211.0062500000004},2716.6424999999999,2250.5450000000001,{"$f":"F919*$K$4","v":0},0]
[33,null,{"$f":"C920*$K$3","v":4305.9087500000005},2777.6512499999999,2299.6325000000002,{"$f":"F920*$K$4","v":0},0]
[34,null,{"$f":"C921*$K$3","v":4402.9150000000009},2840.7637500000001,2351.0574999999999,{"$f":"F921*$K$4","v":0},0]
[35,null,{"$f":"C922*$K$3","v":4503.4275000000007},2905.2787499999999,2403.4175,{"$f":"F922*$K$4","v":0},0]
[36,null,{"$f":"C923*$K$3","v":4606.0437500000007},2971.6637500000002,2457.6475,{"$f":"F923*$K$4","v":0},0]
[37,null,{"$f":"C924*$K$3","v":4711.6987500000005},3040.1525000000001,2513.2799999999997,{"$f":"F924*$K$4","v":0},0]
[38,null,{"$f":"C925*$K$3","v":4820.3925000000008},3110.2775000000001,2570.3150000000005,{"$f":"F925*$K$4","v":0},0]
[39,null,{"$f":"C926*$K$3","v":4931.8912499999997},3182.0387500000002,2629.22,{"$f":"F926*$K$4","v":0},0]
[40,null,{"$f":"C927*$K$3","v":5046.1950000000006},3255.9037499999999,2689.76125,{"$f":"F927*$K$4","v":0},0]
[41,null,{"$f":"C928*$K$3","v":5163.5375000000004},3331.1712500000003,2751.9387499999998,{"$f":"F928*$K$4","v":0},0]
[42,null,{"$f":"C929*$K$3","v":5282.9837500000003},3408.7762499999999,2815.05125,{"$f":"F929*$K$4","v":0},0]
[43,null,{"$f":"C930*$K$3","v":5405.46875},3487.55,2880.7350000000001,{"$f":"F930*$K$4","v":0},0]
[44,null,{"$f":"C931*$K$3","v":5531.2262500000006},3568.6612500000001,2947.3537500000002,{"$f":"F931*$K$4","v":0},0]
[45,null,{"$f":"C932*$K$3","v":5659.32125},3651.1750000000002,3015.8424999999997,{"$f":"F932*$K$4","v":0},0]
[46,null,{"$f":"C933*$K$3","v":5790.2212500000005},3735.7925,3085.5000000000005,{"$f":"F933*$K$4","v":0},0]
[47,null,{"$f":"C934*$K$3","v":5923.9262500000004},3822.0462500000003,3157.0275000000001,{"$f":"F934*$K$4","v":0},0]
[48,null,{"$f":"C935*$K$3","v":6060.67},3910.17,3230.1912500000003,{"$f":"F935*$K$4","v":0},0]
[49,null,{"$f":"C936*$K$3","v":6200.2187500000009},3999.93,3304.7575000000002,{"$f":"F936*$K$4","v":0},0]
[50,null,{"$f":"C937*$K$3","v":6342.5725000000002},4091.7937500000003,3381.4275000000002,{"$f":"F937*$K$4","v":0},0]
[51,null,{"$f":"C938*$K$3","v":6487.4974999999995},4185.2937500000007,3459.0325000000003,{"$f":"F938*$K$4","v":0},0]
[52,null,{"$f":"C939*$K$3","v":6635.2275},4280.8975,3538.2737499999998,{"$f":"F939*$K$4","v":0},0]
[53,null,{"$f":"C940*$K$3","v":6786.2300000000005},4378.1375000000007,3619.3850000000002,{"$f":"F940*$K$4","v":0},0]
[54,null,{"$f":"C941*$K$3","v":6939.5700000000006},4477.4812500000007,3701.8987499999998,{"$f":"F941*$K$4","v":0},0]
[55,null,{"$f":"C942*$K$3","v":7095.9487500000005},4577.9937500000005,3786.2825000000003,{"$f":"F942*$K$4","v":0},0]
[56,null,{"$f":"C943*$K$3","v":7254.8987500000012},4680.6099999999997,3871.835,{"$f":"F943*$K$4","v":0},0]
[57,null,{"$f":"C944*$K$3","v":7417.1212500000001},4785.0962499999996,3959.0237499999998,{"$f":"F944*$K$4","v":0},0]
[58,null,{"$f":"C945*$K$3","v":7581.4475000000002},4891.4525000000003,4047.8487500000001,{"$f":"F945*$K$4","v":0},0]
[59,null,{"$f":"C946*$K$3","v":7749.0462500000003},4999.2112500000003,4138.7775000000001,{"$f":"F946*$K$4","v":0},0]
[60,null,{"$f":"C947*$K$3","v":7919.2162500000004},5109.3074999999999,4230.4075000000003,{"$f":"F947*$K$4","v":0},0]
[61,null,{"$f":"C948*$K$3","v":8813.0762500000001},5685.5012500000003,4714.5037499999999,{"$f":"F948*$K$4","v":0},0]
[62,null,{"$f":"C949*$K$3","v":9776.1262499999993},6307.51,5238.1037500000002,{"$f":"F949*$K$4","v":0},0]
[63,null,{"$f":"C950*$K$3","v":10810.002500000001},6974.165,5800.973750000001,{"$f":"F950*$K$4","v":0},0]
[64,null,{"$f":"C951*$K$3","v":11913.77},7686.6350000000002,6403.5812500000002,{"$f":"F951*$K$4","v":0},0]
[65,null,{"$f":"C952*$K$3","v":13088.130000000001},8443.5175000000017,7045.692500000001,{"$f":"F952*$K$4","v":0},0]
[66,null,{"$f":"C953*$K$3","v":14332.147500000001},9246.682499999999,7727.3075000000008,{"$f":"F953*$K$4","v":0},0]
[67,null,{"$f":"C954*$K$3","v":15646.056250000001},10094.493750000001,8448.192500000001,{"$f":"F954*$K$4","v":0},0]
[68,null,{"$f":"C955*$K$3","v":17030.32375},10987.418750000001,9208.8150000000005,{"$f":"F955*$K$4","v":0},0]
[69,null,{"$f":"C956*$K$3","v":18484.482500000002},11925.4575,10008.941250000002,{"$f":"F956*$K$4","v":0},0]
[70,null,{"$f":"C957*$K$3","v":20009},12908.843750000002,10848.805,{"$f":"F957*$K$4","v":0},0]
[71,null,{"$f":"C958*$K$3","v":21603.642500000002},13938.045,11727.705,{"$f":"F958*$K$4","v":0},0]
[72,null,{"$f":"C959*$K$3","v":23268.41},15012.126249999999,12646.342500000001,{"$f":"F959*$K$4","v":0},0]
[73,null,{"$f":"C960*$K$3","v":25002.834999999999},16131.321250000001,13604.95125,{"$f":"F960*$K$4","v":0},0]
[74,null,{"$f":"C961*$K$3","v":26807.852500000001},17295.63,14602.596250000001,{"$f":"F961*$K$4","v":0},0]
[75,null,{"$f":"C962*$K$3","v":28682.761250000003},18505.286250000001,15639.745000000001,{"$f":"F962*$K$4","v":0},0]
[76,null,{"$f":"C963*$K$3","v":28682.761250000003},18505.286250000001,15639.745000000001,{"$f":"F963*$K$4","v":0},0]
[77,null,{"$f":"C964*$K$3","v":28682.761250000003},18505.286250000001,15639.745000000001,{"$f":"F964*$K$4","v":0},0]
[78,null,{"$f":"C965*$K$3","v":28682.761250000003},18505.286250000001,15639.745000000001,{"$f":"F965*$K$4","v":0},0]
[79,null,{"$f":"C966*$K$3","v":28682.761250000003},18505.286250000001,15639.745000000001,{"$f":"F966*$K$4","v":0},0]
[80,null,{"$f":"C967*$K$3","v":28682.761250000003},18505.286250000001,15639.745000000001,{"$f":"F967*$K$4","v":0},0]
[81,null,{"$f":"C968*$K$3","v":28682.761250000003},18505.286250000001,15639.745000000001,{"$f":"F968*$K$4","v":0},0]
[82,null,{"$f":"C969*$K$3","v":28682.761250000003},18505.286250000001,15639.745000000001,{"$f":"F969*$K$4","v":0},0]
[83,null,{"$f":"C970*$K$3","v":28682.761250000003},18505.286250000001,15639.745000000001,{"$f":"F970*$K$4","v":0},0]
[84,"o más",{"$f":"C971*$K$3","v":28682.761250000003},18505.286250000001,15639.745000000001,{"$f":"F971*$K$4","v":0},0]
[1,"Hijo",{"$f":"C972*$K$3","v":1482.4425000000001},956.73874999999998,801.76250000000005,{"$f":"F972*$K$4","v":0},0]
[2,"Hijos",{"$f":"C973*$K$3","v":2520.7600000000002},1626.19875,1362.5287499999999,{"$f":"F973*$K$4","v":0},0]
[3,"Hijos o más",{"$f":"C974*$K$3","v":3557.9087500000005},2295.8924999999999,1923.7625,{"$f":"F974*$K$4","v":0},0]
[]
["BUPA GLOBAL MM"]
["TARIFAS ANUALES"]
["EDAD"]
[" "," ",10000,20000]
[18,null,{"$f":"L1129","v":1406.75},{"$f":"M1129","v":1105},null,null,null,null,1655,1300,null,{"$f":"I1129*0.85","v":1406.75},{"$f":"J1129*0.85","v":1105}]
[19,null,{"$f":"L1130","v":1423.75},{"$f":"M1130","v":1114.3499999999999},null,null,null,null,1675,1311,null,{"$f":"I1130*0.85","v":1423.75},1114.3499999999999]
[20,null,1444.1499999999999,1125.3999999999999,null,null,null,null,1699,1324,null,1444.1499999999999,1125.3999999999999]
[21,null,1462,1138.1499999999999,null,null,null,null,1720,1339,null,1462,1138.1499999999999]
[22,null,1481.55,1150.8999999999999,null,null,null,null,1743,1354,null,1481.55,1150.8999999999999]
[23,null,1503.6499999999999,1163.6499999999999,null,null,null,null,1769,1369,null,1503.6499999999999,1163.6499999999999]
[24,null,1523.2,1178.95,null,null,null,null,1792,1387,null,1523.2,1178.95]
[25,null,1543.6,1193.3999999999999,null,null,null,null,1816,1404,null,1543.6,1193.3999999999999]
[26,null,1576.75,1213.8,null,null,null,null,1855,1428,null,1576.75,1213.8]
[27,null,1608.2,1235.05,null,null,null,null,1892,1453,null,1608.2,1235.05]
[28,null,1643.05,1258.8499999999999,null,null,null,null,1933,1481,null,1643.05,1258.8499999999999]
[29,null,1677.05,1283.5,null,null,null,null,1973,1510,null,1677.05,1283.5]
[30,null,1714.45,1309,null,null,null,null,2017,1540,null,1714.45,1309]
[31,null,1751.85,1334.5,null,null,null,null,2061,1570,null,1751.85,1334.5]
[32,null,1789.25,1362.55,null,null,null,null,2105,1603,null,1789.25,1362.55]
[33,null,1829.2,1392.3,null,null,null,null,2152,1638,null,1829.2,1392.3]
[34,null,1870,1421.2,null,null,null,null,2200,1672,null,1870,1421.2]
[35,null,1914.2,1453.5,null,null,null,null,2252,1710,null,1914.2,1453.5]
[36,null,1956.7,1484.95,null,null,null,null,2302,1747,null,1956.7,1484.95]
[37,null,2000.8999999999999,1518.1,null,null,null,null,2354,1786,null,2000.8999999999999,1518.1]
[38,null,2047.6499999999999,1552.95,null,null,null,null,2409,1827,null,2047.6499999999999,1552.95]
[39,null,2094.4,1587.8,null,null,null,null,2464,1868,null,2094.4,1587.8]
[40,null,2142.85,1623.5,null,null,null,null,2521,1910,null,2142.85,1623.5]
[41,null,2192.15,1660.8999999999999,null,null,null,null,2579,1954,null,2192.15,1660.8999999999999]
[42,null,2243.15,1700.85,null,null,null,null,2639,2001,null,2243.15,1700.85]
[43,null,2295.85,1740.8,null,null,null,null,2701,2048,null,2295.85,1740.8]
[44,null,2350.25,1780.75,null,null,null,null,2765,2095,null,2350.25,1780.75]
[45,null,2404.65,1823.25,null,null,null,null,2829,2145,null,2404.65,1823.25]
[46,null,2459.9,1866.6,null,null,null,null,2894,2196,null,2459.9,1866.6]
[47,null,2516.85,1909.95,null,null,null,null,2961,2247,null,2516.85,1909.95]
[48,null,2576.35,1956.7,null,null,null,null,3031,2302,null,2576.35,1956.7]
[49,null,2635.85,2002.6,null,null,null,null,3101,2356,null,2635.85,2002.6]
[50,null,2697.0499999999997,2050.1999999999998,null,null,null,null,3173,2412,null,2697.0499999999997,2050.1999999999998]
[51,null,2759.1,2096.9499999999998,null,null,null,null,3246,2467,null,2759.1,2096.9499999999998]
[52,null,2822,2147.1,null,null,null,null,3320,2526,null,2822,2147.1]
[53,null,2887.45,2198.9499999999998,null,null,null,null,3397,2587,null,2887.45,2198.9499999999998]
[54,null,2952.9,2250.7999999999997,null,null,null,null,3474,2648,null,2952.9,2250.7999999999997]
[55,null,3018.35,2304.35,null,null,null,null,3551,2711,null,3018.35,2304.35]
[56,null,3088.0499999999997,2358.75,null,null,null,null,3633,2775,null,3088.0499999999997,2358.75]
[57,null,3158.6,2414,null,null,null,null,3716,2840,null,3158.6,2414]
[58,null,3227.45,2469.25,null,null,null,null,3797,2905,null,3227.45,2469.25]
[59,null,3299.7,2527.0499999999997,null,null,null,null,3882,2973,null,3299.7,2527.0499999999997]
[60,null,3374.5,2585.6999999999998,null,null,null,null,3970,3042,null,3374.5,2585.6999999999998]
[61,null,3758.7,2894.25,null,null,null,null,4422,3405,null,3758.7,2894.25]
[62,null,4174.3499999999995,3232.5499999999997,null,null,null,null,4911,3803,null,4174.3499999999995,3232.5499999999997]
[63,null,4620.5999999999995,3596.35,null,null,null,null,5436,4231,null,4620.5999999999995,3596.35]
[64,null,5098.3,3988.2,null,null,null,null,5998,4692,null,5098.3,3988.2]
[65,null,5606.5999999999995,4408.0999999999995,null,null,null,null,6596,5186,null,5606.5999999999995,4408.0999999999995]
[66,null,6146.3499999999995,4856.8999999999996,null,null,null,null,7231,5714,null,6146.3499999999995,4856.8999999999996]
[67,null,6718.4,5332.05,null,null,null,null,7904,6273,null,6718.4,5332.05]
[68,null,7318.5,5834.4,null,null,null,null,8610,6864,null,7318.5,5834.4]
[69,null,7950.05,6363.0999999999995,null,null,null,null,9353,7486,null,7950.05,6363.0999999999995]
[70,null,8613.9,6922.4,null,null,null,null,10134,8144,null,8613.9,6922.4]
[71,null,9307.5,7507.2,null,null,null,null,10950,8832,null,9307.5,7507.2]
[72,null,10033.4,8119.2,null,null,null,null,11804,9552,null,10033.4,8119.2]
[73,null,10788.199999999999,8761.7999999999993,null,null,null,null,12692,10308,null,10788.199999999999,8761.7999999999993]
[74,null,11575.3,9428.1999999999989,null,null,null,null,13618,11092,null,11575.3,9428.1999999999989]
[75,null,12392.15,10125.199999999999,null,null,null,null,14579,11912,null,12392.15,10125.199999999999]
[76,null,12392.15,10125.199999999999,null,null,null,null,14579,11912,null,12392.15,10125.199999999999]
[77,null,12392.15,10125.199999999999,null,null,null,null,14579,11912,null,12392.15,10125.199999999999]
[78,null,12392.15,10125.199999999999,null,null,null,null,14579,11912,null,12392.15,10125.199999999999]
[79,null,12392.15,10125.199999999999,null,null,null,null,14579,11912,null,12392.15,10125.199999999999]
[80,null,12392.15,10125.199999999999,null,null,null,null,14579,11912,null,12392.15,10125.199999999999]
[81,null,12392.15,10125.199999999999,null,null,null,null,14579,11912,null,12392.15,10125.199999999999]
[82,null,12392.15,10125.199999999999,null,null,null,null,14579,11912,null,12392.15,10125.199999999999]
[83,null,{"$f":"L1194","v":12392.15},{"$f":"M1194","v":10125.199999999999},null,null,null,null,14579,11912,null,{"$f":"I1194*0.85","v":12392.15},10125.199999999999]
[84,"o más",12392.15,10125.199999999999,null,null,null,null,14579,11912,null,12392.15,10125.199999999999]
[1,"Hijo",634.1,498.09999999999997,null,null,null,null,746,586,null,634.1,498.09999999999997]
[2,"Hijos",1076.95,845.75,null,null,null,null,1267,995,null,1076.95,845.75]
[3,"Hijos o más",1518.95,1193.3999999999999,null,null,null,null,1787,1404,null,1518.95,1193.3999999999999]
[]
["BUPA GLOBAL MM - MENSUALES"]
["EDAD"]
[" "," ",10000,20000]
[18,null,{"$f":"C1129*$K$2","v":131.29666666666668},{"$f":"D1129*$K$2","v":103.13333333333334},0,0,0]
[19,null,{"$f":"C1130*$K$2","v":132.88333333333333},104.006,0,0,0]
[20,null,{"$f":"C1131*$K$2","v":134.78733333333332},105.03733333333332,0,0,0]
[21,null,{"$f":"C1132*$K$2","v":136.45333333333335},106.22733333333332,0,0,0]
[22,null,{"$f":"C1133*$K$2","v":138.27799999999999},107.41733333333333,0,0,0]
[23,null,{"$f":"C1134*$K$2","v":140.34066666666666},108.60733333333333,0,0,0]
[24,null,{"$f":"C1135*$K$2","v":142.16533333333334},110.03533333333334,0,0,0]
[25,null,{"$f":"C1136*$K$2","v":144.06933333333333},111.38399999999999,0,0,0]
[26,null,{"$f":"C1137*$K$2","v":147.16333333333333},113.288,0,0,0]
[27,null,{"$f":"C1138*$K$2","v":150.09866666666667},115.27133333333333,0,0,0]
[28,null,{"$f":"C1139*$K$2","v":153.35133333333334},117.49266666666666,0,0,0]
[29,null,{"$f":"C1140*$K$2","v":156.52466666666666},119.79333333333334,0,0,0]
[30,null,{"$f":"C1141*$K$2","v":160.01533333333333},122.17333333333333,0,0,0]
[31,null,{"$f":"C1142*$K$2","v":163.506},124.55333333333334,0,0,0]
[32,null,{"$f":"C1143*$K$2","v":166.99666666666667},127.17133333333334,0,0,0]
[33,null,{"$f":"C1144*$K$2","v":170.72533333333334},129.94800000000001,0,0,0]
[34,null,{"$f":"C1145*$K$2","v":174.53333333333333},132.64533333333335,0,0,0]
[35,null,{"$f":"C1146*$K$2","v":178.65866666666668},135.66,0,0,0]
[36,null,{"$f":"C1147*$K$2","v":182.62533333333334},138.59533333333334,0,0,0]
[37,null,{"$f":"C1148*$K$2","v":186.75066666666666},141.68933333333334,0,0,0]
[38,null,{"$f":"C1149*$K$2","v":191.114},144.94200000000001,0,0,0]
[39,null,{"$f":"C1150*$K$2","v":195.47733333333335},148.19466666666668,0,0,0]
[40,null,{"$f":"C1151*$K$2","v":199.99933333333334},151.52666666666667,0,0,0]
[41,null,{"$f":"C1152*$K$2","v":204.60066666666668},155.01733333333334,0,0,0]
[42,null,{"$f":"C1153*$K$2","v":209.36066666666667},158.74600000000001,0,0,0]
[43,null,{"$f":"C1154*$K$2","v":214.27933333333334},162.47466666666668,0,0,0]
[44,null,{"$f":"C1155*$K$2","v":219.35666666666668},166.20333333333335,0,0,0]
[45,null,{"$f":"C1156*$K$2","v":224.43400000000003},170.17000000000002,0,0,0]
[46,null,{"$f":"C1157*$K$2","v":229.59066666666669},174.21600000000001,0,0,0]
[47,null,{"$f":"C1158*$K$2","v":234.90600000000001},178.262,0,0,0]
[48,null,{"$f":"C1159*$K$2","v":240.45933333333335},182.62533333333334,0,0,0]
[49,null,{"$f":"C1160*$K$2","v":246.01266666666666},186.90933333333334,0,0,0]
[50,null,{"$f":"C1161*$K$2","v":251.72466666666665},191.352,0,0,0]
[51,null,{"$f":"C1162*$K$2","v":257.51600000000002},195.71533333333332,0,0,0]
[52,null,{"$f":"C1163*$K$2","v":263.38666666666666},200.39599999999999,0,0,0]
[53,null,{"$f":"C1164*$K$2","v":269.49533333333335},205.23533333333333,0,0,0]
[54,null,{"$f":"C1165*$K$2","v":275.60400000000004},210.07466666666664,0,0,0]
[55,null,{"$f":"C1166*$K$2","v":281.71266666666668},215.07266666666666,0,0,0]
[56,null,{"$f":"C1167*$K$2","v":288.21799999999996},220.15,0,0,0]
[57,null,{"$f":"C1168*$K$2","v":294.80266666666665},225.30666666666667,0,0,0]
[58,null,{"$f":"C1169*$K$2","v":301.22866666666664},230.46333333333334,0,0,0]
[59,null,{"$f":"C1170*$K$2","v":307.97199999999998},235.85799999999998,0,0,0]
[60,null,{"$f":"C1171*$K$2","v":314.95333333333338},241.33199999999999,0,0,0]
[61,null,{"$f":"C1172*$K$2","v":350.81200000000001},270.13,0,0,0]
[62,null,{"$f":"C1173*$K$2","v":389.60599999999999},301.70466666666664,0,0,0]
[63,null,{"$f":"C1174*$K$2","v":431.25599999999997},335.65933333333334,0,0,0]
[64,null,{"$f":"C1175*$K$2","v":475.84133333333335},372.23200000000003,0,0,0]
[65,null,{"$f":"C1176*$K$2","v":523.28266666666661},411.42266666666666,0,0,0]
[66,null,{"$f":"C1177*$K$2","v":573.65933333333328},453.31066666666663,0,0,0]
[67,null,{"$f":"C1178*$K$2","v":627.05066666666664},497.65800000000002,0,0,0]
[68,null,{"$f":"C1179*$K$2","v":683.06000000000006},544.54399999999998,0,0,0]
[69,null,{"$f":"C1180*$K$2","v":742.00466666666671},593.8893333333333,0,0,0]
[70,null,{"$f":"C1181*$K$2","v":803.96400000000006},646.09066666666661,0,0,0]
[71,null,{"$f":"C1182*$K$2","v":868.7},700.67200000000003,0,0,0]
[72,null,{"$f":"C1183*$K$2","v":936.45066666666662},757.79200000000003,0,0,0]
[73,null,{"$f":"C1184*$K$2","v":1006.8986666666666},817.76799999999992,0,0,0]
[74,null,{"$f":"C1185*$K$2","v":1080.3613333333333},879.96533333333332,0,0,0]
[75,null,{"$f":"C1186*$K$2","v":1156.6006666666667},945.0186666666666,0,0,0]
[76,null,{"$f":"C1187*$K$2","v":1156.6006666666667},945.0186666666666,0,0,0]
[77,null,{"$f":"C1188*$K$2","v":1156.6006666666667},945.0186666666666,0,0,0]
[78,null,{"$f":"C1189*$K$2","v":1156.6006666666667},945.0186666666666,0,0,0]
[79,null,{"$f":"C1190*$K$2","v":1156.6006666666667},945.0186666666666,0,0,0]
[80,null,{"$f":"C1191*$K$2","v":1156.6006666666667},945.0186666666666,0]
[81,null,{"$f":"C1192*$K$2","v":1156.6006666666667},945.0186666666666,0]
[82,null,{"$f":"C1193*$K$2","v":1156.6006666666667},945.0186666666666,0]
[83,null,{"$f":"C1194*$K$2","v":1156.6006666666667},945.0186666666666,0]
[84,"o más",{"$f":"C1195*$K$2","v":1156.6006666666667},945.0186666666666,0,0,0]
[1,"Hijo",{"$f":"C1196*$K$2","v":59.18266666666667},46.489333333333335,0,0,0]
[2,"Hijos",{"$f":"C1197*$K$2","v":100.51533333333334},78.936666666666667,0,0,0]
[3,"Hijos o más",{"$f":"C1198*$K$2","v":141.76866666666669},111.38399999999999,0,0,0]
[]
["BUPA GLOBAL MM"]
["TARIFAS TRIMESTRALES"]
["EDAD"]
[" "," ",10000,20000]
[18,null,{"$f":"C1129*$K$3","v":386.85625000000005},{"$f":"D1129*$K$3","v":303.875},{"$f":"E1129*K$3","v":0},{"$f":"F1129*K$3","v":0},0]
[19,null,{"$f":"C1130*$K$3","v":391.53125000000006},306.44625000000002,{"$f":"E1130*K$3","v":0},{"$f":"F1130*K$3","v":0},0]
[20,null,{"$f":"C1131*$K$3","v":397.14125000000001},309.48500000000001,0,0,0]
[21,null,{"$f":"C1132*$K$3","v":402.05},312.99124999999998,0,0,0]
[22,null,{"$f":"C1133*$K$3","v":407.42625000000004},316.4975,0,0,0]
[23,null,{"$f":"C1134*$K$3","v":413.50374999999997},320.00374999999997,0,0,0]
[24,null,{"$f":"C1135*$K$3","v":418.88000000000005},324.21125000000006,0,0,0]
[25,null,{"$f":"C1136*$K$3","v":424.49},328.185,0,0,0]
[26,null,{"$f":"C1137*$K$3","v":433.60625000000005},333.79500000000002,0,0,0]
[27,null,{"$f":"C1138*$K$3","v":442.25500000000005},339.63875000000002,0,0,0]
[28,null,{"$f":"C1139*$K$3","v":451.83875},346.18374999999997,0,0,0]
[29,null,{"$f":"C1140*$K$3","v":461.18875000000003},352.96250000000003,0,0,0]
[30,null,{"$f":"C1141*$K$3","v":471.47375000000005},359.97500000000002,0,0,0]
[31,null,{"$f":"C1142*$K$3","v":481.75875000000002},366.98750000000001,0,0,0]
[32,null,{"$f":"C1143*$K$3","v":492.04375000000005},374.70125000000002,0,0,0]
[33,null,{"$f":"C1144*$K$3","v":503.03000000000003},382.88249999999999,0,0,0]
[34,null,{"$f":"C1145*$K$3","v":514.25},390.83000000000004,0,0,0]
[35,null,{"$f":"C1146*$K$3","v":526.40500000000009},399.71250000000003,0,0,0]
[36,null,{"$f":"C1147*$K$3","v":538.09250000000009},408.36125000000004,0,0,0]
[37,null,{"$f":"C1148*$K$3","v":550.24750000000006},417.47750000000002,0,0,0]
[38,null,{"$f":"C1149*$K$3","v":563.10374999999999},427.06125000000003,0,0,0]
[39,null,{"$f":"C1150*$K$3","v":575.96},436.64500000000004,0,0,0]
[40,null,{"$f":"C1151*$K$3","v":589.28375000000005},446.46250000000003,0,0,0]
[41,null,{"$f":"C1152*$K$3","v":602.84125000000006},456.7475,0,0,0]
[42,null,{"$f":"C1153*$K$3","v":616.86625000000004},467.73374999999999,0,0,0]
[43,null,{"$f":"C1154*$K$3","v":631.35874999999999},478.72,0,0,0]
[44,null,{"$f":"C1155*$K$3","v":646.31875000000002},489.70625000000001,0,0,0]
[45,null,{"$f":"C1156*$K$3","v":661.27875000000006},501.39375000000007,0,0,0]
[46,null,{"$f":"C1157*$K$3","v":676.47250000000008},513.31500000000005,0,0,0]
[47,null,{"$f":"C1158*$K$3","v":692.13375000000008},525.23625000000004,0,0,0]
[48,null,{"$f":"C1159*$K$3","v":708.49625000000003},538.09250000000009,0,0,0]
[49,null,{"$f":"C1160*$K$3","v":724.85874999999999},550.71500000000003,0,0,0]
[50,null,{"$f":"C1161*$K$3","v":741.68875000000003},563.80499999999995,0,0,0]
[51,null,{"$f":"C1162*$K$3","v":758.75250000000005},576.66125,0,0,0]
[52,null,{"$f":"C1163*$K$3","v":776.05000000000007},590.45249999999999,0,0,0]
[53,null,{"$f":"C1164*$K$3","v":794.04875000000004},604.71124999999995,0,0,0]
[54,null,{"$f":"C1165*$K$3","v":812.04750000000013},618.97,0,0,0]
[55,null,{"$f":"C1166*$K$3","v":830.04624999999999},633.69625000000008,0,0,0]
[56,null,{"$f":"C1167*$K$3","v":849.21375},648.65625,0,0,0]
[57,null,{"$f":"C1168*$K$3","v":868.61500000000001},663.85,0,0,0]
[58,null,{"$f":"C1169*$K$3","v":887.54875000000004},679.04375000000005,0,0,0]
[59,null,{"$f":"C1170*$K$3","v":907.41750000000002},694.93875000000003,0,0,0]
[60,null,{"$f":"C1171*$K$3","v":927.98750000000007},711.0675,0,0,0]
[61,null,{"$f":"C1172*$K$3","v":1033.6424999999999},795.91875000000005,0,0,0]
[62,null,{"$f":"C1173*$K$3","v":1147.94625},888.95124999999996,0,0,0]
[63,null,{"$f":"C1174*$K$3","v":1270.665},988.99625000000003,0,0,0]
[64,null,{"$f":"C1175*$K$3","v":1402.0325000000003},1096.7550000000001,0,0,0]
[65,null,{"$f":"C1176*$K$3","v":1541.8150000000001},1212.2275,0,0,0]
[66,null,{"$f":"C1177*$K$3","v":1690.2462499999999},1335.6475,0,0,0]
[67,null,{"$f":"C1178*$K$3","v":1847.56},1466.3137500000003,0,0,0]
[68,null,{"$f":"C1179*$K$3","v":2012.5875000000001},1604.46,0,0,0]
[69,null,{"$f":"C1180*$K$3","v":2186.2637500000001},1749.8525,0,0,0]
[70,null,{"$f":"C1181*$K$3","v":2368.8225000000002},1903.66,0,0,0]
[71,null,{"$f":"C1182*$K$3","v":2559.5625},2064.48,0,0,0]
[72,null,{"$f":"C1183*$K$3","v":2759.1849999999999},2232.7800000000002,0,0,0]
[73,null,{"$f":"C1184*$K$3","v":2966.7550000000001},2409.4949999999999,0,0,0]
[74,null,{"$f":"C1185*$K$3","v":3183.2075},2592.7550000000001,0,0,0]
[75,null,{"$f":"C1186*$K$3","v":3407.8412500000004},2784.43,0,0,0]
[76,null,{"$f":"C1187*$K$3","v":3407.8412500000004},2784.43,0,0,0]
[77,null,{"$f":"C1188*$K$3","v":3407.8412500000004},2784.43,0,0,0]
[78,null,{"$f":"C1189*$K$3","v":3407.8412500000004},2784.43,0,0,0]
[79,null,{"$f":"C1190*$K$3","v":3407.8412500000004},2784.43,0,0,0]
[80,null,{"$f":"C1191*$K$3","v":3407.8412500000004},2784.43,0,0,0]
[81,null,{"$f":"C1192*$K$3","v":3407.8412500000004},2784.43,0,0,0]
[82,null,{"$f":"C1193*$K$3","v":3407.8412500000004},2784.43,0,0,0]
[83,null,{"$f":"C1194*$K$3","v":3407.8412500000004},2784.43,{"$f":"E1194*K$3","v":0},{"$f":"F1194*K$3","v":0},0]
[84,"o más",{"$f":"C1195*$K$3","v":3407.8412500000004},2784.43,0,0,0]
[1,"Hijo",{"$f":"C1196*$K$3","v":174.37750000000003},136.97749999999999,0,0,0]
[2,"Hijos",{"$f":"C1197*$K$3","v":296.16125000000005},232.58125000000001,0,0,0]
[3,"Hijos o más",{"$f":"C1198*$K$3","v":417.71125000000006},328.185,0,0,0]
[]
["BUPA GLOBAL MM"]
["TARIFAS SEMESTRAL"]
["EDAD"]
[" "," ",10000,20000]
[18,null,{"$f":"C1129*$K$4","v":745.57749999999999},{"$f":"D1129*$K$4","v":585.65},0,0,0]
[19,null,{"$f":"C1130*$K$4","v":754.58750000000009},590.60550000000001,0,0,0]
[20,null,{"$f":"C1131*$K$4","v":765.39949999999999},596.46199999999999,0,0,0]
[21,null,{"$f":"C1132*$K$4","v":774.86},603.21949999999993,0,0,0]
[22,null,{"$f":"C1133*$K$4","v":785.22149999999999},609.97699999999998,0,0,0]
[23,null,{"$f":"C1134*$K$4","v":796.93449999999996},616.73449999999991,0,0,0]
[24,null,{"$f":"C1135*$K$4","v":807.29600000000005},624.84350000000006,0,0,0]
[25,null,{"$f":"C1136*$K$4","v":818.10799999999995},632.50199999999995,0,0,0]
[26,null,{"$f":"C1137*$K$4","v":835.67750000000001},643.31399999999996,0,0,0]
[27,null,{"$f":"C1138*$K$4","v":852.34600000000012},654.57650000000001,0,0,0]
[28,null,{"$f":"C1139*$K$4","v":870.81650000000002},667.19049999999993,0,0,0]
[29,null,{"$f":"C1140*$K$4","v":888.8365},680.255,0,0,0]
[30,null,{"$f":"C1141*$K$4","v":908.65850000000012},693.77,0,0,0]
[31,null,{"$f":"C1142*$K$4","v":928.48050000000001},707.28500000000008,0,0,0]
[32,null,{"$f":"C1143*$K$4","v":948.30250000000001},722.15150000000006,0,0,0]
[33,null,{"$f":"C1144*$K$4","v":969.47600000000011},737.91899999999998,0,0,0]
[34,null,{"$f":"C1145*$K$4","v":991.1},753.2360000000001,0,0,0]
[35,null,{"$f":"C1146*$K$4","v":1014.5260000000001},770.35500000000002,0,0,0]
[36,null,{"$f":"C1147*$K$4","v":1037.0510000000002},787.02350000000001,0,0,0]
[37,null,{"$f":"C1148*$K$4","v":1060.4770000000001},804.59299999999996,0,0,0]
[38,null,{"$f":"C1149*$K$4","v":1085.2545},823.06350000000009,0,0,0]
[39,null,{"$f":"C1150*$K$4","v":1110.0320000000002},841.53399999999999,0,0,0]
[40,null,{"$f":"C1151*$K$4","v":1135.7104999999999},860.45500000000004,0,0,0]
[41,null,{"$f":"C1152*$K$4","v":1161.8395},880.27699999999993,0,0,0]
[42,null,{"$f":"C1153*$K$4","v":1188.8695},901.45050000000003,0,0,0]
[43,null,{"$f":"C1154*$K$4","v":1216.8005000000001},922.62400000000002,0,0,0]
[44,null,{"$f":"C1155*$K$4","v":1245.6325000000002},943.79750000000001,0,0,0]
[45,null,{"$f":"C1156*$K$4","v":1274.4645},966.3225000000001,0,0,0]
[46,null,{"$f":"C1157*$K$4","v":1303.7470000000001},989.298,0,0,0]
[47,null,{"$f":"C1158*$K$4","v":1333.9304999999999},1012.2735000000001,0,0,0]
[48,null,{"$f":"C1159*$K$4","v":1365.4655},1037.0510000000002,0,0,0]
[49,null,{"$f":"C1160*$K$4","v":1397.0005000000001},1061.3779999999999,0,0,0]
[50,null,{"$f":"C1161*$K$4","v":1429.4365},1086.606,0,0,0]
[51,null,{"$f":"C1162*$K$4","v":1462.3230000000001},1111.3834999999999,0,0,0]
[52,null,{"$f":"C1163*$K$4","v":1495.66},1137.963,0,0,0]
[53,null,{"$f":"C1164*$K$4","v":1530.3485000000001},1165.4434999999999,0,0,0]
[54,null,{"$f":"C1165*$K$4","v":1565.037},1192.924,0,0,0]
[55,null,{"$f":"C1166*$K$4","v":1599.7255},1221.3054999999999,0,0,0]
[56,null,{"$f":"C1167*$K$4","v":1636.6665},1250.1375,0,0,0]
[57,null,{"$f":"C1168*$K$4","v":1674.058},1279.42,0,0,0]
[58,null,{"$f":"C1169*$K$4","v":1710.5484999999999},1308.7025000000001,0,0,0]
[59,null,{"$f":"C1170*$K$4","v":1748.8409999999999},1339.3364999999999,0,0,0]
[60,null,{"$f":"C1171*$K$4","v":1788.4850000000001},1370.421,0,0,0]
[61,null,{"$f":"C1172*$K$4","v":1992.1110000000001},1533.9525000000001,0,0,0]
[62,null,{"$f":"C1173*$K$4","v":2212.4054999999998},1713.2514999999999,0,0,0]
[63,null,{"$f":"C1174*$K$4","v":2448.9179999999997},1906.0655000000002,0,0,0]
[64,null,{"$f":"C1175*$K$4","v":2702.0990000000002},2113.7460000000001,0,0,0]
[65,null,{"$f":"C1176*$K$4","v":2971.498},2336.2929999999997,0,0,0]
[66,null,{"$f":"C1177*$K$4","v":3257.5654999999997},2574.1570000000002,0,0,0]
[67,null,{"$f":"C1178*$K$4","v":3560.752},2825.9865000000004,0,0,0]
[68,null,{"$f":"C1179*$K$4","v":3878.8050000000003},3092.232,0,0,0]
[69,null,{"$f":"C1180*$K$4","v":4213.5264999999999},3372.4429999999998,0,0,0]
[70,null,{"$f":"C1181*$K$4","v":4565.3670000000002},3668.8719999999998,0,0,0]
[71,null,{"$f":"C1182*$K$4","v":4932.9750000000004},3978.8160000000003,0,0,0]
[72,null,{"$f":"C1183*$K$4","v":5317.7020000000002},4303.1760000000004,0,0,0]
[73,null,{"$f":"C1184*$K$4","v":5717.7460000000001},4643.7539999999999,0,0,0]
[74,null,{"$f":"C1185*$K$4","v":6134.9089999999997},4996.9459999999999,0,0,0]
[75,null,{"$f":"C1186*$K$4","v":6567.8395},5366.3559999999998,0,0,0]
[76,null,{"$f":"C1187*$K$4","v":6567.8395},5366.3559999999998,0,0,0]
[77,null,{"$f":"C1188*$K$4","v":6567.8395},5366.3559999999998,0,0,0]
[78,null,{"$f":"C1189*$K$4","v":6567.8395},5366.3559999999998,0,0,0]
[79,null,{"$f":"C1190*$K$4","v":6567.8395},5366.3559999999998,0,0,0]
[80,null,{"$f":"C1191*$K$4","v":6567.8395},5366.3559999999998,0,0,0]
[81,null,{"$f":"C1192*$K$4","v":6567.8395},5366.3559999999998,0,0,0]
[82,null,{"$f":"C1193*$K$4","v":6567.8395},5366.3559999999998,0,0,0]
[83,null,{"$f":"C1194*$K$4","v":6567.8395},5366.3559999999998,0,0,0]
[84,"o más",{"$f":"C1195*$K$4","v":6567.8395},5366.3559999999998,0,0,0]
[1,"Hijo",{"$f":"C1196*$K$4","v":336.07300000000004},263.99299999999999,0,0,0]
[2,"Hijos",{"$f":"C1197*$K$4","v":570.7835},448.2475,0,0,0]
[3,"Hijos o más",{"$f":"C1198*$K$4","v":805.04350000000011},632.50199999999995,0,0,0]
[]
["BUPA GLOBAL ULTIMATE"]
["TARIFAS SEMESTRALES"]
["EDAD"]
[" "," ",0,1000,2000]
[18,null,{"$f":"C905*$K$4","v":6349.3469999999998},{"$f":"D905*$K$4","v":4096.8469999999998},3433.2604999999999,0,0]
[19,null,{"$f":"C906*$K$4","v":6433.14},4150.9070000000002,3473.8054999999999,0,0]
[20,null,{"$f":"C907*$K$4","v":6519.1855000000005},4205.8679999999995,3517.5040000000004,0,0]
[21,null,{"$f":"C908*$K$4","v":6607.9340000000002},4263.5320000000002,3562.5540000000001,0,0]
[22,null,{"$f":"C909*$K$4","v":6699.3855000000003},4322.5475000000006,3608.5050000000001,0,0]
[23,null,{"$f":"C910*$K$4","v":6793.9905000000008},4382.9144999999999,3656.2579999999998,0,0]
[24,null,{"$f":"C911*$K$4","v":6890.8480000000009},4445.9845000000005,3706.2635,0,0]
[25,null,{"$f":"C912*$K$4","v":6990.8590000000004},4510.4059999999999,3756.2690000000002,0,0]
[26,null,{"$f":"C913*$K$4","v":7135.0190000000002},4604.1100000000006,3830.1510000000003,0,0]
[27,null,{"$f":"C914*$K$4","v":7285.4859999999999},4700.5169999999998,3907.1865000000003,0,0]
[28,null,{"$f":"C915*$K$4","v":7440.9084999999995},4801.4290000000001,3986.9250000000002,0,0]
[29,null,{"$f":"C916*$K$4","v":7601.7370000000001},4904.143,4070.2675000000004,0,0]
[30,null,{"$f":"C917*$K$4","v":7767.0705000000007},5010.9115000000002,4156.7635,0,0]
[31,null,{"$f":"C918*$K$4","v":7938.7110000000002},5121.7345000000005,4245.0615000000007,0,0]
[32,null,{"$f":"C919*$K$4","v":8115.7575000000006},5235.7109999999993,4337.4140000000007,0,0]
[33,null,{"$f":"C920*$K$4","v":8298.6605},5353.2915000000003,4432.0190000000002,0,0]
[34,null,{"$f":"C921*$K$4","v":8485.6180000000004},5474.9264999999996,4531.1289999999999,0,0]
[35,null,{"$f":"C922*$K$4","v":8679.3330000000005},5599.2645000000002,4632.0409999999993,0,0]
[36,null,{"$f":"C923*$K$4","v":8877.1025000000009},5727.2065000000002,4736.5569999999998,0,0]
[37,null,{"$f":"C924*$K$4","v":9080.7285000000011},5859.2030000000004,4843.7759999999998,0,0]
[38,null,{"$f":"C925*$K$4","v":9290.2110000000011},5994.3530000000001,4953.6980000000003,0,0]
[39,null,{"$f":"C926*$K$4","v":9505.0994999999984},6132.6565000000001,5067.2240000000002,0,0]
[40,null,{"$f":"C927*$K$4","v":9725.3940000000002},6275.0145000000002,5183.9034999999994,0,0]
[41,null,{"$f":"C928*$K$4","v":9951.5450000000001},6420.0755000000008,5303.7365,0,0]
[42,null,{"$f":"C929*$K$4","v":10181.7505},6569.6414999999997,5425.3715000000002,0,0]
[43,null,{"$f":"C930*$K$4","v":10417.8125},6721.46,5551.9620000000004,0,0]
[44,null,{"$f":"C931*$K$4","v":10660.181500000001},6877.7834999999995,5680.3545000000004,0,0]
[45,null,{"$f":"C932*$K$4","v":10907.0555},7036.81,5812.3509999999997,0,0]
[46,null,{"$f":"C933*$K$4","v":11159.335499999999},7199.8909999999996,5946.6,0,0]
[47,null,{"$f":"C934*$K$4","v":11417.021500000001},7366.125500000001,6084.4530000000004,0,0]
[48,null,{"$f":"C935*$K$4","v":11680.564},7535.9639999999999,6225.4594999999999,0,0]
[49,null,{"$f":"C936*$K$4","v":11949.512500000001},7708.9560000000001,6369.1689999999999,0,0]
[50,null,{"$f":"C937*$K$4","v":12223.867},7886.0025000000005,6516.9330000000009,0,0]
[51,null,{"$f":"C938*$K$4","v":12503.177},8066.2025000000003,6666.4989999999998,0,0]
[52,null,{"$f":"C939*$K$4","v":12787.893},8250.4570000000003,6819.2184999999999,0,0]
[53,null,{"$f":"C940*$K$4","v":13078.916000000001},8437.8649999999998,6975.5420000000004,0,0]
[54,null,{"$f":"C941*$K$4","v":13374.444},8629.3275000000012,7134.5684999999994,0,0]
[55,null,{"$f":"C942*$K$4","v":13675.828500000001},8823.0424999999996,7297.1989999999996,0,0]
[56,null,{"$f":"C943*$K$4","v":13982.168500000002},9020.8119999999999,7462.0820000000003,0,0]
[57,null,{"$f":"C944*$K$4","v":14294.815500000001},9222.1854999999996,7630.1184999999996,0,0]
[58,null,{"$f":"C945*$K$4","v":14611.517},9427.1630000000005,7801.3085000000001,0,0]
[59,null,{"$f":"C946*$K$4","v":14934.5255},9634.8435000000009,7976.5530000000008,0,0]
[60,null,{"$f":"C947*$K$4","v":15262.4895},9847.0290000000005,8153.1490000000003,0,0]
[61,null,{"$f":"C948*$K$4","v":16985.201499999999},10957.511500000001,9086.1345000000001,0,0]
[62,null,{"$f":"C949*$K$4","v":18841.261499999997},12156.291999999999,10095.254499999999,0,0]
[63,null,{"$f":"C950*$K$4","v":20833.823},13441.118,11180.058500000001,0,0]
[64,null,{"$f":"C951*$K$4","v":22961.083999999999},14814.242,12341.4475,0,0]
[65,null,{"$f":"C952*$K$4","v":25224.396000000001},16272.961000000001,13578.971000000001,0,0]
[66,null,{"$f":"C953*$K$4","v":27621.957000000002},17820.878999999997,14892.629000000001,0,0]
[67,null,{"$f":"C954*$K$4","v":30154.217500000002},19454.842500000002,16281.971000000001,0,0]
[68,null,{"$f":"C955*$K$4","v":32822.078500000003},21175.752500000002,17747.898000000001,0,0]
[69,null,{"$f":"C956*$K$4","v":35624.639000000003},22983.609,19289.959500000001,0,0]
[70,null,{"$f":"C957*$K$4","v":38562.800000000003},24878.862500000003,20908.606,0,0]
[71,null,{"$f":"C958*$K$4","v":41636.110999999997},26862.414000000001,22602.486000000001,0,0]
[72,null,{"$f":"C959*$K$4","v":44844.572},28932.461499999998,24372.951000000001,0,0]
[73,null,{"$f":"C960*$K$4","v":48187.281999999999},31089.4555,26220.451499999999,0,0]
[74,null,{"$f":"C961*$K$4","v":51666.042999999998},33333.396000000001,28143.1855,0,0]
[75,null,{"$f":"C962*$K$4","v":55279.503499999999},35664.733500000002,30142.054,0,0]
[76,null,{"$f":"C963*$K$4","v":55279.503499999999},35664.733500000002,30142.054,0,0]
[77,null,{"$f":"C964*$K$4","v":55279.503499999999},35664.733500000002,30142.054,0,0]
[78,null,{"$f":"C965*$K$4","v":55279.503499999999},35664.733500000002,30142.054,0,0]
[79,null,{"$f":"C966*$K$4","v":55279.503499999999},35664.733500000002,30142.054,0,0]
[80,null,{"$f":"C967*$K$4","v":55279.503499999999},35664.733500000002,30142.054,0,0]
[81,null,{"$f":"C968*$K$4","v":55279.503499999999},35664.733500000002,30142.054,0,0]
[82,null,{"$f":"C969*$K$4","v":55279.503499999999},35664.733500000002,30142.054,0,0]
[83,null,{"$f":"C970*$K$4","v":55279.503499999999},35664.733500000002,30142.054,0,0]
[84,"o más",{"$f":"C971*$K$4","v":55279.503499999999},35664.733500000002,30142.054,0,0]
[1,"Hijo",{"$f":"C972*$K$4","v":2857.0709999999999},1843.8965000000001,1545.2150000000001,0,0]
[2,"Hijos",{"$f":"C973*$K$4","v":4858.192},3134.1285000000003,2625.9645,0,0]
[3,"Hijos o más",{"$f":"C974*$K$4","v":6857.0605000000005},4424.8109999999997,3707.6150000000002,0,0]