{"text_format":"1","workbook":"xlsx","n_sheets":6,"sheets":["INGRESO DE DATOS","Essential 1000","Resumen tarifas","Tablas","Tablas Guayaquil","Tablas Resto de Ecuador"],"not_rendered":{"charts":0,"images":3,"macros":1,"external_links":0,"defined_names":2,"comments":1,"pivot_tables":0},"unopened":[],"bounds":{"document_bytes":16777216,"sheet_cells":100000,"rows_first":2000,"rows_last":500,"rows_between":2000,"halvings":0,"cell_chars":16384,"cell_head_chars":4096},"cells_cut":0,"cells_raw":0,"read":"whole","date_system":"1900"}

{"sheet":"INGRESO DE DATOS","index":0,"n_rows":29,"n_cols":12,"rows_kept":29,"cut":false,"hidden":false,"merged":[[25,3,25,9],[7,0,7,9],[14,3,14,9],[8,0,8,9],[10,0,10,9]]}
[]
[null,null,null,null,null,null,null,null," "," "," "]
[]
[]
[]
[null,null,null,null,null,null,null,null," "," "," "," "]
[]
[]
["\t\t\t\t\t\t\t"]
[]
[]
[]
["INGRESE LOS DATOS DEL PROPUESTO ASEGURADO:"]
[]
[null,null,"Nombre del Asegurado principal:","NOMBRE EL AGENTE"]
[]
[null,null,null,null,null,"Número de adultos en la póliza:",1,null,"Número de hijos en la póliza:",0]
[]
[null,null,null,null,null," Edad del titular:",40,null,"Edad de cónyuge:",46]
[]
[null,null,null,null,null,"Zona de cotización:","Resto de Ecuador"]
[]
[]
["INGRESE EL NOMBRE DE LA AGENCIA ASESORA:"]
[]
[null,"Nombre de la Agencia:",null,"NOMBRE DE LA AGENCIA"]
[]
[]
["ESCOJA EL PRODUCTO PARA VISUALIZAR LA COTIZACION RESPECTIVA:"]

{"sheet":"Essential 1000","index":1,"n_rows":81,"n_cols":14,"rows_kept":81,"cut":false,"hidden":false,"merged":[[68,5,68,13],[70,5,72,13],[79,0,79,1],[80,0,80,1],[48,2,48,3],[49,2,50,3],[61,1,62,1],[65,1,66,1],[70,0,70,1],[46,1,47,1],[46,2,46,3],[47,2,47,3],[33,0,34,0],[33,1,34,1],[33,2,33,3],[34,2,34,3],[35,0,36,0],[35,1,36,1],[35,2,35,3],[36,2,36,3],[37,2,37,3],[38,2,41,3],[42,2,43,3],[44,2,44,3],[45,2,45,3],[27,1,28,1],[27,2,27,3],[28,2,28,3],[29,0,32,0],[29,1,32,1],[29,2,29,3],[30,2,30,3],[31,2,31,3],[32,2,32,3],[18,2,18,3],[18,5,18,6],[19,2,19,3],[21,2,21,3],[22,2,22,3],[12,7,12,11],[14,2,14,3],[14,7,14,11],[15,2,17,3],[17,5,17,6],[12,0,12,3],[13,0,13,3],[26,5,26,13],[37,5,37,13],[47,5,47,13],[58,5,58,13],[23,2,23,3],[24,2,24,3],[25,2,25,3],[26,2,26,3]]}
[]
[]
[null,null,null,null,null,null,null,null,null," "," "," "]
[]
[]
[]
[null,null,null,null,null,null,null,null,null," "," "," "]
[]
[]
[]
[null,null,"Cotización de Seguro Médico ",null,null,null,null,"Cotización de Seguro Médico Internacional: BUPA ESSENTIAL 1000"]
[]
["RESUMEN DE BENEFICIOS",null,null,null,null,null,"Nombre del asegurado :",{"$f":"+'INGRESO DE DATOS'!$D$15","v":"NOMBRE EL AGENTE"}]
[]
[null,null,null,null,null,null,"Broker / Agente :",{"$f":"+'INGRESO DE DATOS'!$D$26","v":"NOMBRE DE LA AGENCIA"}]
[]
[null,null,null,null,null,null,null,null,"Número de adultos en la póliza:",{"$f":"+'INGRESO DE DATOS'!$G$17","v":1},"Edad de Titular :",{"$f":"+'INGRESO DE DATOS'!$G$19","v":40}]
[]
[null,null,null,null,null,null,null,null,"Número hijos (menos 24 años):",{"$f":"+'INGRESO DE DATOS'!$J$17","v":0},"Edad de Cónyuge:",{"$f":"+'INGRESO DE DATOS'!$J$19","v":46}]
[null,null,null,null,null,null,null,null,null," "," "," "]
[null,null,null,null,null,null,null,null,"Fecha cotización:",{"$f":"+TODAY()","v":"2023-05-16"},"Zona de cotización:",{"$f":"'INGRESO DE DATOS'!G21","v":"Resto de Ecuador"}]
[null,null,null,null,null,null,null,null," "]
[null,null,null,null,null,"Deducibles",null,"PLAN 1","PLAN 2","PLAN 3","PLAN 4","PLAN 5","PLAN 6","PLAN 7"]
[null,null,null,null,null,"Dentro del pais de residencia",null,250,500,1000,2000,5000,10000,20000]
[null,null,null,null,null,"Fuera del pais de residencia",null,500,1000,2000,4000,5000,10000,20000]
[]
[null,null,null,null,null,"Tarifas Mensuales"]
[null,null,null,null,null,"Prima de Titular :",null,{"$f":"VLOOKUP($L$17,Tablas!$A$991:$I$1053,3,TRUE)+(60/12)+50","v":394.94641666666666},{"$f":"VLOOKUP($L$17,Tablas!$A$991:$I$1053,4,TRUE)+(60/12)+50","v":350.47058333333331},{"$f":"VLOOKUP($L$17,Tablas!$A$991:$I$1053,5,TRUE)+(60/12)+50","v":312.79199999999997},{"$f":"VLOOKUP($L$17,Tablas!$A$991:$I$1053,6,TRUE)+(60/12)+50","v":248.76358333333332},{"$f":"VLOOKUP($L$17,Tablas!$A$991:$I$1053,7,TRUE)+(60/12)+50","v":175.58824999999999},{"$f":"VLOOKUP($L$17,Tablas!$A$991:$I$1053,8,TRUE)+(60/12)+50","v":132.95858333333331},{"$f":"VLOOKUP($L$17,Tablas!$A$991:$I$1053,9,TRUE)+(60/12)+50","v":107.02833333333334}]
[null,null,null,null,null,"Prima de Cónyuge",null,{"$f":"IF($J$17=1,0,(VLOOKUP($L$19,Tablas!$A$991:$I$1053,3,TRUE)))","v":0},{"$f":"IF($J$17=1,0,(VLOOKUP($L$19,Tablas!$A$991:$I$1053,4,TRUE)))","v":0},{"$f":"IF($J$17=1,0,(VLOOKUP($L$19,Tablas!$A$991:$I$1053,5,TRUE)))","v":0},{"$f":"IF($J$17=1,0,(VLOOKUP($L$19,Tablas!$A$991:$I$1053,6,TRUE)))","v":0},{"$f":"IF($J$17=1,0,(VLOOKUP($L$19,Tablas!$A$991:$I$1053,7,TRUE)))","v":0},{"$f":"IF($J$17=1,0,(VLOOKUP($L$19,Tablas!$A$991:$I$1053,8,TRUE)))","v":0},{"$f":"IF($J$17=1,0,(VLOOKUP($L$19,Tablas!$A$991:$I$1053,9,TRUE)))","v":0}]
[null,null,null,null,null,"Primas Hijos :",null,{"$f":"IF($J$19=0,0,(VLOOKUP($J$19,Tablas!$A$1054:$I$1056,3,TRUE)))","v":0},{"$f":"IF($J$19=0,0,(VLOOKUP($J$19,Tablas!$A$1054:$I$1056,4,TRUE)))","v":0},{"$f":"IF($J$19=0,0,(VLOOKUP($J$19,Tablas!$A$1054:$I$1056,5,TRUE)))","v":0},{"$f":"IF($J$19=0,0,(VLOOKUP($J$19,Tablas!$A$1054:$I$1056,6,TRUE)))","v":0},{"$f":"IF($J$19=0,0,(VLOOKUP($J$19,Tablas!$A$1054:$I$1056,7,TRUE)))","v":0},{"$f":"IF($J$19=0,0,(VLOOKUP($J$19,Tablas!$A$1054:$I$1056,8,TRUE)))","v":0},{"$f":"IF($J$19=0,0,(VLOOKUP($J$19,Tablas!$A$1054:$I$1056,9,TRUE)))","v":0}]
[null,null,null,null,null,"TOTAL PRIMA NETA :",null,{"$f":"SUM(H28:H30)","v":394.94641666666666},{"$f":"SUM(I28:I30)","v":350.47058333333331},{"$f":"SUM(J28:J30)","v":312.79199999999997},{"$f":"SUM(K28:K30)","v":248.76358333333332},{"$f":"SUM(L28:L30)","v":175.58824999999999},{"$f":"SUM(M28:M30)","v":132.95858333333331},107.02833333333334]
[null,null,null,null,null,"Costo Administrativo Anual :",null,0,0,0,0,0,0,0]
[null,null,null,null,null,"Contrib. 3.5% Super. Bancos :",null,{"$f":"+H31*3.5%","v":13.823124583333335},{"$f":"+I31*3.5%","v":12.266470416666667},10.94772,8.7067254166666661,6.1455887499999999,4.6535504166666666,3.7459916666666673]
[null,null,null,null,null,"Contrib 0.5% Seg.Soc.Campes.:",null,{"$f":"+H31*0.5%","v":1.9747320833333333},{"$f":"+I31*0.5%","v":1.7523529166666665},1.5639599999999998,1.2438179166666665,0.87794125000000001,0.66479291666666651,0.53514166666666674]
[null,null,null,null,null,"TOTAL  Primer  Cuota :",null,{"$f":"SUM(H31:H34)","v":410.7442733333333},{"$f":"SUM(I31:I34)","v":364.48940666666664},{"$f":"SUM(J31:J34)","v":325.30367999999999},{"$f":"SUM(K31:K34)","v":258.71412666666663},{"$f":"SUM(L31:L34)","v":182.61177999999998},{"$f":"SUM(M31:M34)","v":138.27692666666664},111.30946666666667]
[null,null,null,null,null,"Valor Cuota Mensual 2 a 12 :",null,{"$f":"(H31 + H33 + H34)-52","v":358.7442733333333},{"$f":"(I31 + I33 + I34)-52","v":312.48940666666664},{"$f":"(J31 + J33 + J34)-52","v":273.30367999999999},{"$f":"(K31 + K33 + K34)-52","v":206.71412666666663},{"$f":"(L31 + L33 + L34)-52","v":130.61177999999998},{"$f":"(M31 + M33 + M34)-52","v":86.27692666666664},59.309466666666665]
[]
[null,null,null,null,null,"Tarifas Anuales"]
[null,null,null,null,null,"Prima de Titular :",null,{"$f":"VLOOKUP($L$17,Tablas!$A$920:$Q$982,3,TRUE)+(60)+50","v":3958.45},{"$f":"VLOOKUP($L$17,Tablas!$A$920:$Q$982,4,TRUE)+(60)+50","v":3454.95},{"$f":"VLOOKUP($L$17,Tablas!$A$920:$Q$982,5,TRUE)+(60)+50","v":3028.3999999999996},{"$f":"VLOOKUP($L$17,Tablas!$A$920:$Q$982,6,TRUE)+(60)+50","v":2303.5499999999997},{"$f":"VLOOKUP($L$17,Tablas!$A$920:$Q$982,7,TRUE)+(60)+50","v":1475.1499999999999},{"$f":"VLOOKUP($L$17,Tablas!$A$920:$Q$982,8,TRUE)+(60)+50","v":992.55},{"$f":"VLOOKUP($L$17,Tablas!$A$920:$Q$982,9,TRUE)+(60)+50","v":699}]
[null,null,null,null,null,"Prima de Cónyuge",null,{"$f":"IF($J$17=1,0,(VLOOKUP($L$19,Tablas!$A$920:$Q$982,3,TRUE)))","v":0},{"$f":"IF($J$17=1,0,(VLOOKUP($L$19,Tablas!$A$920:$Q$982,4,TRUE)))","v":0},{"$f":"IF($J$17=1,0,(VLOOKUP($L$19,Tablas!$A$920:$Q$982,5,TRUE)))","v":0},{"$f":"IF($J$17=1,0,(VLOOKUP($L$19,Tablas!$A$920:$Q$982,6,TRUE)))","v":0},{"$f":"IF($J$17=1,0,(VLOOKUP($L$19,Tablas!$A$920:$Q$982,7,TRUE)))","v":0},{"$f":"IF($J$17=1,0,(VLOOKUP($L$19,Tablas!$A$920:$Q$982,8,TRUE)))","v":0},{"$f":"IF($J$17=1,0,(VLOOKUP($L$19,Tablas!$A$920:$Q$982,9,TRUE)))","v":0}]
[null,null,null,null,null,"Primas Hijos :",null,{"$f":"IF($J$19=0,0,(VLOOKUP($J$19,Tablas!$A$983:$Q$985,3,TRUE)))","v":0},{"$f":"IF($J$19=0,0,(VLOOKUP($J$19,Tablas!$A$983:$Q$985,4,TRUE)))","v":0},{"$f":"IF($J$19=0,0,(VLOOKUP($J$19,Tablas!$A$983:$Q$985,5,TRUE)))","v":0},{"$f":"IF($J$19=0,0,(VLOOKUP($J$19,Tablas!$A$983:$Q$985,6,TRUE)))","v":0},{"$f":"IF($J$19=0,0,(VLOOKUP($J$19,Tablas!$A$983:$Q$985,7,TRUE)))","v":0},{"$f":"IF($J$19=0,0,(VLOOKUP($J$19,Tablas!$A$983:$Q$985,8,TRUE)))","v":0},{"$f":"IF($J$19=0,0,(VLOOKUP($J$19,Tablas!$A$983:$Q$985,9,TRUE)))","v":0}]
[null,null,null,null,null,"TOTAL PRIMA NETA :",null,{"$f":"SUM(H39:H41)","v":3958.45},{"$f":"SUM(I39:I41)","v":3454.95},3028.3999999999996,2303.5499999999997,1475.1499999999999,992.55,699]
[null,null,null,null,null,"Costo Administrativo Anual :",null,0,0,0,0,0,"-","-"]
[null,null,null,null,null,"Contrib. 3.5% Super. Bancos :",null,{"$f":"+H42*3.5%","v":138.54575},{"$f":"+I42*3.5%","v":120.92325000000001},105.994,80.624250000000004,51.630249999999997,34.739249999999998,24.465000000000003]
[null,null,null,null,null,"Contrib 0.5% Seg.Soc.Campes.:",null,{"$f":"+H42*0.5%","v":19.792249999999999},{"$f":"+I42*0.5%","v":17.274750000000001},15.141999999999998,11.517749999999999,7.3757499999999991,4.9627499999999998,3.4950000000000001]
[null,null,null,null,null,"GRAN TOTAL ANUAL :",null,{"$f":"SUM(H42:H45)","v":4116.7880000000005},{"$f":"SUM(I42:I45)","v":3593.1479999999997},{"$f":"SUM(J42:J45)","v":3149.5359999999996},{"$f":"SUM(K42:K45)","v":2395.6919999999996},{"$f":"SUM(L42:L45)","v":1534.1559999999997},{"$f":"SUM(M42:M45)","v":1032.252},726.96]
[]
[null,null,null,null,null,"Tarifas Semestrales"]
[null,null,null,null,null,"Prima de Titular :",null,{"$f":"VLOOKUP($L$17,Tablas!$A$1133:$I$1195,3,TRUE)+(60/2)+50","v":2061.9517500000002},{"$f":"VLOOKUP($L$17,Tablas!$A$1133:$I$1195,4,TRUE)+(60/2)+50","v":1802.6492499999999},{"$f":"VLOOKUP($L$17,Tablas!$A$1133:$I$1195,5,TRUE)+(60/2)+50","v":1582.9759999999999},{"$f":"VLOOKUP($L$17,Tablas!$A$1133:$I$1195,6,TRUE)+(60/2)+50","v":1209.6782499999999},{"$f":"VLOOKUP($L$17,Tablas!$A$1133:$I$1195,7,TRUE)+(60/2)+50","v":783.05224999999996},{"$f":"VLOOKUP($L$17,Tablas!$A$1133:$I$1195,8,TRUE)+(60/2)+50","v":534.51324999999997},{"$f":"VLOOKUP($L$17,Tablas!$A$1133:$I$1195,9,TRUE)+(60/2)+50","v":383.33499999999998}]
[null,null,null,null,null,"Prima de Cónyuge",null,{"$f":"IF($J$17=1,0,(VLOOKUP($L$19,Tablas!$A$1133:$I$1195,3,TRUE)))","v":0},{"$f":"IF($J$17=1,0,(VLOOKUP($L$19,Tablas!$A$1133:$I$1195,4,TRUE)))","v":0},{"$f":"IF($J$17=1,0,(VLOOKUP($L$19,Tablas!$A$1133:$I$1195,5,TRUE)))","v":0},{"$f":"IF($J$17=1,0,(VLOOKUP($L$19,Tablas!$A$1133:$I$1195,6,TRUE)))","v":0},{"$f":"IF($J$17=1,0,(VLOOKUP($L$19,Tablas!$A$1133:$I$1195,7,TRUE)))","v":0},{"$f":"IF($J$17=1,0,(VLOOKUP($L$19,Tablas!$A$1133:$I$1195,8,TRUE)))","v":0},{"$f":"IF($J$17=1,0,(VLOOKUP($L$19,Tablas!$A$1133:$I$1195,9,TRUE)))","v":0}]
[null,null,null,null,null,"Primas Hijos :",null,{"$f":"IF($J$19=0,0,(VLOOKUP($J$19,Tablas!$A$1196:$I$1198,3,TRUE)))","v":0},{"$f":"IF($J$19=0,0,(VLOOKUP($J$19,Tablas!$A$1196:$I$1198,4,TRUE)))","v":0},{"$f":"IF($J$19=0,0,(VLOOKUP($J$19,Tablas!$A$1196:$I$1198,5,TRUE)))","v":0},{"$f":"IF($J$19=0,0,(VLOOKUP($J$19,Tablas!$A$1196:$I$1198,6,TRUE)))","v":0},{"$f":"IF($J$19=0,0,(VLOOKUP($J$19,Tablas!$A$1196:$I$1198,7,TRUE)))","v":0},{"$f":"IF($J$19=0,0,(VLOOKUP($J$19,Tablas!$A$1196:$I$1198,8,TRUE)))","v":0},{"$f":"IF($J$19=0,0,(VLOOKUP($J$19,Tablas!$A$1196:$I$1198,9,TRUE)))","v":0}]
[null,null,null,null,null,"TOTAL PRIMA NETA :",null,{"$f":"SUM(H49:H51)","v":2061.9517500000002},{"$f":"SUM(I49:I51)","v":1802.6492499999999},{"$f":"SUM(J49:J51)","v":1582.9759999999999},{"$f":"SUM(K49:K51)","v":1209.6782499999999},{"$f":"SUM(L49:L51)","v":783.05224999999996},{"$f":"SUM(M49:M51)","v":534.51324999999997},383.33499999999998]
[null,null,null,null,null,"Costo Administrativo Anual :",null,0,0,0,0,0,"-","-"]
[null,null,null,null,null,"Contrib. 3.5% Super. Bancos :",null,{"$f":"+H52*3.5%","v":72.168311250000016},{"$f":"+I52*3.5%","v":63.092723750000005},55.404160000000005,42.338738750000005,27.406828750000003,18.707963750000001,13.416725000000001]
[null,null,null,null,null,"Contrib 0.5% Seg.Soc.Campes.:",null,{"$f":"+H52*0.5%","v":10.30975875},{"$f":"+I52*0.5%","v":9.0132462499999999},7.9148799999999992,6.0483912499999999,3.9152612499999999,2.67256625,1.9166749999999999]
[null,null,null,null,null,"TOTAL  Primer  Cuota :",null,{"$f":"SUM(H52:H55)","v":2144.4298200000003},{"$f":"SUM(I52:I55)","v":1874.75522},{"$f":"SUM(J52:J55)","v":1646.29504},{"$f":"SUM(K52:K55)","v":1258.0653799999998},{"$f":"SUM(L52:L55)","v":814.37433999999996},{"$f":"SUM(M52:M55)","v":555.89377999999999},398.66839999999996]
[null,null,null,null,null,"Valor Segunda Cuota :",null,{"$f":"(H52 + H54 + H55)-52","v":2092.4298200000003},{"$f":"(I52 + I54 + I55)-52","v":1822.75522},{"$f":"(J52 + J54 + J55)-52","v":1594.29504},{"$f":"(K52 + K54 + K55)-52","v":1206.0653799999998},{"$f":"(L52 + L54 + L55)-52","v":762.37433999999996},{"$f":"(M52 + M54 + M55)-52","v":503.89377999999999},346.66839999999996]
[]
[null,null,null,null,null,"Tarifas Trimestrales"]
[null,null,null,null,null,"Prima de Titular :",null,{"$f":"VLOOKUP($L$17,Tablas!$A$1062:$I$1124,3,TRUE)+(60/4)+50","v":1070.4075625},{"$f":"VLOOKUP($L$17,Tablas!$A$1062:$I$1124,4,TRUE)+(60/4)+50","v":938.86818749999986},{"$f":"VLOOKUP($L$17,Tablas!$A$1062:$I$1124,5,TRUE)+(60/4)+50","v":827.4319999999999},{"$f":"VLOOKUP($L$17,Tablas!$A$1062:$I$1124,6,TRUE)+(60/4)+50","v":638.06493749999993},{"$f":"VLOOKUP($L$17,Tablas!$A$1062:$I$1124,7,TRUE)+(60/4)+50","v":421.64543749999996},{"$f":"VLOOKUP($L$17,Tablas!$A$1062:$I$1124,8,TRUE)+(60/4)+50","v":295.56618749999996},{"$f":"VLOOKUP($L$17,Tablas!$A$1062:$I$1124,9,TRUE)+(60/4)+50","v":218.87625}]
[null,null,null,null,null,"Prima de Cónyuge",null,{"$f":"IF($J$17=1,0,(VLOOKUP($L$19,Tablas!$A$1062:$I$1124,3,TRUE)))","v":0},{"$f":"IF($J$17=1,0,(VLOOKUP($L$19,Tablas!$A$1062:$I$1124,4,TRUE)))","v":0},{"$f":"IF($J$17=1,0,(VLOOKUP($L$19,Tablas!$A$1062:$I$1124,5,TRUE)))","v":0},{"$f":"IF($J$17=1,0,(VLOOKUP($L$19,Tablas!$A$1062:$I$1124,6,TRUE)))","v":0},{"$f":"IF($J$17=1,0,(VLOOKUP($L$19,Tablas!$A$1062:$I$1124,7,TRUE)))","v":0},{"$f":"IF($J$17=1,0,(VLOOKUP($L$19,Tablas!$A$1062:$I$1124,8,TRUE)))","v":0},{"$f":"IF($J$17=1,0,(VLOOKUP($L$19,Tablas!$A$1062:$I$1124,9,TRUE)))","v":0}]
[null,null,null,null,null,"Primas Hijos :",null,{"$f":"IF($J$19=0,0,(VLOOKUP($J$19,Tablas!$A$1125:$I$1127,3,TRUE)))","v":0},{"$f":"IF($J$19=0,0,(VLOOKUP($J$19,Tablas!$A$1125:$I$1127,4,TRUE)))","v":0},{"$f":"IF($J$19=0,0,(VLOOKUP($J$19,Tablas!$A$1125:$I$1127,5,TRUE)))","v":0},{"$f":"IF($J$19=0,0,(VLOOKUP($J$19,Tablas!$A$1125:$I$1127,6,TRUE)))","v":0},{"$f":"IF($J$19=0,0,(VLOOKUP($J$19,Tablas!$A$1125:$I$1127,7,TRUE)))","v":0},{"$f":"IF($J$19=0,0,(VLOOKUP($J$19,Tablas!$A$1125:$I$1127,8,TRUE)))","v":0},{"$f":"IF($J$19=0,0,(VLOOKUP($J$19,Tablas!$A$1125:$I$1127,9,TRUE)))","v":0}]
[null,null,null,null,null,"TOTAL PRIMA NETA :",null,{"$f":"SUM(H60:H62)","v":1070.4075625},{"$f":"SUM(I60:I62)","v":938.86818749999986},{"$f":"SUM(J60:J62)","v":827.4319999999999},{"$f":"SUM(K60:K62)","v":638.06493749999993},{"$f":"SUM(L60:L62)","v":421.64543749999996},{"$f":"SUM(M60:M62)","v":295.56618749999996},218.87625]
[null,null,null,null,null,"Costo Administrativo Anual :",null,0,0,0,0,0,"-","-"]
[null,null,null,null,null,"Contrib. 3.5% Super. Bancos :",null,{"$f":"+H63*3.5%","v":37.464264687500005},{"$f":"+I63*3.5%","v":32.860386562499997},28.96012,22.332272812500001,14.7575903125,10.3448165625,7.660668750000001]
[null,null,null,null,null,"Contrib 0.5% Seg.Soc.Campes.:",null,{"$f":"+H63*0.5%","v":5.3520378124999999},{"$f":"+I63*0.5%","v":4.6943409374999998},4.1371599999999997,3.1903246874999995,2.1082271874999998,1.4778309374999998,1.0943812500000001]
[null,null,null,null,null,"TOTAL  Primer  Cuota :",null,{"$f":"SUM(H63:H66)","v":1113.2238649999999},{"$f":"SUM(I63:I66)","v":976.42291499999988},{"$f":"SUM(J63:J66)","v":860.52927999999986},{"$f":"SUM(K63:K66)","v":663.587535},{"$f":"SUM(L63:L66)","v":438.51125499999995},{"$f":"SUM(M63:M66)","v":307.38883499999997},227.63130000000001]
[null,null,null,null,null,"Valor Cuota Trimestral 2 a 4:",null,{"$f":"(H63 + H65 + H66)-52","v":1061.2238649999999},{"$f":"(I63 + I65 + I66)-52","v":924.42291499999988},{"$f":"(J63 + J65 + J66)-52","v":808.52927999999986},{"$f":"(K63 + K65 + K66)-52","v":611.587535},{"$f":"(L63 + L65 + L66)-52","v":386.51125499999995},{"$f":"(M63 + M65 + M66)-52","v":255.38883499999997},175.63130000000001]
[null,null,null,null,null,"Tarifas en US $ -  Válidas desde el 1ro. de enero de 2023"]
[]
[null,null,null,null,null,"Este presupuesto solamente tiene carácter informativo y en ningún momento expresa compromiso legal para suministrarle cobertura de seguro. La emisión de una póliza de seguro Bupa está sujeta a todas las evaluaciones de riesgo por parte de Bupa y a la recepción de todos los pagos de prima requeridos."]
[]
[]
[]
[]
[]
[]
[]
[]
["RED DE PROVEEDORES"]
["La Red para el producto Essential 1000 ofrece cobertura en Latinoamérica, el Caribe y los Estados Unidos de América. Sin embargo, ni la Compañía, ni USA Medical Services, ni ninguna de sus filiales o subsidiarias pertinentes relacionadas participarán en transacciones con cualquier parte o país donde dichas transacciones estén prohibidas por las leyes de los Estados Unidos de América. Por favor comuníquese con la Compañía para obtener más información sobre esta restricción."]

{"sheet":"Resumen tarifas","index":2,"n_rows":160,"n_cols":9,"rows_kept":160,"cut":false,"hidden":false,"merged":[[122,2,122,8],[27,0,27,1],[30,0,30,1],[30,2,30,8],[31,0,31,1],[32,0,32,1],[60,2,60,8],[61,0,61,1],[81,0,81,1],[75,0,75,1],[76,0,76,1],[74,2,74,6],[68,0,68,1],[84,2,84,8],[85,0,85,1],[94,0,94,1],[103,0,103,1],[100,2,100,6],[102,0,102,1],[114,2,114,8],[116,0,116,1],[92,2,92,8],[150,0,150,1],[122,0,122,1],[123,0,123,1],[131,0,131,1],[104,0,104,1],[119,0,119,1],[111,0,111,1],[114,0,114,1],[97,0,97,1],[100,0,100,1],[92,0,92,1],[93,0,93,1],[115,0,115,1],[149,0,149,7],[101,0,101,1],[151,0,151,1],[154,0,154,7],[156,0,157,7],[159,3,159,6],[124,0,124,1],[127,0,127,1],[130,0,130,1],[130,2,130,6],[133,0,133,1],[147,0,147,7],[148,0,148,1],[132,0,132,1],[137,0,137,7],[138,0,139,7],[141,3,141,6],[134,0,134,1],[89,0,89,1],[39,0,39,1],[47,0,47,1],[49,0,49,1],[84,0,84,1],[57,0,57,1],[60,0,60,1],[86,0,86,1],[71,0,71,1],[74,0,74,1],[38,2,38,8],[67,2,67,8],[11,2,11,7],[46,0,46,1],[46,2,46,6],[64,0,64,1],[67,0,67,1],[50,0,50,1],[48,0,48,1],[14,2,14,7],[16,2,16,7],[19,0,19,1],[35,0,35,1],[38,0,38,1],[43,0,43,1],[40,0,40,1]]}
[]
[null,null,null,null," "," "," "]
[]
[]
[]
[null,null,null,null," "," "," "," "]
[]
[]
[]
[]
[]
[null,null,"Cotización de Seguro Médico: Productos Essential"]
[]
[]
[null,"Nombre del asegurado :",{"$f":"+'INGRESO DE DATOS'!$D$15","v":"NOMBRE EL AGENTE"}]
[]
[null,"Broker / Agente :",{"$f":"+'INGRESO DE DATOS'!$D$26","v":"NOMBRE DE LA AGENCIA"}]
[]
[null,null,null,"Número de adultos en la póliza:",{"$f":"+'INGRESO DE DATOS'!$G$17","v":1},null,"Edad de Titular :",{"$f":"+'INGRESO DE DATOS'!$G$19","v":40}]
[]
[null,null,null,"Número hijos (menos 24 años):",{"$f":"+'INGRESO DE DATOS'!$J$17","v":0},null,"Edad de Cónyuge:",{"$f":"+'INGRESO DE DATOS'!$J$19","v":46}]
[null,null,null,null," "," "," "]
[null,null,null,"Fecha cotización:",{"$f":"+TODAY()","v":"2023-05-16"},null,"Zona de cotización:",{"$f":"'INGRESO DE DATOS'!G21","v":"Resto de Ecuador"}]
[]
["Tarifas Mensuales"]
[]
["Essential 1000"]
["Deducibles",null,"PLAN 1","PLAN 2","PLAN 3","PLAN 4","PLAN 5","PLAN 6","PLAN 7"]
["Dentro del pais de residencia",null,250,500,1000,2000,5000,10000,20000]
["Fuera del pais de residencia",null,500,1000,2000,4000,5000,10000,20000]
[null,null,"Tarifas Mensuales"]
["Primera Cuota",null,{"$f":"+'Essential 1000'!H35","v":410.7442733333333},{"$f":"+'Essential 1000'!I35","v":364.48940666666664},{"$f":"+'Essential 1000'!J35","v":325.30367999999999},{"$f":"+'Essential 1000'!K35","v":258.71412666666663},{"$f":"+'Essential 1000'!L35","v":182.61177999999998},{"$f":"+'Essential 1000'!M35","v":138.27692666666664},{"$f":"+'Essential 1000'!N35","v":111.30946666666667}]
["Valor cuota mensual 2 a 12",null,{"$f":"+'Essential 1000'!H36","v":358.7442733333333},{"$f":"+'Essential 1000'!I36","v":312.48940666666664},{"$f":"+'Essential 1000'!J36","v":273.30367999999999},{"$f":"+'Essential 1000'!K36","v":206.71412666666663},{"$f":"+'Essential 1000'!L36","v":130.61177999999998},{"$f":"+'Essential 1000'!M36","v":86.27692666666664},{"$f":"+'Essential 1000'!N36","v":59.309466666666665}]
[]
["Essential 500"]
["Deducibles",null,"PLAN 1","PLAN 2","PLAN 3","PLAN 4","PLAN 5","PLAN 6","PLAN 7"]
["Dentro del pais de residencia",null,250,500,1000,2000,5000,10000,20000]
["Fuera del pais de residencia",null,500,1000,2000,4000,5000,10000,20000]
[null,null,"Tarifas Mensuales"]
["Primera Cuota",null,{"$f":"+#REF!","v":{"$error":"#REF!"}},{"$f":"+#REF!","v":{"$error":"#REF!"}},{"$f":"+#REF!","v":{"$error":"#REF!"}},{"$f":"+#REF!","v":{"$error":"#REF!"}},{"$f":"+#REF!","v":{"$error":"#REF!"}},{"$f":"+#REF!","v":{"$error":"#REF!"}},{"$f":"+#REF!","v":{"$error":"#REF!"}}]
["Valor cuota mensual 2 a 12",null,{"$f":"+#REF!","v":{"$error":"#REF!"}},{"$f":"+#REF!","v":{"$error":"#REF!"}},{"$f":"+#REF!","v":{"$error":"#REF!"}},{"$f":"+#REF!","v":{"$error":"#REF!"}},{"$f":"+#REF!","v":{"$error":"#REF!"}},{"$f":"+#REF!","v":{"$error":"#REF!"}},{"$f":"+#REF!","v":{"$error":"#REF!"}}]
[]
["Essential 100 y Essential 50"]
["Deducibles",null,"PLAN 1","PLAN 2","PLAN 3","PLAN 4","PLAN 5"]
["Dentro del pais de residencia",null,100,200,500,1000,2000]
["Fuera del pais de residencia",null,100,200,500,1000,2000]
[null,null,"Tarifas Mensuales"]
["Essential 100: Primera Cuota",null,{"$f":"+#REF!","v":{"$error":"#REF!"}},{"$f":"+#REF!","v":{"$error":"#REF!"}},{"$f":"+#REF!","v":{"$error":"#REF!"}},{"$f":"+#REF!","v":{"$error":"#REF!"}},{"$f":"+#REF!","v":{"$error":"#REF!"}}]
["Essential 100: Cuota Mensual 2 a 12 ",null,{"$f":"+#REF!","v":{"$error":"#REF!"}},{"$f":"+#REF!","v":{"$error":"#REF!"}},{"$f":"+#REF!","v":{"$error":"#REF!"}},{"$f":"+#REF!","v":{"$error":"#REF!"}},{"$f":"+#REF!","v":{"$error":"#REF!"}}]
["Essential 50: Primera Cuota",null,{"$f":"+#REF!","v":{"$error":"#REF!"}},{"$f":"+#REF!","v":{"$error":"#REF!"}},{"$f":"+#REF!","v":{"$error":"#REF!"}},{"$f":"+#REF!","v":{"$error":"#REF!"}},{"$f":"+#REF!","v":{"$error":"#REF!"}}]
["Essential 50 - Cuota Mensual 2 a 12",null,{"$f":"+#REF!","v":{"$error":"#REF!"}},{"$f":"+#REF!","v":{"$error":"#REF!"}},{"$f":"+#REF!","v":{"$error":"#REF!"}},{"$f":"+#REF!","v":{"$error":"#REF!"}},{"$f":"+#REF!","v":{"$error":"#REF!"}}]
[]
[]
[]
["Tarifas Anuales"]
[]
["Essential 1000"]
["Deducibles",null,"PLAN 1","PLAN 2","PLAN 3","PLAN 4","PLAN 5","PLAN 6","PLAN 7"]
["Dentro del pais de residencia",null,250,500,1000,2000,5000,10000,20000]
["Fuera del pais de residencia",null,500,1000,2000,4000,5000,10000,20000]
[null,null,"Tarifas Anuales"]
["Primera Cuota",null,{"$f":"+'Essential 1000'!H46","v":4116.7880000000005},{"$f":"+'Essential 1000'!I46","v":3593.1479999999997},{"$f":"+'Essential 1000'!J46","v":3149.5359999999996},{"$f":"+'Essential 1000'!K46","v":2395.6919999999996},{"$f":"+'Essential 1000'!L46","v":1534.1559999999997},{"$f":"+'Essential 1000'!M46","v":1032.252},{"$f":"+'Essential 1000'!N46","v":726.96}]
[]
["Essential 500"]
["Deducibles",null,"PLAN 1","PLAN 2","PLAN 3","PLAN 4","PLAN 5","PLAN 6","PLAN 7"]
["Dentro del pais de residencia",null,250,500,1000,2000,5000,10000,20000]
["Fuera del pais de residencia",null,500,1000,2000,4000,5000,10000,20000]
[null,null,"Tarifas Anuales"]
["Essential 500",null,{"$f":"+#REF!","v":{"$error":"#REF!"}},{"$f":"+#REF!","v":{"$error":"#REF!"}},{"$f":"+#REF!","v":{"$error":"#REF!"}},{"$f":"+#REF!","v":{"$error":"#REF!"}},{"$f":"+#REF!","v":{"$error":"#REF!"}},{"$f":"+#REF!","v":{"$error":"#REF!"}},{"$f":"+#REF!","v":{"$error":"#REF!"}}]
[]
["Essential 100 y Essential 50"]
["Deducibles",null,"PLAN 1","PLAN 2","PLAN 3","PLAN 4","PLAN 5"]
["Dentro del pais de residencia",null,100,200,500,1000,2000]
["Fuera del pais de residencia",null,100,200,500,1000,2000]
[null,null,"Tarifas Anuales"]
["Essential 100",null,{"$f":"+#REF!","v":{"$error":"#REF!"}},{"$f":"+#REF!","v":{"$error":"#REF!"}},{"$f":"+#REF!","v":{"$error":"#REF!"}},{"$f":"+#REF!","v":{"$error":"#REF!"}},{"$f":"+#REF!","v":{"$error":"#REF!"}}]
["Essential 50",null,{"$f":"+#REF!","v":{"$error":"#REF!"}},{"$f":"+#REF!","v":{"$error":"#REF!"}},{"$f":"+#REF!","v":{"$error":"#REF!"}},{"$f":"+#REF!","v":{"$error":"#REF!"}},{"$f":"+#REF!","v":{"$error":"#REF!"}}]
[]
["Tarifas Semestrales"]
[]
["Essential 1000"]
["Deducibles",null,"PLAN 1","PLAN 2","PLAN 3","PLAN 4","PLAN 5","PLAN 6","PLAN 7"]
["Dentro del pais de residencia",null,250,500,1000,2000,5000,10000,20000]
["Fuera del pais de residencia",null,500,1000,2000,4000,5000,10000,20000]
[null,null,"Tarifas Semestrales"]
["Primera Cuota",null,{"$f":"+'Essential 1000'!H56","v":2144.4298200000003},{"$f":"+'Essential 1000'!I56","v":1874.75522},{"$f":"+'Essential 1000'!J56","v":1646.29504},{"$f":"+'Essential 1000'!K56","v":1258.0653799999998},{"$f":"+'Essential 1000'!L56","v":814.37433999999996},{"$f":"+'Essential 1000'!M56","v":555.89377999999999},{"$f":"+'Essential 1000'!N56","v":398.66839999999996}]
["Segunda Cuota",null,{"$f":"+'Essential 1000'!H57","v":2092.4298200000003},{"$f":"+'Essential 1000'!I57","v":1822.75522},{"$f":"+'Essential 1000'!J57","v":1594.29504},{"$f":"+'Essential 1000'!K57","v":1206.0653799999998},{"$f":"+'Essential 1000'!L57","v":762.37433999999996},{"$f":"+'Essential 1000'!M57","v":503.89377999999999},{"$f":"+'Essential 1000'!N57","v":346.66839999999996}]
[]
["Essential 500"]
["Deducibles",null,"PLAN 1","PLAN 2","PLAN 3","PLAN 4","PLAN 5","PLAN 6","PLAN 7"]
["Dentro del pais de residencia",null,250,500,1000,2000,5000,10000,20000]
["Fuera del pais de residencia",null,500,1000,2000,4000,5000,10000,20000]
[null,null,"Tarifas Semestrales"]
["Primera Cuota",null,{"$f":"+#REF!","v":{"$error":"#REF!"}},{"$f":"+#REF!","v":{"$error":"#REF!"}},{"$f":"+#REF!","v":{"$error":"#REF!"}},{"$f":"+#REF!","v":{"$error":"#REF!"}},{"$f":"+#REF!","v":{"$error":"#REF!"}},{"$f":"+#REF!","v":{"$error":"#REF!"}},{"$f":"+#REF!","v":{"$error":"#REF!"}}]
["Segunda Cuota",null,{"$f":"+#REF!","v":{"$error":"#REF!"}},{"$f":"+#REF!","v":{"$error":"#REF!"}},{"$f":"+#REF!","v":{"$error":"#REF!"}},{"$f":"+#REF!","v":{"$error":"#REF!"}},{"$f":"+#REF!","v":{"$error":"#REF!"}},{"$f":"+#REF!","v":{"$error":"#REF!"}},{"$f":"+#REF!","v":{"$error":"#REF!"}}]
[]
["Essential 100 y Essential 50"]
["Deducibles",null,"PLAN 1","PLAN 2","PLAN 3","PLAN 4","PLAN 5"]
["Dentro del pais de residencia",null,100,200,500,1000,2000]
["Fuera del pais de residencia",null,100,200,500,1000,2000]
[null,null,"Tarifas Mensuales"]
["Essential 100 - Primera cuota",null,{"$f":"+#REF!","v":{"$error":"#REF!"}},{"$f":"+#REF!","v":{"$error":"#REF!"}},{"$f":"+#REF!","v":{"$error":"#REF!"}},{"$f":"+#REF!","v":{"$error":"#REF!"}},{"$f":"+#REF!","v":{"$error":"#REF!"}}]
["Essential 100 - Segunda Cuota",null,{"$f":"+#REF!","v":{"$error":"#REF!"}},{"$f":"+#REF!","v":{"$error":"#REF!"}},{"$f":"+#REF!","v":{"$error":"#REF!"}},{"$f":"+#REF!","v":{"$error":"#REF!"}},{"$f":"+#REF!","v":{"$error":"#REF!"}}]
["Essential 50 - Primera Cuota",null,{"$f":"+#REF!","v":{"$error":"#REF!"}},{"$f":"+#REF!","v":{"$error":"#REF!"}},{"$f":"+#REF!","v":{"$error":"#REF!"}},{"$f":"+#REF!","v":{"$error":"#REF!"}},{"$f":"+#REF!","v":{"$error":"#REF!"}}]
["Essential 50 - Seguda Cuota",null,{"$f":"+#REF!","v":{"$error":"#REF!"}},{"$f":"+#REF!","v":{"$error":"#REF!"}},{"$f":"+#REF!","v":{"$error":"#REF!"}},{"$f":"+#REF!","v":{"$error":"#REF!"}},{"$f":"+#REF!","v":{"$error":"#REF!"}}]
[]
[]
[]
["Tarifas Trimestrales"]
[]
["Essential 1000"]
["Deducibles",null,"PLAN 1","PLAN 2","PLAN 3","PLAN 4","PLAN 5","PLAN 6","PLAN 7"]
["Dentro del pais de residencia",null,250,500,1000,2000,5000,10000,20000]
["Fuera del pais de residencia",null,500,1000,2000,4000,5000,10000,20000]
[null,null,"Tarifas Trimestrales"]
["Primera Cuota",null,{"$f":"+'Essential 1000'!H67","v":1113.2238649999999},{"$f":"+'Essential 1000'!I67","v":976.42291499999988},{"$f":"+'Essential 1000'!J67","v":860.52927999999986},{"$f":"+'Essential 1000'!K67","v":663.587535},{"$f":"+'Essential 1000'!L67","v":438.51125499999995},{"$f":"+'Essential 1000'!M67","v":307.38883499999997},{"$f":"+'Essential 1000'!N67","v":227.63130000000001}]
["Valor de Cuota Trimestral 2 a 4",null,{"$f":"+'Essential 1000'!H68","v":1061.2238649999999},{"$f":"+'Essential 1000'!I68","v":924.42291499999988},{"$f":"+'Essential 1000'!J68","v":808.52927999999986},{"$f":"+'Essential 1000'!K68","v":611.587535},{"$f":"+'Essential 1000'!L68","v":386.51125499999995},{"$f":"+'Essential 1000'!M68","v":255.38883499999997},{"$f":"+'Essential 1000'!N68","v":175.63130000000001}]
[]
["Essential 500"]
["Deducibles",null,"PLAN 1","PLAN 2","PLAN 3","PLAN 4","PLAN 5","PLAN 6","PLAN 7"]
["Dentro del pais de residencia",null,250,500,1000,2000,5000,10000,20000]
["Fuera del pais de residencia",null,500,1000,2000,4000,5000,10000,20000]
[null,null,"Tarifas Trimestral"]
["Primera Cuota",null,{"$f":"+#REF!","v":{"$error":"#REF!"}},{"$f":"+#REF!","v":{"$error":"#REF!"}},{"$f":"+#REF!","v":{"$error":"#REF!"}},{"$f":"+#REF!","v":{"$error":"#REF!"}},{"$f":"+#REF!","v":{"$error":"#REF!"}}]
["Valor de Cuota Trimestral 2 a 4",null,{"$f":"+#REF!","v":{"$error":"#REF!"}},{"$f":"+#REF!","v":{"$error":"#REF!"}},{"$f":"+#REF!","v":{"$error":"#REF!"}},{"$f":"+#REF!","v":{"$error":"#REF!"}},{"$f":"+#REF!","v":{"$error":"#REF!"}}]
[]
["Essential 100 y Essential 50"]
["Deducibles",null,"PLAN 1","PLAN 2","PLAN 3","PLAN 4","PLAN 5"]
["Dentro del pais de residencia",null,100,200,500,1000,2000]
["Fuera del pais de residencia",null,100,200,500,1000,2000]
[null,null,"Tarifas Mensuales"]
["Essential 100 - Primera Cuota",null,{"$f":"+#REF!","v":{"$error":"#REF!"}},{"$f":"+#REF!","v":{"$error":"#REF!"}},{"$f":"+#REF!","v":{"$error":"#REF!"}},{"$f":"+#REF!","v":{"$error":"#REF!"}},{"$f":"+#REF!","v":{"$error":"#REF!"}}]
["Essential 100 - Cuota Trimestral 2 a 4",null,{"$f":"+#REF!","v":{"$error":"#REF!"}},{"$f":"+#REF!","v":{"$error":"#REF!"}},{"$f":"+#REF!","v":{"$error":"#REF!"}},{"$f":"+#REF!","v":{"$error":"#REF!"}},{"$f":"+#REF!","v":{"$error":"#REF!"}}]
["Essential 50 - Primera Cuota",null,{"$f":"+#REF!","v":{"$error":"#REF!"}},{"$f":"+#REF!","v":{"$error":"#REF!"}},{"$f":"+#REF!","v":{"$error":"#REF!"}},{"$f":"+#REF!","v":{"$error":"#REF!"}},{"$f":"+#REF!","v":{"$error":"#REF!"}}]
["Essential 50 - Cuota trimestral 2 a 4",null,{"$f":"+#REF!","v":{"$error":"#REF!"}},{"$f":"+#REF!","v":{"$error":"#REF!"}},{"$f":"+#REF!","v":{"$error":"#REF!"}},{"$f":"+#REF!","v":{"$error":"#REF!"}},{"$f":"+#REF!","v":{"$error":"#REF!"}}]
[]
[]
["Tarifas en US $ -  Válidas desde 1ro. de enero de 2023"]
["Este presupuesto solamente tiene carácter informativo y en ningún momento expresa compromiso legal para suministrarle cobertura de seguro. La emisión de una póliza de seguro Bupa está sujeta a todas las evaluaciones de riesgo por parte de Bupa y a la recepción de todos los pagos de prima requeridos."]
[]
[]
[null,null,null,"Las tarifas resaltadas en gris del PLAN 1 son solo para renovaciones."]
[]
["Essential Care"]
["Deducibles",null,"PLAN 1","PLAN 2","PLAN 3","PLAN 4","PLAN 5","PLAN 6"]
["Deducible en Ecuador",null,0,1000,2000,5000,10000,20000]
["Deducible fuera de Ecuador",null,1000,2000,3000,5000,10000,20000]
["Tarifas Anuales"]
["Gran Total",null,{"$f":"+#REF!","v":{"$error":"#REF!"}},{"$f":"+#REF!","v":{"$error":"#REF!"}},{"$f":"+#REF!","v":{"$error":"#REF!"}},{"$f":"+#REF!","v":{"$error":"#REF!"}},{"$f":"+#REF!","v":{"$error":"#REF!"}},{"$f":"+#REF!","v":{"$error":"#REF!"}}]
["Tarifas Semestrales"]
["Primera Cuota",null,{"$f":"+#REF!","v":{"$error":"#REF!"}},{"$f":"+#REF!","v":{"$error":"#REF!"}},{"$f":"+#REF!","v":{"$error":"#REF!"}},{"$f":"+#REF!","v":{"$error":"#REF!"}},{"$f":"+#REF!","v":{"$error":"#REF!"}},{"$f":"+#REF!","v":{"$error":"#REF!"}}]
["Segunda Cuota",null,{"$f":"+#REF!","v":{"$error":"#REF!"}},{"$f":"+#REF!","v":{"$error":"#REF!"}},{"$f":"+#REF!","v":{"$error":"#REF!"}},{"$f":"+#REF!","v":{"$error":"#REF!"}},{"$f":"+#REF!","v":{"$error":"#REF!"}},{"$f":"+#REF!","v":{"$error":"#REF!"}}]
[]
[]
["Tarifas en US $ -  Válidas desde el 1ro. de enero de 2022"]
[]
["Este presupuesto solamente tiene carácter informativo y en ningún momento expresa compromiso legal para suministrarle cobertura de seguro. La emisión de una póliza de seguro Bupa está sujeta a todas las evaluaciones de riesgo por parte de Bupa y a la recepción de todos los pagos de prima requeridos."]
[]
[]
[null,null,null,"Las tarifas resaltadas en gris del PLAN 1 son solo para renovaciones."]

{"sheet":"Tablas","index":3,"n_rows":1198,"n_cols":17,"rows_kept":1198,"cut":false,"hidden":true,"merged":[[1129,0,1129,6],[1130,0,1130,1],[1130,2,1130,6],[1057,0,1057,6],[1058,0,1058,6],[1059,0,1059,1],[1059,2,1059,6],[1128,0,1128,6],[987,0,987,6],[988,0,988,1],[988,2,988,6],[915,0,915,6],[916,0,916,6],[917,0,917,1],[917,2,917,6],[986,0,986,6],[774,0,774,1],[774,2,774,6],[843,0,843,6],[844,0,844,6],[845,0,845,1],[845,2,845,6],[773,0,773,6],[701,0,701,6],[702,0,702,6],[703,0,703,1],[703,2,703,6],[772,0,772,6],[561,0,561,1],[561,2,561,6],[630,0,630,6],[631,0,631,6],[632,0,632,1],[632,2,632,6],[560,0,560,6],[488,0,488,6],[489,0,489,6],[490,0,490,1],[490,2,490,6],[559,0,559,6],[457,0,457,6],[426,0,426,6],[427,0,427,1],[427,2,427,6],[458,0,458,1],[458,2,458,6],[214,0,214,1],[355,0,355,6],[214,2,214,6],[425,0,425,6],[284,0,284,6],[285,0,285,6],[286,0,286,1],[286,2,286,6],[356,0,356,1],[356,2,356,6],[142,0,142,6],[143,0,143,6],[144,0,144,1],[144,2,144,6],[213,0,213,6],[1,0,1,6],[2,0,2,6],[73,0,73,1],[73,2,73,6],[72,0,72,6],[3,0,3,1],[3,2,3,6]]}
[]
["FLEX 500",null,null,null,null,null,null,null,null,null,"FACTOR MENSUAL:",null,{"$f":"1.06/12","v":8.8333333333333333E-2},null,null,"Zonas"]
["TARIFAS ANUALES",null,null,null,null,null,null,null,null,null,"FACTOR SEMESTRAL:",null,{"$f":"1.03/2","v":0.51500000000000001},null,null,"Guayas/Santa Elena"]
["EDAD",null,null,null,null,null,null,null,null,null,"FACTOR TRIMESTRAL:",null,{"$f":"1.045/4","v":0.26124999999999998},null,null,"Resto de Ecuador"]
[" "," ","F500-1","F500-2","F500-3","F500-4","F500-5","F500-6","F500-7"]
[18,null,{"$f":"IF('INGRESO DE DATOS'!$G$21=\"Guayas/Santa Elena\",'Tablas Guayaquil'!C6,'Tablas Resto de Ecuador'!C6)","v":2232},{"$f":"IF('INGRESO DE DATOS'!$G$21=\"Guayas/Santa Elena\",'Tablas Guayaquil'!D6,'Tablas Resto de Ecuador'!D6)","v":1909},{"$f":"IF('INGRESO DE DATOS'!$G$21=\"Guayas/Santa Elena\",'Tablas Guayaquil'!E6,'Tablas Resto de Ecuador'!E6)","v":1398},{"$f":"IF('INGRESO DE DATOS'!$G$21=\"Guayas/Santa Elena\",'Tablas Guayaquil'!F6,'Tablas Resto de Ecuador'!F6)","v":964},{"$f":"IF('INGRESO DE DATOS'!$G$21=\"Guayas/Santa Elena\",'Tablas Guayaquil'!G6,'Tablas Resto de Ecuador'!G6)","v":523},{"$f":"IF('INGRESO DE DATOS'!$G$21=\"Guayas/Santa Elena\",'Tablas Guayaquil'!H6,'Tablas Resto de Ecuador'!H6)","v":301},{"$f":"IF('INGRESO DE DATOS'!$G$21=\"Guayas/Santa Elena\",'Tablas Guayaquil'!I6,'Tablas Resto de Ecuador'!I6)","v":173}]
[19,null,{"$f":"IF('INGRESO DE DATOS'!$G$21=\"Guayas/Santa Elena\",'Tablas Guayaquil'!C7,'Tablas Resto de Ecuador'!C7)","v":2268},{"$f":"IF('INGRESO DE DATOS'!$G$21=\"Guayas/Santa Elena\",'Tablas Guayaquil'!D7,'Tablas Resto de Ecuador'!D7)","v":1909},{"$f":"IF('INGRESO DE DATOS'!$G$21=\"Guayas/Santa Elena\",'Tablas Guayaquil'!E7,'Tablas Resto de Ecuador'!E7)","v":1398},{"$f":"IF('INGRESO DE DATOS'!$G$21=\"Guayas/Santa Elena\",'Tablas Guayaquil'!F7,'Tablas Resto de Ecuador'!F7)","v":965},{"$f":"IF('INGRESO DE DATOS'!$G$21=\"Guayas/Santa Elena\",'Tablas Guayaquil'!G7,'Tablas Resto de Ecuador'!G7)","v":529},{"$f":"IF('INGRESO DE DATOS'!$G$21=\"Guayas/Santa Elena\",'Tablas Guayaquil'!H7,'Tablas Resto de Ecuador'!H7)","v":305},{"$f":"IF('INGRESO DE DATOS'!$G$21=\"Guayas/Santa Elena\",'Tablas Guayaquil'!I7,'Tablas Resto de Ecuador'!I7)","v":177}]
[20,null,{"$f":"IF('INGRESO DE DATOS'!$G$21=\"Guayas/Santa Elena\",'Tablas Guayaquil'!C8,'Tablas Resto de Ecuador'!C8)","v":2308},{"$f":"IF('INGRESO DE DATOS'!$G$21=\"Guayas/Santa Elena\",'Tablas Guayaquil'!D8,'Tablas Resto de Ecuador'!D8)","v":1909},{"$f":"IF('INGRESO DE DATOS'!$G$21=\"Guayas/Santa Elena\",'Tablas Guayaquil'!E8,'Tablas Resto de Ecuador'!E8)","v":1398},{"$f":"IF('INGRESO DE DATOS'!$G$21=\"Guayas/Santa Elena\",'Tablas Guayaquil'!F8,'Tablas Resto de Ecuador'!F8)","v":967},{"$f":"IF('INGRESO DE DATOS'!$G$21=\"Guayas/Santa Elena\",'Tablas Guayaquil'!G8,'Tablas Resto de Ecuador'!G8)","v":534},{"$f":"IF('INGRESO DE DATOS'!$G$21=\"Guayas/Santa Elena\",'Tablas Guayaquil'!H8,'Tablas Resto de Ecuador'!H8)","v":309},{"$f":"IF('INGRESO DE DATOS'!$G$21=\"Guayas/Santa Elena\",'Tablas Guayaquil'!I8,'Tablas Resto de Ecuador'!I8)","v":181}]
[21,null,{"$f":"IF('INGRESO DE DATOS'!$G$21=\"Guayas/Santa Elena\",'Tablas Guayaquil'!C9,'Tablas Resto de Ecuador'!C9)","v":2351},{"$f":"IF('INGRESO DE DATOS'!$G$21=\"Guayas/Santa Elena\",'Tablas Guayaquil'!D9,'Tablas Resto de Ecuador'!D9)","v":1909},{"$f":"IF('INGRESO DE DATOS'!$G$21=\"Guayas/Santa Elena\",'Tablas Guayaquil'!E9,'Tablas Resto de Ecuador'!E9)","v":1400},{"$f":"IF('INGRESO DE DATOS'!$G$21=\"Guayas/Santa Elena\",'Tablas Guayaquil'!F9,'Tablas Resto de Ecuador'!F9)","v":974},{"$f":"IF('INGRESO DE DATOS'!$G$21=\"Guayas/Santa Elena\",'Tablas Guayaquil'!G9,'Tablas Resto de Ecuador'!G9)","v":541},{"$f":"IF('INGRESO DE DATOS'!$G$21=\"Guayas/Santa Elena\",'Tablas Guayaquil'!H9,'Tablas Resto de Ecuador'!H9)","v":316},{"$f":"IF('INGRESO DE DATOS'!$G$21=\"Guayas/Santa Elena\",'Tablas Guayaquil'!I9,'Tablas Resto de Ecuador'!I9)","v":186}]
[22,null,{"$f":"IF('INGRESO DE DATOS'!$G$21=\"Guayas/Santa Elena\",'Tablas Guayaquil'!C10,'Tablas Resto de Ecuador'!C10)","v":2389},{"$f":"IF('INGRESO DE DATOS'!$G$21=\"Guayas/Santa Elena\",'Tablas Guayaquil'!D10,'Tablas Resto de Ecuador'!D10)","v":1909},{"$f":"IF('INGRESO DE DATOS'!$G$21=\"Guayas/Santa Elena\",'Tablas Guayaquil'!E10,'Tablas Resto de Ecuador'!E10)","v":1404},{"$f":"IF('INGRESO DE DATOS'!$G$21=\"Guayas/Santa Elena\",'Tablas Guayaquil'!F10,'Tablas Resto de Ecuador'!F10)","v":982},{"$f":"IF('INGRESO DE DATOS'!$G$21=\"Guayas/Santa Elena\",'Tablas Guayaquil'!G10,'Tablas Resto de Ecuador'!G10)","v":549},{"$f":"IF('INGRESO DE DATOS'!$G$21=\"Guayas/Santa Elena\",'Tablas Guayaquil'!H10,'Tablas Resto de Ecuador'!H10)","v":322},{"$f":"IF('INGRESO DE DATOS'!$G$21=\"Guayas/Santa Elena\",'Tablas Guayaquil'!I10,'Tablas Resto de Ecuador'!I10)","v":191}]
[23,null,{"$f":"IF('INGRESO DE DATOS'!$G$21=\"Guayas/Santa Elena\",'Tablas Guayaquil'!C11,'Tablas Resto de Ecuador'!C11)","v":2429},{"$f":"IF('INGRESO DE DATOS'!$G$21=\"Guayas/Santa Elena\",'Tablas Guayaquil'!D11,'Tablas Resto de Ecuador'!D11)","v":1913},{"$f":"IF('INGRESO DE DATOS'!$G$21=\"Guayas/Santa Elena\",'Tablas Guayaquil'!E11,'Tablas Resto de Ecuador'!E11)","v":1412},{"$f":"IF('INGRESO DE DATOS'!$G$21=\"Guayas/Santa Elena\",'Tablas Guayaquil'!F11,'Tablas Resto de Ecuador'!F11)","v":992},{"$f":"IF('INGRESO DE DATOS'!$G$21=\"Guayas/Santa Elena\",'Tablas Guayaquil'!G11,'Tablas Resto de Ecuador'!G11)","v":558},{"$f":"IF('INGRESO DE DATOS'!$G$21=\"Guayas/Santa Elena\",'Tablas Guayaquil'!H11,'Tablas Resto de Ecuador'!H11)","v":330},{"$f":"IF('INGRESO DE DATOS'!$G$21=\"Guayas/Santa Elena\",'Tablas Guayaquil'!I11,'Tablas Resto de Ecuador'!I11)","v":196}]
[24,null,{"$f":"IF('INGRESO DE DATOS'!$G$21=\"Guayas/Santa Elena\",'Tablas Guayaquil'!C12,'Tablas Resto de Ecuador'!C12)","v":2436},{"$f":"IF('INGRESO DE DATOS'!$G$21=\"Guayas/Santa Elena\",'Tablas Guayaquil'!D12,'Tablas Resto de Ecuador'!D12)","v":1922},{"$f":"IF('INGRESO DE DATOS'!$G$21=\"Guayas/Santa Elena\",'Tablas Guayaquil'!E12,'Tablas Resto de Ecuador'!E12)","v":1425},{"$f":"IF('INGRESO DE DATOS'!$G$21=\"Guayas/Santa Elena\",'Tablas Guayaquil'!F12,'Tablas Resto de Ecuador'!F12)","v":1004},{"$f":"IF('INGRESO DE DATOS'!$G$21=\"Guayas/Santa Elena\",'Tablas Guayaquil'!G12,'Tablas Resto de Ecuador'!G12)","v":569},{"$f":"IF('INGRESO DE DATOS'!$G$21=\"Guayas/Santa Elena\",'Tablas Guayaquil'!H12,'Tablas Resto de Ecuador'!H12)","v":337},{"$f":"IF('INGRESO DE DATOS'!$G$21=\"Guayas/Santa Elena\",'Tablas Guayaquil'!I12,'Tablas Resto de Ecuador'!I12)","v":202}]
[25,null,{"$f":"IF('INGRESO DE DATOS'!$G$21=\"Guayas/Santa Elena\",'Tablas Guayaquil'!C13,'Tablas Resto de Ecuador'!C13)","v":2447},{"$f":"IF('INGRESO DE DATOS'!$G$21=\"Guayas/Santa Elena\",'Tablas Guayaquil'!D13,'Tablas Resto de Ecuador'!D13)","v":1936},{"$f":"IF('INGRESO DE DATOS'!$G$21=\"Guayas/Santa Elena\",'Tablas Guayaquil'!E13,'Tablas Resto de Ecuador'!E13)","v":1440},{"$f":"IF('INGRESO DE DATOS'!$G$21=\"Guayas/Santa Elena\",'Tablas Guayaquil'!F13,'Tablas Resto de Ecuador'!F13)","v":1019},{"$f":"IF('INGRESO DE DATOS'!$G$21=\"Guayas/Santa Elena\",'Tablas Guayaquil'!G13,'Tablas Resto de Ecuador'!G13)","v":581},{"$f":"IF('INGRESO DE DATOS'!$G$21=\"Guayas/Santa Elena\",'Tablas Guayaquil'!H13,'Tablas Resto de Ecuador'!H13)","v":347},{"$f":"IF('INGRESO DE DATOS'!$G$21=\"Guayas/Santa Elena\",'Tablas Guayaquil'!I13,'Tablas Resto de Ecuador'!I13)","v":210}]
[26,null,{"$f":"IF('INGRESO DE DATOS'!$G$21=\"Guayas/Santa Elena\",'Tablas Guayaquil'!C14,'Tablas Resto de Ecuador'!C14)","v":2465},{"$f":"IF('INGRESO DE DATOS'!$G$21=\"Guayas/Santa Elena\",'Tablas Guayaquil'!D14,'Tablas Resto de Ecuador'!D14)","v":1955},{"$f":"IF('INGRESO DE DATOS'!$G$21=\"Guayas/Santa Elena\",'Tablas Guayaquil'!E14,'Tablas Resto de Ecuador'!E14)","v":1460},{"$f":"IF('INGRESO DE DATOS'!$G$21=\"Guayas/Santa Elena\",'Tablas Guayaquil'!F14,'Tablas Resto de Ecuador'!F14)","v":1037},{"$f":"IF('INGRESO DE DATOS'!$G$21=\"Guayas/Santa Elena\",'Tablas Guayaquil'!G14,'Tablas Resto de Ecuador'!G14)","v":594},{"$f":"IF('INGRESO DE DATOS'!$G$21=\"Guayas/Santa Elena\",'Tablas Guayaquil'!H14,'Tablas Resto de Ecuador'!H14)","v":357},{"$f":"IF('INGRESO DE DATOS'!$G$21=\"Guayas/Santa Elena\",'Tablas Guayaquil'!I14,'Tablas Resto de Ecuador'!I14)","v":216}]
[27,null,{"$f":"IF('INGRESO DE DATOS'!$G$21=\"Guayas/Santa Elena\",'Tablas Guayaquil'!C15,'Tablas Resto de Ecuador'!C15)","v":2489},{"$f":"IF('INGRESO DE DATOS'!$G$21=\"Guayas/Santa Elena\",'Tablas Guayaquil'!D15,'Tablas Resto de Ecuador'!D15)","v":1980},{"$f":"IF('INGRESO DE DATOS'!$G$21=\"Guayas/Santa Elena\",'Tablas Guayaquil'!E15,'Tablas Resto de Ecuador'!E15)","v":1483},{"$f":"IF('INGRESO DE DATOS'!$G$21=\"Guayas/Santa Elena\",'Tablas Guayaquil'!F15,'Tablas Resto de Ecuador'!F15)","v":1058},{"$f":"IF('INGRESO DE DATOS'!$G$21=\"Guayas/Santa Elena\",'Tablas Guayaquil'!G15,'Tablas Resto de Ecuador'!G15)","v":610},{"$f":"IF('INGRESO DE DATOS'!$G$21=\"Guayas/Santa Elena\",'Tablas Guayaquil'!H15,'Tablas Resto de Ecuador'!H15)","v":369},{"$f":"IF('INGRESO DE DATOS'!$G$21=\"Guayas/Santa Elena\",'Tablas Guayaquil'!I15,'Tablas Resto de Ecuador'!I15)","v":224}]
[28,null,{"$f":"IF('INGRESO DE DATOS'!$G$21=\"Guayas/Santa Elena\",'Tablas Guayaquil'!C16,'Tablas Resto de Ecuador'!C16)","v":2519},{"$f":"IF('INGRESO DE DATOS'!$G$21=\"Guayas/Santa Elena\",'Tablas Guayaquil'!D16,'Tablas Resto de Ecuador'!D16)","v":2008},{"$f":"IF('INGRESO DE DATOS'!$G$21=\"Guayas/Santa Elena\",'Tablas Guayaquil'!E16,'Tablas Resto de Ecuador'!E16)","v":1510},{"$f":"IF('INGRESO DE DATOS'!$G$21=\"Guayas/Santa Elena\",'Tablas Guayaquil'!F16,'Tablas Resto de Ecuador'!F16)","v":1081},{"$f":"IF('INGRESO DE DATOS'!$G$21=\"Guayas/Santa Elena\",'Tablas Guayaquil'!G16,'Tablas Resto de Ecuador'!G16)","v":628},{"$f":"IF('INGRESO DE DATOS'!$G$21=\"Guayas/Santa Elena\",'Tablas Guayaquil'!H16,'Tablas Resto de Ecuador'!H16)","v":381},{"$f":"IF('INGRESO DE DATOS'!$G$21=\"Guayas/Santa Elena\",'Tablas Guayaquil'!I16,'Tablas Resto de Ecuador'!I16)","v":234}]
[29,null,{"$f":"IF('INGRESO DE DATOS'!$G$21=\"Guayas/Santa Elena\",'Tablas Guayaquil'!C17,'Tablas Resto de Ecuador'!C17)","v":2557},{"$f":"IF('INGRESO DE DATOS'!$G$21=\"Guayas/Santa Elena\",'Tablas Guayaquil'!D17,'Tablas Resto de Ecuador'!D17)","v":2043},{"$f":"IF('INGRESO DE DATOS'!$G$21=\"Guayas/Santa Elena\",'Tablas Guayaquil'!E17,'Tablas Resto de Ecuador'!E17)","v":1540},{"$f":"IF('INGRESO DE DATOS'!$G$21=\"Guayas/Santa Elena\",'Tablas Guayaquil'!F17,'Tablas Resto de Ecuador'!F17)","v":1108},{"$f":"IF('INGRESO DE DATOS'!$G$21=\"Guayas/Santa Elena\",'Tablas Guayaquil'!G17,'Tablas Resto de Ecuador'!G17)","v":647},{"$f":"IF('INGRESO DE DATOS'!$G$21=\"Guayas/Santa Elena\",'Tablas Guayaquil'!H17,'Tablas Resto de Ecuador'!H17)","v":395},{"$f":"IF('INGRESO DE DATOS'!$G$21=\"Guayas/Santa Elena\",'Tablas Guayaquil'!I17,'Tablas Resto de Ecuador'!I17)","v":243}]
[30,null,{"$f":"IF('INGRESO DE DATOS'!$G$21=\"Guayas/Santa Elena\",'Tablas Guayaquil'!C18,'Tablas Resto de Ecuador'!C18)","v":2600},{"$f":"IF('INGRESO DE DATOS'!$G$21=\"Guayas/Santa Elena\",'Tablas Guayaquil'!D18,'Tablas Resto de Ecuador'!D18)","v":2084},{"$f":"IF('INGRESO DE DATOS'!$G$21=\"Guayas/Santa Elena\",'Tablas Guayaquil'!E18,'Tablas Resto de Ecuador'!E18)","v":1577},{"$f":"IF('INGRESO DE DATOS'!$G$21=\"Guayas/Santa Elena\",'Tablas Guayaquil'!F18,'Tablas Resto de Ecuador'!F18)","v":1137},{"$f":"IF('INGRESO DE DATOS'!$G$21=\"Guayas/Santa Elena\",'Tablas Guayaquil'!G18,'Tablas Resto de Ecuador'!G18)","v":668},{"$f":"IF('INGRESO DE DATOS'!$G$21=\"Guayas/Santa Elena\",'Tablas Guayaquil'!H18,'Tablas Resto de Ecuador'!H18)","v":409},{"$f":"IF('INGRESO DE DATOS'!$G$21=\"Guayas/Santa Elena\",'Tablas Guayaquil'!I18,'Tablas Resto de Ecuador'!I18)","v":254}]
[31,null,{"$f":"IF('INGRESO DE DATOS'!$G$21=\"Guayas/Santa Elena\",'Tablas Guayaquil'!C19,'Tablas Resto de Ecuador'!C19)","v":2651},{"$f":"IF('INGRESO DE DATOS'!$G$21=\"Guayas/Santa Elena\",'Tablas Guayaquil'!D19,'Tablas Resto de Ecuador'!D19)","v":2131},{"$f":"IF('INGRESO DE DATOS'!$G$21=\"Guayas/Santa Elena\",'Tablas Guayaquil'!E19,'Tablas Resto de Ecuador'!E19)","v":1616},{"$f":"IF('INGRESO DE DATOS'!$G$21=\"Guayas/Santa Elena\",'Tablas Guayaquil'!F19,'Tablas Resto de Ecuador'!F19)","v":1170},{"$f":"IF('INGRESO DE DATOS'!$G$21=\"Guayas/Santa Elena\",'Tablas Guayaquil'!G19,'Tablas Resto de Ecuador'!G19)","v":691},{"$f":"IF('INGRESO DE DATOS'!$G$21=\"Guayas/Santa Elena\",'Tablas Guayaquil'!H19,'Tablas Resto de Ecuador'!H19)","v":425},{"$f":"IF('INGRESO DE DATOS'!$G$21=\"Guayas/Santa Elena\",'Tablas Guayaquil'!I19,'Tablas Resto de Ecuador'!I19)","v":266}]
[32,null,{"$f":"IF('INGRESO DE DATOS'!$G$21=\"Guayas/Santa Elena\",'Tablas Guayaquil'!C20,'Tablas Resto de Ecuador'!C20)","v":2710},{"$f":"IF('INGRESO DE DATOS'!$G$21=\"Guayas/Santa Elena\",'Tablas Guayaquil'!D20,'Tablas Resto de Ecuador'!D20)","v":2183},{"$f":"IF('INGRESO DE DATOS'!$G$21=\"Guayas/Santa Elena\",'Tablas Guayaquil'!E20,'Tablas Resto de Ecuador'!E20)","v":1660},{"$f":"IF('INGRESO DE DATOS'!$G$21=\"Guayas/Santa Elena\",'Tablas Guayaquil'!F20,'Tablas Resto de Ecuador'!F20)","v":1206},{"$f":"IF('INGRESO DE DATOS'!$G$21=\"Guayas/Santa Elena\",'Tablas Guayaquil'!G20,'Tablas Resto de Ecuador'!G20)","v":716},{"$f":"IF('INGRESO DE DATOS'!$G$21=\"Guayas/Santa Elena\",'Tablas Guayaquil'!H20,'Tablas Resto de Ecuador'!H20)","v":443},{"$f":"IF('INGRESO DE DATOS'!$G$21=\"Guayas/Santa Elena\",'Tablas Guayaquil'!I20,'Tablas Resto de Ecuador'!I20)","v":279}]
[33,null,{"$f":"IF('INGRESO DE DATOS'!$G$21=\"Guayas/Santa Elena\",'Tablas Guayaquil'!C21,'Tablas Resto de Ecuador'!C21)","v":2777},{"$f":"IF('INGRESO DE DATOS'!$G$21=\"Guayas/Santa Elena\",'Tablas Guayaquil'!D21,'Tablas Resto de Ecuador'!D21)","v":2242},{"$f":"IF('INGRESO DE DATOS'!$G$21=\"Guayas/Santa Elena\",'Tablas Guayaquil'!E21,'Tablas Resto de Ecuador'!E21)","v":1710},{"$f":"IF('INGRESO DE DATOS'!$G$21=\"Guayas/Santa Elena\",'Tablas Guayaquil'!F21,'Tablas Resto de Ecuador'!F21)","v":1247},{"$f":"IF('INGRESO DE DATOS'!$G$21=\"Guayas/Santa Elena\",'Tablas Guayaquil'!G21,'Tablas Resto de Ecuador'!G21)","v":743},{"$f":"IF('INGRESO DE DATOS'!$G$21=\"Guayas/Santa Elena\",'Tablas Guayaquil'!H21,'Tablas Resto de Ecuador'!H21)","v":463},{"$f":"IF('INGRESO DE DATOS'!$G$21=\"Guayas/Santa Elena\",'Tablas Guayaquil'!I21,'Tablas Resto de Ecuador'!I21)","v":292}]
[34,null,{"$f":"IF('INGRESO DE DATOS'!$G$21=\"Guayas/Santa Elena\",'Tablas Guayaquil'!C22,'Tablas Resto de Ecuador'!C22)","v":2850},{"$f":"IF('INGRESO DE DATOS'!$G$21=\"Guayas/Santa Elena\",'Tablas Guayaquil'!D22,'Tablas Resto de Ecuador'!D22)","v":2306},{"$f":"IF('INGRESO DE DATOS'!$G$21=\"Guayas/Santa Elena\",'Tablas Guayaquil'!E22,'Tablas Resto de Ecuador'!E22)","v":1765},{"$f":"IF('INGRESO DE DATOS'!$G$21=\"Guayas/Santa Elena\",'Tablas Guayaquil'!F22,'Tablas Resto de Ecuador'!F22)","v":1291},{"$f":"IF('INGRESO DE DATOS'!$G$21=\"Guayas/Santa Elena\",'Tablas Guayaquil'!G22,'Tablas Resto de Ecuador'!G22)","v":774},{"$f":"IF('INGRESO DE DATOS'!$G$21=\"Guayas/Santa Elena\",'Tablas Guayaquil'!H22,'Tablas Resto de Ecuador'!H22)","v":483},{"$f":"IF('INGRESO DE DATOS'!$G$21=\"Guayas/Santa Elena\",'Tablas Guayaquil'!I22,'Tablas Resto de Ecuador'!I22)","v":308}]
[35,null,{"$f":"IF('INGRESO DE DATOS'!$G$21=\"Guayas/Santa Elena\",'Tablas Guayaquil'!C23,'Tablas Resto de Ecuador'!C23)","v":2932},{"$f":"IF('INGRESO DE DATOS'!$G$21=\"Guayas/Santa Elena\",'Tablas Guayaquil'!D23,'Tablas Resto de Ecuador'!D23)","v":2378},{"$f":"IF('INGRESO DE DATOS'!$G$21=\"Guayas/Santa Elena\",'Tablas Guayaquil'!E23,'Tablas Resto de Ecuador'!E23)","v":1826},{"$f":"IF('INGRESO DE DATOS'!$G$21=\"Guayas/Santa Elena\",'Tablas Guayaquil'!F23,'Tablas Resto de Ecuador'!F23)","v":1340},{"$f":"IF('INGRESO DE DATOS'!$G$21=\"Guayas/Santa Elena\",'Tablas Guayaquil'!G23,'Tablas Resto de Ecuador'!G23)","v":806},{"$f":"IF('INGRESO DE DATOS'!$G$21=\"Guayas/Santa Elena\",'Tablas Guayaquil'!H23,'Tablas Resto de Ecuador'!H23)","v":507},{"$f":"IF('INGRESO DE DATOS'!$G$21=\"Guayas/Santa Elena\",'Tablas Guayaquil'!I23,'Tablas Resto de Ecuador'!I23)","v":324}]
[36,null,{"$f":"IF('INGRESO DE DATOS'!$G$21=\"Guayas/Santa Elena\",'Tablas Guayaquil'!C24,'Tablas Resto de Ecuador'!C24)","v":3023},{"$f":"IF('INGRESO DE DATOS'!$G$21=\"Guayas/Santa Elena\",'Tablas Guayaquil'!D24,'Tablas Resto de Ecuador'!D24)","v":2458},{"$f":"IF('INGRESO DE DATOS'!$G$21=\"Guayas/Santa Elena\",'Tablas Guayaquil'!E24,'Tablas Resto de Ecuador'!E24)","v":1893},{"$f":"IF('INGRESO DE DATOS'!$G$21=\"Guayas/Santa Elena\",'Tablas Guayaquil'!F24,'Tablas Resto de Ecuador'!F24)","v":1392},{"$f":"IF('INGRESO DE DATOS'!$G$21=\"Guayas/Santa Elena\",'Tablas Guayaquil'!G24,'Tablas Resto de Ecuador'!G24)","v":843},{"$f":"IF('INGRESO DE DATOS'!$G$21=\"Guayas/Santa Elena\",'Tablas Guayaquil'!H24,'Tablas Resto de Ecuador'!H24)","v":532},{"$f":"IF('INGRESO DE DATOS'!$G$21=\"Guayas/Santa Elena\",'Tablas Guayaquil'!I24,'Tablas Resto de Ecuador'!I24)","v":343}]
[37,null,{"$f":"IF('INGRESO DE DATOS'!$G$21=\"Guayas/Santa Elena\",'Tablas Guayaquil'!C25,'Tablas Resto de Ecuador'!C25)","v":3122},{"$f":"IF('INGRESO DE DATOS'!$G$21=\"Guayas/Santa Elena\",'Tablas Guayaquil'!D25,'Tablas Resto de Ecuador'!D25)","v":2545},{"$f":"IF('INGRESO DE DATOS'!$G$21=\"Guayas/Santa Elena\",'Tablas Guayaquil'!E25,'Tablas Resto de Ecuador'!E25)","v":1964},{"$f":"IF('INGRESO DE DATOS'!$G$21=\"Guayas/Santa Elena\",'Tablas Guayaquil'!F25,'Tablas Resto de Ecuador'!F25)","v":1451},{"$f":"IF('INGRESO DE DATOS'!$G$21=\"Guayas/Santa Elena\",'Tablas Guayaquil'!G25,'Tablas Resto de Ecuador'!G25)","v":883},{"$f":"IF('INGRESO DE DATOS'!$G$21=\"Guayas/Santa Elena\",'Tablas Guayaquil'!H25,'Tablas Resto de Ecuador'!H25)","v":559},{"$f":"IF('INGRESO DE DATOS'!$G$21=\"Guayas/Santa Elena\",'Tablas Guayaquil'!I25,'Tablas Resto de Ecuador'!I25)","v":361}]
[38,null,{"$f":"IF('INGRESO DE DATOS'!$G$21=\"Guayas/Santa Elena\",'Tablas Guayaquil'!C26,'Tablas Resto de Ecuador'!C26)","v":3231},{"$f":"IF('INGRESO DE DATOS'!$G$21=\"Guayas/Santa Elena\",'Tablas Guayaquil'!D26,'Tablas Resto de Ecuador'!D26)","v":2640},{"$f":"IF('INGRESO DE DATOS'!$G$21=\"Guayas/Santa Elena\",'Tablas Guayaquil'!E26,'Tablas Resto de Ecuador'!E26)","v":2043},{"$f":"IF('INGRESO DE DATOS'!$G$21=\"Guayas/Santa Elena\",'Tablas Guayaquil'!F26,'Tablas Resto de Ecuador'!F26)","v":1513},{"$f":"IF('INGRESO DE DATOS'!$G$21=\"Guayas/Santa Elena\",'Tablas Guayaquil'!G26,'Tablas Resto de Ecuador'!G26)","v":925},{"$f":"IF('INGRESO DE DATOS'!$G$21=\"Guayas/Santa Elena\",'Tablas Guayaquil'!H26,'Tablas Resto de Ecuador'!H26)","v":588},{"$f":"IF('INGRESO DE DATOS'!$G$21=\"Guayas/Santa Elena\",'Tablas Guayaquil'!I26,'Tablas Resto de Ecuador'!I26)","v":383}]
[39,null,{"$f":"IF('INGRESO DE DATOS'!$G$21=\"Guayas/Santa Elena\",'Tablas Guayaquil'!C27,'Tablas Resto de Ecuador'!C27)","v":3349},{"$f":"IF('INGRESO DE DATOS'!$G$21=\"Guayas/Santa Elena\",'Tablas Guayaquil'!D27,'Tablas Resto de Ecuador'!D27)","v":2743},{"$f":"IF('INGRESO DE DATOS'!$G$21=\"Guayas/Santa Elena\",'Tablas Guayaquil'!E27,'Tablas Resto de Ecuador'!E27)","v":2131},{"$f":"IF('INGRESO DE DATOS'!$G$21=\"Guayas/Santa Elena\",'Tablas Guayaquil'!F27,'Tablas Resto de Ecuador'!F27)","v":1582},{"$f":"IF('INGRESO DE DATOS'!$G$21=\"Guayas/Santa Elena\",'Tablas Guayaquil'!G27,'Tablas Resto de Ecuador'!G27)","v":972},{"$f":"IF('INGRESO DE DATOS'!$G$21=\"Guayas/Santa Elena\",'Tablas Guayaquil'!H27,'Tablas Resto de Ecuador'!H27)","v":620},{"$f":"IF('INGRESO DE DATOS'!$G$21=\"Guayas/Santa Elena\",'Tablas Guayaquil'!I27,'Tablas Resto de Ecuador'!I27)","v":405}]
[40,null,{"$f":"IF('INGRESO DE DATOS'!$G$21=\"Guayas/Santa Elena\",'Tablas Guayaquil'!C28,'Tablas Resto de Ecuador'!C28)","v":3444},{"$f":"IF('INGRESO DE DATOS'!$G$21=\"Guayas/Santa Elena\",'Tablas Guayaquil'!D28,'Tablas Resto de Ecuador'!D28)","v":2855},{"$f":"IF('INGRESO DE DATOS'!$G$21=\"Guayas/Santa Elena\",'Tablas Guayaquil'!E28,'Tablas Resto de Ecuador'!E28)","v":2224},{"$f":"IF('INGRESO DE DATOS'!$G$21=\"Guayas/Santa Elena\",'Tablas Guayaquil'!F28,'Tablas Resto de Ecuador'!F28)","v":1657},{"$f":"IF('INGRESO DE DATOS'!$G$21=\"Guayas/Santa Elena\",'Tablas Guayaquil'!G28,'Tablas Resto de Ecuador'!G28)","v":1022},{"$f":"IF('INGRESO DE DATOS'!$G$21=\"Guayas/Santa Elena\",'Tablas Guayaquil'!H28,'Tablas Resto de Ecuador'!H28)","v":655},{"$f":"IF('INGRESO DE DATOS'!$G$21=\"Guayas/Santa Elena\",'Tablas Guayaquil'!I28,'Tablas Resto de Ecuador'!I28)","v":431}]
[41,null,{"$f":"IF('INGRESO DE DATOS'!$G$21=\"Guayas/Santa Elena\",'Tablas Guayaquil'!C29,'Tablas Resto de Ecuador'!C29)","v":3520},{"$f":"IF('INGRESO DE DATOS'!$G$21=\"Guayas/Santa Elena\",'Tablas Guayaquil'!D29,'Tablas Resto de Ecuador'!D29)","v":2976},{"$f":"IF('INGRESO DE DATOS'!$G$21=\"Guayas/Santa Elena\",'Tablas Guayaquil'!E29,'Tablas Resto de Ecuador'!E29)","v":2324},{"$f":"IF('INGRESO DE DATOS'!$G$21=\"Guayas/Santa Elena\",'Tablas Guayaquil'!F29,'Tablas Resto de Ecuador'!F29)","v":1737},{"$f":"IF('INGRESO DE DATOS'!$G$21=\"Guayas/Santa Elena\",'Tablas Guayaquil'!G29,'Tablas Resto de Ecuador'!G29)","v":1075},{"$f":"IF('INGRESO DE DATOS'!$G$21=\"Guayas/Santa Elena\",'Tablas Guayaquil'!H29,'Tablas Resto de Ecuador'!H29)","v":693},{"$f":"IF('INGRESO DE DATOS'!$G$21=\"Guayas/Santa Elena\",'Tablas Guayaquil'!I29,'Tablas Resto de Ecuador'!I29)","v":459}]
[42,null,{"$f":"IF('INGRESO DE DATOS'!$G$21=\"Guayas/Santa Elena\",'Tablas Guayaquil'!C30,'Tablas Resto de Ecuador'!C30)","v":3604},{"$f":"IF('INGRESO DE DATOS'!$G$21=\"Guayas/Santa Elena\",'Tablas Guayaquil'!D30,'Tablas Resto de Ecuador'!D30)","v":3110},{"$f":"IF('INGRESO DE DATOS'!$G$21=\"Guayas/Santa Elena\",'Tablas Guayaquil'!E30,'Tablas Resto de Ecuador'!E30)","v":2434},{"$f":"IF('INGRESO DE DATOS'!$G$21=\"Guayas/Santa Elena\",'Tablas Guayaquil'!F30,'Tablas Resto de Ecuador'!F30)","v":1825},{"$f":"IF('INGRESO DE DATOS'!$G$21=\"Guayas/Santa Elena\",'Tablas Guayaquil'!G30,'Tablas Resto de Ecuador'!G30)","v":1135},{"$f":"IF('INGRESO DE DATOS'!$G$21=\"Guayas/Santa Elena\",'Tablas Guayaquil'!H30,'Tablas Resto de Ecuador'!H30)","v":734},{"$f":"IF('INGRESO DE DATOS'!$G$21=\"Guayas/Santa Elena\",'Tablas Guayaquil'!I30,'Tablas Resto de Ecuador'!I30)","v":489}]
[43,null,{"$f":"IF('INGRESO DE DATOS'!$G$21=\"Guayas/Santa Elena\",'Tablas Guayaquil'!C31,'Tablas Resto de Ecuador'!C31)","v":3741},{"$f":"IF('INGRESO DE DATOS'!$G$21=\"Guayas/Santa Elena\",'Tablas Guayaquil'!D31,'Tablas Resto de Ecuador'!D31)","v":3251},{"$f":"IF('INGRESO DE DATOS'!$G$21=\"Guayas/Santa Elena\",'Tablas Guayaquil'!E31,'Tablas Resto de Ecuador'!E31)","v":2552},{"$f":"IF('INGRESO DE DATOS'!$G$21=\"Guayas/Santa Elena\",'Tablas Guayaquil'!F31,'Tablas Resto de Ecuador'!F31)","v":1920},{"$f":"IF('INGRESO DE DATOS'!$G$21=\"Guayas/Santa Elena\",'Tablas Guayaquil'!G31,'Tablas Resto de Ecuador'!G31)","v":1199},{"$f":"IF('INGRESO DE DATOS'!$G$21=\"Guayas/Santa Elena\",'Tablas Guayaquil'!H31,'Tablas Resto de Ecuador'!H31)","v":779},{"$f":"IF('INGRESO DE DATOS'!$G$21=\"Guayas/Santa Elena\",'Tablas Guayaquil'!I31,'Tablas Resto de Ecuador'!I31)","v":521}]
[44,null,{"$f":"IF('INGRESO DE DATOS'!$G$21=\"Guayas/Santa Elena\",'Tablas Guayaquil'!C32,'Tablas Resto de Ecuador'!C32)","v":3885},{"$f":"IF('INGRESO DE DATOS'!$G$21=\"Guayas/Santa Elena\",'Tablas Guayaquil'!D32,'Tablas Resto de Ecuador'!D32)","v":3380},{"$f":"IF('INGRESO DE DATOS'!$G$21=\"Guayas/Santa Elena\",'Tablas Guayaquil'!E32,'Tablas Resto de Ecuador'!E32)","v":2680},{"$f":"IF('INGRESO DE DATOS'!$G$21=\"Guayas/Santa Elena\",'Tablas Guayaquil'!F32,'Tablas Resto de Ecuador'!F32)","v":2022},{"$f":"IF('INGRESO DE DATOS'!$G$21=\"Guayas/Santa Elena\",'Tablas Guayaquil'!G32,'Tablas Resto de Ecuador'!G32)","v":1268},{"$f":"IF('INGRESO DE DATOS'!$G$21=\"Guayas/Santa Elena\",'Tablas Guayaquil'!H32,'Tablas Resto de Ecuador'!H32)","v":827},{"$f":"IF('INGRESO DE DATOS'!$G$21=\"Guayas/Santa Elena\",'Tablas Guayaquil'!I32,'Tablas Resto de Ecuador'!I32)","v":557}]
[45,null,{"$f":"IF('INGRESO DE DATOS'!$G$21=\"Guayas/Santa Elena\",'Tablas Guayaquil'!C33,'Tablas Resto de Ecuador'!C33)","v":4030},{"$f":"IF('INGRESO DE DATOS'!$G$21=\"Guayas/Santa Elena\",'Tablas Guayaquil'!D33,'Tablas Resto de Ecuador'!D33)","v":3503},{"$f":"IF('INGRESO DE DATOS'!$G$21=\"Guayas/Santa Elena\",'Tablas Guayaquil'!E33,'Tablas Resto de Ecuador'!E33)","v":2819},{"$f":"IF('INGRESO DE DATOS'!$G$21=\"Guayas/Santa Elena\",'Tablas Guayaquil'!F33,'Tablas Resto de Ecuador'!F33)","v":2133},{"$f":"IF('INGRESO DE DATOS'!$G$21=\"Guayas/Santa Elena\",'Tablas Guayaquil'!G33,'Tablas Resto de Ecuador'!G33)","v":1342},{"$f":"IF('INGRESO DE DATOS'!$G$21=\"Guayas/Santa Elena\",'Tablas Guayaquil'!H33,'Tablas Resto de Ecuador'!H33)","v":879},{"$f":"IF('INGRESO DE DATOS'!$G$21=\"Guayas/Santa Elena\",'Tablas Guayaquil'!I33,'Tablas Resto de Ecuador'!I33)","v":594}]
[46,null,{"$f":"IF('INGRESO DE DATOS'!$G$21=\"Guayas/Santa Elena\",'Tablas Guayaquil'!C34,'Tablas Resto de Ecuador'!C34)","v":4172},{"$f":"IF('INGRESO DE DATOS'!$G$21=\"Guayas/Santa Elena\",'Tablas Guayaquil'!D34,'Tablas Resto de Ecuador'!D34)","v":3628},{"$f":"IF('INGRESO DE DATOS'!$G$21=\"Guayas/Santa Elena\",'Tablas Guayaquil'!E34,'Tablas Resto de Ecuador'!E34)","v":2968},{"$f":"IF('INGRESO DE DATOS'!$G$21=\"Guayas/Santa Elena\",'Tablas Guayaquil'!F34,'Tablas Resto de Ecuador'!F34)","v":2252},{"$f":"IF('INGRESO DE DATOS'!$G$21=\"Guayas/Santa Elena\",'Tablas Guayaquil'!G34,'Tablas Resto de Ecuador'!G34)","v":1425},{"$f":"IF('INGRESO DE DATOS'!$G$21=\"Guayas/Santa Elena\",'Tablas Guayaquil'!H34,'Tablas Resto de Ecuador'!H34)","v":936},{"$f":"IF('INGRESO DE DATOS'!$G$21=\"Guayas/Santa Elena\",'Tablas Guayaquil'!I34,'Tablas Resto de Ecuador'!I34)","v":636}]
[47,null,{"$f":"IF('INGRESO DE DATOS'!$G$21=\"Guayas/Santa Elena\",'Tablas Guayaquil'!C35,'Tablas Resto de Ecuador'!C35)","v":4317},{"$f":"IF('INGRESO DE DATOS'!$G$21=\"Guayas/Santa Elena\",'Tablas Guayaquil'!D35,'Tablas Resto de Ecuador'!D35)","v":3752},{"$f":"IF('INGRESO DE DATOS'!$G$21=\"Guayas/Santa Elena\",'Tablas Guayaquil'!E35,'Tablas Resto de Ecuador'!E35)","v":3127},{"$f":"IF('INGRESO DE DATOS'!$G$21=\"Guayas/Santa Elena\",'Tablas Guayaquil'!F35,'Tablas Resto de Ecuador'!F35)","v":2380},{"$f":"IF('INGRESO DE DATOS'!$G$21=\"Guayas/Santa Elena\",'Tablas Guayaquil'!G35,'Tablas Resto de Ecuador'!G35)","v":1511},{"$f":"IF('INGRESO DE DATOS'!$G$21=\"Guayas/Santa Elena\",'Tablas Guayaquil'!H35,'Tablas Resto de Ecuador'!H35)","v":996},{"$f":"IF('INGRESO DE DATOS'!$G$21=\"Guayas/Santa Elena\",'Tablas Guayaquil'!I35,'Tablas Resto de Ecuador'!I35)","v":681}]
[48,null,{"$f":"IF('INGRESO DE DATOS'!$G$21=\"Guayas/Santa Elena\",'Tablas Guayaquil'!C36,'Tablas Resto de Ecuador'!C36)","v":4470},{"$f":"IF('INGRESO DE DATOS'!$G$21=\"Guayas/Santa Elena\",'Tablas Guayaquil'!D36,'Tablas Resto de Ecuador'!D36)","v":3885},{"$f":"IF('INGRESO DE DATOS'!$G$21=\"Guayas/Santa Elena\",'Tablas Guayaquil'!E36,'Tablas Resto de Ecuador'!E36)","v":3301},{"$f":"IF('INGRESO DE DATOS'!$G$21=\"Guayas/Santa Elena\",'Tablas Guayaquil'!F36,'Tablas Resto de Ecuador'!F36)","v":2519},{"$f":"IF('INGRESO DE DATOS'!$G$21=\"Guayas/Santa Elena\",'Tablas Guayaquil'!G36,'Tablas Resto de Ecuador'!G36)","v":1607},{"$f":"IF('INGRESO DE DATOS'!$G$21=\"Guayas/Santa Elena\",'Tablas Guayaquil'!H36,'Tablas Resto de Ecuador'!H36)","v":1063},{"$f":"IF('INGRESO DE DATOS'!$G$21=\"Guayas/Santa Elena\",'Tablas Guayaquil'!I36,'Tablas Resto de Ecuador'!I36)","v":731}]
[49,null,{"$f":"IF('INGRESO DE DATOS'!$G$21=\"Guayas/Santa Elena\",'Tablas Guayaquil'!C37,'Tablas Resto de Ecuador'!C37)","v":4619},{"$f":"IF('INGRESO DE DATOS'!$G$21=\"Guayas/Santa Elena\",'Tablas Guayaquil'!D37,'Tablas Resto de Ecuador'!D37)","v":4016},{"$f":"IF('INGRESO DE DATOS'!$G$21=\"Guayas/Santa Elena\",'Tablas Guayaquil'!E37,'Tablas Resto de Ecuador'!E37)","v":3487},{"$f":"IF('INGRESO DE DATOS'!$G$21=\"Guayas/Santa Elena\",'Tablas Guayaquil'!F37,'Tablas Resto de Ecuador'!F37)","v":2670},{"$f":"IF('INGRESO DE DATOS'!$G$21=\"Guayas/Santa Elena\",'Tablas Guayaquil'!G37,'Tablas Resto de Ecuador'!G37)","v":1709},{"$f":"IF('INGRESO DE DATOS'!$G$21=\"Guayas/Santa Elena\",'Tablas Guayaquil'!H37,'Tablas Resto de Ecuador'!H37)","v":1137},{"$f":"IF('INGRESO DE DATOS'!$G$21=\"Guayas/Santa Elena\",'Tablas Guayaquil'!I37,'Tablas Resto de Ecuador'!I37)","v":783}]
[50,null,{"$f":"IF('INGRESO DE DATOS'!$G$21=\"Guayas/Santa Elena\",'Tablas Guayaquil'!C38,'Tablas Resto de Ecuador'!C38)","v":4770},{"$f":"IF('INGRESO DE DATOS'!$G$21=\"Guayas/Santa Elena\",'Tablas Guayaquil'!D38,'Tablas Resto de Ecuador'!D38)","v":4150},{"$f":"IF('INGRESO DE DATOS'!$G$21=\"Guayas/Santa Elena\",'Tablas Guayaquil'!E38,'Tablas Resto de Ecuador'!E38)","v":3701},{"$f":"IF('INGRESO DE DATOS'!$G$21=\"Guayas/Santa Elena\",'Tablas Guayaquil'!F38,'Tablas Resto de Ecuador'!F38)","v":2844},{"$f":"IF('INGRESO DE DATOS'!$G$21=\"Guayas/Santa Elena\",'Tablas Guayaquil'!G38,'Tablas Resto de Ecuador'!G38)","v":1829},{"$f":"IF('INGRESO DE DATOS'!$G$21=\"Guayas/Santa Elena\",'Tablas Guayaquil'!H38,'Tablas Resto de Ecuador'!H38)","v":1220},{"$f":"IF('INGRESO DE DATOS'!$G$21=\"Guayas/Santa Elena\",'Tablas Guayaquil'!I38,'Tablas Resto de Ecuador'!I38)","v":846}]
[51,null,{"$f":"IF('INGRESO DE DATOS'!$G$21=\"Guayas/Santa Elena\",'Tablas Guayaquil'!C39,'Tablas Resto de Ecuador'!C39)","v":4919},{"$f":"IF('INGRESO DE DATOS'!$G$21=\"Guayas/Santa Elena\",'Tablas Guayaquil'!D39,'Tablas Resto de Ecuador'!D39)","v":4280},{"$f":"IF('INGRESO DE DATOS'!$G$21=\"Guayas/Santa Elena\",'Tablas Guayaquil'!E39,'Tablas Resto de Ecuador'!E39)","v":3902},{"$f":"IF('INGRESO DE DATOS'!$G$21=\"Guayas/Santa Elena\",'Tablas Guayaquil'!F39,'Tablas Resto de Ecuador'!F39)","v":3053},{"$f":"IF('INGRESO DE DATOS'!$G$21=\"Guayas/Santa Elena\",'Tablas Guayaquil'!G39,'Tablas Resto de Ecuador'!G39)","v":1974},{"$f":"IF('INGRESO DE DATOS'!$G$21=\"Guayas/Santa Elena\",'Tablas Guayaquil'!H39,'Tablas Resto de Ecuador'!H39)","v":1323},{"$f":"IF('INGRESO DE DATOS'!$G$21=\"Guayas/Santa Elena\",'Tablas Guayaquil'!I39,'Tablas Resto de Ecuador'!I39)","v":922}]
[52,null,{"$f":"IF('INGRESO DE DATOS'!$G$21=\"Guayas/Santa Elena\",'Tablas Guayaquil'!C40,'Tablas Resto de Ecuador'!C40)","v":5071},{"$f":"IF('INGRESO DE DATOS'!$G$21=\"Guayas/Santa Elena\",'Tablas Guayaquil'!D40,'Tablas Resto de Ecuador'!D40)","v":4412},{"$f":"IF('INGRESO DE DATOS'!$G$21=\"Guayas/Santa Elena\",'Tablas Guayaquil'!E40,'Tablas Resto de Ecuador'!E40)","v":4022},{"$f":"IF('INGRESO DE DATOS'!$G$21=\"Guayas/Santa Elena\",'Tablas Guayaquil'!F40,'Tablas Resto de Ecuador'!F40)","v":3278},{"$f":"IF('INGRESO DE DATOS'!$G$21=\"Guayas/Santa Elena\",'Tablas Guayaquil'!G40,'Tablas Resto de Ecuador'!G40)","v":2129},{"$f":"IF('INGRESO DE DATOS'!$G$21=\"Guayas/Santa Elena\",'Tablas Guayaquil'!H40,'Tablas Resto de Ecuador'!H40)","v":1434},{"$f":"IF('INGRESO DE DATOS'!$G$21=\"Guayas/Santa Elena\",'Tablas Guayaquil'!I40,'Tablas Resto de Ecuador'!I40)","v":1004}]
[53,null,{"$f":"IF('INGRESO DE DATOS'!$G$21=\"Guayas/Santa Elena\",'Tablas Guayaquil'!C41,'Tablas Resto de Ecuador'!C41)","v":5251},{"$f":"IF('INGRESO DE DATOS'!$G$21=\"Guayas/Santa Elena\",'Tablas Guayaquil'!D41,'Tablas Resto de Ecuador'!D41)","v":4566},{"$f":"IF('INGRESO DE DATOS'!$G$21=\"Guayas/Santa Elena\",'Tablas Guayaquil'!E41,'Tablas Resto de Ecuador'!E41)","v":4166},{"$f":"IF('INGRESO DE DATOS'!$G$21=\"Guayas/Santa Elena\",'Tablas Guayaquil'!F41,'Tablas Resto de Ecuador'!F41)","v":3519},{"$f":"IF('INGRESO DE DATOS'!$G$21=\"Guayas/Santa Elena\",'Tablas Guayaquil'!G41,'Tablas Resto de Ecuador'!G41)","v":2296},{"$f":"IF('INGRESO DE DATOS'!$G$21=\"Guayas/Santa Elena\",'Tablas Guayaquil'!H41,'Tablas Resto de Ecuador'!H41)","v":1551},{"$f":"IF('INGRESO DE DATOS'!$G$21=\"Guayas/Santa Elena\",'Tablas Guayaquil'!I41,'Tablas Resto de Ecuador'!I41)","v":1092}]
[54,null,{"$f":"IF('INGRESO DE DATOS'!$G$21=\"Guayas/Santa Elena\",'Tablas Guayaquil'!C42,'Tablas Resto de Ecuador'!C42)","v":5432},{"$f":"IF('INGRESO DE DATOS'!$G$21=\"Guayas/Santa Elena\",'Tablas Guayaquil'!D42,'Tablas Resto de Ecuador'!D42)","v":4722},{"$f":"IF('INGRESO DE DATOS'!$G$21=\"Guayas/Santa Elena\",'Tablas Guayaquil'!E42,'Tablas Resto de Ecuador'!E42)","v":4306},{"$f":"IF('INGRESO DE DATOS'!$G$21=\"Guayas/Santa Elena\",'Tablas Guayaquil'!F42,'Tablas Resto de Ecuador'!F42)","v":3779},{"$f":"IF('INGRESO DE DATOS'!$G$21=\"Guayas/Santa Elena\",'Tablas Guayaquil'!G42,'Tablas Resto de Ecuador'!G42)","v":2476},{"$f":"IF('INGRESO DE DATOS'!$G$21=\"Guayas/Santa Elena\",'Tablas Guayaquil'!H42,'Tablas Resto de Ecuador'!H42)","v":1678},{"$f":"IF('INGRESO DE DATOS'!$G$21=\"Guayas/Santa Elena\",'Tablas Guayaquil'!I42,'Tablas Resto de Ecuador'!I42)","v":1187}]
[55,null,{"$f":"IF('INGRESO DE DATOS'!$G$21=\"Guayas/Santa Elena\",'Tablas Guayaquil'!C43,'Tablas Resto de Ecuador'!C43)","v":5614},{"$f":"IF('INGRESO DE DATOS'!$G$21=\"Guayas/Santa Elena\",'Tablas Guayaquil'!D43,'Tablas Resto de Ecuador'!D43)","v":4881},{"$f":"IF('INGRESO DE DATOS'!$G$21=\"Guayas/Santa Elena\",'Tablas Guayaquil'!E43,'Tablas Resto de Ecuador'!E43)","v":4448},{"$f":"IF('INGRESO DE DATOS'!$G$21=\"Guayas/Santa Elena\",'Tablas Guayaquil'!F43,'Tablas Resto de Ecuador'!F43)","v":3925},{"$f":"IF('INGRESO DE DATOS'!$G$21=\"Guayas/Santa Elena\",'Tablas Guayaquil'!G43,'Tablas Resto de Ecuador'!G43)","v":2669},{"$f":"IF('INGRESO DE DATOS'!$G$21=\"Guayas/Santa Elena\",'Tablas Guayaquil'!H43,'Tablas Resto de Ecuador'!H43)","v":1814},{"$f":"IF('INGRESO DE DATOS'!$G$21=\"Guayas/Santa Elena\",'Tablas Guayaquil'!I43,'Tablas Resto de Ecuador'!I43)","v":1288}]
[56,null,{"$f":"IF('INGRESO DE DATOS'!$G$21=\"Guayas/Santa Elena\",'Tablas Guayaquil'!C44,'Tablas Resto de Ecuador'!C44)","v":5792},{"$f":"IF('INGRESO DE DATOS'!$G$21=\"Guayas/Santa Elena\",'Tablas Guayaquil'!D44,'Tablas Resto de Ecuador'!D44)","v":5035},{"$f":"IF('INGRESO DE DATOS'!$G$21=\"Guayas/Santa Elena\",'Tablas Guayaquil'!E44,'Tablas Resto de Ecuador'!E44)","v":4589},{"$f":"IF('INGRESO DE DATOS'!$G$21=\"Guayas/Santa Elena\",'Tablas Guayaquil'!F44,'Tablas Resto de Ecuador'!F44)","v":4060},{"$f":"IF('INGRESO DE DATOS'!$G$21=\"Guayas/Santa Elena\",'Tablas Guayaquil'!G44,'Tablas Resto de Ecuador'!G44)","v":2824},{"$f":"IF('INGRESO DE DATOS'!$G$21=\"Guayas/Santa Elena\",'Tablas Guayaquil'!H44,'Tablas Resto de Ecuador'!H44)","v":1961},{"$f":"IF('INGRESO DE DATOS'!$G$21=\"Guayas/Santa Elena\",'Tablas Guayaquil'!I44,'Tablas Resto de Ecuador'!I44)","v":1397}]
[57,null,{"$f":"IF('INGRESO DE DATOS'!$G$21=\"Guayas/Santa Elena\",'Tablas Guayaquil'!C45,'Tablas Resto de Ecuador'!C45)","v":5969},{"$f":"IF('INGRESO DE DATOS'!$G$21=\"Guayas/Santa Elena\",'Tablas Guayaquil'!D45,'Tablas Resto de Ecuador'!D45)","v":5193},{"$f":"IF('INGRESO DE DATOS'!$G$21=\"Guayas/Santa Elena\",'Tablas Guayaquil'!E45,'Tablas Resto de Ecuador'!E45)","v":4734},{"$f":"IF('INGRESO DE DATOS'!$G$21=\"Guayas/Santa Elena\",'Tablas Guayaquil'!F45,'Tablas Resto de Ecuador'!F45)","v":4197},{"$f":"IF('INGRESO DE DATOS'!$G$21=\"Guayas/Santa Elena\",'Tablas Guayaquil'!G45,'Tablas Resto de Ecuador'!G45)","v":2912},{"$f":"IF('INGRESO DE DATOS'!$G$21=\"Guayas/Santa Elena\",'Tablas Guayaquil'!H45,'Tablas Resto de Ecuador'!H45)","v":2118},{"$f":"IF('INGRESO DE DATOS'!$G$21=\"Guayas/Santa Elena\",'Tablas Guayaquil'!I45,'Tablas Resto de Ecuador'!I45)","v":1515}]
[58,null,{"$f":"IF('INGRESO DE DATOS'!$G$21=\"Guayas/Santa Elena\",'Tablas Guayaquil'!C46,'Tablas Resto de Ecuador'!C46)","v":6175},{"$f":"IF('INGRESO DE DATOS'!$G$21=\"Guayas/Santa Elena\",'Tablas Guayaquil'!D46,'Tablas Resto de Ecuador'!D46)","v":5368},{"$f":"IF('INGRESO DE DATOS'!$G$21=\"Guayas/Santa Elena\",'Tablas Guayaquil'!E46,'Tablas Resto de Ecuador'!E46)","v":4882},{"$f":"IF('INGRESO DE DATOS'!$G$21=\"Guayas/Santa Elena\",'Tablas Guayaquil'!F46,'Tablas Resto de Ecuador'!F46)","v":4377},{"$f":"IF('INGRESO DE DATOS'!$G$21=\"Guayas/Santa Elena\",'Tablas Guayaquil'!G46,'Tablas Resto de Ecuador'!G46)","v":3027},{"$f":"IF('INGRESO DE DATOS'!$G$21=\"Guayas/Santa Elena\",'Tablas Guayaquil'!H46,'Tablas Resto de Ecuador'!H46)","v":2287},{"$f":"IF('INGRESO DE DATOS'!$G$21=\"Guayas/Santa Elena\",'Tablas Guayaquil'!I46,'Tablas Resto de Ecuador'!I46)","v":1641}]
[59,null,{"$f":"IF('INGRESO DE DATOS'!$G$21=\"Guayas/Santa Elena\",'Tablas Guayaquil'!C47,'Tablas Resto de Ecuador'!C47)","v":6382},{"$f":"IF('INGRESO DE DATOS'!$G$21=\"Guayas/Santa Elena\",'Tablas Guayaquil'!D47,'Tablas Resto de Ecuador'!D47)","v":5550},{"$f":"IF('INGRESO DE DATOS'!$G$21=\"Guayas/Santa Elena\",'Tablas Guayaquil'!E47,'Tablas Resto de Ecuador'!E47)","v":5029},{"$f":"IF('INGRESO DE DATOS'!$G$21=\"Guayas/Santa Elena\",'Tablas Guayaquil'!F47,'Tablas Resto de Ecuador'!F47)","v":4553},{"$f":"IF('INGRESO DE DATOS'!$G$21=\"Guayas/Santa Elena\",'Tablas Guayaquil'!G47,'Tablas Resto de Ecuador'!G47)","v":3142},{"$f":"IF('INGRESO DE DATOS'!$G$21=\"Guayas/Santa Elena\",'Tablas Guayaquil'!H47,'Tablas Resto de Ecuador'!H47)","v":2468},{"$f":"IF('INGRESO DE DATOS'!$G$21=\"Guayas/Santa Elena\",'Tablas Guayaquil'!I47,'Tablas Resto de Ecuador'!I47)","v":1776}]
[60,null,{"$f":"IF('INGRESO DE DATOS'!$G$21=\"Guayas/Santa Elena\",'Tablas Guayaquil'!C48,'Tablas Resto de Ecuador'!C48)","v":6587},{"$f":"IF('INGRESO DE DATOS'!$G$21=\"Guayas/Santa Elena\",'Tablas Guayaquil'!D48,'Tablas Resto de Ecuador'!D48)","v":5727},{"$f":"IF('INGRESO DE DATOS'!$G$21=\"Guayas/Santa Elena\",'Tablas Guayaquil'!E48,'Tablas Resto de Ecuador'!E48)","v":5180},{"$f":"IF('INGRESO DE DATOS'!$G$21=\"Guayas/Santa Elena\",'Tablas Guayaquil'!F48,'Tablas Resto de Ecuador'!F48)","v":4731},{"$f":"IF('INGRESO DE DATOS'!$G$21=\"Guayas/Santa Elena\",'Tablas Guayaquil'!G48,'Tablas Resto de Ecuador'!G48)","v":3257},{"$f":"IF('INGRESO DE DATOS'!$G$21=\"Guayas/Santa Elena\",'Tablas Guayaquil'!H48,'Tablas Resto de Ecuador'!H48)","v":2665},{"$f":"IF('INGRESO DE DATOS'!$G$21=\"Guayas/Santa Elena\",'Tablas Guayaquil'!I48,'Tablas Resto de Ecuador'!I48)","v":1922}]
[61,null,{"$f":"IF('INGRESO DE DATOS'!$G$21=\"Guayas/Santa Elena\",'Tablas Guayaquil'!C49,'Tablas Resto de Ecuador'!C49)","v":6841},{"$f":"IF('INGRESO DE DATOS'!$G$21=\"Guayas/Santa Elena\",'Tablas Guayaquil'!D49,'Tablas Resto de Ecuador'!D49)","v":5947},{"$f":"IF('INGRESO DE DATOS'!$G$21=\"Guayas/Santa Elena\",'Tablas Guayaquil'!E49,'Tablas Resto de Ecuador'!E49)","v":5403},{"$f":"IF('INGRESO DE DATOS'!$G$21=\"Guayas/Santa Elena\",'Tablas Guayaquil'!F49,'Tablas Resto de Ecuador'!F49)","v":4908},{"$f":"IF('INGRESO DE DATOS'!$G$21=\"Guayas/Santa Elena\",'Tablas Guayaquil'!G49,'Tablas Resto de Ecuador'!G49)","v":3378},{"$f":"IF('INGRESO DE DATOS'!$G$21=\"Guayas/Santa Elena\",'Tablas Guayaquil'!H49,'Tablas Resto de Ecuador'!H49)","v":2874},{"$f":"IF('INGRESO DE DATOS'!$G$21=\"Guayas/Santa Elena\",'Tablas Guayaquil'!I49,'Tablas Resto de Ecuador'!I49)","v":2078}]
[62,null,{"$f":"IF('INGRESO DE DATOS'!$G$21=\"Guayas/Santa Elena\",'Tablas Guayaquil'!C50,'Tablas Resto de Ecuador'!C50)","v":7148},{"$f":"IF('INGRESO DE DATOS'!$G$21=\"Guayas/Santa Elena\",'Tablas Guayaquil'!D50,'Tablas Resto de Ecuador'!D50)","v":6215},{"$f":"IF('INGRESO DE DATOS'!$G$21=\"Guayas/Santa Elena\",'Tablas Guayaquil'!E50,'Tablas Resto de Ecuador'!E50)","v":5667},{"$f":"IF('INGRESO DE DATOS'!$G$21=\"Guayas/Santa Elena\",'Tablas Guayaquil'!F50,'Tablas Resto de Ecuador'!F50)","v":5129},{"$f":"IF('INGRESO DE DATOS'!$G$21=\"Guayas/Santa Elena\",'Tablas Guayaquil'!G50,'Tablas Resto de Ecuador'!G50)","v":3533},{"$f":"IF('INGRESO DE DATOS'!$G$21=\"Guayas/Santa Elena\",'Tablas Guayaquil'!H50,'Tablas Resto de Ecuador'!H50)","v":3102},{"$f":"IF('INGRESO DE DATOS'!$G$21=\"Guayas/Santa Elena\",'Tablas Guayaquil'!I50,'Tablas Resto de Ecuador'!I50)","v":2248}]
[63,null,{"$f":"IF('INGRESO DE DATOS'!$G$21=\"Guayas/Santa Elena\",'Tablas Guayaquil'!C51,'Tablas Resto de Ecuador'!C51)","v":7516},{"$f":"IF('INGRESO DE DATOS'!$G$21=\"Guayas/Santa Elena\",'Tablas Guayaquil'!D51,'Tablas Resto de Ecuador'!D51)","v":6534},{"$f":"IF('INGRESO DE DATOS'!$G$21=\"Guayas/Santa Elena\",'Tablas Guayaquil'!E51,'Tablas Resto de Ecuador'!E51)","v":5961},{"$f":"IF('INGRESO DE DATOS'!$G$21=\"Guayas/Santa Elena\",'Tablas Guayaquil'!F51,'Tablas Resto de Ecuador'!F51)","v":5393},{"$f":"IF('INGRESO DE DATOS'!$G$21=\"Guayas/Santa Elena\",'Tablas Guayaquil'!G51,'Tablas Resto de Ecuador'!G51)","v":3717},{"$f":"IF('INGRESO DE DATOS'!$G$21=\"Guayas/Santa Elena\",'Tablas Guayaquil'!H51,'Tablas Resto de Ecuador'!H51)","v":3346},{"$f":"IF('INGRESO DE DATOS'!$G$21=\"Guayas/Santa Elena\",'Tablas Guayaquil'!I51,'Tablas Resto de Ecuador'!I51)","v":2429}]
[64,null,{"$f":"IF('INGRESO DE DATOS'!$G$21=\"Guayas/Santa Elena\",'Tablas Guayaquil'!C52,'Tablas Resto de Ecuador'!C52)","v":7948},{"$f":"IF('INGRESO DE DATOS'!$G$21=\"Guayas/Santa Elena\",'Tablas Guayaquil'!D52,'Tablas Resto de Ecuador'!D52)","v":6914},{"$f":"IF('INGRESO DE DATOS'!$G$21=\"Guayas/Santa Elena\",'Tablas Guayaquil'!E52,'Tablas Resto de Ecuador'!E52)","v":6302},{"$f":"IF('INGRESO DE DATOS'!$G$21=\"Guayas/Santa Elena\",'Tablas Guayaquil'!F52,'Tablas Resto de Ecuador'!F52)","v":5704},{"$f":"IF('INGRESO DE DATOS'!$G$21=\"Guayas/Santa Elena\",'Tablas Guayaquil'!G52,'Tablas Resto de Ecuador'!G52)","v":4126},{"$f":"IF('INGRESO DE DATOS'!$G$21=\"Guayas/Santa Elena\",'Tablas Guayaquil'!H52,'Tablas Resto de Ecuador'!H52)","v":3611},{"$f":"IF('INGRESO DE DATOS'!$G$21=\"Guayas/Santa Elena\",'Tablas Guayaquil'!I52,'Tablas Resto de Ecuador'!I52)","v":2624}]
[65,null,{"$f":"IF('INGRESO DE DATOS'!$G$21=\"Guayas/Santa Elena\",'Tablas Guayaquil'!C53,'Tablas Resto de Ecuador'!C53)","v":8470},{"$f":"IF('INGRESO DE DATOS'!$G$21=\"Guayas/Santa Elena\",'Tablas Guayaquil'!D53,'Tablas Resto de Ecuador'!D53)","v":7363},{"$f":"IF('INGRESO DE DATOS'!$G$21=\"Guayas/Santa Elena\",'Tablas Guayaquil'!E53,'Tablas Resto de Ecuador'!E53)","v":6713},{"$f":"IF('INGRESO DE DATOS'!$G$21=\"Guayas/Santa Elena\",'Tablas Guayaquil'!F53,'Tablas Resto de Ecuador'!F53)","v":6130},{"$f":"IF('INGRESO DE DATOS'!$G$21=\"Guayas/Santa Elena\",'Tablas Guayaquil'!G53,'Tablas Resto de Ecuador'!G53)","v":4417},{"$f":"IF('INGRESO DE DATOS'!$G$21=\"Guayas/Santa Elena\",'Tablas Guayaquil'!H53,'Tablas Resto de Ecuador'!H53)","v":3895},{"$f":"IF('INGRESO DE DATOS'!$G$21=\"Guayas/Santa Elena\",'Tablas Guayaquil'!I53,'Tablas Resto de Ecuador'!I53)","v":2834}]
[66,null,{"$f":"IF('INGRESO DE DATOS'!$G$21=\"Guayas/Santa Elena\",'Tablas Guayaquil'!C54,'Tablas Resto de Ecuador'!C54)","v":9077},{"$f":"IF('INGRESO DE DATOS'!$G$21=\"Guayas/Santa Elena\",'Tablas Guayaquil'!D54,'Tablas Resto de Ecuador'!D54)","v":7894},{"$f":"IF('INGRESO DE DATOS'!$G$21=\"Guayas/Santa Elena\",'Tablas Guayaquil'!E54,'Tablas Resto de Ecuador'!E54)","v":7198},{"$f":"IF('INGRESO DE DATOS'!$G$21=\"Guayas/Santa Elena\",'Tablas Guayaquil'!F54,'Tablas Resto de Ecuador'!F54)","v":6619},{"$f":"IF('INGRESO DE DATOS'!$G$21=\"Guayas/Santa Elena\",'Tablas Guayaquil'!G54,'Tablas Resto de Ecuador'!G54)","v":4758},{"$f":"IF('INGRESO DE DATOS'!$G$21=\"Guayas/Santa Elena\",'Tablas Guayaquil'!H54,'Tablas Resto de Ecuador'!H54)","v":4203},{"$f":"IF('INGRESO DE DATOS'!$G$21=\"Guayas/Santa Elena\",'Tablas Guayaquil'!I54,'Tablas Resto de Ecuador'!I54)","v":3061}]
[67,null,{"$f":"IF('INGRESO DE DATOS'!$G$21=\"Guayas/Santa Elena\",'Tablas Guayaquil'!C55,'Tablas Resto de Ecuador'!C55)","v":9802},{"$f":"IF('INGRESO DE DATOS'!$G$21=\"Guayas/Santa Elena\",'Tablas Guayaquil'!D55,'Tablas Resto de Ecuador'!D55)","v":8524},{"$f":"IF('INGRESO DE DATOS'!$G$21=\"Guayas/Santa Elena\",'Tablas Guayaquil'!E55,'Tablas Resto de Ecuador'!E55)","v":7774},{"$f":"IF('INGRESO DE DATOS'!$G$21=\"Guayas/Santa Elena\",'Tablas Guayaquil'!F55,'Tablas Resto de Ecuador'!F55)","v":7154},{"$f":"IF('INGRESO DE DATOS'!$G$21=\"Guayas/Santa Elena\",'Tablas Guayaquil'!G55,'Tablas Resto de Ecuador'!G55)","v":5139},{"$f":"IF('INGRESO DE DATOS'!$G$21=\"Guayas/Santa Elena\",'Tablas Guayaquil'!H55,'Tablas Resto de Ecuador'!H55)","v":4533},{"$f":"IF('INGRESO DE DATOS'!$G$21=\"Guayas/Santa Elena\",'Tablas Guayaquil'!I55,'Tablas Resto de Ecuador'!I55)","v":3305}]
[68,null,{"$f":"IF('INGRESO DE DATOS'!$G$21=\"Guayas/Santa Elena\",'Tablas Guayaquil'!C56,'Tablas Resto de Ecuador'!C56)","v":10637},{"$f":"IF('INGRESO DE DATOS'!$G$21=\"Guayas/Santa Elena\",'Tablas Guayaquil'!D56,'Tablas Resto de Ecuador'!D56)","v":9247},{"$f":"IF('INGRESO DE DATOS'!$G$21=\"Guayas/Santa Elena\",'Tablas Guayaquil'!E56,'Tablas Resto de Ecuador'!E56)","v":8433},{"$f":"IF('INGRESO DE DATOS'!$G$21=\"Guayas/Santa Elena\",'Tablas Guayaquil'!F56,'Tablas Resto de Ecuador'!F56)","v":7757},{"$f":"IF('INGRESO DE DATOS'!$G$21=\"Guayas/Santa Elena\",'Tablas Guayaquil'!G56,'Tablas Resto de Ecuador'!G56)","v":5573},{"$f":"IF('INGRESO DE DATOS'!$G$21=\"Guayas/Santa Elena\",'Tablas Guayaquil'!H56,'Tablas Resto de Ecuador'!H56)","v":4891},{"$f":"IF('INGRESO DE DATOS'!$G$21=\"Guayas/Santa Elena\",'Tablas Guayaquil'!I56,'Tablas Resto de Ecuador'!I56)","v":3569}]
[69,null,{"$f":"IF('INGRESO DE DATOS'!$G$21=\"Guayas/Santa Elena\",'Tablas Guayaquil'!C57,'Tablas Resto de Ecuador'!C57)","v":11606},{"$f":"IF('INGRESO DE DATOS'!$G$21=\"Guayas/Santa Elena\",'Tablas Guayaquil'!D57,'Tablas Resto de Ecuador'!D57)","v":10092},{"$f":"IF('INGRESO DE DATOS'!$G$21=\"Guayas/Santa Elena\",'Tablas Guayaquil'!E57,'Tablas Resto de Ecuador'!E57)","v":9202},{"$f":"IF('INGRESO DE DATOS'!$G$21=\"Guayas/Santa Elena\",'Tablas Guayaquil'!F57,'Tablas Resto de Ecuador'!F57)","v":8471},{"$f":"IF('INGRESO DE DATOS'!$G$21=\"Guayas/Santa Elena\",'Tablas Guayaquil'!G57,'Tablas Resto de Ecuador'!G57)","v":5797},{"$f":"IF('INGRESO DE DATOS'!$G$21=\"Guayas/Santa Elena\",'Tablas Guayaquil'!H57,'Tablas Resto de Ecuador'!H57)","v":5276},{"$f":"IF('INGRESO DE DATOS'!$G$21=\"Guayas/Santa Elena\",'Tablas Guayaquil'!I57,'Tablas Resto de Ecuador'!I57)","v":3851}]
[70,null,{"$f":"IF('INGRESO DE DATOS'!$G$21=\"Guayas/Santa Elena\",'Tablas Guayaquil'!C58,'Tablas Resto de Ecuador'!C58)","v":12729},{"$f":"IF('INGRESO DE DATOS'!$G$21=\"Guayas/Santa Elena\",'Tablas Guayaquil'!D58,'Tablas Resto de Ecuador'!D58)","v":11069},{"$f":"IF('INGRESO DE DATOS'!$G$21=\"Guayas/Santa Elena\",'Tablas Guayaquil'!E58,'Tablas Resto de Ecuador'!E58)","v":10005},{"$f":"IF('INGRESO DE DATOS'!$G$21=\"Guayas/Santa Elena\",'Tablas Guayaquil'!F58,'Tablas Resto de Ecuador'!F58)","v":9427},{"$f":"IF('INGRESO DE DATOS'!$G$21=\"Guayas/Santa Elena\",'Tablas Guayaquil'!G58,'Tablas Resto de Ecuador'!G58)","v":6410},{"$f":"IF('INGRESO DE DATOS'!$G$21=\"Guayas/Santa Elena\",'Tablas Guayaquil'!H58,'Tablas Resto de Ecuador'!H58)","v":5690},{"$f":"IF('INGRESO DE DATOS'!$G$21=\"Guayas/Santa Elena\",'Tablas Guayaquil'!I58,'Tablas Resto de Ecuador'!I58)","v":4154}]
[71,null,{"$f":"IF('INGRESO DE DATOS'!$G$21=\"Guayas/Santa Elena\",'Tablas Guayaquil'!C59,'Tablas Resto de Ecuador'!C59)","v":14020},{"$f":"IF('INGRESO DE DATOS'!$G$21=\"Guayas/Santa Elena\",'Tablas Guayaquil'!D59,'Tablas Resto de Ecuador'!D59)","v":12192},{"$f":"IF('INGRESO DE DATOS'!$G$21=\"Guayas/Santa Elena\",'Tablas Guayaquil'!E59,'Tablas Resto de Ecuador'!E59)","v":11114},{"$f":"IF('INGRESO DE DATOS'!$G$21=\"Guayas/Santa Elena\",'Tablas Guayaquil'!F59,'Tablas Resto de Ecuador'!F59)","v":10380},{"$f":"IF('INGRESO DE DATOS'!$G$21=\"Guayas/Santa Elena\",'Tablas Guayaquil'!G59,'Tablas Resto de Ecuador'!G59)","v":7061},{"$f":"IF('INGRESO DE DATOS'!$G$21=\"Guayas/Santa Elena\",'Tablas Guayaquil'!H59,'Tablas Resto de Ecuador'!H59)","v":6136},{"$f":"IF('INGRESO DE DATOS'!$G$21=\"Guayas/Santa Elena\",'Tablas Guayaquil'!I59,'Tablas Resto de Ecuador'!I59)","v":4477}]
[72,null,{"$f":"IF('INGRESO DE DATOS'!$G$21=\"Guayas/Santa Elena\",'Tablas Guayaquil'!C60,'Tablas Resto de Ecuador'!C60)","v":15508},{"$f":"IF('INGRESO DE DATOS'!$G$21=\"Guayas/Santa Elena\",'Tablas Guayaquil'!D60,'Tablas Resto de Ecuador'!D60)","v":13485},{"$f":"IF('INGRESO DE DATOS'!$G$21=\"Guayas/Santa Elena\",'Tablas Guayaquil'!E60,'Tablas Resto de Ecuador'!E60)","v":12297},{"$f":"IF('INGRESO DE DATOS'!$G$21=\"Guayas/Santa Elena\",'Tablas Guayaquil'!F60,'Tablas Resto de Ecuador'!F60)","v":11488},{"$f":"IF('INGRESO DE DATOS'!$G$21=\"Guayas/Santa Elena\",'Tablas Guayaquil'!G60,'Tablas Resto de Ecuador'!G60)","v":7815},{"$f":"IF('INGRESO DE DATOS'!$G$21=\"Guayas/Santa Elena\",'Tablas Guayaquil'!H60,'Tablas Resto de Ecuador'!H60)","v":6613},{"$f":"IF('INGRESO DE DATOS'!$G$21=\"Guayas/Santa Elena\",'Tablas Guayaquil'!I60,'Tablas Resto de Ecuador'!I60)","v":4823}]
[73,null,{"$f":"IF('INGRESO DE DATOS'!$G$21=\"Guayas/Santa Elena\",'Tablas Guayaquil'!C61,'Tablas Resto de Ecuador'!C61)","v":17224},{"$f":"IF('INGRESO DE DATOS'!$G$21=\"Guayas/Santa Elena\",'Tablas Guayaquil'!D61,'Tablas Resto de Ecuador'!D61)","v":14977},{"$f":"IF('INGRESO DE DATOS'!$G$21=\"Guayas/Santa Elena\",'Tablas Guayaquil'!E61,'Tablas Resto de Ecuador'!E61)","v":13655},{"$f":"IF('INGRESO DE DATOS'!$G$21=\"Guayas/Santa Elena\",'Tablas Guayaquil'!F61,'Tablas Resto de Ecuador'!F61)","v":12753},{"$f":"IF('INGRESO DE DATOS'!$G$21=\"Guayas/Santa Elena\",'Tablas Guayaquil'!G61,'Tablas Resto de Ecuador'!G61)","v":8673},{"$f":"IF('INGRESO DE DATOS'!$G$21=\"Guayas/Santa Elena\",'Tablas Guayaquil'!H61,'Tablas Resto de Ecuador'!H61)","v":7125},{"$f":"IF('INGRESO DE DATOS'!$G$21=\"Guayas/Santa Elena\",'Tablas Guayaquil'!I61,'Tablas Resto de Ecuador'!I61)","v":5190}]
[74,null,{"$f":"IF('INGRESO DE DATOS'!$G$21=\"Guayas/Santa Elena\",'Tablas Guayaquil'!C62,'Tablas Resto de Ecuador'!C62)","v":19203},{"$f":"IF('INGRESO DE DATOS'!$G$21=\"Guayas/Santa Elena\",'Tablas Guayaquil'!D62,'Tablas Resto de Ecuador'!D62)","v":16696},{"$f":"IF('INGRESO DE DATOS'!$G$21=\"Guayas/Santa Elena\",'Tablas Guayaquil'!E62,'Tablas Resto de Ecuador'!E62)","v":15223},{"$f":"IF('INGRESO DE DATOS'!$G$21=\"Guayas/Santa Elena\",'Tablas Guayaquil'!F62,'Tablas Resto de Ecuador'!F62)","v":14221},{"$f":"IF('INGRESO DE DATOS'!$G$21=\"Guayas/Santa Elena\",'Tablas Guayaquil'!G62,'Tablas Resto de Ecuador'!G62)","v":9673},{"$f":"IF('INGRESO DE DATOS'!$G$21=\"Guayas/Santa Elena\",'Tablas Guayaquil'!H62,'Tablas Resto de Ecuador'!H62)","v":7671},{"$f":"IF('INGRESO DE DATOS'!$G$21=\"Guayas/Santa Elena\",'Tablas Guayaquil'!I62,'Tablas Resto de Ecuador'!I62)","v":5578}]
[75,null,{"$f":"IF('INGRESO DE DATOS'!$G$21=\"Guayas/Santa Elena\",'Tablas Guayaquil'!C63,'Tablas Resto de Ecuador'!C63)","v":21470},{"$f":"IF('INGRESO DE DATOS'!$G$21=\"Guayas/Santa Elena\",'Tablas Guayaquil'!D63,'Tablas Resto de Ecuador'!D63)","v":18671},{"$f":"IF('INGRESO DE DATOS'!$G$21=\"Guayas/Santa Elena\",'Tablas Guayaquil'!E63,'Tablas Resto de Ecuador'!E63)","v":16955},{"$f":"IF('INGRESO DE DATOS'!$G$21=\"Guayas/Santa Elena\",'Tablas Guayaquil'!F63,'Tablas Resto de Ecuador'!F63)","v":16001},{"$f":"IF('INGRESO DE DATOS'!$G$21=\"Guayas/Santa Elena\",'Tablas Guayaquil'!G63,'Tablas Resto de Ecuador'!G63)","v":10853},{"$f":"IF('INGRESO DE DATOS'!$G$21=\"Guayas/Santa Elena\",'Tablas Guayaquil'!H63,'Tablas Resto de Ecuador'!H63)","v":8248},{"$f":"IF('INGRESO DE DATOS'!$G$21=\"Guayas/Santa Elena\",'Tablas Guayaquil'!I63,'Tablas Resto de Ecuador'!I63)","v":5985}]
[76,null,{"$f":"IF('INGRESO DE DATOS'!$G$21=\"Guayas/Santa Elena\",'Tablas Guayaquil'!C64,'Tablas Resto de Ecuador'!C64)","v":24080},{"$f":"IF('INGRESO DE DATOS'!$G$21=\"Guayas/Santa Elena\",'Tablas Guayaquil'!D64,'Tablas Resto de Ecuador'!D64)","v":20937},{"$f":"IF('INGRESO DE DATOS'!$G$21=\"Guayas/Santa Elena\",'Tablas Guayaquil'!E64,'Tablas Resto de Ecuador'!E64)","v":19076},{"$f":"IF('INGRESO DE DATOS'!$G$21=\"Guayas/Santa Elena\",'Tablas Guayaquil'!F64,'Tablas Resto de Ecuador'!F64)","v":17941},{"$f":"IF('INGRESO DE DATOS'!$G$21=\"Guayas/Santa Elena\",'Tablas Guayaquil'!G64,'Tablas Resto de Ecuador'!G64)","v":12169},{"$f":"IF('INGRESO DE DATOS'!$G$21=\"Guayas/Santa Elena\",'Tablas Guayaquil'!H64,'Tablas Resto de Ecuador'!H64)","v":8859},{"$f":"IF('INGRESO DE DATOS'!$G$21=\"Guayas/Santa Elena\",'Tablas Guayaquil'!I64,'Tablas Resto de Ecuador'!I64)","v":6409}]
[77,null,{"$f":"IF('INGRESO DE DATOS'!$G$21=\"Guayas/Santa Elena\",'Tablas Guayaquil'!C65,'Tablas Resto de Ecuador'!C65)","v":27040},{"$f":"IF('INGRESO DE DATOS'!$G$21=\"Guayas/Santa Elena\",'Tablas Guayaquil'!D65,'Tablas Resto de Ecuador'!D65)","v":23516},{"$f":"IF('INGRESO DE DATOS'!$G$21=\"Guayas/Santa Elena\",'Tablas Guayaquil'!E65,'Tablas Resto de Ecuador'!E65)","v":21440},{"$f":"IF('INGRESO DE DATOS'!$G$21=\"Guayas/Santa Elena\",'Tablas Guayaquil'!F65,'Tablas Resto de Ecuador'!F65)","v":20003},{"$f":"IF('INGRESO DE DATOS'!$G$21=\"Guayas/Santa Elena\",'Tablas Guayaquil'!G65,'Tablas Resto de Ecuador'!G65)","v":13670},{"$f":"IF('INGRESO DE DATOS'!$G$21=\"Guayas/Santa Elena\",'Tablas Guayaquil'!H65,'Tablas Resto de Ecuador'!H65)","v":9497},{"$f":"IF('INGRESO DE DATOS'!$G$21=\"Guayas/Santa Elena\",'Tablas Guayaquil'!I65,'Tablas Resto de Ecuador'!I65)","v":6846}]
[78,null,{"$f":"IF('INGRESO DE DATOS'!$G$21=\"Guayas/Santa Elena\",'Tablas Guayaquil'!C66,'Tablas Resto de Ecuador'!C66)","v":30385},{"$f":"IF('INGRESO DE DATOS'!$G$21=\"Guayas/Santa Elena\",'Tablas Guayaquil'!D66,'Tablas Resto de Ecuador'!D66)","v":26421},{"$f":"IF('INGRESO DE DATOS'!$G$21=\"Guayas/Santa Elena\",'Tablas Guayaquil'!E66,'Tablas Resto de Ecuador'!E66)","v":24089},{"$f":"IF('INGRESO DE DATOS'!$G$21=\"Guayas/Santa Elena\",'Tablas Guayaquil'!F66,'Tablas Resto de Ecuador'!F66)","v":21457},{"$f":"IF('INGRESO DE DATOS'!$G$21=\"Guayas/Santa Elena\",'Tablas Guayaquil'!G66,'Tablas Resto de Ecuador'!G66)","v":14720},{"$f":"IF('INGRESO DE DATOS'!$G$21=\"Guayas/Santa Elena\",'Tablas Guayaquil'!H66,'Tablas Resto de Ecuador'!H66)","v":10160},{"$f":"IF('INGRESO DE DATOS'!$G$21=\"Guayas/Santa Elena\",'Tablas Guayaquil'!I66,'Tablas Resto de Ecuador'!I66)","v":7290}]
[79,null,{"$f":"IF('INGRESO DE DATOS'!$G$21=\"Guayas/Santa Elena\",'Tablas Guayaquil'!C67,'Tablas Resto de Ecuador'!C67)","v":34139},{"$f":"IF('INGRESO DE DATOS'!$G$21=\"Guayas/Santa Elena\",'Tablas Guayaquil'!D67,'Tablas Resto de Ecuador'!D67)","v":29683},{"$f":"IF('INGRESO DE DATOS'!$G$21=\"Guayas/Santa Elena\",'Tablas Guayaquil'!E67,'Tablas Resto de Ecuador'!E67)","v":27067},{"$f":"IF('INGRESO DE DATOS'!$G$21=\"Guayas/Santa Elena\",'Tablas Guayaquil'!F67,'Tablas Resto de Ecuador'!F67)","v":22983},{"$f":"IF('INGRESO DE DATOS'!$G$21=\"Guayas/Santa Elena\",'Tablas Guayaquil'!G67,'Tablas Resto de Ecuador'!G67)","v":15756},{"$f":"IF('INGRESO DE DATOS'!$G$21=\"Guayas/Santa Elena\",'Tablas Guayaquil'!H67,'Tablas Resto de Ecuador'!H67)","v":10842},{"$f":"IF('INGRESO DE DATOS'!$G$21=\"Guayas/Santa Elena\",'Tablas Guayaquil'!I67,'Tablas Resto de Ecuador'!I67)","v":7731}]
[80,"o más",{"$f":"IF('INGRESO DE DATOS'!$G$21=\"Guayas/Santa Elena\",'Tablas Guayaquil'!C68,'Tablas Resto de Ecuador'!C68)","v":38368},{"$f":"IF('INGRESO DE DATOS'!$G$21=\"Guayas/Santa Elena\",'Tablas Guayaquil'!D68,'Tablas Resto de Ecuador'!D68)","v":33594},{"$f":"IF('INGRESO DE DATOS'!$G$21=\"Guayas/Santa Elena\",'Tablas Guayaquil'!E68,'Tablas Resto de Ecuador'!E68)","v":29903},{"$f":"IF('INGRESO DE DATOS'!$G$21=\"Guayas/Santa Elena\",'Tablas Guayaquil'!F68,'Tablas Resto de Ecuador'!F68)","v":24576},{"$f":"IF('INGRESO DE DATOS'!$G$21=\"Guayas/Santa Elena\",'Tablas Guayaquil'!G68,'Tablas Resto de Ecuador'!G68)","v":16824},{"$f":"IF('INGRESO DE DATOS'!$G$21=\"Guayas/Santa Elena\",'Tablas Guayaquil'!H68,'Tablas Resto de Ecuador'!H68)","v":11531},{"$f":"IF('INGRESO DE DATOS'!$G$21=\"Guayas/Santa Elena\",'Tablas Guayaquil'!I68,'Tablas Resto de Ecuador'!I68)","v":8160}]
[1,"Hijo",{"$f":"IF('INGRESO DE DATOS'!$G$21=\"Guayas/Santa Elena\",'Tablas Guayaquil'!C69,'Tablas Resto de Ecuador'!C69)","v":1472},{"$f":"IF('INGRESO DE DATOS'!$G$21=\"Guayas/Santa Elena\",'Tablas Guayaquil'!D69,'Tablas Resto de Ecuador'!D69)","v":1280},{"$f":"IF('INGRESO DE DATOS'!$G$21=\"Guayas/Santa Elena\",'Tablas Guayaquil'!E69,'Tablas Resto de Ecuador'!E69)","v":927},{"$f":"IF('INGRESO DE DATOS'!$G$21=\"Guayas/Santa Elena\",'Tablas Guayaquil'!F69,'Tablas Resto de Ecuador'!F69)","v":635},{"$f":"IF('INGRESO DE DATOS'!$G$21=\"Guayas/Santa Elena\",'Tablas Guayaquil'!G69,'Tablas Resto de Ecuador'!G69)","v":347},{"$f":"IF('INGRESO DE DATOS'!$G$21=\"Guayas/Santa Elena\",'Tablas Guayaquil'!H69,'Tablas Resto de Ecuador'!H69)","v":198},{"$f":"IF('INGRESO DE DATOS'!$G$21=\"Guayas/Santa Elena\",'Tablas Guayaquil'!I69,'Tablas Resto de Ecuador'!I69)","v":114}]
[2,"Hijos",{"$f":"IF('INGRESO DE DATOS'!$G$21=\"Guayas/Santa Elena\",'Tablas Guayaquil'!C70,'Tablas Resto de Ecuador'!C70)","v":1741},{"$f":"IF('INGRESO DE DATOS'!$G$21=\"Guayas/Santa Elena\",'Tablas Guayaquil'!D70,'Tablas Resto de Ecuador'!D70)","v":1512},{"$f":"IF('INGRESO DE DATOS'!$G$21=\"Guayas/Santa Elena\",'Tablas Guayaquil'!E70,'Tablas Resto de Ecuador'!E70)","v":1096},{"$f":"IF('INGRESO DE DATOS'!$G$21=\"Guayas/Santa Elena\",'Tablas Guayaquil'!F70,'Tablas Resto de Ecuador'!F70)","v":752},{"$f":"IF('INGRESO DE DATOS'!$G$21=\"Guayas/Santa Elena\",'Tablas Guayaquil'!G70,'Tablas Resto de Ecuador'!G70)","v":409},{"$f":"IF('INGRESO DE DATOS'!$G$21=\"Guayas/Santa Elena\",'Tablas Guayaquil'!H70,'Tablas Resto de Ecuador'!H70)","v":235},{"$f":"IF('INGRESO DE DATOS'!$G$21=\"Guayas/Santa Elena\",'Tablas Guayaquil'!I70,'Tablas Resto de Ecuador'!I70)","v":134}]
[3,"Hijos o más",{"$f":"IF('INGRESO DE DATOS'!$G$21=\"Guayas/Santa Elena\",'Tablas Guayaquil'!C71,'Tablas Resto de Ecuador'!C71)","v":2410},{"$f":"IF('INGRESO DE DATOS'!$G$21=\"Guayas/Santa Elena\",'Tablas Guayaquil'!D71,'Tablas Resto de Ecuador'!D71)","v":2094},{"$f":"IF('INGRESO DE DATOS'!$G$21=\"Guayas/Santa Elena\",'Tablas Guayaquil'!E71,'Tablas Resto de Ecuador'!E71)","v":1518},{"$f":"IF('INGRESO DE DATOS'!$G$21=\"Guayas/Santa Elena\",'Tablas Guayaquil'!F71,'Tablas Resto de Ecuador'!F71)","v":1041},{"$f":"IF('INGRESO DE DATOS'!$G$21=\"Guayas/Santa Elena\",'Tablas Guayaquil'!G71,'Tablas Resto de Ecuador'!G71)","v":567},{"$f":"IF('INGRESO DE DATOS'!$G$21=\"Guayas/Santa Elena\",'Tablas Guayaquil'!H71,'Tablas Resto de Ecuador'!H71)","v":324},{"$f":"IF('INGRESO DE DATOS'!$G$21=\"Guayas/Santa Elena\",'Tablas Guayaquil'!I71,'Tablas Resto de Ecuador'!I71)","v":187}]
[]
["TARIFAS MENSUALES"]
["EDAD"]
[" "," ","F500-1","F500-2","F500-3","F500-4","F500-5"]
[18,null,{"$f":"IF('INGRESO DE DATOS'!$G$21=\"Guayas/Santa Elena\",'Tablas Guayaquil'!C76,'Tablas Resto de Ecuador'!C76)","v":197.16},{"$f":"IF('INGRESO DE DATOS'!$G$21=\"Guayas/Santa Elena\",'Tablas Guayaquil'!D76,'Tablas Resto de Ecuador'!D76)","v":168.62833333333333},{"$f":"IF('INGRESO DE DATOS'!$G$21=\"Guayas/Santa Elena\",'Tablas Guayaquil'!E76,'Tablas Resto de Ecuador'!E76)","v":123.49},{"$f":"IF('INGRESO DE DATOS'!$G$21=\"Guayas/Santa Elena\",'Tablas Guayaquil'!F76,'Tablas Resto de Ecuador'!F76)","v":85.153333333333336},{"$f":"IF('INGRESO DE DATOS'!$G$21=\"Guayas/Santa Elena\",'Tablas Guayaquil'!G76,'Tablas Resto de Ecuador'!G76)","v":46.198333333333331},{"$f":"IF('INGRESO DE DATOS'!$G$21=\"Guayas/Santa Elena\",'Tablas Guayaquil'!H76,'Tablas Resto de Ecuador'!H76)","v":26.588333333333335},{"$f":"IF('INGRESO DE DATOS'!$G$21=\"Guayas/Santa Elena\",'Tablas Guayaquil'!I76,'Tablas Resto de Ecuador'!I76)","v":15.281666666666666}]
[19,null,{"$f":"IF('INGRESO DE DATOS'!$G$21=\"Guayas/Santa Elena\",'Tablas Guayaquil'!C77,'Tablas Resto de Ecuador'!C77)","v":200.34},{"$f":"IF('INGRESO DE DATOS'!$G$21=\"Guayas/Santa Elena\",'Tablas Guayaquil'!D77,'Tablas Resto de Ecuador'!D77)","v":168.62833333333333},{"$f":"IF('INGRESO DE DATOS'!$G$21=\"Guayas/Santa Elena\",'Tablas Guayaquil'!E77,'Tablas Resto de Ecuador'!E77)","v":123.49},{"$f":"IF('INGRESO DE DATOS'!$G$21=\"Guayas/Santa Elena\",'Tablas Guayaquil'!F77,'Tablas Resto de Ecuador'!F77)","v":85.24166666666666},{"$f":"IF('INGRESO DE DATOS'!$G$21=\"Guayas/Santa Elena\",'Tablas Guayaquil'!G77,'Tablas Resto de Ecuador'!G77)","v":46.728333333333332},{"$f":"IF('INGRESO DE DATOS'!$G$21=\"Guayas/Santa Elena\",'Tablas Guayaquil'!H77,'Tablas Resto de Ecuador'!H77)","v":26.941666666666666},{"$f":"IF('INGRESO DE DATOS'!$G$21=\"Guayas/Santa Elena\",'Tablas Guayaquil'!I77,'Tablas Resto de Ecuador'!I77)","v":15.635}]
[20,null,{"$f":"IF('INGRESO DE DATOS'!$G$21=\"Guayas/Santa Elena\",'Tablas Guayaquil'!C78,'Tablas Resto de Ecuador'!C78)","v":203.87333333333333},{"$f":"IF('INGRESO DE DATOS'!$G$21=\"Guayas/Santa Elena\",'Tablas Guayaquil'!D78,'Tablas Resto de Ecuador'!D78)","v":168.62833333333333},{"$f":"IF('INGRESO DE DATOS'!$G$21=\"Guayas/Santa Elena\",'Tablas Guayaquil'!E78,'Tablas Resto de Ecuador'!E78)","v":123.49},{"$f":"IF('INGRESO DE DATOS'!$G$21=\"Guayas/Santa Elena\",'Tablas Guayaquil'!F78,'Tablas Resto de Ecuador'!F78)","v":85.418333333333337},{"$f":"IF('INGRESO DE DATOS'!$G$21=\"Guayas/Santa Elena\",'Tablas Guayaquil'!G78,'Tablas Resto de Ecuador'!G78)","v":47.17},{"$f":"IF('INGRESO DE DATOS'!$G$21=\"Guayas/Santa Elena\",'Tablas Guayaquil'!H78,'Tablas Resto de Ecuador'!H78)","v":27.295000000000002},{"$f":"IF('INGRESO DE DATOS'!$G$21=\"Guayas/Santa Elena\",'Tablas Guayaquil'!I78,'Tablas Resto de Ecuador'!I78)","v":15.988333333333333}]
[21,null,{"$f":"IF('INGRESO DE DATOS'!$G$21=\"Guayas/Santa Elena\",'Tablas Guayaquil'!C79,'Tablas Resto de Ecuador'!C79)","v":207.67166666666665},{"$f":"IF('INGRESO DE DATOS'!$G$21=\"Guayas/Santa Elena\",'Tablas Guayaquil'!D79,'Tablas Resto de Ecuador'!D79)","v":168.62833333333333},{"$f":"IF('INGRESO DE DATOS'!$G$21=\"Guayas/Santa Elena\",'Tablas Guayaquil'!E79,'Tablas Resto de Ecuador'!E79)","v":123.66666666666667},{"$f":"IF('INGRESO DE DATOS'!$G$21=\"Guayas/Santa Elena\",'Tablas Guayaquil'!F79,'Tablas Resto de Ecuador'!F79)","v":86.036666666666662},{"$f":"IF('INGRESO DE DATOS'!$G$21=\"Guayas/Santa Elena\",'Tablas Guayaquil'!G79,'Tablas Resto de Ecuador'!G79)","v":47.788333333333334},{"$f":"IF('INGRESO DE DATOS'!$G$21=\"Guayas/Santa Elena\",'Tablas Guayaquil'!H79,'Tablas Resto de Ecuador'!H79)","v":27.913333333333334},{"$f":"IF('INGRESO DE DATOS'!$G$21=\"Guayas/Santa Elena\",'Tablas Guayaquil'!I79,'Tablas Resto de Ecuador'!I79)","v":16.43}]
[22,null,{"$f":"IF('INGRESO DE DATOS'!$G$21=\"Guayas/Santa Elena\",'Tablas Guayaquil'!C80,'Tablas Resto de Ecuador'!C80)","v":211.02833333333334},{"$f":"IF('INGRESO DE DATOS'!$G$21=\"Guayas/Santa Elena\",'Tablas Guayaquil'!D80,'Tablas Resto de Ecuador'!D80)","v":168.62833333333333},{"$f":"IF('INGRESO DE DATOS'!$G$21=\"Guayas/Santa Elena\",'Tablas Guayaquil'!E80,'Tablas Resto de Ecuador'!E80)","v":124.02},{"$f":"IF('INGRESO DE DATOS'!$G$21=\"Guayas/Santa Elena\",'Tablas Guayaquil'!F80,'Tablas Resto de Ecuador'!F80)","v":86.743333333333339},{"$f":"IF('INGRESO DE DATOS'!$G$21=\"Guayas/Santa Elena\",'Tablas Guayaquil'!G80,'Tablas Resto de Ecuador'!G80)","v":48.494999999999997},{"$f":"IF('INGRESO DE DATOS'!$G$21=\"Guayas/Santa Elena\",'Tablas Guayaquil'!H80,'Tablas Resto de Ecuador'!H80)","v":28.443333333333332},{"$f":"IF('INGRESO DE DATOS'!$G$21=\"Guayas/Santa Elena\",'Tablas Guayaquil'!I80,'Tablas Resto de Ecuador'!I80)","v":16.871666666666666}]
[23,null,{"$f":"IF('INGRESO DE DATOS'!$G$21=\"Guayas/Santa Elena\",'Tablas Guayaquil'!C81,'Tablas Resto de Ecuador'!C81)","v":214.56166666666667},{"$f":"IF('INGRESO DE DATOS'!$G$21=\"Guayas/Santa Elena\",'Tablas Guayaquil'!D81,'Tablas Resto de Ecuador'!D81)","v":168.98166666666665},{"$f":"IF('INGRESO DE DATOS'!$G$21=\"Guayas/Santa Elena\",'Tablas Guayaquil'!E81,'Tablas Resto de Ecuador'!E81)","v":124.72666666666666},{"$f":"IF('INGRESO DE DATOS'!$G$21=\"Guayas/Santa Elena\",'Tablas Guayaquil'!F81,'Tablas Resto de Ecuador'!F81)","v":87.626666666666665},{"$f":"IF('INGRESO DE DATOS'!$G$21=\"Guayas/Santa Elena\",'Tablas Guayaquil'!G81,'Tablas Resto de Ecuador'!G81)","v":49.29},{"$f":"IF('INGRESO DE DATOS'!$G$21=\"Guayas/Santa Elena\",'Tablas Guayaquil'!H81,'Tablas Resto de Ecuador'!H81)","v":29.15},{"$f":"IF('INGRESO DE DATOS'!$G$21=\"Guayas/Santa Elena\",'Tablas Guayaquil'!I81,'Tablas Resto de Ecuador'!I81)","v":17.313333333333333}]
[24,null,{"$f":"IF('INGRESO DE DATOS'!$G$21=\"Guayas/Santa Elena\",'Tablas Guayaquil'!C82,'Tablas Resto de Ecuador'!C82)","v":215.18},{"$f":"IF('INGRESO DE DATOS'!$G$21=\"Guayas/Santa Elena\",'Tablas Guayaquil'!D82,'Tablas Resto de Ecuador'!D82)","v":169.77666666666667},{"$f":"IF('INGRESO DE DATOS'!$G$21=\"Guayas/Santa Elena\",'Tablas Guayaquil'!E82,'Tablas Resto de Ecuador'!E82)","v":125.875},{"$f":"IF('INGRESO DE DATOS'!$G$21=\"Guayas/Santa Elena\",'Tablas Guayaquil'!F82,'Tablas Resto de Ecuador'!F82)","v":88.686666666666667},{"$f":"IF('INGRESO DE DATOS'!$G$21=\"Guayas/Santa Elena\",'Tablas Guayaquil'!G82,'Tablas Resto de Ecuador'!G82)","v":50.261666666666663},{"$f":"IF('INGRESO DE DATOS'!$G$21=\"Guayas/Santa Elena\",'Tablas Guayaquil'!H82,'Tablas Resto de Ecuador'!H82)","v":29.768333333333334},{"$f":"IF('INGRESO DE DATOS'!$G$21=\"Guayas/Santa Elena\",'Tablas Guayaquil'!I82,'Tablas Resto de Ecuador'!I82)","v":17.843333333333334}]
[25,null,{"$f":"IF('INGRESO DE DATOS'!$G$21=\"Guayas/Santa Elena\",'Tablas Guayaquil'!C83,'Tablas Resto de Ecuador'!C83)","v":216.15166666666667},{"$f":"IF('INGRESO DE DATOS'!$G$21=\"Guayas/Santa Elena\",'Tablas Guayaquil'!D83,'Tablas Resto de Ecuador'!D83)","v":171.01333333333332},{"$f":"IF('INGRESO DE DATOS'!$G$21=\"Guayas/Santa Elena\",'Tablas Guayaquil'!E83,'Tablas Resto de Ecuador'!E83)","v":127.2},{"$f":"IF('INGRESO DE DATOS'!$G$21=\"Guayas/Santa Elena\",'Tablas Guayaquil'!F83,'Tablas Resto de Ecuador'!F83)","v":90.01166666666667},{"$f":"IF('INGRESO DE DATOS'!$G$21=\"Guayas/Santa Elena\",'Tablas Guayaquil'!G83,'Tablas Resto de Ecuador'!G83)","v":51.321666666666665},{"$f":"IF('INGRESO DE DATOS'!$G$21=\"Guayas/Santa Elena\",'Tablas Guayaquil'!H83,'Tablas Resto de Ecuador'!H83)","v":30.651666666666667},{"$f":"IF('INGRESO DE DATOS'!$G$21=\"Guayas/Santa Elena\",'Tablas Guayaquil'!I83,'Tablas Resto de Ecuador'!I83)","v":18.55}]
[26,null,{"$f":"IF('INGRESO DE DATOS'!$G$21=\"Guayas/Santa Elena\",'Tablas Guayaquil'!C84,'Tablas Resto de Ecuador'!C84)","v":217.74166666666667},{"$f":"IF('INGRESO DE DATOS'!$G$21=\"Guayas/Santa Elena\",'Tablas Guayaquil'!D84,'Tablas Resto de Ecuador'!D84)","v":172.69166666666666},{"$f":"IF('INGRESO DE DATOS'!$G$21=\"Guayas/Santa Elena\",'Tablas Guayaquil'!E84,'Tablas Resto de Ecuador'!E84)","v":128.96666666666667},{"$f":"IF('INGRESO DE DATOS'!$G$21=\"Guayas/Santa Elena\",'Tablas Guayaquil'!F84,'Tablas Resto de Ecuador'!F84)","v":91.601666666666659},{"$f":"IF('INGRESO DE DATOS'!$G$21=\"Guayas/Santa Elena\",'Tablas Guayaquil'!G84,'Tablas Resto de Ecuador'!G84)","v":52.47},{"$f":"IF('INGRESO DE DATOS'!$G$21=\"Guayas/Santa Elena\",'Tablas Guayaquil'!H84,'Tablas Resto de Ecuador'!H84)","v":31.535},{"$f":"IF('INGRESO DE DATOS'!$G$21=\"Guayas/Santa Elena\",'Tablas Guayaquil'!I84,'Tablas Resto de Ecuador'!I84)","v":19.079999999999998}]
[27,null,{"$f":"IF('INGRESO DE DATOS'!$G$21=\"Guayas/Santa Elena\",'Tablas Guayaquil'!C85,'Tablas Resto de Ecuador'!C85)","v":219.86166666666668},{"$f":"IF('INGRESO DE DATOS'!$G$21=\"Guayas/Santa Elena\",'Tablas Guayaquil'!D85,'Tablas Resto de Ecuador'!D85)","v":174.9},{"$f":"IF('INGRESO DE DATOS'!$G$21=\"Guayas/Santa Elena\",'Tablas Guayaquil'!E85,'Tablas Resto de Ecuador'!E85)","v":130.99833333333333},{"$f":"IF('INGRESO DE DATOS'!$G$21=\"Guayas/Santa Elena\",'Tablas Guayaquil'!F85,'Tablas Resto de Ecuador'!F85)","v":93.456666666666663},{"$f":"IF('INGRESO DE DATOS'!$G$21=\"Guayas/Santa Elena\",'Tablas Guayaquil'!G85,'Tablas Resto de Ecuador'!G85)","v":53.883333333333333},{"$f":"IF('INGRESO DE DATOS'!$G$21=\"Guayas/Santa Elena\",'Tablas Guayaquil'!H85,'Tablas Resto de Ecuador'!H85)","v":32.594999999999999},{"$f":"IF('INGRESO DE DATOS'!$G$21=\"Guayas/Santa Elena\",'Tablas Guayaquil'!I85,'Tablas Resto de Ecuador'!I85)","v":19.786666666666665}]
[28,null,{"$f":"IF('INGRESO DE DATOS'!$G$21=\"Guayas/Santa Elena\",'Tablas Guayaquil'!C86,'Tablas Resto de Ecuador'!C86)","v":222.51166666666666},{"$f":"IF('INGRESO DE DATOS'!$G$21=\"Guayas/Santa Elena\",'Tablas Guayaquil'!D86,'Tablas Resto de Ecuador'!D86)","v":177.37333333333333},{"$f":"IF('INGRESO DE DATOS'!$G$21=\"Guayas/Santa Elena\",'Tablas Guayaquil'!E86,'Tablas Resto de Ecuador'!E86)","v":133.38333333333333},{"$f":"IF('INGRESO DE DATOS'!$G$21=\"Guayas/Santa Elena\",'Tablas Guayaquil'!F86,'Tablas Resto de Ecuador'!F86)","v":95.48833333333333},{"$f":"IF('INGRESO DE DATOS'!$G$21=\"Guayas/Santa Elena\",'Tablas Guayaquil'!G86,'Tablas Resto de Ecuador'!G86)","v":55.473333333333336},{"$f":"IF('INGRESO DE DATOS'!$G$21=\"Guayas/Santa Elena\",'Tablas Guayaquil'!H86,'Tablas Resto de Ecuador'!H86)","v":33.655000000000001},{"$f":"IF('INGRESO DE DATOS'!$G$21=\"Guayas/Santa Elena\",'Tablas Guayaquil'!I86,'Tablas Resto de Ecuador'!I86)","v":20.67}]
[29,null,{"$f":"IF('INGRESO DE DATOS'!$G$21=\"Guayas/Santa Elena\",'Tablas Guayaquil'!C87,'Tablas Resto de Ecuador'!C87)","v":225.86833333333334},{"$f":"IF('INGRESO DE DATOS'!$G$21=\"Guayas/Santa Elena\",'Tablas Guayaquil'!D87,'Tablas Resto de Ecuador'!D87)","v":180.465},{"$f":"IF('INGRESO DE DATOS'!$G$21=\"Guayas/Santa Elena\",'Tablas Guayaquil'!E87,'Tablas Resto de Ecuador'!E87)","v":136.03333333333333},{"$f":"IF('INGRESO DE DATOS'!$G$21=\"Guayas/Santa Elena\",'Tablas Guayaquil'!F87,'Tablas Resto de Ecuador'!F87)","v":97.873333333333335},{"$f":"IF('INGRESO DE DATOS'!$G$21=\"Guayas/Santa Elena\",'Tablas Guayaquil'!G87,'Tablas Resto de Ecuador'!G87)","v":57.151666666666664},{"$f":"IF('INGRESO DE DATOS'!$G$21=\"Guayas/Santa Elena\",'Tablas Guayaquil'!H87,'Tablas Resto de Ecuador'!H87)","v":34.891666666666666},{"$f":"IF('INGRESO DE DATOS'!$G$21=\"Guayas/Santa Elena\",'Tablas Guayaquil'!I87,'Tablas Resto de Ecuador'!I87)","v":21.465}]
[30,null,{"$f":"IF('INGRESO DE DATOS'!$G$21=\"Guayas/Santa Elena\",'Tablas Guayaquil'!C88,'Tablas Resto de Ecuador'!C88)","v":229.66666666666666},{"$f":"IF('INGRESO DE DATOS'!$G$21=\"Guayas/Santa Elena\",'Tablas Guayaquil'!D88,'Tablas Resto de Ecuador'!D88)","v":184.08666666666667},{"$f":"IF('INGRESO DE DATOS'!$G$21=\"Guayas/Santa Elena\",'Tablas Guayaquil'!E88,'Tablas Resto de Ecuador'!E88)","v":139.30166666666668},{"$f":"IF('INGRESO DE DATOS'!$G$21=\"Guayas/Santa Elena\",'Tablas Guayaquil'!F88,'Tablas Resto de Ecuador'!F88)","v":100.435},{"$f":"IF('INGRESO DE DATOS'!$G$21=\"Guayas/Santa Elena\",'Tablas Guayaquil'!G88,'Tablas Resto de Ecuador'!G88)","v":59.006666666666668},{"$f":"IF('INGRESO DE DATOS'!$G$21=\"Guayas/Santa Elena\",'Tablas Guayaquil'!H88,'Tablas Resto de Ecuador'!H88)","v":36.12833333333333},{"$f":"IF('INGRESO DE DATOS'!$G$21=\"Guayas/Santa Elena\",'Tablas Guayaquil'!I88,'Tablas Resto de Ecuador'!I88)","v":22.436666666666667}]
[31,null,{"$f":"IF('INGRESO DE DATOS'!$G$21=\"Guayas/Santa Elena\",'Tablas Guayaquil'!C89,'Tablas Resto de Ecuador'!C89)","v":234.17166666666665},{"$f":"IF('INGRESO DE DATOS'!$G$21=\"Guayas/Santa Elena\",'Tablas Guayaquil'!D89,'Tablas Resto de Ecuador'!D89)","v":188.23833333333334},{"$f":"IF('INGRESO DE DATOS'!$G$21=\"Guayas/Santa Elena\",'Tablas Guayaquil'!E89,'Tablas Resto de Ecuador'!E89)","v":142.74666666666667},{"$f":"IF('INGRESO DE DATOS'!$G$21=\"Guayas/Santa Elena\",'Tablas Guayaquil'!F89,'Tablas Resto de Ecuador'!F89)","v":103.35},{"$f":"IF('INGRESO DE DATOS'!$G$21=\"Guayas/Santa Elena\",'Tablas Guayaquil'!G89,'Tablas Resto de Ecuador'!G89)","v":61.038333333333334},{"$f":"IF('INGRESO DE DATOS'!$G$21=\"Guayas/Santa Elena\",'Tablas Guayaquil'!H89,'Tablas Resto de Ecuador'!H89)","v":37.541666666666664},{"$f":"IF('INGRESO DE DATOS'!$G$21=\"Guayas/Santa Elena\",'Tablas Guayaquil'!I89,'Tablas Resto de Ecuador'!I89)","v":23.496666666666666}]
[32,null,{"$f":"IF('INGRESO DE DATOS'!$G$21=\"Guayas/Santa Elena\",'Tablas Guayaquil'!C90,'Tablas Resto de Ecuador'!C90)","v":239.38333333333333},{"$f":"IF('INGRESO DE DATOS'!$G$21=\"Guayas/Santa Elena\",'Tablas Guayaquil'!D90,'Tablas Resto de Ecuador'!D90)","v":192.83166666666668},{"$f":"IF('INGRESO DE DATOS'!$G$21=\"Guayas/Santa Elena\",'Tablas Guayaquil'!E90,'Tablas Resto de Ecuador'!E90)","v":146.63333333333333},{"$f":"IF('INGRESO DE DATOS'!$G$21=\"Guayas/Santa Elena\",'Tablas Guayaquil'!F90,'Tablas Resto de Ecuador'!F90)","v":106.53},{"$f":"IF('INGRESO DE DATOS'!$G$21=\"Guayas/Santa Elena\",'Tablas Guayaquil'!G90,'Tablas Resto de Ecuador'!G90)","v":63.24666666666667},{"$f":"IF('INGRESO DE DATOS'!$G$21=\"Guayas/Santa Elena\",'Tablas Guayaquil'!H90,'Tablas Resto de Ecuador'!H90)","v":39.131666666666668},{"$f":"IF('INGRESO DE DATOS'!$G$21=\"Guayas/Santa Elena\",'Tablas Guayaquil'!I90,'Tablas Resto de Ecuador'!I90)","v":24.645}]
[33,null,{"$f":"IF('INGRESO DE DATOS'!$G$21=\"Guayas/Santa Elena\",'Tablas Guayaquil'!C91,'Tablas Resto de Ecuador'!C91)","v":245.30166666666668},{"$f":"IF('INGRESO DE DATOS'!$G$21=\"Guayas/Santa Elena\",'Tablas Guayaquil'!D91,'Tablas Resto de Ecuador'!D91)","v":198.04333333333332},{"$f":"IF('INGRESO DE DATOS'!$G$21=\"Guayas/Santa Elena\",'Tablas Guayaquil'!E91,'Tablas Resto de Ecuador'!E91)","v":151.05000000000001},{"$f":"IF('INGRESO DE DATOS'!$G$21=\"Guayas/Santa Elena\",'Tablas Guayaquil'!F91,'Tablas Resto de Ecuador'!F91)","v":110.15166666666667},{"$f":"IF('INGRESO DE DATOS'!$G$21=\"Guayas/Santa Elena\",'Tablas Guayaquil'!G91,'Tablas Resto de Ecuador'!G91)","v":65.631666666666661},{"$f":"IF('INGRESO DE DATOS'!$G$21=\"Guayas/Santa Elena\",'Tablas Guayaquil'!H91,'Tablas Resto de Ecuador'!H91)","v":40.898333333333333},{"$f":"IF('INGRESO DE DATOS'!$G$21=\"Guayas/Santa Elena\",'Tablas Guayaquil'!I91,'Tablas Resto de Ecuador'!I91)","v":25.793333333333333}]
[34,null,{"$f":"IF('INGRESO DE DATOS'!$G$21=\"Guayas/Santa Elena\",'Tablas Guayaquil'!C92,'Tablas Resto de Ecuador'!C92)","v":251.75},{"$f":"IF('INGRESO DE DATOS'!$G$21=\"Guayas/Santa Elena\",'Tablas Guayaquil'!D92,'Tablas Resto de Ecuador'!D92)","v":203.69666666666666},{"$f":"IF('INGRESO DE DATOS'!$G$21=\"Guayas/Santa Elena\",'Tablas Guayaquil'!E92,'Tablas Resto de Ecuador'!E92)","v":155.90833333333333},{"$f":"IF('INGRESO DE DATOS'!$G$21=\"Guayas/Santa Elena\",'Tablas Guayaquil'!F92,'Tablas Resto de Ecuador'!F92)","v":114.03833333333333},{"$f":"IF('INGRESO DE DATOS'!$G$21=\"Guayas/Santa Elena\",'Tablas Guayaquil'!G92,'Tablas Resto de Ecuador'!G92)","v":68.37},{"$f":"IF('INGRESO DE DATOS'!$G$21=\"Guayas/Santa Elena\",'Tablas Guayaquil'!H92,'Tablas Resto de Ecuador'!H92)","v":42.664999999999999},{"$f":"IF('INGRESO DE DATOS'!$G$21=\"Guayas/Santa Elena\",'Tablas Guayaquil'!I92,'Tablas Resto de Ecuador'!I92)","v":27.206666666666667}]
[35,null,{"$f":"IF('INGRESO DE DATOS'!$G$21=\"Guayas/Santa Elena\",'Tablas Guayaquil'!C93,'Tablas Resto de Ecuador'!C93)","v":258.99333333333334},{"$f":"IF('INGRESO DE DATOS'!$G$21=\"Guayas/Santa Elena\",'Tablas Guayaquil'!D93,'Tablas Resto de Ecuador'!D93)","v":210.05666666666667},{"$f":"IF('INGRESO DE DATOS'!$G$21=\"Guayas/Santa Elena\",'Tablas Guayaquil'!E93,'Tablas Resto de Ecuador'!E93)","v":161.29666666666665},{"$f":"IF('INGRESO DE DATOS'!$G$21=\"Guayas/Santa Elena\",'Tablas Guayaquil'!F93,'Tablas Resto de Ecuador'!F93)","v":118.36666666666666},{"$f":"IF('INGRESO DE DATOS'!$G$21=\"Guayas/Santa Elena\",'Tablas Guayaquil'!G93,'Tablas Resto de Ecuador'!G93)","v":71.196666666666673},{"$f":"IF('INGRESO DE DATOS'!$G$21=\"Guayas/Santa Elena\",'Tablas Guayaquil'!H93,'Tablas Resto de Ecuador'!H93)","v":44.784999999999997},{"$f":"IF('INGRESO DE DATOS'!$G$21=\"Guayas/Santa Elena\",'Tablas Guayaquil'!I93,'Tablas Resto de Ecuador'!I93)","v":28.62}]
[36,null,{"$f":"IF('INGRESO DE DATOS'!$G$21=\"Guayas/Santa Elena\",'Tablas Guayaquil'!C94,'Tablas Resto de Ecuador'!C94)","v":267.03166666666664},{"$f":"IF('INGRESO DE DATOS'!$G$21=\"Guayas/Santa Elena\",'Tablas Guayaquil'!D94,'Tablas Resto de Ecuador'!D94)","v":217.12333333333333},{"$f":"IF('INGRESO DE DATOS'!$G$21=\"Guayas/Santa Elena\",'Tablas Guayaquil'!E94,'Tablas Resto de Ecuador'!E94)","v":167.215},{"$f":"IF('INGRESO DE DATOS'!$G$21=\"Guayas/Santa Elena\",'Tablas Guayaquil'!F94,'Tablas Resto de Ecuador'!F94)","v":122.96},{"$f":"IF('INGRESO DE DATOS'!$G$21=\"Guayas/Santa Elena\",'Tablas Guayaquil'!G94,'Tablas Resto de Ecuador'!G94)","v":74.465000000000003},{"$f":"IF('INGRESO DE DATOS'!$G$21=\"Guayas/Santa Elena\",'Tablas Guayaquil'!H94,'Tablas Resto de Ecuador'!H94)","v":46.993333333333332},{"$f":"IF('INGRESO DE DATOS'!$G$21=\"Guayas/Santa Elena\",'Tablas Guayaquil'!I94,'Tablas Resto de Ecuador'!I94)","v":30.298333333333332}]
[37,null,{"$f":"IF('INGRESO DE DATOS'!$G$21=\"Guayas/Santa Elena\",'Tablas Guayaquil'!C95,'Tablas Resto de Ecuador'!C95)","v":275.77666666666664},{"$f":"IF('INGRESO DE DATOS'!$G$21=\"Guayas/Santa Elena\",'Tablas Guayaquil'!D95,'Tablas Resto de Ecuador'!D95)","v":224.80833333333334},{"$f":"IF('INGRESO DE DATOS'!$G$21=\"Guayas/Santa Elena\",'Tablas Guayaquil'!E95,'Tablas Resto de Ecuador'!E95)","v":173.48666666666668},{"$f":"IF('INGRESO DE DATOS'!$G$21=\"Guayas/Santa Elena\",'Tablas Guayaquil'!F95,'Tablas Resto de Ecuador'!F95)","v":128.17166666666665},{"$f":"IF('INGRESO DE DATOS'!$G$21=\"Guayas/Santa Elena\",'Tablas Guayaquil'!G95,'Tablas Resto de Ecuador'!G95)","v":77.998333333333335},{"$f":"IF('INGRESO DE DATOS'!$G$21=\"Guayas/Santa Elena\",'Tablas Guayaquil'!H95,'Tablas Resto de Ecuador'!H95)","v":49.37833333333333},{"$f":"IF('INGRESO DE DATOS'!$G$21=\"Guayas/Santa Elena\",'Tablas Guayaquil'!I95,'Tablas Resto de Ecuador'!I95)","v":31.888333333333332}]
[38,null,{"$f":"IF('INGRESO DE DATOS'!$G$21=\"Guayas/Santa Elena\",'Tablas Guayaquil'!C96,'Tablas Resto de Ecuador'!C96)","v":285.40499999999997},{"$f":"IF('INGRESO DE DATOS'!$G$21=\"Guayas/Santa Elena\",'Tablas Guayaquil'!D96,'Tablas Resto de Ecuador'!D96)","v":233.2},{"$f":"IF('INGRESO DE DATOS'!$G$21=\"Guayas/Santa Elena\",'Tablas Guayaquil'!E96,'Tablas Resto de Ecuador'!E96)","v":180.465},{"$f":"IF('INGRESO DE DATOS'!$G$21=\"Guayas/Santa Elena\",'Tablas Guayaquil'!F96,'Tablas Resto de Ecuador'!F96)","v":133.64833333333334},{"$f":"IF('INGRESO DE DATOS'!$G$21=\"Guayas/Santa Elena\",'Tablas Guayaquil'!G96,'Tablas Resto de Ecuador'!G96)","v":81.708333333333329},{"$f":"IF('INGRESO DE DATOS'!$G$21=\"Guayas/Santa Elena\",'Tablas Guayaquil'!H96,'Tablas Resto de Ecuador'!H96)","v":51.94},{"$f":"IF('INGRESO DE DATOS'!$G$21=\"Guayas/Santa Elena\",'Tablas Guayaquil'!I96,'Tablas Resto de Ecuador'!I96)","v":33.831666666666663}]
[39,null,{"$f":"IF('INGRESO DE DATOS'!$G$21=\"Guayas/Santa Elena\",'Tablas Guayaquil'!C97,'Tablas Resto de Ecuador'!C97)","v":295.82833333333332},{"$f":"IF('INGRESO DE DATOS'!$G$21=\"Guayas/Santa Elena\",'Tablas Guayaquil'!D97,'Tablas Resto de Ecuador'!D97)","v":242.29833333333335},{"$f":"IF('INGRESO DE DATOS'!$G$21=\"Guayas/Santa Elena\",'Tablas Guayaquil'!E97,'Tablas Resto de Ecuador'!E97)","v":188.23833333333334},{"$f":"IF('INGRESO DE DATOS'!$G$21=\"Guayas/Santa Elena\",'Tablas Guayaquil'!F97,'Tablas Resto de Ecuador'!F97)","v":139.74333333333334},{"$f":"IF('INGRESO DE DATOS'!$G$21=\"Guayas/Santa Elena\",'Tablas Guayaquil'!G97,'Tablas Resto de Ecuador'!G97)","v":85.86},{"$f":"IF('INGRESO DE DATOS'!$G$21=\"Guayas/Santa Elena\",'Tablas Guayaquil'!H97,'Tablas Resto de Ecuador'!H97)","v":54.766666666666666},{"$f":"IF('INGRESO DE DATOS'!$G$21=\"Guayas/Santa Elena\",'Tablas Guayaquil'!I97,'Tablas Resto de Ecuador'!I97)","v":35.774999999999999}]
[40,null,{"$f":"IF('INGRESO DE DATOS'!$G$21=\"Guayas/Santa Elena\",'Tablas Guayaquil'!C98,'Tablas Resto de Ecuador'!C98)","v":304.22000000000003},{"$f":"IF('INGRESO DE DATOS'!$G$21=\"Guayas/Santa Elena\",'Tablas Guayaquil'!D98,'Tablas Resto de Ecuador'!D98)","v":252.19166666666666},{"$f":"IF('INGRESO DE DATOS'!$G$21=\"Guayas/Santa Elena\",'Tablas Guayaquil'!E98,'Tablas Resto de Ecuador'!E98)","v":196.45333333333332},{"$f":"IF('INGRESO DE DATOS'!$G$21=\"Guayas/Santa Elena\",'Tablas Guayaquil'!F98,'Tablas Resto de Ecuador'!F98)","v":146.36833333333334},{"$f":"IF('INGRESO DE DATOS'!$G$21=\"Guayas/Santa Elena\",'Tablas Guayaquil'!G98,'Tablas Resto de Ecuador'!G98)","v":90.276666666666671},{"$f":"IF('INGRESO DE DATOS'!$G$21=\"Guayas/Santa Elena\",'Tablas Guayaquil'!H98,'Tablas Resto de Ecuador'!H98)","v":57.858333333333334},{"$f":"IF('INGRESO DE DATOS'!$G$21=\"Guayas/Santa Elena\",'Tablas Guayaquil'!I98,'Tablas Resto de Ecuador'!I98)","v":38.071666666666665}]
[41,null,{"$f":"IF('INGRESO DE DATOS'!$G$21=\"Guayas/Santa Elena\",'Tablas Guayaquil'!C99,'Tablas Resto de Ecuador'!C99)","v":310.93333333333334},{"$f":"IF('INGRESO DE DATOS'!$G$21=\"Guayas/Santa Elena\",'Tablas Guayaquil'!D99,'Tablas Resto de Ecuador'!D99)","v":262.88},{"$f":"IF('INGRESO DE DATOS'!$G$21=\"Guayas/Santa Elena\",'Tablas Guayaquil'!E99,'Tablas Resto de Ecuador'!E99)","v":205.28666666666666},{"$f":"IF('INGRESO DE DATOS'!$G$21=\"Guayas/Santa Elena\",'Tablas Guayaquil'!F99,'Tablas Resto de Ecuador'!F99)","v":153.435},{"$f":"IF('INGRESO DE DATOS'!$G$21=\"Guayas/Santa Elena\",'Tablas Guayaquil'!G99,'Tablas Resto de Ecuador'!G99)","v":94.958333333333329},{"$f":"IF('INGRESO DE DATOS'!$G$21=\"Guayas/Santa Elena\",'Tablas Guayaquil'!H99,'Tablas Resto de Ecuador'!H99)","v":61.215000000000003},{"$f":"IF('INGRESO DE DATOS'!$G$21=\"Guayas/Santa Elena\",'Tablas Guayaquil'!I99,'Tablas Resto de Ecuador'!I99)","v":40.545000000000002}]
[42,null,{"$f":"IF('INGRESO DE DATOS'!$G$21=\"Guayas/Santa Elena\",'Tablas Guayaquil'!C100,'Tablas Resto de Ecuador'!C100)","v":318.35333333333335},{"$f":"IF('INGRESO DE DATOS'!$G$21=\"Guayas/Santa Elena\",'Tablas Guayaquil'!D100,'Tablas Resto de Ecuador'!D100)","v":274.71666666666664},{"$f":"IF('INGRESO DE DATOS'!$G$21=\"Guayas/Santa Elena\",'Tablas Guayaquil'!E100,'Tablas Resto de Ecuador'!E100)","v":215.00333333333333},{"$f":"IF('INGRESO DE DATOS'!$G$21=\"Guayas/Santa Elena\",'Tablas Guayaquil'!F100,'Tablas Resto de Ecuador'!F100)","v":161.20833333333334},{"$f":"IF('INGRESO DE DATOS'!$G$21=\"Guayas/Santa Elena\",'Tablas Guayaquil'!G100,'Tablas Resto de Ecuador'!G100)","v":100.25833333333334},{"$f":"IF('INGRESO DE DATOS'!$G$21=\"Guayas/Santa Elena\",'Tablas Guayaquil'!H100,'Tablas Resto de Ecuador'!H100)","v":64.836666666666673},{"$f":"IF('INGRESO DE DATOS'!$G$21=\"Guayas/Santa Elena\",'Tablas Guayaquil'!I100,'Tablas Resto de Ecuador'!I100)","v":43.195}]
[43,null,{"$f":"IF('INGRESO DE DATOS'!$G$21=\"Guayas/Santa Elena\",'Tablas Guayaquil'!C101,'Tablas Resto de Ecuador'!C101)","v":330.45499999999998},{"$f":"IF('INGRESO DE DATOS'!$G$21=\"Guayas/Santa Elena\",'Tablas Guayaquil'!D101,'Tablas Resto de Ecuador'!D101)","v":287.17166666666668},{"$f":"IF('INGRESO DE DATOS'!$G$21=\"Guayas/Santa Elena\",'Tablas Guayaquil'!E101,'Tablas Resto de Ecuador'!E101)","v":225.42666666666668},{"$f":"IF('INGRESO DE DATOS'!$G$21=\"Guayas/Santa Elena\",'Tablas Guayaquil'!F101,'Tablas Resto de Ecuador'!F101)","v":169.6},{"$f":"IF('INGRESO DE DATOS'!$G$21=\"Guayas/Santa Elena\",'Tablas Guayaquil'!G101,'Tablas Resto de Ecuador'!G101)","v":105.91166666666666},{"$f":"IF('INGRESO DE DATOS'!$G$21=\"Guayas/Santa Elena\",'Tablas Guayaquil'!H101,'Tablas Resto de Ecuador'!H101)","v":68.811666666666667},{"$f":"IF('INGRESO DE DATOS'!$G$21=\"Guayas/Santa Elena\",'Tablas Guayaquil'!I101,'Tablas Resto de Ecuador'!I101)","v":46.021666666666668}]
[44,null,{"$f":"IF('INGRESO DE DATOS'!$G$21=\"Guayas/Santa Elena\",'Tablas Guayaquil'!C102,'Tablas Resto de Ecuador'!C102)","v":343.17500000000001},{"$f":"IF('INGRESO DE DATOS'!$G$21=\"Guayas/Santa Elena\",'Tablas Guayaquil'!D102,'Tablas Resto de Ecuador'!D102)","v":298.56666666666666},{"$f":"IF('INGRESO DE DATOS'!$G$21=\"Guayas/Santa Elena\",'Tablas Guayaquil'!E102,'Tablas Resto de Ecuador'!E102)","v":236.73333333333332},{"$f":"IF('INGRESO DE DATOS'!$G$21=\"Guayas/Santa Elena\",'Tablas Guayaquil'!F102,'Tablas Resto de Ecuador'!F102)","v":178.61},{"$f":"IF('INGRESO DE DATOS'!$G$21=\"Guayas/Santa Elena\",'Tablas Guayaquil'!G102,'Tablas Resto de Ecuador'!G102)","v":112.00666666666666},{"$f":"IF('INGRESO DE DATOS'!$G$21=\"Guayas/Santa Elena\",'Tablas Guayaquil'!H102,'Tablas Resto de Ecuador'!H102)","v":73.051666666666662},{"$f":"IF('INGRESO DE DATOS'!$G$21=\"Guayas/Santa Elena\",'Tablas Guayaquil'!I102,'Tablas Resto de Ecuador'!I102)","v":49.201666666666668}]
[45,null,{"$f":"IF('INGRESO DE DATOS'!$G$21=\"Guayas/Santa Elena\",'Tablas Guayaquil'!C103,'Tablas Resto de Ecuador'!C103)","v":355.98333333333335},{"$f":"IF('INGRESO DE DATOS'!$G$21=\"Guayas/Santa Elena\",'Tablas Guayaquil'!D103,'Tablas Resto de Ecuador'!D103)","v":309.43166666666667},{"$f":"IF('INGRESO DE DATOS'!$G$21=\"Guayas/Santa Elena\",'Tablas Guayaquil'!E103,'Tablas Resto de Ecuador'!E103)","v":249.01166666666666},{"$f":"IF('INGRESO DE DATOS'!$G$21=\"Guayas/Santa Elena\",'Tablas Guayaquil'!F103,'Tablas Resto de Ecuador'!F103)","v":188.41499999999999},{"$f":"IF('INGRESO DE DATOS'!$G$21=\"Guayas/Santa Elena\",'Tablas Guayaquil'!G103,'Tablas Resto de Ecuador'!G103)","v":118.54333333333334},{"$f":"IF('INGRESO DE DATOS'!$G$21=\"Guayas/Santa Elena\",'Tablas Guayaquil'!H103,'Tablas Resto de Ecuador'!H103)","v":77.644999999999996},{"$f":"IF('INGRESO DE DATOS'!$G$21=\"Guayas/Santa Elena\",'Tablas Guayaquil'!I103,'Tablas Resto de Ecuador'!I103)","v":52.47}]
[46,null,{"$f":"IF('INGRESO DE DATOS'!$G$21=\"Guayas/Santa Elena\",'Tablas Guayaquil'!C104,'Tablas Resto de Ecuador'!C104)","v":368.52666666666664},{"$f":"IF('INGRESO DE DATOS'!$G$21=\"Guayas/Santa Elena\",'Tablas Guayaquil'!D104,'Tablas Resto de Ecuador'!D104)","v":320.47333333333336},{"$f":"IF('INGRESO DE DATOS'!$G$21=\"Guayas/Santa Elena\",'Tablas Guayaquil'!E104,'Tablas Resto de Ecuador'!E104)","v":262.17333333333335},{"$f":"IF('INGRESO DE DATOS'!$G$21=\"Guayas/Santa Elena\",'Tablas Guayaquil'!F104,'Tablas Resto de Ecuador'!F104)","v":198.92666666666668},{"$f":"IF('INGRESO DE DATOS'!$G$21=\"Guayas/Santa Elena\",'Tablas Guayaquil'!G104,'Tablas Resto de Ecuador'!G104)","v":125.875},{"$f":"IF('INGRESO DE DATOS'!$G$21=\"Guayas/Santa Elena\",'Tablas Guayaquil'!H104,'Tablas Resto de Ecuador'!H104)","v":82.68},{"$f":"IF('INGRESO DE DATOS'!$G$21=\"Guayas/Santa Elena\",'Tablas Guayaquil'!I104,'Tablas Resto de Ecuador'!I104)","v":56.18}]
[47,null,{"$f":"IF('INGRESO DE DATOS'!$G$21=\"Guayas/Santa Elena\",'Tablas Guayaquil'!C105,'Tablas Resto de Ecuador'!C105)","v":381.33499999999998},{"$f":"IF('INGRESO DE DATOS'!$G$21=\"Guayas/Santa Elena\",'Tablas Guayaquil'!D105,'Tablas Resto de Ecuador'!D105)","v":331.42666666666668},{"$f":"IF('INGRESO DE DATOS'!$G$21=\"Guayas/Santa Elena\",'Tablas Guayaquil'!E105,'Tablas Resto de Ecuador'!E105)","v":276.21833333333331},{"$f":"IF('INGRESO DE DATOS'!$G$21=\"Guayas/Santa Elena\",'Tablas Guayaquil'!F105,'Tablas Resto de Ecuador'!F105)","v":210.23333333333332},{"$f":"IF('INGRESO DE DATOS'!$G$21=\"Guayas/Santa Elena\",'Tablas Guayaquil'!G105,'Tablas Resto de Ecuador'!G105)","v":133.47166666666666},{"$f":"IF('INGRESO DE DATOS'!$G$21=\"Guayas/Santa Elena\",'Tablas Guayaquil'!H105,'Tablas Resto de Ecuador'!H105)","v":87.98},{"$f":"IF('INGRESO DE DATOS'!$G$21=\"Guayas/Santa Elena\",'Tablas Guayaquil'!I105,'Tablas Resto de Ecuador'!I105)","v":60.155000000000001}]
[48,null,{"$f":"IF('INGRESO DE DATOS'!$G$21=\"Guayas/Santa Elena\",'Tablas Guayaquil'!C106,'Tablas Resto de Ecuador'!C106)","v":394.85},{"$f":"IF('INGRESO DE DATOS'!$G$21=\"Guayas/Santa Elena\",'Tablas Guayaquil'!D106,'Tablas Resto de Ecuador'!D106)","v":343.17500000000001},{"$f":"IF('INGRESO DE DATOS'!$G$21=\"Guayas/Santa Elena\",'Tablas Guayaquil'!E106,'Tablas Resto de Ecuador'!E106)","v":291.58833333333331},{"$f":"IF('INGRESO DE DATOS'!$G$21=\"Guayas/Santa Elena\",'Tablas Guayaquil'!F106,'Tablas Resto de Ecuador'!F106)","v":222.51166666666666},{"$f":"IF('INGRESO DE DATOS'!$G$21=\"Guayas/Santa Elena\",'Tablas Guayaquil'!G106,'Tablas Resto de Ecuador'!G106)","v":141.95166666666665},{"$f":"IF('INGRESO DE DATOS'!$G$21=\"Guayas/Santa Elena\",'Tablas Guayaquil'!H106,'Tablas Resto de Ecuador'!H106)","v":93.898333333333326},{"$f":"IF('INGRESO DE DATOS'!$G$21=\"Guayas/Santa Elena\",'Tablas Guayaquil'!I106,'Tablas Resto de Ecuador'!I106)","v":64.571666666666673}]
[49,null,{"$f":"IF('INGRESO DE DATOS'!$G$21=\"Guayas/Santa Elena\",'Tablas Guayaquil'!C107,'Tablas Resto de Ecuador'!C107)","v":408.01166666666666},{"$f":"IF('INGRESO DE DATOS'!$G$21=\"Guayas/Santa Elena\",'Tablas Guayaquil'!D107,'Tablas Resto de Ecuador'!D107)","v":354.74666666666667},{"$f":"IF('INGRESO DE DATOS'!$G$21=\"Guayas/Santa Elena\",'Tablas Guayaquil'!E107,'Tablas Resto de Ecuador'!E107)","v":308.01833333333332},{"$f":"IF('INGRESO DE DATOS'!$G$21=\"Guayas/Santa Elena\",'Tablas Guayaquil'!F107,'Tablas Resto de Ecuador'!F107)","v":235.85},{"$f":"IF('INGRESO DE DATOS'!$G$21=\"Guayas/Santa Elena\",'Tablas Guayaquil'!G107,'Tablas Resto de Ecuador'!G107)","v":150.96166666666667},{"$f":"IF('INGRESO DE DATOS'!$G$21=\"Guayas/Santa Elena\",'Tablas Guayaquil'!H107,'Tablas Resto de Ecuador'!H107)","v":100.435},{"$f":"IF('INGRESO DE DATOS'!$G$21=\"Guayas/Santa Elena\",'Tablas Guayaquil'!I107,'Tablas Resto de Ecuador'!I107)","v":69.165000000000006}]
[50,null,{"$f":"IF('INGRESO DE DATOS'!$G$21=\"Guayas/Santa Elena\",'Tablas Guayaquil'!C108,'Tablas Resto de Ecuador'!C108)","v":421.35},{"$f":"IF('INGRESO DE DATOS'!$G$21=\"Guayas/Santa Elena\",'Tablas Guayaquil'!D108,'Tablas Resto de Ecuador'!D108)","v":366.58333333333331},{"$f":"IF('INGRESO DE DATOS'!$G$21=\"Guayas/Santa Elena\",'Tablas Guayaquil'!E108,'Tablas Resto de Ecuador'!E108)","v":326.92166666666668},{"$f":"IF('INGRESO DE DATOS'!$G$21=\"Guayas/Santa Elena\",'Tablas Guayaquil'!F108,'Tablas Resto de Ecuador'!F108)","v":251.22},{"$f":"IF('INGRESO DE DATOS'!$G$21=\"Guayas/Santa Elena\",'Tablas Guayaquil'!G108,'Tablas Resto de Ecuador'!G108)","v":161.56166666666667},{"$f":"IF('INGRESO DE DATOS'!$G$21=\"Guayas/Santa Elena\",'Tablas Guayaquil'!H108,'Tablas Resto de Ecuador'!H108)","v":107.76666666666667},{"$f":"IF('INGRESO DE DATOS'!$G$21=\"Guayas/Santa Elena\",'Tablas Guayaquil'!I108,'Tablas Resto de Ecuador'!I108)","v":74.73}]
[51,null,{"$f":"IF('INGRESO DE DATOS'!$G$21=\"Guayas/Santa Elena\",'Tablas Guayaquil'!C109,'Tablas Resto de Ecuador'!C109)","v":434.51166666666666},{"$f":"IF('INGRESO DE DATOS'!$G$21=\"Guayas/Santa Elena\",'Tablas Guayaquil'!D109,'Tablas Resto de Ecuador'!D109)","v":378.06666666666666},{"$f":"IF('INGRESO DE DATOS'!$G$21=\"Guayas/Santa Elena\",'Tablas Guayaquil'!E109,'Tablas Resto de Ecuador'!E109)","v":344.67666666666668},{"$f":"IF('INGRESO DE DATOS'!$G$21=\"Guayas/Santa Elena\",'Tablas Guayaquil'!F109,'Tablas Resto de Ecuador'!F109)","v":269.68166666666667},{"$f":"IF('INGRESO DE DATOS'!$G$21=\"Guayas/Santa Elena\",'Tablas Guayaquil'!G109,'Tablas Resto de Ecuador'!G109)","v":174.37},{"$f":"IF('INGRESO DE DATOS'!$G$21=\"Guayas/Santa Elena\",'Tablas Guayaquil'!H109,'Tablas Resto de Ecuador'!H109)","v":116.86499999999999},{"$f":"IF('INGRESO DE DATOS'!$G$21=\"Guayas/Santa Elena\",'Tablas Guayaquil'!I109,'Tablas Resto de Ecuador'!I109)","v":81.443333333333328}]
[52,null,{"$f":"IF('INGRESO DE DATOS'!$G$21=\"Guayas/Santa Elena\",'Tablas Guayaquil'!C110,'Tablas Resto de Ecuador'!C110)","v":447.93833333333333},{"$f":"IF('INGRESO DE DATOS'!$G$21=\"Guayas/Santa Elena\",'Tablas Guayaquil'!D110,'Tablas Resto de Ecuador'!D110)","v":389.72666666666669},{"$f":"IF('INGRESO DE DATOS'!$G$21=\"Guayas/Santa Elena\",'Tablas Guayaquil'!E110,'Tablas Resto de Ecuador'!E110)","v":355.27666666666664},{"$f":"IF('INGRESO DE DATOS'!$G$21=\"Guayas/Santa Elena\",'Tablas Guayaquil'!F110,'Tablas Resto de Ecuador'!F110)","v":289.55666666666667},{"$f":"IF('INGRESO DE DATOS'!$G$21=\"Guayas/Santa Elena\",'Tablas Guayaquil'!G110,'Tablas Resto de Ecuador'!G110)","v":188.06166666666667},{"$f":"IF('INGRESO DE DATOS'!$G$21=\"Guayas/Santa Elena\",'Tablas Guayaquil'!H110,'Tablas Resto de Ecuador'!H110)","v":126.67},{"$f":"IF('INGRESO DE DATOS'!$G$21=\"Guayas/Santa Elena\",'Tablas Guayaquil'!I110,'Tablas Resto de Ecuador'!I110)","v":88.686666666666667}]
[53,null,{"$f":"IF('INGRESO DE DATOS'!$G$21=\"Guayas/Santa Elena\",'Tablas Guayaquil'!C111,'Tablas Resto de Ecuador'!C111)","v":463.83833333333331},{"$f":"IF('INGRESO DE DATOS'!$G$21=\"Guayas/Santa Elena\",'Tablas Guayaquil'!D111,'Tablas Resto de Ecuador'!D111)","v":403.33},{"$f":"IF('INGRESO DE DATOS'!$G$21=\"Guayas/Santa Elena\",'Tablas Guayaquil'!E111,'Tablas Resto de Ecuador'!E111)","v":367.99666666666667},{"$f":"IF('INGRESO DE DATOS'!$G$21=\"Guayas/Santa Elena\",'Tablas Guayaquil'!F111,'Tablas Resto de Ecuador'!F111)","v":310.84500000000003},{"$f":"IF('INGRESO DE DATOS'!$G$21=\"Guayas/Santa Elena\",'Tablas Guayaquil'!G111,'Tablas Resto de Ecuador'!G111)","v":202.81333333333333},{"$f":"IF('INGRESO DE DATOS'!$G$21=\"Guayas/Santa Elena\",'Tablas Guayaquil'!H111,'Tablas Resto de Ecuador'!H111)","v":137.005},{"$f":"IF('INGRESO DE DATOS'!$G$21=\"Guayas/Santa Elena\",'Tablas Guayaquil'!I111,'Tablas Resto de Ecuador'!I111)","v":96.46}]
[54,null,{"$f":"IF('INGRESO DE DATOS'!$G$21=\"Guayas/Santa Elena\",'Tablas Guayaquil'!C112,'Tablas Resto de Ecuador'!C112)","v":479.82666666666665},{"$f":"IF('INGRESO DE DATOS'!$G$21=\"Guayas/Santa Elena\",'Tablas Guayaquil'!D112,'Tablas Resto de Ecuador'!D112)","v":417.11},{"$f":"IF('INGRESO DE DATOS'!$G$21=\"Guayas/Santa Elena\",'Tablas Guayaquil'!E112,'Tablas Resto de Ecuador'!E112)","v":380.36333333333334},{"$f":"IF('INGRESO DE DATOS'!$G$21=\"Guayas/Santa Elena\",'Tablas Guayaquil'!F112,'Tablas Resto de Ecuador'!F112)","v":333.81166666666667},{"$f":"IF('INGRESO DE DATOS'!$G$21=\"Guayas/Santa Elena\",'Tablas Guayaquil'!G112,'Tablas Resto de Ecuador'!G112)","v":218.71333333333334},{"$f":"IF('INGRESO DE DATOS'!$G$21=\"Guayas/Santa Elena\",'Tablas Guayaquil'!H112,'Tablas Resto de Ecuador'!H112)","v":148.22333333333333},{"$f":"IF('INGRESO DE DATOS'!$G$21=\"Guayas/Santa Elena\",'Tablas Guayaquil'!I112,'Tablas Resto de Ecuador'!I112)","v":104.85166666666666}]
[55,null,{"$f":"IF('INGRESO DE DATOS'!$G$21=\"Guayas/Santa Elena\",'Tablas Guayaquil'!C113,'Tablas Resto de Ecuador'!C113)","v":495.90333333333331},{"$f":"IF('INGRESO DE DATOS'!$G$21=\"Guayas/Santa Elena\",'Tablas Guayaquil'!D113,'Tablas Resto de Ecuador'!D113)","v":431.15499999999997},{"$f":"IF('INGRESO DE DATOS'!$G$21=\"Guayas/Santa Elena\",'Tablas Guayaquil'!E113,'Tablas Resto de Ecuador'!E113)","v":392.90666666666664},{"$f":"IF('INGRESO DE DATOS'!$G$21=\"Guayas/Santa Elena\",'Tablas Guayaquil'!F113,'Tablas Resto de Ecuador'!F113)","v":346.70833333333331},{"$f":"IF('INGRESO DE DATOS'!$G$21=\"Guayas/Santa Elena\",'Tablas Guayaquil'!G113,'Tablas Resto de Ecuador'!G113)","v":235.76166666666666},{"$f":"IF('INGRESO DE DATOS'!$G$21=\"Guayas/Santa Elena\",'Tablas Guayaquil'!H113,'Tablas Resto de Ecuador'!H113)","v":160.23666666666668},{"$f":"IF('INGRESO DE DATOS'!$G$21=\"Guayas/Santa Elena\",'Tablas Guayaquil'!I113,'Tablas Resto de Ecuador'!I113)","v":113.77333333333333}]
[56,null,{"$f":"IF('INGRESO DE DATOS'!$G$21=\"Guayas/Santa Elena\",'Tablas Guayaquil'!C114,'Tablas Resto de Ecuador'!C114)","v":511.62666666666667},{"$f":"IF('INGRESO DE DATOS'!$G$21=\"Guayas/Santa Elena\",'Tablas Guayaquil'!D114,'Tablas Resto de Ecuador'!D114)","v":444.75833333333333},{"$f":"IF('INGRESO DE DATOS'!$G$21=\"Guayas/Santa Elena\",'Tablas Guayaquil'!E114,'Tablas Resto de Ecuador'!E114)","v":405.36166666666668},{"$f":"IF('INGRESO DE DATOS'!$G$21=\"Guayas/Santa Elena\",'Tablas Guayaquil'!F114,'Tablas Resto de Ecuador'!F114)","v":358.63333333333333},{"$f":"IF('INGRESO DE DATOS'!$G$21=\"Guayas/Santa Elena\",'Tablas Guayaquil'!G114,'Tablas Resto de Ecuador'!G114)","v":249.45333333333332},{"$f":"IF('INGRESO DE DATOS'!$G$21=\"Guayas/Santa Elena\",'Tablas Guayaquil'!H114,'Tablas Resto de Ecuador'!H114)","v":173.22166666666666},{"$f":"IF('INGRESO DE DATOS'!$G$21=\"Guayas/Santa Elena\",'Tablas Guayaquil'!I114,'Tablas Resto de Ecuador'!I114)","v":123.40166666666667}]
[57,null,{"$f":"IF('INGRESO DE DATOS'!$G$21=\"Guayas/Santa Elena\",'Tablas Guayaquil'!C115,'Tablas Resto de Ecuador'!C115)","v":527.26166666666666},{"$f":"IF('INGRESO DE DATOS'!$G$21=\"Guayas/Santa Elena\",'Tablas Guayaquil'!D115,'Tablas Resto de Ecuador'!D115)","v":458.71499999999997},{"$f":"IF('INGRESO DE DATOS'!$G$21=\"Guayas/Santa Elena\",'Tablas Guayaquil'!E115,'Tablas Resto de Ecuador'!E115)","v":418.17},{"$f":"IF('INGRESO DE DATOS'!$G$21=\"Guayas/Santa Elena\",'Tablas Guayaquil'!F115,'Tablas Resto de Ecuador'!F115)","v":370.73500000000001},{"$f":"IF('INGRESO DE DATOS'!$G$21=\"Guayas/Santa Elena\",'Tablas Guayaquil'!G115,'Tablas Resto de Ecuador'!G115)","v":257.22666666666669},{"$f":"IF('INGRESO DE DATOS'!$G$21=\"Guayas/Santa Elena\",'Tablas Guayaquil'!H115,'Tablas Resto de Ecuador'!H115)","v":187.09},{"$f":"IF('INGRESO DE DATOS'!$G$21=\"Guayas/Santa Elena\",'Tablas Guayaquil'!I115,'Tablas Resto de Ecuador'!I115)","v":133.82499999999999}]
[58,null,{"$f":"IF('INGRESO DE DATOS'!$G$21=\"Guayas/Santa Elena\",'Tablas Guayaquil'!C116,'Tablas Resto de Ecuador'!C116)","v":545.45833333333337},{"$f":"IF('INGRESO DE DATOS'!$G$21=\"Guayas/Santa Elena\",'Tablas Guayaquil'!D116,'Tablas Resto de Ecuador'!D116)","v":474.17333333333335},{"$f":"IF('INGRESO DE DATOS'!$G$21=\"Guayas/Santa Elena\",'Tablas Guayaquil'!E116,'Tablas Resto de Ecuador'!E116)","v":431.24333333333334},{"$f":"IF('INGRESO DE DATOS'!$G$21=\"Guayas/Santa Elena\",'Tablas Guayaquil'!F116,'Tablas Resto de Ecuador'!F116)","v":386.63499999999999},{"$f":"IF('INGRESO DE DATOS'!$G$21=\"Guayas/Santa Elena\",'Tablas Guayaquil'!G116,'Tablas Resto de Ecuador'!G116)","v":267.38499999999999},{"$f":"IF('INGRESO DE DATOS'!$G$21=\"Guayas/Santa Elena\",'Tablas Guayaquil'!H116,'Tablas Resto de Ecuador'!H116)","v":202.01833333333335},{"$f":"IF('INGRESO DE DATOS'!$G$21=\"Guayas/Santa Elena\",'Tablas Guayaquil'!I116,'Tablas Resto de Ecuador'!I116)","v":144.95500000000001}]
[59,null,{"$f":"IF('INGRESO DE DATOS'!$G$21=\"Guayas/Santa Elena\",'Tablas Guayaquil'!C117,'Tablas Resto de Ecuador'!C117)","v":563.74333333333334},{"$f":"IF('INGRESO DE DATOS'!$G$21=\"Guayas/Santa Elena\",'Tablas Guayaquil'!D117,'Tablas Resto de Ecuador'!D117)","v":490.25},{"$f":"IF('INGRESO DE DATOS'!$G$21=\"Guayas/Santa Elena\",'Tablas Guayaquil'!E117,'Tablas Resto de Ecuador'!E117)","v":444.22833333333335},{"$f":"IF('INGRESO DE DATOS'!$G$21=\"Guayas/Santa Elena\",'Tablas Guayaquil'!F117,'Tablas Resto de Ecuador'!F117)","v":402.18166666666667},{"$f":"IF('INGRESO DE DATOS'!$G$21=\"Guayas/Santa Elena\",'Tablas Guayaquil'!G117,'Tablas Resto de Ecuador'!G117)","v":277.54333333333335},{"$f":"IF('INGRESO DE DATOS'!$G$21=\"Guayas/Santa Elena\",'Tablas Guayaquil'!H117,'Tablas Resto de Ecuador'!H117)","v":218.00666666666666},{"$f":"IF('INGRESO DE DATOS'!$G$21=\"Guayas/Santa Elena\",'Tablas Guayaquil'!I117,'Tablas Resto de Ecuador'!I117)","v":156.88}]
[60,null,{"$f":"IF('INGRESO DE DATOS'!$G$21=\"Guayas/Santa Elena\",'Tablas Guayaquil'!C118,'Tablas Resto de Ecuador'!C118)","v":581.85166666666669},{"$f":"IF('INGRESO DE DATOS'!$G$21=\"Guayas/Santa Elena\",'Tablas Guayaquil'!D118,'Tablas Resto de Ecuador'!D118)","v":505.88499999999999},{"$f":"IF('INGRESO DE DATOS'!$G$21=\"Guayas/Santa Elena\",'Tablas Guayaquil'!E118,'Tablas Resto de Ecuador'!E118)","v":457.56666666666666},{"$f":"IF('INGRESO DE DATOS'!$G$21=\"Guayas/Santa Elena\",'Tablas Guayaquil'!F118,'Tablas Resto de Ecuador'!F118)","v":417.90499999999997},{"$f":"IF('INGRESO DE DATOS'!$G$21=\"Guayas/Santa Elena\",'Tablas Guayaquil'!G118,'Tablas Resto de Ecuador'!G118)","v":287.70166666666665},{"$f":"IF('INGRESO DE DATOS'!$G$21=\"Guayas/Santa Elena\",'Tablas Guayaquil'!H118,'Tablas Resto de Ecuador'!H118)","v":235.40833333333333},{"$f":"IF('INGRESO DE DATOS'!$G$21=\"Guayas/Santa Elena\",'Tablas Guayaquil'!I118,'Tablas Resto de Ecuador'!I118)","v":169.77666666666667}]
[61,null,{"$f":"IF('INGRESO DE DATOS'!$G$21=\"Guayas/Santa Elena\",'Tablas Guayaquil'!C119,'Tablas Resto de Ecuador'!C119)","v":604.2883333333333},{"$f":"IF('INGRESO DE DATOS'!$G$21=\"Guayas/Santa Elena\",'Tablas Guayaquil'!D119,'Tablas Resto de Ecuador'!D119)","v":525.31833333333338},{"$f":"IF('INGRESO DE DATOS'!$G$21=\"Guayas/Santa Elena\",'Tablas Guayaquil'!E119,'Tablas Resto de Ecuador'!E119)","v":477.26499999999999},{"$f":"IF('INGRESO DE DATOS'!$G$21=\"Guayas/Santa Elena\",'Tablas Guayaquil'!F119,'Tablas Resto de Ecuador'!F119)","v":433.54},{"$f":"IF('INGRESO DE DATOS'!$G$21=\"Guayas/Santa Elena\",'Tablas Guayaquil'!G119,'Tablas Resto de Ecuador'!G119)","v":298.39},{"$f":"IF('INGRESO DE DATOS'!$G$21=\"Guayas/Santa Elena\",'Tablas Guayaquil'!H119,'Tablas Resto de Ecuador'!H119)","v":253.87},{"$f":"IF('INGRESO DE DATOS'!$G$21=\"Guayas/Santa Elena\",'Tablas Guayaquil'!I119,'Tablas Resto de Ecuador'!I119)","v":183.55666666666667}]
[62,null,{"$f":"IF('INGRESO DE DATOS'!$G$21=\"Guayas/Santa Elena\",'Tablas Guayaquil'!C120,'Tablas Resto de Ecuador'!C120)","v":631.40666666666664},{"$f":"IF('INGRESO DE DATOS'!$G$21=\"Guayas/Santa Elena\",'Tablas Guayaquil'!D120,'Tablas Resto de Ecuador'!D120)","v":548.99166666666667},{"$f":"IF('INGRESO DE DATOS'!$G$21=\"Guayas/Santa Elena\",'Tablas Guayaquil'!E120,'Tablas Resto de Ecuador'!E120)","v":500.58499999999998},{"$f":"IF('INGRESO DE DATOS'!$G$21=\"Guayas/Santa Elena\",'Tablas Guayaquil'!F120,'Tablas Resto de Ecuador'!F120)","v":453.06166666666667},{"$f":"IF('INGRESO DE DATOS'!$G$21=\"Guayas/Santa Elena\",'Tablas Guayaquil'!G120,'Tablas Resto de Ecuador'!G120)","v":312.08166666666665},{"$f":"IF('INGRESO DE DATOS'!$G$21=\"Guayas/Santa Elena\",'Tablas Guayaquil'!H120,'Tablas Resto de Ecuador'!H120)","v":274.01},{"$f":"IF('INGRESO DE DATOS'!$G$21=\"Guayas/Santa Elena\",'Tablas Guayaquil'!I120,'Tablas Resto de Ecuador'!I120)","v":198.57333333333332}]
[63,null,{"$f":"IF('INGRESO DE DATOS'!$G$21=\"Guayas/Santa Elena\",'Tablas Guayaquil'!C121,'Tablas Resto de Ecuador'!C121)","v":663.9133333333333},{"$f":"IF('INGRESO DE DATOS'!$G$21=\"Guayas/Santa Elena\",'Tablas Guayaquil'!D121,'Tablas Resto de Ecuador'!D121)","v":577.16999999999996},{"$f":"IF('INGRESO DE DATOS'!$G$21=\"Guayas/Santa Elena\",'Tablas Guayaquil'!E121,'Tablas Resto de Ecuador'!E121)","v":526.55499999999995},{"$f":"IF('INGRESO DE DATOS'!$G$21=\"Guayas/Santa Elena\",'Tablas Guayaquil'!F121,'Tablas Resto de Ecuador'!F121)","v":476.38166666666666},{"$f":"IF('INGRESO DE DATOS'!$G$21=\"Guayas/Santa Elena\",'Tablas Guayaquil'!G121,'Tablas Resto de Ecuador'!G121)","v":328.33499999999998},{"$f":"IF('INGRESO DE DATOS'!$G$21=\"Guayas/Santa Elena\",'Tablas Guayaquil'!H121,'Tablas Resto de Ecuador'!H121)","v":295.56333333333333},{"$f":"IF('INGRESO DE DATOS'!$G$21=\"Guayas/Santa Elena\",'Tablas Guayaquil'!I121,'Tablas Resto de Ecuador'!I121)","v":214.56166666666667}]
[64,null,{"$f":"IF('INGRESO DE DATOS'!$G$21=\"Guayas/Santa Elena\",'Tablas Guayaquil'!C122,'Tablas Resto de Ecuador'!C122)","v":702.07333333333338},{"$f":"IF('INGRESO DE DATOS'!$G$21=\"Guayas/Santa Elena\",'Tablas Guayaquil'!D122,'Tablas Resto de Ecuador'!D122)","v":610.73666666666668},{"$f":"IF('INGRESO DE DATOS'!$G$21=\"Guayas/Santa Elena\",'Tablas Guayaquil'!E122,'Tablas Resto de Ecuador'!E122)","v":556.67666666666662},{"$f":"IF('INGRESO DE DATOS'!$G$21=\"Guayas/Santa Elena\",'Tablas Guayaquil'!F122,'Tablas Resto de Ecuador'!F122)","v":503.85333333333335},{"$f":"IF('INGRESO DE DATOS'!$G$21=\"Guayas/Santa Elena\",'Tablas Guayaquil'!G122,'Tablas Resto de Ecuador'!G122)","v":364.46333333333331},{"$f":"IF('INGRESO DE DATOS'!$G$21=\"Guayas/Santa Elena\",'Tablas Guayaquil'!H122,'Tablas Resto de Ecuador'!H122)","v":318.97166666666669},{"$f":"IF('INGRESO DE DATOS'!$G$21=\"Guayas/Santa Elena\",'Tablas Guayaquil'!I122,'Tablas Resto de Ecuador'!I122)","v":231.78666666666666}]
[65,null,{"$f":"IF('INGRESO DE DATOS'!$G$21=\"Guayas/Santa Elena\",'Tablas Guayaquil'!C123,'Tablas Resto de Ecuador'!C123)","v":748.18333333333328},{"$f":"IF('INGRESO DE DATOS'!$G$21=\"Guayas/Santa Elena\",'Tablas Guayaquil'!D123,'Tablas Resto de Ecuador'!D123)","v":650.39833333333331},{"$f":"IF('INGRESO DE DATOS'!$G$21=\"Guayas/Santa Elena\",'Tablas Guayaquil'!E123,'Tablas Resto de Ecuador'!E123)","v":592.98166666666668},{"$f":"IF('INGRESO DE DATOS'!$G$21=\"Guayas/Santa Elena\",'Tablas Guayaquil'!F123,'Tablas Resto de Ecuador'!F123)","v":541.48333333333335},{"$f":"IF('INGRESO DE DATOS'!$G$21=\"Guayas/Santa Elena\",'Tablas Guayaquil'!G123,'Tablas Resto de Ecuador'!G123)","v":390.16833333333335},{"$f":"IF('INGRESO DE DATOS'!$G$21=\"Guayas/Santa Elena\",'Tablas Guayaquil'!H123,'Tablas Resto de Ecuador'!H123)","v":344.05833333333334},{"$f":"IF('INGRESO DE DATOS'!$G$21=\"Guayas/Santa Elena\",'Tablas Guayaquil'!I123,'Tablas Resto de Ecuador'!I123)","v":250.33666666666667}]
[66,null,{"$f":"IF('INGRESO DE DATOS'!$G$21=\"Guayas/Santa Elena\",'Tablas Guayaquil'!C124,'Tablas Resto de Ecuador'!C124)","v":801.80166666666662},{"$f":"IF('INGRESO DE DATOS'!$G$21=\"Guayas/Santa Elena\",'Tablas Guayaquil'!D124,'Tablas Resto de Ecuador'!D124)","v":697.30333333333328},{"$f":"IF('INGRESO DE DATOS'!$G$21=\"Guayas/Santa Elena\",'Tablas Guayaquil'!E124,'Tablas Resto de Ecuador'!E124)","v":635.82333333333338},{"$f":"IF('INGRESO DE DATOS'!$G$21=\"Guayas/Santa Elena\",'Tablas Guayaquil'!F124,'Tablas Resto de Ecuador'!F124)","v":584.67833333333328},{"$f":"IF('INGRESO DE DATOS'!$G$21=\"Guayas/Santa Elena\",'Tablas Guayaquil'!G124,'Tablas Resto de Ecuador'!G124)","v":420.29},{"$f":"IF('INGRESO DE DATOS'!$G$21=\"Guayas/Santa Elena\",'Tablas Guayaquil'!H124,'Tablas Resto de Ecuador'!H124)","v":371.26499999999999},{"$f":"IF('INGRESO DE DATOS'!$G$21=\"Guayas/Santa Elena\",'Tablas Guayaquil'!I124,'Tablas Resto de Ecuador'!I124)","v":270.38833333333332}]
[67,null,{"$f":"IF('INGRESO DE DATOS'!$G$21=\"Guayas/Santa Elena\",'Tablas Guayaquil'!C125,'Tablas Resto de Ecuador'!C125)","v":865.84333333333336},{"$f":"IF('INGRESO DE DATOS'!$G$21=\"Guayas/Santa Elena\",'Tablas Guayaquil'!D125,'Tablas Resto de Ecuador'!D125)","v":752.95333333333338},{"$f":"IF('INGRESO DE DATOS'!$G$21=\"Guayas/Santa Elena\",'Tablas Guayaquil'!E125,'Tablas Resto de Ecuador'!E125)","v":686.70333333333338},{"$f":"IF('INGRESO DE DATOS'!$G$21=\"Guayas/Santa Elena\",'Tablas Guayaquil'!F125,'Tablas Resto de Ecuador'!F125)","v":631.93666666666661},{"$f":"IF('INGRESO DE DATOS'!$G$21=\"Guayas/Santa Elena\",'Tablas Guayaquil'!G125,'Tablas Resto de Ecuador'!G125)","v":453.94499999999999},{"$f":"IF('INGRESO DE DATOS'!$G$21=\"Guayas/Santa Elena\",'Tablas Guayaquil'!H125,'Tablas Resto de Ecuador'!H125)","v":400.41500000000002},{"$f":"IF('INGRESO DE DATOS'!$G$21=\"Guayas/Santa Elena\",'Tablas Guayaquil'!I125,'Tablas Resto de Ecuador'!I125)","v":291.94166666666666}]
[68,null,{"$f":"IF('INGRESO DE DATOS'!$G$21=\"Guayas/Santa Elena\",'Tablas Guayaquil'!C126,'Tablas Resto de Ecuador'!C126)","v":939.60166666666669},{"$f":"IF('INGRESO DE DATOS'!$G$21=\"Guayas/Santa Elena\",'Tablas Guayaquil'!D126,'Tablas Resto de Ecuador'!D126)","v":816.81833333333338},{"$f":"IF('INGRESO DE DATOS'!$G$21=\"Guayas/Santa Elena\",'Tablas Guayaquil'!E126,'Tablas Resto de Ecuador'!E126)","v":744.91499999999996},{"$f":"IF('INGRESO DE DATOS'!$G$21=\"Guayas/Santa Elena\",'Tablas Guayaquil'!F126,'Tablas Resto de Ecuador'!F126)","v":685.20166666666671},{"$f":"IF('INGRESO DE DATOS'!$G$21=\"Guayas/Santa Elena\",'Tablas Guayaquil'!G126,'Tablas Resto de Ecuador'!G126)","v":492.28166666666664},{"$f":"IF('INGRESO DE DATOS'!$G$21=\"Guayas/Santa Elena\",'Tablas Guayaquil'!H126,'Tablas Resto de Ecuador'!H126)","v":432.03833333333336},{"$f":"IF('INGRESO DE DATOS'!$G$21=\"Guayas/Santa Elena\",'Tablas Guayaquil'!I126,'Tablas Resto de Ecuador'!I126)","v":315.26166666666666}]
[69,null,{"$f":"IF('INGRESO DE DATOS'!$G$21=\"Guayas/Santa Elena\",'Tablas Guayaquil'!C127,'Tablas Resto de Ecuador'!C127)","v":1025.1966666666667},{"$f":"IF('INGRESO DE DATOS'!$G$21=\"Guayas/Santa Elena\",'Tablas Guayaquil'!D127,'Tablas Resto de Ecuador'!D127)","v":891.46},{"$f":"IF('INGRESO DE DATOS'!$G$21=\"Guayas/Santa Elena\",'Tablas Guayaquil'!E127,'Tablas Resto de Ecuador'!E127)","v":812.84333333333336},{"$f":"IF('INGRESO DE DATOS'!$G$21=\"Guayas/Santa Elena\",'Tablas Guayaquil'!F127,'Tablas Resto de Ecuador'!F127)","v":748.27166666666665},{"$f":"IF('INGRESO DE DATOS'!$G$21=\"Guayas/Santa Elena\",'Tablas Guayaquil'!G127,'Tablas Resto de Ecuador'!G127)","v":512.06833333333338},{"$f":"IF('INGRESO DE DATOS'!$G$21=\"Guayas/Santa Elena\",'Tablas Guayaquil'!H127,'Tablas Resto de Ecuador'!H127)","v":466.04666666666668},{"$f":"IF('INGRESO DE DATOS'!$G$21=\"Guayas/Santa Elena\",'Tablas Guayaquil'!I127,'Tablas Resto de Ecuador'!I127)","v":340.17166666666668}]
[70,null,{"$f":"IF('INGRESO DE DATOS'!$G$21=\"Guayas/Santa Elena\",'Tablas Guayaquil'!C128,'Tablas Resto de Ecuador'!C128)","v":1124.395},{"$f":"IF('INGRESO DE DATOS'!$G$21=\"Guayas/Santa Elena\",'Tablas Guayaquil'!D128,'Tablas Resto de Ecuador'!D128)","v":977.76166666666666},{"$f":"IF('INGRESO DE DATOS'!$G$21=\"Guayas/Santa Elena\",'Tablas Guayaquil'!E128,'Tablas Resto de Ecuador'!E128)","v":883.77499999999998},{"$f":"IF('INGRESO DE DATOS'!$G$21=\"Guayas/Santa Elena\",'Tablas Guayaquil'!F128,'Tablas Resto de Ecuador'!F128)","v":832.71833333333336},{"$f":"IF('INGRESO DE DATOS'!$G$21=\"Guayas/Santa Elena\",'Tablas Guayaquil'!G128,'Tablas Resto de Ecuador'!G128)","v":566.2166666666667},{"$f":"IF('INGRESO DE DATOS'!$G$21=\"Guayas/Santa Elena\",'Tablas Guayaquil'!H128,'Tablas Resto de Ecuador'!H128)","v":502.61666666666667},{"$f":"IF('INGRESO DE DATOS'!$G$21=\"Guayas/Santa Elena\",'Tablas Guayaquil'!I128,'Tablas Resto de Ecuador'!I128)","v":366.93666666666667}]
[71,null,{"$f":"IF('INGRESO DE DATOS'!$G$21=\"Guayas/Santa Elena\",'Tablas Guayaquil'!C129,'Tablas Resto de Ecuador'!C129)","v":1238.4333333333334},{"$f":"IF('INGRESO DE DATOS'!$G$21=\"Guayas/Santa Elena\",'Tablas Guayaquil'!D129,'Tablas Resto de Ecuador'!D129)","v":1076.96},{"$f":"IF('INGRESO DE DATOS'!$G$21=\"Guayas/Santa Elena\",'Tablas Guayaquil'!E129,'Tablas Resto de Ecuador'!E129)","v":981.73666666666668},{"$f":"IF('INGRESO DE DATOS'!$G$21=\"Guayas/Santa Elena\",'Tablas Guayaquil'!F129,'Tablas Resto de Ecuador'!F129)","v":916.9},{"$f":"IF('INGRESO DE DATOS'!$G$21=\"Guayas/Santa Elena\",'Tablas Guayaquil'!G129,'Tablas Resto de Ecuador'!G129)","v":623.72166666666669},{"$f":"IF('INGRESO DE DATOS'!$G$21=\"Guayas/Santa Elena\",'Tablas Guayaquil'!H129,'Tablas Resto de Ecuador'!H129)","v":542.01333333333332},{"$f":"IF('INGRESO DE DATOS'!$G$21=\"Guayas/Santa Elena\",'Tablas Guayaquil'!I129,'Tablas Resto de Ecuador'!I129)","v":395.46833333333331}]
[72,null,{"$f":"IF('INGRESO DE DATOS'!$G$21=\"Guayas/Santa Elena\",'Tablas Guayaquil'!C130,'Tablas Resto de Ecuador'!C130)","v":1369.8733333333332},{"$f":"IF('INGRESO DE DATOS'!$G$21=\"Guayas/Santa Elena\",'Tablas Guayaquil'!D130,'Tablas Resto de Ecuador'!D130)","v":1191.175},{"$f":"IF('INGRESO DE DATOS'!$G$21=\"Guayas/Santa Elena\",'Tablas Guayaquil'!E130,'Tablas Resto de Ecuador'!E130)","v":1086.2349999999999},{"$f":"IF('INGRESO DE DATOS'!$G$21=\"Guayas/Santa Elena\",'Tablas Guayaquil'!F130,'Tablas Resto de Ecuador'!F130)","v":1014.7733333333333},{"$f":"IF('INGRESO DE DATOS'!$G$21=\"Guayas/Santa Elena\",'Tablas Guayaquil'!G130,'Tablas Resto de Ecuador'!G130)","v":690.32500000000005},{"$f":"IF('INGRESO DE DATOS'!$G$21=\"Guayas/Santa Elena\",'Tablas Guayaquil'!H130,'Tablas Resto de Ecuador'!H130)","v":584.14833333333331},{"$f":"IF('INGRESO DE DATOS'!$G$21=\"Guayas/Santa Elena\",'Tablas Guayaquil'!I130,'Tablas Resto de Ecuador'!I130)","v":426.03166666666664}]
[73,null,{"$f":"IF('INGRESO DE DATOS'!$G$21=\"Guayas/Santa Elena\",'Tablas Guayaquil'!C131,'Tablas Resto de Ecuador'!C131)","v":1521.4533333333334},{"$f":"IF('INGRESO DE DATOS'!$G$21=\"Guayas/Santa Elena\",'Tablas Guayaquil'!D131,'Tablas Resto de Ecuador'!D131)","v":1322.9683333333332},{"$f":"IF('INGRESO DE DATOS'!$G$21=\"Guayas/Santa Elena\",'Tablas Guayaquil'!E131,'Tablas Resto de Ecuador'!E131)","v":1206.1916666666666},{"$f":"IF('INGRESO DE DATOS'!$G$21=\"Guayas/Santa Elena\",'Tablas Guayaquil'!F131,'Tablas Resto de Ecuador'!F131)","v":1126.5150000000001},{"$f":"IF('INGRESO DE DATOS'!$G$21=\"Guayas/Santa Elena\",'Tablas Guayaquil'!G131,'Tablas Resto de Ecuador'!G131)","v":766.11500000000001},{"$f":"IF('INGRESO DE DATOS'!$G$21=\"Guayas/Santa Elena\",'Tablas Guayaquil'!H131,'Tablas Resto de Ecuador'!H131)","v":629.375},{"$f":"IF('INGRESO DE DATOS'!$G$21=\"Guayas/Santa Elena\",'Tablas Guayaquil'!I131,'Tablas Resto de Ecuador'!I131)","v":458.45}]
[74,null,{"$f":"IF('INGRESO DE DATOS'!$G$21=\"Guayas/Santa Elena\",'Tablas Guayaquil'!C132,'Tablas Resto de Ecuador'!C132)","v":1696.2650000000001},{"$f":"IF('INGRESO DE DATOS'!$G$21=\"Guayas/Santa Elena\",'Tablas Guayaquil'!D132,'Tablas Resto de Ecuador'!D132)","v":1474.8133333333333},{"$f":"IF('INGRESO DE DATOS'!$G$21=\"Guayas/Santa Elena\",'Tablas Guayaquil'!E132,'Tablas Resto de Ecuador'!E132)","v":1344.6983333333333},{"$f":"IF('INGRESO DE DATOS'!$G$21=\"Guayas/Santa Elena\",'Tablas Guayaquil'!F132,'Tablas Resto de Ecuador'!F132)","v":1256.1883333333333},{"$f":"IF('INGRESO DE DATOS'!$G$21=\"Guayas/Santa Elena\",'Tablas Guayaquil'!G132,'Tablas Resto de Ecuador'!G132)","v":854.44833333333338},{"$f":"IF('INGRESO DE DATOS'!$G$21=\"Guayas/Santa Elena\",'Tablas Guayaquil'!H132,'Tablas Resto de Ecuador'!H132)","v":677.60500000000002},{"$f":"IF('INGRESO DE DATOS'!$G$21=\"Guayas/Santa Elena\",'Tablas Guayaquil'!I132,'Tablas Resto de Ecuador'!I132)","v":492.72333333333336}]
[75,null,{"$f":"IF('INGRESO DE DATOS'!$G$21=\"Guayas/Santa Elena\",'Tablas Guayaquil'!C133,'Tablas Resto de Ecuador'!C133)","v":1896.5166666666667},{"$f":"IF('INGRESO DE DATOS'!$G$21=\"Guayas/Santa Elena\",'Tablas Guayaquil'!D133,'Tablas Resto de Ecuador'!D133)","v":1649.2716666666668},{"$f":"IF('INGRESO DE DATOS'!$G$21=\"Guayas/Santa Elena\",'Tablas Guayaquil'!E133,'Tablas Resto de Ecuador'!E133)","v":1497.6916666666666},{"$f":"IF('INGRESO DE DATOS'!$G$21=\"Guayas/Santa Elena\",'Tablas Guayaquil'!F133,'Tablas Resto de Ecuador'!F133)","v":1413.4216666666666},{"$f":"IF('INGRESO DE DATOS'!$G$21=\"Guayas/Santa Elena\",'Tablas Guayaquil'!G133,'Tablas Resto de Ecuador'!G133)","v":958.68166666666662},{"$f":"IF('INGRESO DE DATOS'!$G$21=\"Guayas/Santa Elena\",'Tablas Guayaquil'!H133,'Tablas Resto de Ecuador'!H133)","v":728.57333333333338},{"$f":"IF('INGRESO DE DATOS'!$G$21=\"Guayas/Santa Elena\",'Tablas Guayaquil'!I133,'Tablas Resto de Ecuador'!I133)","v":528.67499999999995}]
[76,null,{"$f":"IF('INGRESO DE DATOS'!$G$21=\"Guayas/Santa Elena\",'Tablas Guayaquil'!C134,'Tablas Resto de Ecuador'!C134)","v":2127.0666666666666},{"$f":"IF('INGRESO DE DATOS'!$G$21=\"Guayas/Santa Elena\",'Tablas Guayaquil'!D134,'Tablas Resto de Ecuador'!D134)","v":1849.4349999999999},{"$f":"IF('INGRESO DE DATOS'!$G$21=\"Guayas/Santa Elena\",'Tablas Guayaquil'!E134,'Tablas Resto de Ecuador'!E134)","v":1685.0466666666666},{"$f":"IF('INGRESO DE DATOS'!$G$21=\"Guayas/Santa Elena\",'Tablas Guayaquil'!F134,'Tablas Resto de Ecuador'!F134)","v":1584.7883333333334},{"$f":"IF('INGRESO DE DATOS'!$G$21=\"Guayas/Santa Elena\",'Tablas Guayaquil'!G134,'Tablas Resto de Ecuador'!G134)","v":1074.9283333333333},{"$f":"IF('INGRESO DE DATOS'!$G$21=\"Guayas/Santa Elena\",'Tablas Guayaquil'!H134,'Tablas Resto de Ecuador'!H134)","v":782.54499999999996},{"$f":"IF('INGRESO DE DATOS'!$G$21=\"Guayas/Santa Elena\",'Tablas Guayaquil'!I134,'Tablas Resto de Ecuador'!I134)","v":566.12833333333333}]
[77,null,{"$f":"IF('INGRESO DE DATOS'!$G$21=\"Guayas/Santa Elena\",'Tablas Guayaquil'!C135,'Tablas Resto de Ecuador'!C135)","v":2388.5333333333333},{"$f":"IF('INGRESO DE DATOS'!$G$21=\"Guayas/Santa Elena\",'Tablas Guayaquil'!D135,'Tablas Resto de Ecuador'!D135)","v":2077.2466666666664},{"$f":"IF('INGRESO DE DATOS'!$G$21=\"Guayas/Santa Elena\",'Tablas Guayaquil'!E135,'Tablas Resto de Ecuador'!E135)","v":1893.8666666666666},{"$f":"IF('INGRESO DE DATOS'!$G$21=\"Guayas/Santa Elena\",'Tablas Guayaquil'!F135,'Tablas Resto de Ecuador'!F135)","v":1766.9316666666666},{"$f":"IF('INGRESO DE DATOS'!$G$21=\"Guayas/Santa Elena\",'Tablas Guayaquil'!G135,'Tablas Resto de Ecuador'!G135)","v":1207.5166666666667},{"$f":"IF('INGRESO DE DATOS'!$G$21=\"Guayas/Santa Elena\",'Tablas Guayaquil'!H135,'Tablas Resto de Ecuador'!H135)","v":838.90166666666664},{"$f":"IF('INGRESO DE DATOS'!$G$21=\"Guayas/Santa Elena\",'Tablas Guayaquil'!I135,'Tablas Resto de Ecuador'!I135)","v":604.73}]
[78,null,{"$f":"IF('INGRESO DE DATOS'!$G$21=\"Guayas/Santa Elena\",'Tablas Guayaquil'!C136,'Tablas Resto de Ecuador'!C136)","v":2684.0083333333332},{"$f":"IF('INGRESO DE DATOS'!$G$21=\"Guayas/Santa Elena\",'Tablas Guayaquil'!D136,'Tablas Resto de Ecuador'!D136)","v":2333.855},{"$f":"IF('INGRESO DE DATOS'!$G$21=\"Guayas/Santa Elena\",'Tablas Guayaquil'!E136,'Tablas Resto de Ecuador'!E136)","v":2127.8616666666667},{"$f":"IF('INGRESO DE DATOS'!$G$21=\"Guayas/Santa Elena\",'Tablas Guayaquil'!F136,'Tablas Resto de Ecuador'!F136)","v":1895.3683333333333},{"$f":"IF('INGRESO DE DATOS'!$G$21=\"Guayas/Santa Elena\",'Tablas Guayaquil'!G136,'Tablas Resto de Ecuador'!G136)","v":1300.2666666666667},{"$f":"IF('INGRESO DE DATOS'!$G$21=\"Guayas/Santa Elena\",'Tablas Guayaquil'!H136,'Tablas Resto de Ecuador'!H136)","v":897.4666666666667},{"$f":"IF('INGRESO DE DATOS'!$G$21=\"Guayas/Santa Elena\",'Tablas Guayaquil'!I136,'Tablas Resto de Ecuador'!I136)","v":643.95000000000005}]
[79,null,{"$f":"IF('INGRESO DE DATOS'!$G$21=\"Guayas/Santa Elena\",'Tablas Guayaquil'!C137,'Tablas Resto de Ecuador'!C137)","v":3015.6116666666667},{"$f":"IF('INGRESO DE DATOS'!$G$21=\"Guayas/Santa Elena\",'Tablas Guayaquil'!D137,'Tablas Resto de Ecuador'!D137)","v":2621.9983333333334},{"$f":"IF('INGRESO DE DATOS'!$G$21=\"Guayas/Santa Elena\",'Tablas Guayaquil'!E137,'Tablas Resto de Ecuador'!E137)","v":2390.9183333333335},{"$f":"IF('INGRESO DE DATOS'!$G$21=\"Guayas/Santa Elena\",'Tablas Guayaquil'!F137,'Tablas Resto de Ecuador'!F137)","v":2030.165},{"$f":"IF('INGRESO DE DATOS'!$G$21=\"Guayas/Santa Elena\",'Tablas Guayaquil'!G137,'Tablas Resto de Ecuador'!G137)","v":1391.78},{"$f":"IF('INGRESO DE DATOS'!$G$21=\"Guayas/Santa Elena\",'Tablas Guayaquil'!H137,'Tablas Resto de Ecuador'!H137)","v":957.71},{"$f":"IF('INGRESO DE DATOS'!$G$21=\"Guayas/Santa Elena\",'Tablas Guayaquil'!I137,'Tablas Resto de Ecuador'!I137)","v":682.90499999999997}]
[80,"o más",{"$f":"IF('INGRESO DE DATOS'!$G$21=\"Guayas/Santa Elena\",'Tablas Guayaquil'!C138,'Tablas Resto de Ecuador'!C138)","v":3389.1733333333332},{"$f":"IF('INGRESO DE DATOS'!$G$21=\"Guayas/Santa Elena\",'Tablas Guayaquil'!D138,'Tablas Resto de Ecuador'!D138)","v":2967.47},{"$f":"IF('INGRESO DE DATOS'!$G$21=\"Guayas/Santa Elena\",'Tablas Guayaquil'!E138,'Tablas Resto de Ecuador'!E138)","v":2641.4316666666668},{"$f":"IF('INGRESO DE DATOS'!$G$21=\"Guayas/Santa Elena\",'Tablas Guayaquil'!F138,'Tablas Resto de Ecuador'!F138)","v":2170.88},{"$f":"IF('INGRESO DE DATOS'!$G$21=\"Guayas/Santa Elena\",'Tablas Guayaquil'!G138,'Tablas Resto de Ecuador'!G138)","v":1486.12},{"$f":"IF('INGRESO DE DATOS'!$G$21=\"Guayas/Santa Elena\",'Tablas Guayaquil'!H138,'Tablas Resto de Ecuador'!H138)","v":1018.5716666666667},{"$f":"IF('INGRESO DE DATOS'!$G$21=\"Guayas/Santa Elena\",'Tablas Guayaquil'!I138,'Tablas Resto de Ecuador'!I138)","v":720.8}]
[1,"Hijo",{"$f":"IF('INGRESO DE DATOS'!$G$21=\"Guayas/Santa Elena\",'Tablas Guayaquil'!C139,'Tablas Resto de Ecuador'!C139)","v":130.02666666666667},{"$f":"IF('INGRESO DE DATOS'!$G$21=\"Guayas/Santa Elena\",'Tablas Guayaquil'!D139,'Tablas Resto de Ecuador'!D139)","v":113.06666666666666},{"$f":"IF('INGRESO DE DATOS'!$G$21=\"Guayas/Santa Elena\",'Tablas Guayaquil'!E139,'Tablas Resto de Ecuador'!E139)","v":81.885000000000005},{"$f":"IF('INGRESO DE DATOS'!$G$21=\"Guayas/Santa Elena\",'Tablas Guayaquil'!F139,'Tablas Resto de Ecuador'!F139)","v":56.091666666666669},{"$f":"IF('INGRESO DE DATOS'!$G$21=\"Guayas/Santa Elena\",'Tablas Guayaquil'!G139,'Tablas Resto de Ecuador'!G139)","v":30.651666666666667},{"$f":"IF('INGRESO DE DATOS'!$G$21=\"Guayas/Santa Elena\",'Tablas Guayaquil'!H139,'Tablas Resto de Ecuador'!H139)","v":17.489999999999998},{"$f":"IF('INGRESO DE DATOS'!$G$21=\"Guayas/Santa Elena\",'Tablas Guayaquil'!I139,'Tablas Resto de Ecuador'!I139)","v":10.07}]
[2,"Hijos",{"$f":"IF('INGRESO DE DATOS'!$G$21=\"Guayas/Santa Elena\",'Tablas Guayaquil'!C140,'Tablas Resto de Ecuador'!C140)","v":153.78833333333333},{"$f":"IF('INGRESO DE DATOS'!$G$21=\"Guayas/Santa Elena\",'Tablas Guayaquil'!D140,'Tablas Resto de Ecuador'!D140)","v":133.56},{"$f":"IF('INGRESO DE DATOS'!$G$21=\"Guayas/Santa Elena\",'Tablas Guayaquil'!E140,'Tablas Resto de Ecuador'!E140)","v":96.813333333333333},{"$f":"IF('INGRESO DE DATOS'!$G$21=\"Guayas/Santa Elena\",'Tablas Guayaquil'!F140,'Tablas Resto de Ecuador'!F140)","v":66.426666666666662},{"$f":"IF('INGRESO DE DATOS'!$G$21=\"Guayas/Santa Elena\",'Tablas Guayaquil'!G140,'Tablas Resto de Ecuador'!G140)","v":36.12833333333333},{"$f":"IF('INGRESO DE DATOS'!$G$21=\"Guayas/Santa Elena\",'Tablas Guayaquil'!H140,'Tablas Resto de Ecuador'!H140)","v":20.758333333333333},{"$f":"IF('INGRESO DE DATOS'!$G$21=\"Guayas/Santa Elena\",'Tablas Guayaquil'!I140,'Tablas Resto de Ecuador'!I140)","v":11.836666666666666}]
[3,"Hijos o más",{"$f":"IF('INGRESO DE DATOS'!$G$21=\"Guayas/Santa Elena\",'Tablas Guayaquil'!C141,'Tablas Resto de Ecuador'!C141)","v":212.88333333333333},{"$f":"IF('INGRESO DE DATOS'!$G$21=\"Guayas/Santa Elena\",'Tablas Guayaquil'!D141,'Tablas Resto de Ecuador'!D141)","v":184.97},{"$f":"IF('INGRESO DE DATOS'!$G$21=\"Guayas/Santa Elena\",'Tablas Guayaquil'!E141,'Tablas Resto de Ecuador'!E141)","v":134.09},{"$f":"IF('INGRESO DE DATOS'!$G$21=\"Guayas/Santa Elena\",'Tablas Guayaquil'!F141,'Tablas Resto de Ecuador'!F141)","v":91.954999999999998},{"$f":"IF('INGRESO DE DATOS'!$G$21=\"Guayas/Santa Elena\",'Tablas Guayaquil'!G141,'Tablas Resto de Ecuador'!G141)","v":50.085000000000001},{"$f":"IF('INGRESO DE DATOS'!$G$21=\"Guayas/Santa Elena\",'Tablas Guayaquil'!H141,'Tablas Resto de Ecuador'!H141)","v":28.62},{"$f":"IF('INGRESO DE DATOS'!$G$21=\"Guayas/Santa Elena\",'Tablas Guayaquil'!I141,'Tablas Resto de Ecuador'!I141)","v":16.518333333333334}]
[]
["FLEX 100"]
["TARIFAS ANUALES"]
["EDAD"]
[" "," ","F100-1","F100-2","F100-3","F100-4","F100-5"]
[18,null,{"$f":"IF('INGRESO DE DATOS'!$G$21=\"Guayas/Santa Elena\",'Tablas Guayaquil'!C147,'Tablas Resto de Ecuador'!C147)","v":2825},{"$f":"IF('INGRESO DE DATOS'!$G$21=\"Guayas/Santa Elena\",'Tablas Guayaquil'!D147,'Tablas Resto de Ecuador'!D147)","v":2768},{"$f":"IF('INGRESO DE DATOS'!$G$21=\"Guayas/Santa Elena\",'Tablas Guayaquil'!E147,'Tablas Resto de Ecuador'!E147)","v":2614},{"$f":"IF('INGRESO DE DATOS'!$G$21=\"Guayas/Santa Elena\",'Tablas Guayaquil'!F147,'Tablas Resto de Ecuador'!F147)","v":2385},{"$f":"IF('INGRESO DE DATOS'!$G$21=\"Guayas/Santa Elena\",'Tablas Guayaquil'!G147,'Tablas Resto de Ecuador'!G147)","v":1846}]
[19,null,{"$f":"IF('INGRESO DE DATOS'!$G$21=\"Guayas/Santa Elena\",'Tablas Guayaquil'!C148,'Tablas Resto de Ecuador'!C148)","v":2879},{"$f":"IF('INGRESO DE DATOS'!$G$21=\"Guayas/Santa Elena\",'Tablas Guayaquil'!D148,'Tablas Resto de Ecuador'!D148)","v":2822},{"$f":"IF('INGRESO DE DATOS'!$G$21=\"Guayas/Santa Elena\",'Tablas Guayaquil'!E148,'Tablas Resto de Ecuador'!E148)","v":2661},{"$f":"IF('INGRESO DE DATOS'!$G$21=\"Guayas/Santa Elena\",'Tablas Guayaquil'!F148,'Tablas Resto de Ecuador'!F148)","v":2428},{"$f":"IF('INGRESO DE DATOS'!$G$21=\"Guayas/Santa Elena\",'Tablas Guayaquil'!G148,'Tablas Resto de Ecuador'!G148)","v":1884}]
[20,null,{"$f":"IF('INGRESO DE DATOS'!$G$21=\"Guayas/Santa Elena\",'Tablas Guayaquil'!C149,'Tablas Resto de Ecuador'!C149)","v":2927},{"$f":"IF('INGRESO DE DATOS'!$G$21=\"Guayas/Santa Elena\",'Tablas Guayaquil'!D149,'Tablas Resto de Ecuador'!D149)","v":2862},{"$f":"IF('INGRESO DE DATOS'!$G$21=\"Guayas/Santa Elena\",'Tablas Guayaquil'!E149,'Tablas Resto de Ecuador'!E149)","v":2703},{"$f":"IF('INGRESO DE DATOS'!$G$21=\"Guayas/Santa Elena\",'Tablas Guayaquil'!F149,'Tablas Resto de Ecuador'!F149)","v":2463},{"$f":"IF('INGRESO DE DATOS'!$G$21=\"Guayas/Santa Elena\",'Tablas Guayaquil'!G149,'Tablas Resto de Ecuador'!G149)","v":1919}]
[21,null,{"$f":"IF('INGRESO DE DATOS'!$G$21=\"Guayas/Santa Elena\",'Tablas Guayaquil'!C150,'Tablas Resto de Ecuador'!C150)","v":2975},{"$f":"IF('INGRESO DE DATOS'!$G$21=\"Guayas/Santa Elena\",'Tablas Guayaquil'!D150,'Tablas Resto de Ecuador'!D150)","v":2916},{"$f":"IF('INGRESO DE DATOS'!$G$21=\"Guayas/Santa Elena\",'Tablas Guayaquil'!E150,'Tablas Resto de Ecuador'!E150)","v":2746},{"$f":"IF('INGRESO DE DATOS'!$G$21=\"Guayas/Santa Elena\",'Tablas Guayaquil'!F150,'Tablas Resto de Ecuador'!F150)","v":2503},{"$f":"IF('INGRESO DE DATOS'!$G$21=\"Guayas/Santa Elena\",'Tablas Guayaquil'!G150,'Tablas Resto de Ecuador'!G150)","v":1962}]
[22,null,{"$f":"IF('INGRESO DE DATOS'!$G$21=\"Guayas/Santa Elena\",'Tablas Guayaquil'!C151,'Tablas Resto de Ecuador'!C151)","v":3022},{"$f":"IF('INGRESO DE DATOS'!$G$21=\"Guayas/Santa Elena\",'Tablas Guayaquil'!D151,'Tablas Resto de Ecuador'!D151)","v":2972},{"$f":"IF('INGRESO DE DATOS'!$G$21=\"Guayas/Santa Elena\",'Tablas Guayaquil'!E151,'Tablas Resto de Ecuador'!E151)","v":2794},{"$f":"IF('INGRESO DE DATOS'!$G$21=\"Guayas/Santa Elena\",'Tablas Guayaquil'!F151,'Tablas Resto de Ecuador'!F151)","v":2552},{"$f":"IF('INGRESO DE DATOS'!$G$21=\"Guayas/Santa Elena\",'Tablas Guayaquil'!G151,'Tablas Resto de Ecuador'!G151)","v":2004}]
[23,null,{"$f":"IF('INGRESO DE DATOS'!$G$21=\"Guayas/Santa Elena\",'Tablas Guayaquil'!C152,'Tablas Resto de Ecuador'!C152)","v":3079},{"$f":"IF('INGRESO DE DATOS'!$G$21=\"Guayas/Santa Elena\",'Tablas Guayaquil'!D152,'Tablas Resto de Ecuador'!D152)","v":3014},{"$f":"IF('INGRESO DE DATOS'!$G$21=\"Guayas/Santa Elena\",'Tablas Guayaquil'!E152,'Tablas Resto de Ecuador'!E152)","v":2842},{"$f":"IF('INGRESO DE DATOS'!$G$21=\"Guayas/Santa Elena\",'Tablas Guayaquil'!F152,'Tablas Resto de Ecuador'!F152)","v":2589},{"$f":"IF('INGRESO DE DATOS'!$G$21=\"Guayas/Santa Elena\",'Tablas Guayaquil'!G152,'Tablas Resto de Ecuador'!G152)","v":2045}]
[24,null,{"$f":"IF('INGRESO DE DATOS'!$G$21=\"Guayas/Santa Elena\",'Tablas Guayaquil'!C153,'Tablas Resto de Ecuador'!C153)","v":3130},{"$f":"IF('INGRESO DE DATOS'!$G$21=\"Guayas/Santa Elena\",'Tablas Guayaquil'!D153,'Tablas Resto de Ecuador'!D153)","v":3066},{"$f":"IF('INGRESO DE DATOS'!$G$21=\"Guayas/Santa Elena\",'Tablas Guayaquil'!E153,'Tablas Resto de Ecuador'!E153)","v":2890},{"$f":"IF('INGRESO DE DATOS'!$G$21=\"Guayas/Santa Elena\",'Tablas Guayaquil'!F153,'Tablas Resto de Ecuador'!F153)","v":2634},{"$f":"IF('INGRESO DE DATOS'!$G$21=\"Guayas/Santa Elena\",'Tablas Guayaquil'!G153,'Tablas Resto de Ecuador'!G153)","v":2086}]
[25,null,{"$f":"IF('INGRESO DE DATOS'!$G$21=\"Guayas/Santa Elena\",'Tablas Guayaquil'!C154,'Tablas Resto de Ecuador'!C154)","v":3177},{"$f":"IF('INGRESO DE DATOS'!$G$21=\"Guayas/Santa Elena\",'Tablas Guayaquil'!D154,'Tablas Resto de Ecuador'!D154)","v":3113},{"$f":"IF('INGRESO DE DATOS'!$G$21=\"Guayas/Santa Elena\",'Tablas Guayaquil'!E154,'Tablas Resto de Ecuador'!E154)","v":2929},{"$f":"IF('INGRESO DE DATOS'!$G$21=\"Guayas/Santa Elena\",'Tablas Guayaquil'!F154,'Tablas Resto de Ecuador'!F154)","v":2680},{"$f":"IF('INGRESO DE DATOS'!$G$21=\"Guayas/Santa Elena\",'Tablas Guayaquil'!G154,'Tablas Resto de Ecuador'!G154)","v":2135}]
[26,null,{"$f":"IF('INGRESO DE DATOS'!$G$21=\"Guayas/Santa Elena\",'Tablas Guayaquil'!C155,'Tablas Resto de Ecuador'!C155)","v":3229},{"$f":"IF('INGRESO DE DATOS'!$G$21=\"Guayas/Santa Elena\",'Tablas Guayaquil'!D155,'Tablas Resto de Ecuador'!D155)","v":3164},{"$f":"IF('INGRESO DE DATOS'!$G$21=\"Guayas/Santa Elena\",'Tablas Guayaquil'!E155,'Tablas Resto de Ecuador'!E155)","v":2982},{"$f":"IF('INGRESO DE DATOS'!$G$21=\"Guayas/Santa Elena\",'Tablas Guayaquil'!F155,'Tablas Resto de Ecuador'!F155)","v":2718},{"$f":"IF('INGRESO DE DATOS'!$G$21=\"Guayas/Santa Elena\",'Tablas Guayaquil'!G155,'Tablas Resto de Ecuador'!G155)","v":2171}]
[27,null,{"$f":"IF('INGRESO DE DATOS'!$G$21=\"Guayas/Santa Elena\",'Tablas Guayaquil'!C156,'Tablas Resto de Ecuador'!C156)","v":3274},{"$f":"IF('INGRESO DE DATOS'!$G$21=\"Guayas/Santa Elena\",'Tablas Guayaquil'!D156,'Tablas Resto de Ecuador'!D156)","v":3211},{"$f":"IF('INGRESO DE DATOS'!$G$21=\"Guayas/Santa Elena\",'Tablas Guayaquil'!E156,'Tablas Resto de Ecuador'!E156)","v":3022},{"$f":"IF('INGRESO DE DATOS'!$G$21=\"Guayas/Santa Elena\",'Tablas Guayaquil'!F156,'Tablas Resto de Ecuador'!F156)","v":2762},{"$f":"IF('INGRESO DE DATOS'!$G$21=\"Guayas/Santa Elena\",'Tablas Guayaquil'!G156,'Tablas Resto de Ecuador'!G156)","v":2213}]
[28,null,{"$f":"IF('INGRESO DE DATOS'!$G$21=\"Guayas/Santa Elena\",'Tablas Guayaquil'!C157,'Tablas Resto de Ecuador'!C157)","v":3335},{"$f":"IF('INGRESO DE DATOS'!$G$21=\"Guayas/Santa Elena\",'Tablas Guayaquil'!D157,'Tablas Resto de Ecuador'!D157)","v":3271},{"$f":"IF('INGRESO DE DATOS'!$G$21=\"Guayas/Santa Elena\",'Tablas Guayaquil'!E157,'Tablas Resto de Ecuador'!E157)","v":3083},{"$f":"IF('INGRESO DE DATOS'!$G$21=\"Guayas/Santa Elena\",'Tablas Guayaquil'!F157,'Tablas Resto de Ecuador'!F157)","v":2811},{"$f":"IF('INGRESO DE DATOS'!$G$21=\"Guayas/Santa Elena\",'Tablas Guayaquil'!G157,'Tablas Resto de Ecuador'!G157)","v":2267}]
[29,null,{"$f":"IF('INGRESO DE DATOS'!$G$21=\"Guayas/Santa Elena\",'Tablas Guayaquil'!C158,'Tablas Resto de Ecuador'!C158)","v":3395},{"$f":"IF('INGRESO DE DATOS'!$G$21=\"Guayas/Santa Elena\",'Tablas Guayaquil'!D158,'Tablas Resto de Ecuador'!D158)","v":3328},{"$f":"IF('INGRESO DE DATOS'!$G$21=\"Guayas/Santa Elena\",'Tablas Guayaquil'!E158,'Tablas Resto de Ecuador'!E158)","v":3136},{"$f":"IF('INGRESO DE DATOS'!$G$21=\"Guayas/Santa Elena\",'Tablas Guayaquil'!F158,'Tablas Resto de Ecuador'!F158)","v":2857},{"$f":"IF('INGRESO DE DATOS'!$G$21=\"Guayas/Santa Elena\",'Tablas Guayaquil'!G158,'Tablas Resto de Ecuador'!G158)","v":2325}]
[30,null,{"$f":"IF('INGRESO DE DATOS'!$G$21=\"Guayas/Santa Elena\",'Tablas Guayaquil'!C159,'Tablas Resto de Ecuador'!C159)","v":3457},{"$f":"IF('INGRESO DE DATOS'!$G$21=\"Guayas/Santa Elena\",'Tablas Guayaquil'!D159,'Tablas Resto de Ecuador'!D159)","v":3385},{"$f":"IF('INGRESO DE DATOS'!$G$21=\"Guayas/Santa Elena\",'Tablas Guayaquil'!E159,'Tablas Resto de Ecuador'!E159)","v":3190},{"$f":"IF('INGRESO DE DATOS'!$G$21=\"Guayas/Santa Elena\",'Tablas Guayaquil'!F159,'Tablas Resto de Ecuador'!F159)","v":2912},{"$f":"IF('INGRESO DE DATOS'!$G$21=\"Guayas/Santa Elena\",'Tablas Guayaquil'!G159,'Tablas Resto de Ecuador'!G159)","v":2375}]
[31,null,{"$f":"IF('INGRESO DE DATOS'!$G$21=\"Guayas/Santa Elena\",'Tablas Guayaquil'!C160,'Tablas Resto de Ecuador'!C160)","v":3512},{"$f":"IF('INGRESO DE DATOS'!$G$21=\"Guayas/Santa Elena\",'Tablas Guayaquil'!D160,'Tablas Resto de Ecuador'!D160)","v":3440},{"$f":"IF('INGRESO DE DATOS'!$G$21=\"Guayas/Santa Elena\",'Tablas Guayaquil'!E160,'Tablas Resto de Ecuador'!E160)","v":3241},{"$f":"IF('INGRESO DE DATOS'!$G$21=\"Guayas/Santa Elena\",'Tablas Guayaquil'!F160,'Tablas Resto de Ecuador'!F160)","v":2958},{"$f":"IF('INGRESO DE DATOS'!$G$21=\"Guayas/Santa Elena\",'Tablas Guayaquil'!G160,'Tablas Resto de Ecuador'!G160)","v":2428}]
[32,null,{"$f":"IF('INGRESO DE DATOS'!$G$21=\"Guayas/Santa Elena\",'Tablas Guayaquil'!C161,'Tablas Resto de Ecuador'!C161)","v":3574},{"$f":"IF('INGRESO DE DATOS'!$G$21=\"Guayas/Santa Elena\",'Tablas Guayaquil'!D161,'Tablas Resto de Ecuador'!D161)","v":3499},{"$f":"IF('INGRESO DE DATOS'!$G$21=\"Guayas/Santa Elena\",'Tablas Guayaquil'!E161,'Tablas Resto de Ecuador'!E161)","v":3301},{"$f":"IF('INGRESO DE DATOS'!$G$21=\"Guayas/Santa Elena\",'Tablas Guayaquil'!F161,'Tablas Resto de Ecuador'!F161)","v":3008},{"$f":"IF('INGRESO DE DATOS'!$G$21=\"Guayas/Santa Elena\",'Tablas Guayaquil'!G161,'Tablas Resto de Ecuador'!G161)","v":2477}]
[33,null,{"$f":"IF('INGRESO DE DATOS'!$G$21=\"Guayas/Santa Elena\",'Tablas Guayaquil'!C162,'Tablas Resto de Ecuador'!C162)","v":3669},{"$f":"IF('INGRESO DE DATOS'!$G$21=\"Guayas/Santa Elena\",'Tablas Guayaquil'!D162,'Tablas Resto de Ecuador'!D162)","v":3595},{"$f":"IF('INGRESO DE DATOS'!$G$21=\"Guayas/Santa Elena\",'Tablas Guayaquil'!E162,'Tablas Resto de Ecuador'!E162)","v":3389},{"$f":"IF('INGRESO DE DATOS'!$G$21=\"Guayas/Santa Elena\",'Tablas Guayaquil'!F162,'Tablas Resto de Ecuador'!F162)","v":3086},{"$f":"IF('INGRESO DE DATOS'!$G$21=\"Guayas/Santa Elena\",'Tablas Guayaquil'!G162,'Tablas Resto de Ecuador'!G162)","v":2555}]
[34,null,{"$f":"IF('INGRESO DE DATOS'!$G$21=\"Guayas/Santa Elena\",'Tablas Guayaquil'!C163,'Tablas Resto de Ecuador'!C163)","v":3767},{"$f":"IF('INGRESO DE DATOS'!$G$21=\"Guayas/Santa Elena\",'Tablas Guayaquil'!D163,'Tablas Resto de Ecuador'!D163)","v":3693},{"$f":"IF('INGRESO DE DATOS'!$G$21=\"Guayas/Santa Elena\",'Tablas Guayaquil'!E163,'Tablas Resto de Ecuador'!E163)","v":3478},{"$f":"IF('INGRESO DE DATOS'!$G$21=\"Guayas/Santa Elena\",'Tablas Guayaquil'!F163,'Tablas Resto de Ecuador'!F163)","v":3172},{"$f":"IF('INGRESO DE DATOS'!$G$21=\"Guayas/Santa Elena\",'Tablas Guayaquil'!G163,'Tablas Resto de Ecuador'!G163)","v":2630}]
[35,null,{"$f":"IF('INGRESO DE DATOS'!$G$21=\"Guayas/Santa Elena\",'Tablas Guayaquil'!C164,'Tablas Resto de Ecuador'!C164)","v":3865},{"$f":"IF('INGRESO DE DATOS'!$G$21=\"Guayas/Santa Elena\",'Tablas Guayaquil'!D164,'Tablas Resto de Ecuador'!D164)","v":3788},{"$f":"IF('INGRESO DE DATOS'!$G$21=\"Guayas/Santa Elena\",'Tablas Guayaquil'!E164,'Tablas Resto de Ecuador'!E164)","v":3572},{"$f":"IF('INGRESO DE DATOS'!$G$21=\"Guayas/Santa Elena\",'Tablas Guayaquil'!F164,'Tablas Resto de Ecuador'!F164)","v":3255},{"$f":"IF('INGRESO DE DATOS'!$G$21=\"Guayas/Santa Elena\",'Tablas Guayaquil'!G164,'Tablas Resto de Ecuador'!G164)","v":2703}]
[36,null,{"$f":"IF('INGRESO DE DATOS'!$G$21=\"Guayas/Santa Elena\",'Tablas Guayaquil'!C165,'Tablas Resto de Ecuador'!C165)","v":3961},{"$f":"IF('INGRESO DE DATOS'!$G$21=\"Guayas/Santa Elena\",'Tablas Guayaquil'!D165,'Tablas Resto de Ecuador'!D165)","v":3884},{"$f":"IF('INGRESO DE DATOS'!$G$21=\"Guayas/Santa Elena\",'Tablas Guayaquil'!E165,'Tablas Resto de Ecuador'!E165)","v":3661},{"$f":"IF('INGRESO DE DATOS'!$G$21=\"Guayas/Santa Elena\",'Tablas Guayaquil'!F165,'Tablas Resto de Ecuador'!F165)","v":3335},{"$f":"IF('INGRESO DE DATOS'!$G$21=\"Guayas/Santa Elena\",'Tablas Guayaquil'!G165,'Tablas Resto de Ecuador'!G165)","v":2784}]
[37,null,{"$f":"IF('INGRESO DE DATOS'!$G$21=\"Guayas/Santa Elena\",'Tablas Guayaquil'!C166,'Tablas Resto de Ecuador'!C166)","v":4056},{"$f":"IF('INGRESO DE DATOS'!$G$21=\"Guayas/Santa Elena\",'Tablas Guayaquil'!D166,'Tablas Resto de Ecuador'!D166)","v":3979},{"$f":"IF('INGRESO DE DATOS'!$G$21=\"Guayas/Santa Elena\",'Tablas Guayaquil'!E166,'Tablas Resto de Ecuador'!E166)","v":3751},{"$f":"IF('INGRESO DE DATOS'!$G$21=\"Guayas/Santa Elena\",'Tablas Guayaquil'!F166,'Tablas Resto de Ecuador'!F166)","v":3422},{"$f":"IF('INGRESO DE DATOS'!$G$21=\"Guayas/Santa Elena\",'Tablas Guayaquil'!G166,'Tablas Resto de Ecuador'!G166)","v":2856}]
[38,null,{"$f":"IF('INGRESO DE DATOS'!$G$21=\"Guayas/Santa Elena\",'Tablas Guayaquil'!C167,'Tablas Resto de Ecuador'!C167)","v":4158},{"$f":"IF('INGRESO DE DATOS'!$G$21=\"Guayas/Santa Elena\",'Tablas Guayaquil'!D167,'Tablas Resto de Ecuador'!D167)","v":4077},{"$f":"IF('INGRESO DE DATOS'!$G$21=\"Guayas/Santa Elena\",'Tablas Guayaquil'!E167,'Tablas Resto de Ecuador'!E167)","v":3845},{"$f":"IF('INGRESO DE DATOS'!$G$21=\"Guayas/Santa Elena\",'Tablas Guayaquil'!F167,'Tablas Resto de Ecuador'!F167)","v":3503},{"$f":"IF('INGRESO DE DATOS'!$G$21=\"Guayas/Santa Elena\",'Tablas Guayaquil'!G167,'Tablas Resto de Ecuador'!G167)","v":2939}]
[39,null,{"$f":"IF('INGRESO DE DATOS'!$G$21=\"Guayas/Santa Elena\",'Tablas Guayaquil'!C168,'Tablas Resto de Ecuador'!C168)","v":4260},{"$f":"IF('INGRESO DE DATOS'!$G$21=\"Guayas/Santa Elena\",'Tablas Guayaquil'!D168,'Tablas Resto de Ecuador'!D168)","v":4172},{"$f":"IF('INGRESO DE DATOS'!$G$21=\"Guayas/Santa Elena\",'Tablas Guayaquil'!E168,'Tablas Resto de Ecuador'!E168)","v":3933},{"$f":"IF('INGRESO DE DATOS'!$G$21=\"Guayas/Santa Elena\",'Tablas Guayaquil'!F168,'Tablas Resto de Ecuador'!F168)","v":3590},{"$f":"IF('INGRESO DE DATOS'!$G$21=\"Guayas/Santa Elena\",'Tablas Guayaquil'!G168,'Tablas Resto de Ecuador'!G168)","v":3017}]
[40,null,{"$f":"IF('INGRESO DE DATOS'!$G$21=\"Guayas/Santa Elena\",'Tablas Guayaquil'!C169,'Tablas Resto de Ecuador'!C169)","v":4361},{"$f":"IF('INGRESO DE DATOS'!$G$21=\"Guayas/Santa Elena\",'Tablas Guayaquil'!D169,'Tablas Resto de Ecuador'!D169)","v":4272},{"$f":"IF('INGRESO DE DATOS'!$G$21=\"Guayas/Santa Elena\",'Tablas Guayaquil'!E169,'Tablas Resto de Ecuador'!E169)","v":4027},{"$f":"IF('INGRESO DE DATOS'!$G$21=\"Guayas/Santa Elena\",'Tablas Guayaquil'!F169,'Tablas Resto de Ecuador'!F169)","v":3669},{"$f":"IF('INGRESO DE DATOS'!$G$21=\"Guayas/Santa Elena\",'Tablas Guayaquil'!G169,'Tablas Resto de Ecuador'!G169)","v":3100}]
[41,null,{"$f":"IF('INGRESO DE DATOS'!$G$21=\"Guayas/Santa Elena\",'Tablas Guayaquil'!C170,'Tablas Resto de Ecuador'!C170)","v":4462},{"$f":"IF('INGRESO DE DATOS'!$G$21=\"Guayas/Santa Elena\",'Tablas Guayaquil'!D170,'Tablas Resto de Ecuador'!D170)","v":4372},{"$f":"IF('INGRESO DE DATOS'!$G$21=\"Guayas/Santa Elena\",'Tablas Guayaquil'!E170,'Tablas Resto de Ecuador'!E170)","v":4119},{"$f":"IF('INGRESO DE DATOS'!$G$21=\"Guayas/Santa Elena\",'Tablas Guayaquil'!F170,'Tablas Resto de Ecuador'!F170)","v":3754},{"$f":"IF('INGRESO DE DATOS'!$G$21=\"Guayas/Santa Elena\",'Tablas Guayaquil'!G170,'Tablas Resto de Ecuador'!G170)","v":3178}]
[42,null,{"$f":"IF('INGRESO DE DATOS'!$G$21=\"Guayas/Santa Elena\",'Tablas Guayaquil'!C171,'Tablas Resto de Ecuador'!C171)","v":4560},{"$f":"IF('INGRESO DE DATOS'!$G$21=\"Guayas/Santa Elena\",'Tablas Guayaquil'!D171,'Tablas Resto de Ecuador'!D171)","v":4468},{"$f":"IF('INGRESO DE DATOS'!$G$21=\"Guayas/Santa Elena\",'Tablas Guayaquil'!E171,'Tablas Resto de Ecuador'!E171)","v":4211},{"$f":"IF('INGRESO DE DATOS'!$G$21=\"Guayas/Santa Elena\",'Tablas Guayaquil'!F171,'Tablas Resto de Ecuador'!F171)","v":3835},{"$f":"IF('INGRESO DE DATOS'!$G$21=\"Guayas/Santa Elena\",'Tablas Guayaquil'!G171,'Tablas Resto de Ecuador'!G171)","v":3267}]
[43,null,{"$f":"IF('INGRESO DE DATOS'!$G$21=\"Guayas/Santa Elena\",'Tablas Guayaquil'!C172,'Tablas Resto de Ecuador'!C172)","v":4739},{"$f":"IF('INGRESO DE DATOS'!$G$21=\"Guayas/Santa Elena\",'Tablas Guayaquil'!D172,'Tablas Resto de Ecuador'!D172)","v":4645},{"$f":"IF('INGRESO DE DATOS'!$G$21=\"Guayas/Santa Elena\",'Tablas Guayaquil'!E172,'Tablas Resto de Ecuador'!E172)","v":4376},{"$f":"IF('INGRESO DE DATOS'!$G$21=\"Guayas/Santa Elena\",'Tablas Guayaquil'!F172,'Tablas Resto de Ecuador'!F172)","v":3994},{"$f":"IF('INGRESO DE DATOS'!$G$21=\"Guayas/Santa Elena\",'Tablas Guayaquil'!G172,'Tablas Resto de Ecuador'!G172)","v":3401}]
[44,null,{"$f":"IF('INGRESO DE DATOS'!$G$21=\"Guayas/Santa Elena\",'Tablas Guayaquil'!C173,'Tablas Resto de Ecuador'!C173)","v":4922},{"$f":"IF('INGRESO DE DATOS'!$G$21=\"Guayas/Santa Elena\",'Tablas Guayaquil'!D173,'Tablas Resto de Ecuador'!D173)","v":4823},{"$f":"IF('INGRESO DE DATOS'!$G$21=\"Guayas/Santa Elena\",'Tablas Guayaquil'!E173,'Tablas Resto de Ecuador'!E173)","v":4543},{"$f":"IF('INGRESO DE DATOS'!$G$21=\"Guayas/Santa Elena\",'Tablas Guayaquil'!F173,'Tablas Resto de Ecuador'!F173)","v":4146},{"$f":"IF('INGRESO DE DATOS'!$G$21=\"Guayas/Santa Elena\",'Tablas Guayaquil'!G173,'Tablas Resto de Ecuador'!G173)","v":3551}]
[45,null,{"$f":"IF('INGRESO DE DATOS'!$G$21=\"Guayas/Santa Elena\",'Tablas Guayaquil'!C174,'Tablas Resto de Ecuador'!C174)","v":5109},{"$f":"IF('INGRESO DE DATOS'!$G$21=\"Guayas/Santa Elena\",'Tablas Guayaquil'!D174,'Tablas Resto de Ecuador'!D174)","v":4998},{"$f":"IF('INGRESO DE DATOS'!$G$21=\"Guayas/Santa Elena\",'Tablas Guayaquil'!E174,'Tablas Resto de Ecuador'!E174)","v":4711},{"$f":"IF('INGRESO DE DATOS'!$G$21=\"Guayas/Santa Elena\",'Tablas Guayaquil'!F174,'Tablas Resto de Ecuador'!F174)","v":4298},{"$f":"IF('INGRESO DE DATOS'!$G$21=\"Guayas/Santa Elena\",'Tablas Guayaquil'!G174,'Tablas Resto de Ecuador'!G174)","v":3694}]
[46,null,{"$f":"IF('INGRESO DE DATOS'!$G$21=\"Guayas/Santa Elena\",'Tablas Guayaquil'!C175,'Tablas Resto de Ecuador'!C175)","v":5279},{"$f":"IF('INGRESO DE DATOS'!$G$21=\"Guayas/Santa Elena\",'Tablas Guayaquil'!D175,'Tablas Resto de Ecuador'!D175)","v":5181},{"$f":"IF('INGRESO DE DATOS'!$G$21=\"Guayas/Santa Elena\",'Tablas Guayaquil'!E175,'Tablas Resto de Ecuador'!E175)","v":4879},{"$f":"IF('INGRESO DE DATOS'!$G$21=\"Guayas/Santa Elena\",'Tablas Guayaquil'!F175,'Tablas Resto de Ecuador'!F175)","v":4451},{"$f":"IF('INGRESO DE DATOS'!$G$21=\"Guayas/Santa Elena\",'Tablas Guayaquil'!G175,'Tablas Resto de Ecuador'!G175)","v":3832}]
[47,null,{"$f":"IF('INGRESO DE DATOS'!$G$21=\"Guayas/Santa Elena\",'Tablas Guayaquil'!C176,'Tablas Resto de Ecuador'!C176)","v":5465},{"$f":"IF('INGRESO DE DATOS'!$G$21=\"Guayas/Santa Elena\",'Tablas Guayaquil'!D176,'Tablas Resto de Ecuador'!D176)","v":5354},{"$f":"IF('INGRESO DE DATOS'!$G$21=\"Guayas/Santa Elena\",'Tablas Guayaquil'!E176,'Tablas Resto de Ecuador'!E176)","v":5049},{"$f":"IF('INGRESO DE DATOS'!$G$21=\"Guayas/Santa Elena\",'Tablas Guayaquil'!F176,'Tablas Resto de Ecuador'!F176)","v":4604},{"$f":"IF('INGRESO DE DATOS'!$G$21=\"Guayas/Santa Elena\",'Tablas Guayaquil'!G176,'Tablas Resto de Ecuador'!G176)","v":3979}]
[48,null,{"$f":"IF('INGRESO DE DATOS'!$G$21=\"Guayas/Santa Elena\",'Tablas Guayaquil'!C177,'Tablas Resto de Ecuador'!C177)","v":5659},{"$f":"IF('INGRESO DE DATOS'!$G$21=\"Guayas/Santa Elena\",'Tablas Guayaquil'!D177,'Tablas Resto de Ecuador'!D177)","v":5542},{"$f":"IF('INGRESO DE DATOS'!$G$21=\"Guayas/Santa Elena\",'Tablas Guayaquil'!E177,'Tablas Resto de Ecuador'!E177)","v":5223},{"$f":"IF('INGRESO DE DATOS'!$G$21=\"Guayas/Santa Elena\",'Tablas Guayaquil'!F177,'Tablas Resto de Ecuador'!F177)","v":4765},{"$f":"IF('INGRESO DE DATOS'!$G$21=\"Guayas/Santa Elena\",'Tablas Guayaquil'!G177,'Tablas Resto de Ecuador'!G177)","v":4123}]
[49,null,{"$f":"IF('INGRESO DE DATOS'!$G$21=\"Guayas/Santa Elena\",'Tablas Guayaquil'!C178,'Tablas Resto de Ecuador'!C178)","v":5847},{"$f":"IF('INGRESO DE DATOS'!$G$21=\"Guayas/Santa Elena\",'Tablas Guayaquil'!D178,'Tablas Resto de Ecuador'!D178)","v":5732},{"$f":"IF('INGRESO DE DATOS'!$G$21=\"Guayas/Santa Elena\",'Tablas Guayaquil'!E178,'Tablas Resto de Ecuador'!E178)","v":5400},{"$f":"IF('INGRESO DE DATOS'!$G$21=\"Guayas/Santa Elena\",'Tablas Guayaquil'!F178,'Tablas Resto de Ecuador'!F178)","v":4923},{"$f":"IF('INGRESO DE DATOS'!$G$21=\"Guayas/Santa Elena\",'Tablas Guayaquil'!G178,'Tablas Resto de Ecuador'!G178)","v":4278}]
[50,null,{"$f":"IF('INGRESO DE DATOS'!$G$21=\"Guayas/Santa Elena\",'Tablas Guayaquil'!C179,'Tablas Resto de Ecuador'!C179)","v":6037},{"$f":"IF('INGRESO DE DATOS'!$G$21=\"Guayas/Santa Elena\",'Tablas Guayaquil'!D179,'Tablas Resto de Ecuador'!D179)","v":5922},{"$f":"IF('INGRESO DE DATOS'!$G$21=\"Guayas/Santa Elena\",'Tablas Guayaquil'!E179,'Tablas Resto de Ecuador'!E179)","v":5578},{"$f":"IF('INGRESO DE DATOS'!$G$21=\"Guayas/Santa Elena\",'Tablas Guayaquil'!F179,'Tablas Resto de Ecuador'!F179)","v":5086},{"$f":"IF('INGRESO DE DATOS'!$G$21=\"Guayas/Santa Elena\",'Tablas Guayaquil'!G179,'Tablas Resto de Ecuador'!G179)","v":4429}]
[51,null,{"$f":"IF('INGRESO DE DATOS'!$G$21=\"Guayas/Santa Elena\",'Tablas Guayaquil'!C180,'Tablas Resto de Ecuador'!C180)","v":6227},{"$f":"IF('INGRESO DE DATOS'!$G$21=\"Guayas/Santa Elena\",'Tablas Guayaquil'!D180,'Tablas Resto de Ecuador'!D180)","v":6109},{"$f":"IF('INGRESO DE DATOS'!$G$21=\"Guayas/Santa Elena\",'Tablas Guayaquil'!E180,'Tablas Resto de Ecuador'!E180)","v":5754},{"$f":"IF('INGRESO DE DATOS'!$G$21=\"Guayas/Santa Elena\",'Tablas Guayaquil'!F180,'Tablas Resto de Ecuador'!F180)","v":5249},{"$f":"IF('INGRESO DE DATOS'!$G$21=\"Guayas/Santa Elena\",'Tablas Guayaquil'!G180,'Tablas Resto de Ecuador'!G180)","v":4579}]
[52,null,{"$f":"IF('INGRESO DE DATOS'!$G$21=\"Guayas/Santa Elena\",'Tablas Guayaquil'!C181,'Tablas Resto de Ecuador'!C181)","v":6421},{"$f":"IF('INGRESO DE DATOS'!$G$21=\"Guayas/Santa Elena\",'Tablas Guayaquil'!D181,'Tablas Resto de Ecuador'!D181)","v":6291},{"$f":"IF('INGRESO DE DATOS'!$G$21=\"Guayas/Santa Elena\",'Tablas Guayaquil'!E181,'Tablas Resto de Ecuador'!E181)","v":5932},{"$f":"IF('INGRESO DE DATOS'!$G$21=\"Guayas/Santa Elena\",'Tablas Guayaquil'!F181,'Tablas Resto de Ecuador'!F181)","v":5411},{"$f":"IF('INGRESO DE DATOS'!$G$21=\"Guayas/Santa Elena\",'Tablas Guayaquil'!G181,'Tablas Resto de Ecuador'!G181)","v":4729}]
[53,null,{"$f":"IF('INGRESO DE DATOS'!$G$21=\"Guayas/Santa Elena\",'Tablas Guayaquil'!C182,'Tablas Resto de Ecuador'!C182)","v":6647},{"$f":"IF('INGRESO DE DATOS'!$G$21=\"Guayas/Santa Elena\",'Tablas Guayaquil'!D182,'Tablas Resto de Ecuador'!D182)","v":6519},{"$f":"IF('INGRESO DE DATOS'!$G$21=\"Guayas/Santa Elena\",'Tablas Guayaquil'!E182,'Tablas Resto de Ecuador'!E182)","v":6142},{"$f":"IF('INGRESO DE DATOS'!$G$21=\"Guayas/Santa Elena\",'Tablas Guayaquil'!F182,'Tablas Resto de Ecuador'!F182)","v":5600},{"$f":"IF('INGRESO DE DATOS'!$G$21=\"Guayas/Santa Elena\",'Tablas Guayaquil'!G182,'Tablas Resto de Ecuador'!G182)","v":4916}]
[54,null,{"$f":"IF('INGRESO DE DATOS'!$G$21=\"Guayas/Santa Elena\",'Tablas Guayaquil'!C183,'Tablas Resto de Ecuador'!C183)","v":6875},{"$f":"IF('INGRESO DE DATOS'!$G$21=\"Guayas/Santa Elena\",'Tablas Guayaquil'!D183,'Tablas Resto de Ecuador'!D183)","v":6742},{"$f":"IF('INGRESO DE DATOS'!$G$21=\"Guayas/Santa Elena\",'Tablas Guayaquil'!E183,'Tablas Resto de Ecuador'!E183)","v":6352},{"$f":"IF('INGRESO DE DATOS'!$G$21=\"Guayas/Santa Elena\",'Tablas Guayaquil'!F183,'Tablas Resto de Ecuador'!F183)","v":5794},{"$f":"IF('INGRESO DE DATOS'!$G$21=\"Guayas/Santa Elena\",'Tablas Guayaquil'!G183,'Tablas Resto de Ecuador'!G183)","v":5095}]
[55,null,{"$f":"IF('INGRESO DE DATOS'!$G$21=\"Guayas/Santa Elena\",'Tablas Guayaquil'!C184,'Tablas Resto de Ecuador'!C184)","v":7099},{"$f":"IF('INGRESO DE DATOS'!$G$21=\"Guayas/Santa Elena\",'Tablas Guayaquil'!D184,'Tablas Resto de Ecuador'!D184)","v":6964},{"$f":"IF('INGRESO DE DATOS'!$G$21=\"Guayas/Santa Elena\",'Tablas Guayaquil'!E184,'Tablas Resto de Ecuador'!E184)","v":6565},{"$f":"IF('INGRESO DE DATOS'!$G$21=\"Guayas/Santa Elena\",'Tablas Guayaquil'!F184,'Tablas Resto de Ecuador'!F184)","v":5985},{"$f":"IF('INGRESO DE DATOS'!$G$21=\"Guayas/Santa Elena\",'Tablas Guayaquil'!G184,'Tablas Resto de Ecuador'!G184)","v":5277}]
[56,null,{"$f":"IF('INGRESO DE DATOS'!$G$21=\"Guayas/Santa Elena\",'Tablas Guayaquil'!C185,'Tablas Resto de Ecuador'!C185)","v":7331},{"$f":"IF('INGRESO DE DATOS'!$G$21=\"Guayas/Santa Elena\",'Tablas Guayaquil'!D185,'Tablas Resto de Ecuador'!D185)","v":7186},{"$f":"IF('INGRESO DE DATOS'!$G$21=\"Guayas/Santa Elena\",'Tablas Guayaquil'!E185,'Tablas Resto de Ecuador'!E185)","v":6774},{"$f":"IF('INGRESO DE DATOS'!$G$21=\"Guayas/Santa Elena\",'Tablas Guayaquil'!F185,'Tablas Resto de Ecuador'!F185)","v":6178},{"$f":"IF('INGRESO DE DATOS'!$G$21=\"Guayas/Santa Elena\",'Tablas Guayaquil'!G185,'Tablas Resto de Ecuador'!G185)","v":5462}]
[57,null,{"$f":"IF('INGRESO DE DATOS'!$G$21=\"Guayas/Santa Elena\",'Tablas Guayaquil'!C186,'Tablas Resto de Ecuador'!C186)","v":7557},{"$f":"IF('INGRESO DE DATOS'!$G$21=\"Guayas/Santa Elena\",'Tablas Guayaquil'!D186,'Tablas Resto de Ecuador'!D186)","v":7409},{"$f":"IF('INGRESO DE DATOS'!$G$21=\"Guayas/Santa Elena\",'Tablas Guayaquil'!E186,'Tablas Resto de Ecuador'!E186)","v":6977},{"$f":"IF('INGRESO DE DATOS'!$G$21=\"Guayas/Santa Elena\",'Tablas Guayaquil'!F186,'Tablas Resto de Ecuador'!F186)","v":6361},{"$f":"IF('INGRESO DE DATOS'!$G$21=\"Guayas/Santa Elena\",'Tablas Guayaquil'!G186,'Tablas Resto de Ecuador'!G186)","v":5644}]
[58,null,{"$f":"IF('INGRESO DE DATOS'!$G$21=\"Guayas/Santa Elena\",'Tablas Guayaquil'!C187,'Tablas Resto de Ecuador'!C187)","v":7818},{"$f":"IF('INGRESO DE DATOS'!$G$21=\"Guayas/Santa Elena\",'Tablas Guayaquil'!D187,'Tablas Resto de Ecuador'!D187)","v":7667},{"$f":"IF('INGRESO DE DATOS'!$G$21=\"Guayas/Santa Elena\",'Tablas Guayaquil'!E187,'Tablas Resto de Ecuador'!E187)","v":7197},{"$f":"IF('INGRESO DE DATOS'!$G$21=\"Guayas/Santa Elena\",'Tablas Guayaquil'!F187,'Tablas Resto de Ecuador'!F187)","v":6585},{"$f":"IF('INGRESO DE DATOS'!$G$21=\"Guayas/Santa Elena\",'Tablas Guayaquil'!G187,'Tablas Resto de Ecuador'!G187)","v":5883}]
[59,null,{"$f":"IF('INGRESO DE DATOS'!$G$21=\"Guayas/Santa Elena\",'Tablas Guayaquil'!C188,'Tablas Resto de Ecuador'!C188)","v":8075},{"$f":"IF('INGRESO DE DATOS'!$G$21=\"Guayas/Santa Elena\",'Tablas Guayaquil'!D188,'Tablas Resto de Ecuador'!D188)","v":7917},{"$f":"IF('INGRESO DE DATOS'!$G$21=\"Guayas/Santa Elena\",'Tablas Guayaquil'!E188,'Tablas Resto de Ecuador'!E188)","v":7419},{"$f":"IF('INGRESO DE DATOS'!$G$21=\"Guayas/Santa Elena\",'Tablas Guayaquil'!F188,'Tablas Resto de Ecuador'!F188)","v":6804},{"$f":"IF('INGRESO DE DATOS'!$G$21=\"Guayas/Santa Elena\",'Tablas Guayaquil'!G188,'Tablas Resto de Ecuador'!G188)","v":6122}]
[60,null,{"$f":"IF('INGRESO DE DATOS'!$G$21=\"Guayas/Santa Elena\",'Tablas Guayaquil'!C189,'Tablas Resto de Ecuador'!C189)","v":8342},{"$f":"IF('INGRESO DE DATOS'!$G$21=\"Guayas/Santa Elena\",'Tablas Guayaquil'!D189,'Tablas Resto de Ecuador'!D189)","v":8168},{"$f":"IF('INGRESO DE DATOS'!$G$21=\"Guayas/Santa Elena\",'Tablas Guayaquil'!E189,'Tablas Resto de Ecuador'!E189)","v":7637},{"$f":"IF('INGRESO DE DATOS'!$G$21=\"Guayas/Santa Elena\",'Tablas Guayaquil'!F189,'Tablas Resto de Ecuador'!F189)","v":7026},{"$f":"IF('INGRESO DE DATOS'!$G$21=\"Guayas/Santa Elena\",'Tablas Guayaquil'!G189,'Tablas Resto de Ecuador'!G189)","v":6361}]
[61,null,{"$f":"IF('INGRESO DE DATOS'!$G$21=\"Guayas/Santa Elena\",'Tablas Guayaquil'!C190,'Tablas Resto de Ecuador'!C190)","v":8657},{"$f":"IF('INGRESO DE DATOS'!$G$21=\"Guayas/Santa Elena\",'Tablas Guayaquil'!D190,'Tablas Resto de Ecuador'!D190)","v":8484},{"$f":"IF('INGRESO DE DATOS'!$G$21=\"Guayas/Santa Elena\",'Tablas Guayaquil'!E190,'Tablas Resto de Ecuador'!E190)","v":7969},{"$f":"IF('INGRESO DE DATOS'!$G$21=\"Guayas/Santa Elena\",'Tablas Guayaquil'!F190,'Tablas Resto de Ecuador'!F190)","v":7291},{"$f":"IF('INGRESO DE DATOS'!$G$21=\"Guayas/Santa Elena\",'Tablas Guayaquil'!G190,'Tablas Resto de Ecuador'!G190)","v":6599}]
[62,null,{"$f":"IF('INGRESO DE DATOS'!$G$21=\"Guayas/Santa Elena\",'Tablas Guayaquil'!C191,'Tablas Resto de Ecuador'!C191)","v":9045},{"$f":"IF('INGRESO DE DATOS'!$G$21=\"Guayas/Santa Elena\",'Tablas Guayaquil'!D191,'Tablas Resto de Ecuador'!D191)","v":8869},{"$f":"IF('INGRESO DE DATOS'!$G$21=\"Guayas/Santa Elena\",'Tablas Guayaquil'!E191,'Tablas Resto de Ecuador'!E191)","v":8357},{"$f":"IF('INGRESO DE DATOS'!$G$21=\"Guayas/Santa Elena\",'Tablas Guayaquil'!F191,'Tablas Resto de Ecuador'!F191)","v":7621},{"$f":"IF('INGRESO DE DATOS'!$G$21=\"Guayas/Santa Elena\",'Tablas Guayaquil'!G191,'Tablas Resto de Ecuador'!G191)","v":6899}]
[63,null,{"$f":"IF('INGRESO DE DATOS'!$G$21=\"Guayas/Santa Elena\",'Tablas Guayaquil'!C192,'Tablas Resto de Ecuador'!C192)","v":9514},{"$f":"IF('INGRESO DE DATOS'!$G$21=\"Guayas/Santa Elena\",'Tablas Guayaquil'!D192,'Tablas Resto de Ecuador'!D192)","v":9321},{"$f":"IF('INGRESO DE DATOS'!$G$21=\"Guayas/Santa Elena\",'Tablas Guayaquil'!E192,'Tablas Resto de Ecuador'!E192)","v":8786},{"$f":"IF('INGRESO DE DATOS'!$G$21=\"Guayas/Santa Elena\",'Tablas Guayaquil'!F192,'Tablas Resto de Ecuador'!F192)","v":8008},{"$f":"IF('INGRESO DE DATOS'!$G$21=\"Guayas/Santa Elena\",'Tablas Guayaquil'!G192,'Tablas Resto de Ecuador'!G192)","v":7253}]
[64,null,{"$f":"IF('INGRESO DE DATOS'!$G$21=\"Guayas/Santa Elena\",'Tablas Guayaquil'!C193,'Tablas Resto de Ecuador'!C193)","v":10065},{"$f":"IF('INGRESO DE DATOS'!$G$21=\"Guayas/Santa Elena\",'Tablas Guayaquil'!D193,'Tablas Resto de Ecuador'!D193)","v":9859},{"$f":"IF('INGRESO DE DATOS'!$G$21=\"Guayas/Santa Elena\",'Tablas Guayaquil'!E193,'Tablas Resto de Ecuador'!E193)","v":9295},{"$f":"IF('INGRESO DE DATOS'!$G$21=\"Guayas/Santa Elena\",'Tablas Guayaquil'!F193,'Tablas Resto de Ecuador'!F193)","v":8474},{"$f":"IF('INGRESO DE DATOS'!$G$21=\"Guayas/Santa Elena\",'Tablas Guayaquil'!G193,'Tablas Resto de Ecuador'!G193)","v":7669}]
[65,null,{"$f":"IF('INGRESO DE DATOS'!$G$21=\"Guayas/Santa Elena\",'Tablas Guayaquil'!C194,'Tablas Resto de Ecuador'!C194)","v":10720},{"$f":"IF('INGRESO DE DATOS'!$G$21=\"Guayas/Santa Elena\",'Tablas Guayaquil'!D194,'Tablas Resto de Ecuador'!D194)","v":10500},{"$f":"IF('INGRESO DE DATOS'!$G$21=\"Guayas/Santa Elena\",'Tablas Guayaquil'!E194,'Tablas Resto de Ecuador'!E194)","v":9904},{"$f":"IF('INGRESO DE DATOS'!$G$21=\"Guayas/Santa Elena\",'Tablas Guayaquil'!F194,'Tablas Resto de Ecuador'!F194)","v":9029},{"$f":"IF('INGRESO DE DATOS'!$G$21=\"Guayas/Santa Elena\",'Tablas Guayaquil'!G194,'Tablas Resto de Ecuador'!G194)","v":8239}]
[66,null,{"$f":"IF('INGRESO DE DATOS'!$G$21=\"Guayas/Santa Elena\",'Tablas Guayaquil'!C195,'Tablas Resto de Ecuador'!C195)","v":11489},{"$f":"IF('INGRESO DE DATOS'!$G$21=\"Guayas/Santa Elena\",'Tablas Guayaquil'!D195,'Tablas Resto de Ecuador'!D195)","v":11260},{"$f":"IF('INGRESO DE DATOS'!$G$21=\"Guayas/Santa Elena\",'Tablas Guayaquil'!E195,'Tablas Resto de Ecuador'!E195)","v":10612},{"$f":"IF('INGRESO DE DATOS'!$G$21=\"Guayas/Santa Elena\",'Tablas Guayaquil'!F195,'Tablas Resto de Ecuador'!F195)","v":9679},{"$f":"IF('INGRESO DE DATOS'!$G$21=\"Guayas/Santa Elena\",'Tablas Guayaquil'!G195,'Tablas Resto de Ecuador'!G195)","v":8901}]
[67,null,{"$f":"IF('INGRESO DE DATOS'!$G$21=\"Guayas/Santa Elena\",'Tablas Guayaquil'!C196,'Tablas Resto de Ecuador'!C196)","v":12405},{"$f":"IF('INGRESO DE DATOS'!$G$21=\"Guayas/Santa Elena\",'Tablas Guayaquil'!D196,'Tablas Resto de Ecuador'!D196)","v":12164},{"$f":"IF('INGRESO DE DATOS'!$G$21=\"Guayas/Santa Elena\",'Tablas Guayaquil'!E196,'Tablas Resto de Ecuador'!E196)","v":11461},{"$f":"IF('INGRESO DE DATOS'!$G$21=\"Guayas/Santa Elena\",'Tablas Guayaquil'!F196,'Tablas Resto de Ecuador'!F196)","v":10451},{"$f":"IF('INGRESO DE DATOS'!$G$21=\"Guayas/Santa Elena\",'Tablas Guayaquil'!G196,'Tablas Resto de Ecuador'!G196)","v":9616}]
[68,null,{"$f":"IF('INGRESO DE DATOS'!$G$21=\"Guayas/Santa Elena\",'Tablas Guayaquil'!C197,'Tablas Resto de Ecuador'!C197)","v":13462},{"$f":"IF('INGRESO DE DATOS'!$G$21=\"Guayas/Santa Elena\",'Tablas Guayaquil'!D197,'Tablas Resto de Ecuador'!D197)","v":13188},{"$f":"IF('INGRESO DE DATOS'!$G$21=\"Guayas/Santa Elena\",'Tablas Guayaquil'!E197,'Tablas Resto de Ecuador'!E197)","v":12431},{"$f":"IF('INGRESO DE DATOS'!$G$21=\"Guayas/Santa Elena\",'Tablas Guayaquil'!F197,'Tablas Resto de Ecuador'!F197)","v":11333},{"$f":"IF('INGRESO DE DATOS'!$G$21=\"Guayas/Santa Elena\",'Tablas Guayaquil'!G197,'Tablas Resto de Ecuador'!G197)","v":10428}]
[69,null,{"$f":"IF('INGRESO DE DATOS'!$G$21=\"Guayas/Santa Elena\",'Tablas Guayaquil'!C198,'Tablas Resto de Ecuador'!C198)","v":14690},{"$f":"IF('INGRESO DE DATOS'!$G$21=\"Guayas/Santa Elena\",'Tablas Guayaquil'!D198,'Tablas Resto de Ecuador'!D198)","v":14400},{"$f":"IF('INGRESO DE DATOS'!$G$21=\"Guayas/Santa Elena\",'Tablas Guayaquil'!E198,'Tablas Resto de Ecuador'!E198)","v":13567},{"$f":"IF('INGRESO DE DATOS'!$G$21=\"Guayas/Santa Elena\",'Tablas Guayaquil'!F198,'Tablas Resto de Ecuador'!F198)","v":12369},{"$f":"IF('INGRESO DE DATOS'!$G$21=\"Guayas/Santa Elena\",'Tablas Guayaquil'!G198,'Tablas Resto de Ecuador'!G198)","v":11392}]
[70,null,{"$f":"IF('INGRESO DE DATOS'!$G$21=\"Guayas/Santa Elena\",'Tablas Guayaquil'!C199,'Tablas Resto de Ecuador'!C199)","v":16116},{"$f":"IF('INGRESO DE DATOS'!$G$21=\"Guayas/Santa Elena\",'Tablas Guayaquil'!D199,'Tablas Resto de Ecuador'!D199)","v":15788},{"$f":"IF('INGRESO DE DATOS'!$G$21=\"Guayas/Santa Elena\",'Tablas Guayaquil'!E199,'Tablas Resto de Ecuador'!E199)","v":14756},{"$f":"IF('INGRESO DE DATOS'!$G$21=\"Guayas/Santa Elena\",'Tablas Guayaquil'!F199,'Tablas Resto de Ecuador'!F199)","v":13568},{"$f":"IF('INGRESO DE DATOS'!$G$21=\"Guayas/Santa Elena\",'Tablas Guayaquil'!G199,'Tablas Resto de Ecuador'!G199)","v":12671}]
[71,null,{"$f":"IF('INGRESO DE DATOS'!$G$21=\"Guayas/Santa Elena\",'Tablas Guayaquil'!C200,'Tablas Resto de Ecuador'!C200)","v":17739},{"$f":"IF('INGRESO DE DATOS'!$G$21=\"Guayas/Santa Elena\",'Tablas Guayaquil'!D200,'Tablas Resto de Ecuador'!D200)","v":17387},{"$f":"IF('INGRESO DE DATOS'!$G$21=\"Guayas/Santa Elena\",'Tablas Guayaquil'!E200,'Tablas Resto de Ecuador'!E200)","v":16387},{"$f":"IF('INGRESO DE DATOS'!$G$21=\"Guayas/Santa Elena\",'Tablas Guayaquil'!F200,'Tablas Resto de Ecuador'!F200)","v":14939},{"$f":"IF('INGRESO DE DATOS'!$G$21=\"Guayas/Santa Elena\",'Tablas Guayaquil'!G200,'Tablas Resto de Ecuador'!G200)","v":13953}]
[72,null,{"$f":"IF('INGRESO DE DATOS'!$G$21=\"Guayas/Santa Elena\",'Tablas Guayaquil'!C201,'Tablas Resto de Ecuador'!C201)","v":19631},{"$f":"IF('INGRESO DE DATOS'!$G$21=\"Guayas/Santa Elena\",'Tablas Guayaquil'!D201,'Tablas Resto de Ecuador'!D201)","v":19234},{"$f":"IF('INGRESO DE DATOS'!$G$21=\"Guayas/Santa Elena\",'Tablas Guayaquil'!E201,'Tablas Resto de Ecuador'!E201)","v":18131},{"$f":"IF('INGRESO DE DATOS'!$G$21=\"Guayas/Santa Elena\",'Tablas Guayaquil'!F201,'Tablas Resto de Ecuador'!F201)","v":16532},{"$f":"IF('INGRESO DE DATOS'!$G$21=\"Guayas/Santa Elena\",'Tablas Guayaquil'!G201,'Tablas Resto de Ecuador'!G201)","v":15446}]
[73,null,{"$f":"IF('INGRESO DE DATOS'!$G$21=\"Guayas/Santa Elena\",'Tablas Guayaquil'!C202,'Tablas Resto de Ecuador'!C202)","v":21802},{"$f":"IF('INGRESO DE DATOS'!$G$21=\"Guayas/Santa Elena\",'Tablas Guayaquil'!D202,'Tablas Resto de Ecuador'!D202)","v":21362},{"$f":"IF('INGRESO DE DATOS'!$G$21=\"Guayas/Santa Elena\",'Tablas Guayaquil'!E202,'Tablas Resto de Ecuador'!E202)","v":20137},{"$f":"IF('INGRESO DE DATOS'!$G$21=\"Guayas/Santa Elena\",'Tablas Guayaquil'!F202,'Tablas Resto de Ecuador'!F202)","v":18360},{"$f":"IF('INGRESO DE DATOS'!$G$21=\"Guayas/Santa Elena\",'Tablas Guayaquil'!G202,'Tablas Resto de Ecuador'!G202)","v":17145}]
[74,null,{"$f":"IF('INGRESO DE DATOS'!$G$21=\"Guayas/Santa Elena\",'Tablas Guayaquil'!C203,'Tablas Resto de Ecuador'!C203)","v":24310},{"$f":"IF('INGRESO DE DATOS'!$G$21=\"Guayas/Santa Elena\",'Tablas Guayaquil'!D203,'Tablas Resto de Ecuador'!D203)","v":23821},{"$f":"IF('INGRESO DE DATOS'!$G$21=\"Guayas/Santa Elena\",'Tablas Guayaquil'!E203,'Tablas Resto de Ecuador'!E203)","v":22448},{"$f":"IF('INGRESO DE DATOS'!$G$21=\"Guayas/Santa Elena\",'Tablas Guayaquil'!F203,'Tablas Resto de Ecuador'!F203)","v":20466},{"$f":"IF('INGRESO DE DATOS'!$G$21=\"Guayas/Santa Elena\",'Tablas Guayaquil'!G203,'Tablas Resto de Ecuador'!G203)","v":19119}]
[75,null,{"$f":"IF('INGRESO DE DATOS'!$G$21=\"Guayas/Santa Elena\",'Tablas Guayaquil'!C204,'Tablas Resto de Ecuador'!C204)","v":27178},{"$f":"IF('INGRESO DE DATOS'!$G$21=\"Guayas/Santa Elena\",'Tablas Guayaquil'!D204,'Tablas Resto de Ecuador'!D204)","v":26630},{"$f":"IF('INGRESO DE DATOS'!$G$21=\"Guayas/Santa Elena\",'Tablas Guayaquil'!E204,'Tablas Resto de Ecuador'!E204)","v":24996},{"$f":"IF('INGRESO DE DATOS'!$G$21=\"Guayas/Santa Elena\",'Tablas Guayaquil'!F204,'Tablas Resto de Ecuador'!F204)","v":22882},{"$f":"IF('INGRESO DE DATOS'!$G$21=\"Guayas/Santa Elena\",'Tablas Guayaquil'!G204,'Tablas Resto de Ecuador'!G204)","v":21510}]
[76,null,{"$f":"IF('INGRESO DE DATOS'!$G$21=\"Guayas/Santa Elena\",'Tablas Guayaquil'!C205,'Tablas Resto de Ecuador'!C205)","v":30480},{"$f":"IF('INGRESO DE DATOS'!$G$21=\"Guayas/Santa Elena\",'Tablas Guayaquil'!D205,'Tablas Resto de Ecuador'!D205)","v":29858},{"$f":"IF('INGRESO DE DATOS'!$G$21=\"Guayas/Santa Elena\",'Tablas Guayaquil'!E205,'Tablas Resto de Ecuador'!E205)","v":28123},{"$f":"IF('INGRESO DE DATOS'!$G$21=\"Guayas/Santa Elena\",'Tablas Guayaquil'!F205,'Tablas Resto de Ecuador'!F205)","v":25660},{"$f":"IF('INGRESO DE DATOS'!$G$21=\"Guayas/Santa Elena\",'Tablas Guayaquil'!G205,'Tablas Resto de Ecuador'!G205)","v":24121}]
[77,null,{"$f":"IF('INGRESO DE DATOS'!$G$21=\"Guayas/Santa Elena\",'Tablas Guayaquil'!C206,'Tablas Resto de Ecuador'!C206)","v":34226},{"$f":"IF('INGRESO DE DATOS'!$G$21=\"Guayas/Santa Elena\",'Tablas Guayaquil'!D206,'Tablas Resto de Ecuador'!D206)","v":33537},{"$f":"IF('INGRESO DE DATOS'!$G$21=\"Guayas/Santa Elena\",'Tablas Guayaquil'!E206,'Tablas Resto de Ecuador'!E206)","v":31603},{"$f":"IF('INGRESO DE DATOS'!$G$21=\"Guayas/Santa Elena\",'Tablas Guayaquil'!F206,'Tablas Resto de Ecuador'!F206)","v":28821},{"$f":"IF('INGRESO DE DATOS'!$G$21=\"Guayas/Santa Elena\",'Tablas Guayaquil'!G206,'Tablas Resto de Ecuador'!G206)","v":27089}]
[78,null,{"$f":"IF('INGRESO DE DATOS'!$G$21=\"Guayas/Santa Elena\",'Tablas Guayaquil'!C207,'Tablas Resto de Ecuador'!C207)","v":38460},{"$f":"IF('INGRESO DE DATOS'!$G$21=\"Guayas/Santa Elena\",'Tablas Guayaquil'!D207,'Tablas Resto de Ecuador'!D207)","v":37681},{"$f":"IF('INGRESO DE DATOS'!$G$21=\"Guayas/Santa Elena\",'Tablas Guayaquil'!E207,'Tablas Resto de Ecuador'!E207)","v":35516},{"$f":"IF('INGRESO DE DATOS'!$G$21=\"Guayas/Santa Elena\",'Tablas Guayaquil'!F207,'Tablas Resto de Ecuador'!F207)","v":32381},{"$f":"IF('INGRESO DE DATOS'!$G$21=\"Guayas/Santa Elena\",'Tablas Guayaquil'!G207,'Tablas Resto de Ecuador'!G207)","v":30433}]
[79,null,{"$f":"IF('INGRESO DE DATOS'!$G$21=\"Guayas/Santa Elena\",'Tablas Guayaquil'!C208,'Tablas Resto de Ecuador'!C208)","v":43210},{"$f":"IF('INGRESO DE DATOS'!$G$21=\"Guayas/Santa Elena\",'Tablas Guayaquil'!D208,'Tablas Resto de Ecuador'!D208)","v":42342},{"$f":"IF('INGRESO DE DATOS'!$G$21=\"Guayas/Santa Elena\",'Tablas Guayaquil'!E208,'Tablas Resto de Ecuador'!E208)","v":39903},{"$f":"IF('INGRESO DE DATOS'!$G$21=\"Guayas/Santa Elena\",'Tablas Guayaquil'!F208,'Tablas Resto de Ecuador'!F208)","v":36381},{"$f":"IF('INGRESO DE DATOS'!$G$21=\"Guayas/Santa Elena\",'Tablas Guayaquil'!G208,'Tablas Resto de Ecuador'!G208)","v":34193}]
[80,"o más",{"$f":"IF('INGRESO DE DATOS'!$G$21=\"Guayas/Santa Elena\",'Tablas Guayaquil'!C209,'Tablas Resto de Ecuador'!C209)","v":48897},{"$f":"IF('INGRESO DE DATOS'!$G$21=\"Guayas/Santa Elena\",'Tablas Guayaquil'!D209,'Tablas Resto de Ecuador'!D209)","v":47910},{"$f":"IF('INGRESO DE DATOS'!$G$21=\"Guayas/Santa Elena\",'Tablas Guayaquil'!E209,'Tablas Resto de Ecuador'!E209)","v":45154},{"$f":"IF('INGRESO DE DATOS'!$G$21=\"Guayas/Santa Elena\",'Tablas Guayaquil'!F209,'Tablas Resto de Ecuador'!F209)","v":41171},{"$f":"IF('INGRESO DE DATOS'!$G$21=\"Guayas/Santa Elena\",'Tablas Guayaquil'!G209,'Tablas Resto de Ecuador'!G209)","v":38690}]
[1,"Hijo",{"$f":"IF('INGRESO DE DATOS'!$G$21=\"Guayas/Santa Elena\",'Tablas Guayaquil'!C210,'Tablas Resto de Ecuador'!C210)","v":1452},{"$f":"IF('INGRESO DE DATOS'!$G$21=\"Guayas/Santa Elena\",'Tablas Guayaquil'!D210,'Tablas Resto de Ecuador'!D210)","v":1419},{"$f":"IF('INGRESO DE DATOS'!$G$21=\"Guayas/Santa Elena\",'Tablas Guayaquil'!E210,'Tablas Resto de Ecuador'!E210)","v":1336},{"$f":"IF('INGRESO DE DATOS'!$G$21=\"Guayas/Santa Elena\",'Tablas Guayaquil'!F210,'Tablas Resto de Ecuador'!F210)","v":1224},{"$f":"IF('INGRESO DE DATOS'!$G$21=\"Guayas/Santa Elena\",'Tablas Guayaquil'!G210,'Tablas Resto de Ecuador'!G210)","v":720}]
[2,"Hijos",{"$f":"IF('INGRESO DE DATOS'!$G$21=\"Guayas/Santa Elena\",'Tablas Guayaquil'!C211,'Tablas Resto de Ecuador'!C211)","v":2440},{"$f":"IF('INGRESO DE DATOS'!$G$21=\"Guayas/Santa Elena\",'Tablas Guayaquil'!D211,'Tablas Resto de Ecuador'!D211)","v":2390},{"$f":"IF('INGRESO DE DATOS'!$G$21=\"Guayas/Santa Elena\",'Tablas Guayaquil'!E211,'Tablas Resto de Ecuador'!E211)","v":2251},{"$f":"IF('INGRESO DE DATOS'!$G$21=\"Guayas/Santa Elena\",'Tablas Guayaquil'!F211,'Tablas Resto de Ecuador'!F211)","v":2054},{"$f":"IF('INGRESO DE DATOS'!$G$21=\"Guayas/Santa Elena\",'Tablas Guayaquil'!G211,'Tablas Resto de Ecuador'!G211)","v":1073}]
[3,"Hijos o más",{"$f":"IF('INGRESO DE DATOS'!$G$21=\"Guayas/Santa Elena\",'Tablas Guayaquil'!C212,'Tablas Resto de Ecuador'!C212)","v":3577},{"$f":"IF('INGRESO DE DATOS'!$G$21=\"Guayas/Santa Elena\",'Tablas Guayaquil'!D212,'Tablas Resto de Ecuador'!D212)","v":3502},{"$f":"IF('INGRESO DE DATOS'!$G$21=\"Guayas/Santa Elena\",'Tablas Guayaquil'!E212,'Tablas Resto de Ecuador'!E212)","v":3301},{"$f":"IF('INGRESO DE DATOS'!$G$21=\"Guayas/Santa Elena\",'Tablas Guayaquil'!F212,'Tablas Resto de Ecuador'!F212)","v":3013},{"$f":"IF('INGRESO DE DATOS'!$G$21=\"Guayas/Santa Elena\",'Tablas Guayaquil'!G212,'Tablas Resto de Ecuador'!G212)","v":1534}]
[]
["TARIFAS MENSUALES"]
["EDAD"]
[" "," ","F100-1","F100-2","F100-3","F100-4","F100-5"]
[18,null,{"$f":"IF('INGRESO DE DATOS'!$G$21=\"Guayas/Santa Elena\",'Tablas Guayaquil'!C217,'Tablas Resto de Ecuador'!C217)","v":249.54166666666666},{"$f":"IF('INGRESO DE DATOS'!$G$21=\"Guayas/Santa Elena\",'Tablas Guayaquil'!D217,'Tablas Resto de Ecuador'!D217)","v":244.50666666666666},{"$f":"IF('INGRESO DE DATOS'!$G$21=\"Guayas/Santa Elena\",'Tablas Guayaquil'!E217,'Tablas Resto de Ecuador'!E217)","v":230.90333333333334},{"$f":"IF('INGRESO DE DATOS'!$G$21=\"Guayas/Santa Elena\",'Tablas Guayaquil'!F217,'Tablas Resto de Ecuador'!F217)","v":210.67500000000001},{"$f":"IF('INGRESO DE DATOS'!$G$21=\"Guayas/Santa Elena\",'Tablas Guayaquil'!G217,'Tablas Resto de Ecuador'!G217)","v":163.06333333333333}]
[19,null,{"$f":"IF('INGRESO DE DATOS'!$G$21=\"Guayas/Santa Elena\",'Tablas Guayaquil'!C218,'Tablas Resto de Ecuador'!C218)","v":254.31166666666667},{"$f":"IF('INGRESO DE DATOS'!$G$21=\"Guayas/Santa Elena\",'Tablas Guayaquil'!D218,'Tablas Resto de Ecuador'!D218)","v":249.27666666666667},{"$f":"IF('INGRESO DE DATOS'!$G$21=\"Guayas/Santa Elena\",'Tablas Guayaquil'!E218,'Tablas Resto de Ecuador'!E218)","v":235.05500000000001},{"$f":"IF('INGRESO DE DATOS'!$G$21=\"Guayas/Santa Elena\",'Tablas Guayaquil'!F218,'Tablas Resto de Ecuador'!F218)","v":214.47333333333333},{"$f":"IF('INGRESO DE DATOS'!$G$21=\"Guayas/Santa Elena\",'Tablas Guayaquil'!G218,'Tablas Resto de Ecuador'!G218)","v":166.42}]
[20,null,{"$f":"IF('INGRESO DE DATOS'!$G$21=\"Guayas/Santa Elena\",'Tablas Guayaquil'!C219,'Tablas Resto de Ecuador'!C219)","v":258.55166666666668},{"$f":"IF('INGRESO DE DATOS'!$G$21=\"Guayas/Santa Elena\",'Tablas Guayaquil'!D219,'Tablas Resto de Ecuador'!D219)","v":252.81},{"$f":"IF('INGRESO DE DATOS'!$G$21=\"Guayas/Santa Elena\",'Tablas Guayaquil'!E219,'Tablas Resto de Ecuador'!E219)","v":238.76499999999999},{"$f":"IF('INGRESO DE DATOS'!$G$21=\"Guayas/Santa Elena\",'Tablas Guayaquil'!F219,'Tablas Resto de Ecuador'!F219)","v":217.565},{"$f":"IF('INGRESO DE DATOS'!$G$21=\"Guayas/Santa Elena\",'Tablas Guayaquil'!G219,'Tablas Resto de Ecuador'!G219)","v":169.51166666666666}]
[21,null,{"$f":"IF('INGRESO DE DATOS'!$G$21=\"Guayas/Santa Elena\",'Tablas Guayaquil'!C220,'Tablas Resto de Ecuador'!C220)","v":262.79166666666669},{"$f":"IF('INGRESO DE DATOS'!$G$21=\"Guayas/Santa Elena\",'Tablas Guayaquil'!D220,'Tablas Resto de Ecuador'!D220)","v":257.58},{"$f":"IF('INGRESO DE DATOS'!$G$21=\"Guayas/Santa Elena\",'Tablas Guayaquil'!E220,'Tablas Resto de Ecuador'!E220)","v":242.56333333333333},{"$f":"IF('INGRESO DE DATOS'!$G$21=\"Guayas/Santa Elena\",'Tablas Guayaquil'!F220,'Tablas Resto de Ecuador'!F220)","v":221.09833333333333},{"$f":"IF('INGRESO DE DATOS'!$G$21=\"Guayas/Santa Elena\",'Tablas Guayaquil'!G220,'Tablas Resto de Ecuador'!G220)","v":173.31}]
[22,null,{"$f":"IF('INGRESO DE DATOS'!$G$21=\"Guayas/Santa Elena\",'Tablas Guayaquil'!C221,'Tablas Resto de Ecuador'!C221)","v":266.94333333333333},{"$f":"IF('INGRESO DE DATOS'!$G$21=\"Guayas/Santa Elena\",'Tablas Guayaquil'!D221,'Tablas Resto de Ecuador'!D221)","v":262.52666666666664},{"$f":"IF('INGRESO DE DATOS'!$G$21=\"Guayas/Santa Elena\",'Tablas Guayaquil'!E221,'Tablas Resto de Ecuador'!E221)","v":246.80333333333334},{"$f":"IF('INGRESO DE DATOS'!$G$21=\"Guayas/Santa Elena\",'Tablas Guayaquil'!F221,'Tablas Resto de Ecuador'!F221)","v":225.42666666666668},{"$f":"IF('INGRESO DE DATOS'!$G$21=\"Guayas/Santa Elena\",'Tablas Guayaquil'!G221,'Tablas Resto de Ecuador'!G221)","v":177.02}]
[23,null,{"$f":"IF('INGRESO DE DATOS'!$G$21=\"Guayas/Santa Elena\",'Tablas Guayaquil'!C222,'Tablas Resto de Ecuador'!C222)","v":271.97833333333335},{"$f":"IF('INGRESO DE DATOS'!$G$21=\"Guayas/Santa Elena\",'Tablas Guayaquil'!D222,'Tablas Resto de Ecuador'!D222)","v":266.23666666666668},{"$f":"IF('INGRESO DE DATOS'!$G$21=\"Guayas/Santa Elena\",'Tablas Guayaquil'!E222,'Tablas Resto de Ecuador'!E222)","v":251.04333333333332},{"$f":"IF('INGRESO DE DATOS'!$G$21=\"Guayas/Santa Elena\",'Tablas Guayaquil'!F222,'Tablas Resto de Ecuador'!F222)","v":228.69499999999999},{"$f":"IF('INGRESO DE DATOS'!$G$21=\"Guayas/Santa Elena\",'Tablas Guayaquil'!G222,'Tablas Resto de Ecuador'!G222)","v":180.64166666666668}]
[24,null,{"$f":"IF('INGRESO DE DATOS'!$G$21=\"Guayas/Santa Elena\",'Tablas Guayaquil'!C223,'Tablas Resto de Ecuador'!C223)","v":276.48333333333335},{"$f":"IF('INGRESO DE DATOS'!$G$21=\"Guayas/Santa Elena\",'Tablas Guayaquil'!D223,'Tablas Resto de Ecuador'!D223)","v":270.83},{"$f":"IF('INGRESO DE DATOS'!$G$21=\"Guayas/Santa Elena\",'Tablas Guayaquil'!E223,'Tablas Resto de Ecuador'!E223)","v":255.28333333333333},{"$f":"IF('INGRESO DE DATOS'!$G$21=\"Guayas/Santa Elena\",'Tablas Guayaquil'!F223,'Tablas Resto de Ecuador'!F223)","v":232.67},{"$f":"IF('INGRESO DE DATOS'!$G$21=\"Guayas/Santa Elena\",'Tablas Guayaquil'!G223,'Tablas Resto de Ecuador'!G223)","v":184.26333333333332}]
[25,null,{"$f":"IF('INGRESO DE DATOS'!$G$21=\"Guayas/Santa Elena\",'Tablas Guayaquil'!C224,'Tablas Resto de Ecuador'!C224)","v":280.63499999999999},{"$f":"IF('INGRESO DE DATOS'!$G$21=\"Guayas/Santa Elena\",'Tablas Guayaquil'!D224,'Tablas Resto de Ecuador'!D224)","v":274.98166666666668},{"$f":"IF('INGRESO DE DATOS'!$G$21=\"Guayas/Santa Elena\",'Tablas Guayaquil'!E224,'Tablas Resto de Ecuador'!E224)","v":258.72833333333335},{"$f":"IF('INGRESO DE DATOS'!$G$21=\"Guayas/Santa Elena\",'Tablas Guayaquil'!F224,'Tablas Resto de Ecuador'!F224)","v":236.73333333333332},{"$f":"IF('INGRESO DE DATOS'!$G$21=\"Guayas/Santa Elena\",'Tablas Guayaquil'!G224,'Tablas Resto de Ecuador'!G224)","v":188.59166666666667}]
[26,null,{"$f":"IF('INGRESO DE DATOS'!$G$21=\"Guayas/Santa Elena\",'Tablas Guayaquil'!C225,'Tablas Resto de Ecuador'!C225)","v":285.22833333333335},{"$f":"IF('INGRESO DE DATOS'!$G$21=\"Guayas/Santa Elena\",'Tablas Guayaquil'!D225,'Tablas Resto de Ecuador'!D225)","v":279.48666666666668},{"$f":"IF('INGRESO DE DATOS'!$G$21=\"Guayas/Santa Elena\",'Tablas Guayaquil'!E225,'Tablas Resto de Ecuador'!E225)","v":263.41000000000003},{"$f":"IF('INGRESO DE DATOS'!$G$21=\"Guayas/Santa Elena\",'Tablas Guayaquil'!F225,'Tablas Resto de Ecuador'!F225)","v":240.09},{"$f":"IF('INGRESO DE DATOS'!$G$21=\"Guayas/Santa Elena\",'Tablas Guayaquil'!G225,'Tablas Resto de Ecuador'!G225)","v":191.77166666666668}]
[27,null,{"$f":"IF('INGRESO DE DATOS'!$G$21=\"Guayas/Santa Elena\",'Tablas Guayaquil'!C226,'Tablas Resto de Ecuador'!C226)","v":289.20333333333332},{"$f":"IF('INGRESO DE DATOS'!$G$21=\"Guayas/Santa Elena\",'Tablas Guayaquil'!D226,'Tablas Resto de Ecuador'!D226)","v":283.63833333333332},{"$f":"IF('INGRESO DE DATOS'!$G$21=\"Guayas/Santa Elena\",'Tablas Guayaquil'!E226,'Tablas Resto de Ecuador'!E226)","v":266.94333333333333},{"$f":"IF('INGRESO DE DATOS'!$G$21=\"Guayas/Santa Elena\",'Tablas Guayaquil'!F226,'Tablas Resto de Ecuador'!F226)","v":243.97666666666666},{"$f":"IF('INGRESO DE DATOS'!$G$21=\"Guayas/Santa Elena\",'Tablas Guayaquil'!G226,'Tablas Resto de Ecuador'!G226)","v":195.48166666666665}]
[28,null,{"$f":"IF('INGRESO DE DATOS'!$G$21=\"Guayas/Santa Elena\",'Tablas Guayaquil'!C227,'Tablas Resto de Ecuador'!C227)","v":294.59166666666664},{"$f":"IF('INGRESO DE DATOS'!$G$21=\"Guayas/Santa Elena\",'Tablas Guayaquil'!D227,'Tablas Resto de Ecuador'!D227)","v":288.93833333333333},{"$f":"IF('INGRESO DE DATOS'!$G$21=\"Guayas/Santa Elena\",'Tablas Guayaquil'!E227,'Tablas Resto de Ecuador'!E227)","v":272.33166666666665},{"$f":"IF('INGRESO DE DATOS'!$G$21=\"Guayas/Santa Elena\",'Tablas Guayaquil'!F227,'Tablas Resto de Ecuador'!F227)","v":248.30500000000001},{"$f":"IF('INGRESO DE DATOS'!$G$21=\"Guayas/Santa Elena\",'Tablas Guayaquil'!G227,'Tablas Resto de Ecuador'!G227)","v":200.25166666666667}]
[29,null,{"$f":"IF('INGRESO DE DATOS'!$G$21=\"Guayas/Santa Elena\",'Tablas Guayaquil'!C228,'Tablas Resto de Ecuador'!C228)","v":299.89166666666665},{"$f":"IF('INGRESO DE DATOS'!$G$21=\"Guayas/Santa Elena\",'Tablas Guayaquil'!D228,'Tablas Resto de Ecuador'!D228)","v":293.97333333333336},{"$f":"IF('INGRESO DE DATOS'!$G$21=\"Guayas/Santa Elena\",'Tablas Guayaquil'!E228,'Tablas Resto de Ecuador'!E228)","v":277.01333333333332},{"$f":"IF('INGRESO DE DATOS'!$G$21=\"Guayas/Santa Elena\",'Tablas Guayaquil'!F228,'Tablas Resto de Ecuador'!F228)","v":252.36833333333334},{"$f":"IF('INGRESO DE DATOS'!$G$21=\"Guayas/Santa Elena\",'Tablas Guayaquil'!G228,'Tablas Resto de Ecuador'!G228)","v":205.375}]
[30,null,{"$f":"IF('INGRESO DE DATOS'!$G$21=\"Guayas/Santa Elena\",'Tablas Guayaquil'!C229,'Tablas Resto de Ecuador'!C229)","v":305.36833333333334},{"$f":"IF('INGRESO DE DATOS'!$G$21=\"Guayas/Santa Elena\",'Tablas Guayaquil'!D229,'Tablas Resto de Ecuador'!D229)","v":299.00833333333333},{"$f":"IF('INGRESO DE DATOS'!$G$21=\"Guayas/Santa Elena\",'Tablas Guayaquil'!E229,'Tablas Resto de Ecuador'!E229)","v":281.78333333333336},{"$f":"IF('INGRESO DE DATOS'!$G$21=\"Guayas/Santa Elena\",'Tablas Guayaquil'!F229,'Tablas Resto de Ecuador'!F229)","v":257.22666666666669},{"$f":"IF('INGRESO DE DATOS'!$G$21=\"Guayas/Santa Elena\",'Tablas Guayaquil'!G229,'Tablas Resto de Ecuador'!G229)","v":209.79166666666666}]
[31,null,{"$f":"IF('INGRESO DE DATOS'!$G$21=\"Guayas/Santa Elena\",'Tablas Guayaquil'!C230,'Tablas Resto de Ecuador'!C230)","v":310.22666666666669},{"$f":"IF('INGRESO DE DATOS'!$G$21=\"Guayas/Santa Elena\",'Tablas Guayaquil'!D230,'Tablas Resto de Ecuador'!D230)","v":303.86666666666667},{"$f":"IF('INGRESO DE DATOS'!$G$21=\"Guayas/Santa Elena\",'Tablas Guayaquil'!E230,'Tablas Resto de Ecuador'!E230)","v":286.28833333333336},{"$f":"IF('INGRESO DE DATOS'!$G$21=\"Guayas/Santa Elena\",'Tablas Guayaquil'!F230,'Tablas Resto de Ecuador'!F230)","v":261.29000000000002},{"$f":"IF('INGRESO DE DATOS'!$G$21=\"Guayas/Santa Elena\",'Tablas Guayaquil'!G230,'Tablas Resto de Ecuador'!G230)","v":214.47333333333333}]
[32,null,{"$f":"IF('INGRESO DE DATOS'!$G$21=\"Guayas/Santa Elena\",'Tablas Guayaquil'!C231,'Tablas Resto de Ecuador'!C231)","v":315.70333333333332},{"$f":"IF('INGRESO DE DATOS'!$G$21=\"Guayas/Santa Elena\",'Tablas Guayaquil'!D231,'Tablas Resto de Ecuador'!D231)","v":309.07833333333332},{"$f":"IF('INGRESO DE DATOS'!$G$21=\"Guayas/Santa Elena\",'Tablas Guayaquil'!E231,'Tablas Resto de Ecuador'!E231)","v":291.58833333333331},{"$f":"IF('INGRESO DE DATOS'!$G$21=\"Guayas/Santa Elena\",'Tablas Guayaquil'!F231,'Tablas Resto de Ecuador'!F231)","v":265.70666666666665},{"$f":"IF('INGRESO DE DATOS'!$G$21=\"Guayas/Santa Elena\",'Tablas Guayaquil'!G231,'Tablas Resto de Ecuador'!G231)","v":218.80166666666668}]
[33,null,{"$f":"IF('INGRESO DE DATOS'!$G$21=\"Guayas/Santa Elena\",'Tablas Guayaquil'!C232,'Tablas Resto de Ecuador'!C232)","v":324.09500000000003},{"$f":"IF('INGRESO DE DATOS'!$G$21=\"Guayas/Santa Elena\",'Tablas Guayaquil'!D232,'Tablas Resto de Ecuador'!D232)","v":317.55833333333334},{"$f":"IF('INGRESO DE DATOS'!$G$21=\"Guayas/Santa Elena\",'Tablas Guayaquil'!E232,'Tablas Resto de Ecuador'!E232)","v":299.36166666666668},{"$f":"IF('INGRESO DE DATOS'!$G$21=\"Guayas/Santa Elena\",'Tablas Guayaquil'!F232,'Tablas Resto de Ecuador'!F232)","v":272.59666666666669},{"$f":"IF('INGRESO DE DATOS'!$G$21=\"Guayas/Santa Elena\",'Tablas Guayaquil'!G232,'Tablas Resto de Ecuador'!G232)","v":225.69166666666666}]
[34,null,{"$f":"IF('INGRESO DE DATOS'!$G$21=\"Guayas/Santa Elena\",'Tablas Guayaquil'!C233,'Tablas Resto de Ecuador'!C233)","v":332.75166666666667},{"$f":"IF('INGRESO DE DATOS'!$G$21=\"Guayas/Santa Elena\",'Tablas Guayaquil'!D233,'Tablas Resto de Ecuador'!D233)","v":326.21499999999997},{"$f":"IF('INGRESO DE DATOS'!$G$21=\"Guayas/Santa Elena\",'Tablas Guayaquil'!E233,'Tablas Resto de Ecuador'!E233)","v":307.22333333333336},{"$f":"IF('INGRESO DE DATOS'!$G$21=\"Guayas/Santa Elena\",'Tablas Guayaquil'!F233,'Tablas Resto de Ecuador'!F233)","v":280.19333333333333},{"$f":"IF('INGRESO DE DATOS'!$G$21=\"Guayas/Santa Elena\",'Tablas Guayaquil'!G233,'Tablas Resto de Ecuador'!G233)","v":232.31666666666666}]
[35,null,{"$f":"IF('INGRESO DE DATOS'!$G$21=\"Guayas/Santa Elena\",'Tablas Guayaquil'!C234,'Tablas Resto de Ecuador'!C234)","v":341.40833333333336},{"$f":"IF('INGRESO DE DATOS'!$G$21=\"Guayas/Santa Elena\",'Tablas Guayaquil'!D234,'Tablas Resto de Ecuador'!D234)","v":334.60666666666668},{"$f":"IF('INGRESO DE DATOS'!$G$21=\"Guayas/Santa Elena\",'Tablas Guayaquil'!E234,'Tablas Resto de Ecuador'!E234)","v":315.52666666666664},{"$f":"IF('INGRESO DE DATOS'!$G$21=\"Guayas/Santa Elena\",'Tablas Guayaquil'!F234,'Tablas Resto de Ecuador'!F234)","v":287.52499999999998},{"$f":"IF('INGRESO DE DATOS'!$G$21=\"Guayas/Santa Elena\",'Tablas Guayaquil'!G234,'Tablas Resto de Ecuador'!G234)","v":238.76499999999999}]
[36,null,{"$f":"IF('INGRESO DE DATOS'!$G$21=\"Guayas/Santa Elena\",'Tablas Guayaquil'!C235,'Tablas Resto de Ecuador'!C235)","v":349.88833333333332},{"$f":"IF('INGRESO DE DATOS'!$G$21=\"Guayas/Santa Elena\",'Tablas Guayaquil'!D235,'Tablas Resto de Ecuador'!D235)","v":343.08666666666664},{"$f":"IF('INGRESO DE DATOS'!$G$21=\"Guayas/Santa Elena\",'Tablas Guayaquil'!E235,'Tablas Resto de Ecuador'!E235)","v":323.38833333333332},{"$f":"IF('INGRESO DE DATOS'!$G$21=\"Guayas/Santa Elena\",'Tablas Guayaquil'!F235,'Tablas Resto de Ecuador'!F235)","v":294.59166666666664},{"$f":"IF('INGRESO DE DATOS'!$G$21=\"Guayas/Santa Elena\",'Tablas Guayaquil'!G235,'Tablas Resto de Ecuador'!G235)","v":245.92}]
[37,null,{"$f":"IF('INGRESO DE DATOS'!$G$21=\"Guayas/Santa Elena\",'Tablas Guayaquil'!C236,'Tablas Resto de Ecuador'!C236)","v":358.28},{"$f":"IF('INGRESO DE DATOS'!$G$21=\"Guayas/Santa Elena\",'Tablas Guayaquil'!D236,'Tablas Resto de Ecuador'!D236)","v":351.47833333333335},{"$f":"IF('INGRESO DE DATOS'!$G$21=\"Guayas/Santa Elena\",'Tablas Guayaquil'!E236,'Tablas Resto de Ecuador'!E236)","v":331.33833333333331},{"$f":"IF('INGRESO DE DATOS'!$G$21=\"Guayas/Santa Elena\",'Tablas Guayaquil'!F236,'Tablas Resto de Ecuador'!F236)","v":302.27666666666664},{"$f":"IF('INGRESO DE DATOS'!$G$21=\"Guayas/Santa Elena\",'Tablas Guayaquil'!G236,'Tablas Resto de Ecuador'!G236)","v":252.28}]
[38,null,{"$f":"IF('INGRESO DE DATOS'!$G$21=\"Guayas/Santa Elena\",'Tablas Guayaquil'!C237,'Tablas Resto de Ecuador'!C237)","v":367.29},{"$f":"IF('INGRESO DE DATOS'!$G$21=\"Guayas/Santa Elena\",'Tablas Guayaquil'!D237,'Tablas Resto de Ecuador'!D237)","v":360.13499999999999},{"$f":"IF('INGRESO DE DATOS'!$G$21=\"Guayas/Santa Elena\",'Tablas Guayaquil'!E237,'Tablas Resto de Ecuador'!E237)","v":339.64166666666665},{"$f":"IF('INGRESO DE DATOS'!$G$21=\"Guayas/Santa Elena\",'Tablas Guayaquil'!F237,'Tablas Resto de Ecuador'!F237)","v":309.43166666666667},{"$f":"IF('INGRESO DE DATOS'!$G$21=\"Guayas/Santa Elena\",'Tablas Guayaquil'!G237,'Tablas Resto de Ecuador'!G237)","v":259.61166666666668}]
[39,null,{"$f":"IF('INGRESO DE DATOS'!$G$21=\"Guayas/Santa Elena\",'Tablas Guayaquil'!C238,'Tablas Resto de Ecuador'!C238)","v":376.3},{"$f":"IF('INGRESO DE DATOS'!$G$21=\"Guayas/Santa Elena\",'Tablas Guayaquil'!D238,'Tablas Resto de Ecuador'!D238)","v":368.52666666666664},{"$f":"IF('INGRESO DE DATOS'!$G$21=\"Guayas/Santa Elena\",'Tablas Guayaquil'!E238,'Tablas Resto de Ecuador'!E238)","v":347.41500000000002},{"$f":"IF('INGRESO DE DATOS'!$G$21=\"Guayas/Santa Elena\",'Tablas Guayaquil'!F238,'Tablas Resto de Ecuador'!F238)","v":317.11666666666667},{"$f":"IF('INGRESO DE DATOS'!$G$21=\"Guayas/Santa Elena\",'Tablas Guayaquil'!G238,'Tablas Resto de Ecuador'!G238)","v":266.50166666666667}]
[40,null,{"$f":"IF('INGRESO DE DATOS'!$G$21=\"Guayas/Santa Elena\",'Tablas Guayaquil'!C239,'Tablas Resto de Ecuador'!C239)","v":385.22166666666669},{"$f":"IF('INGRESO DE DATOS'!$G$21=\"Guayas/Santa Elena\",'Tablas Guayaquil'!D239,'Tablas Resto de Ecuador'!D239)","v":377.36},{"$f":"IF('INGRESO DE DATOS'!$G$21=\"Guayas/Santa Elena\",'Tablas Guayaquil'!E239,'Tablas Resto de Ecuador'!E239)","v":355.71833333333331},{"$f":"IF('INGRESO DE DATOS'!$G$21=\"Guayas/Santa Elena\",'Tablas Guayaquil'!F239,'Tablas Resto de Ecuador'!F239)","v":324.09500000000003},{"$f":"IF('INGRESO DE DATOS'!$G$21=\"Guayas/Santa Elena\",'Tablas Guayaquil'!G239,'Tablas Resto de Ecuador'!G239)","v":273.83333333333331}]
[41,null,{"$f":"IF('INGRESO DE DATOS'!$G$21=\"Guayas/Santa Elena\",'Tablas Guayaquil'!C240,'Tablas Resto de Ecuador'!C240)","v":394.14333333333332},{"$f":"IF('INGRESO DE DATOS'!$G$21=\"Guayas/Santa Elena\",'Tablas Guayaquil'!D240,'Tablas Resto de Ecuador'!D240)","v":386.19333333333333},{"$f":"IF('INGRESO DE DATOS'!$G$21=\"Guayas/Santa Elena\",'Tablas Guayaquil'!E240,'Tablas Resto de Ecuador'!E240)","v":363.84500000000003},{"$f":"IF('INGRESO DE DATOS'!$G$21=\"Guayas/Santa Elena\",'Tablas Guayaquil'!F240,'Tablas Resto de Ecuador'!F240)","v":331.60333333333335},{"$f":"IF('INGRESO DE DATOS'!$G$21=\"Guayas/Santa Elena\",'Tablas Guayaquil'!G240,'Tablas Resto de Ecuador'!G240)","v":280.72333333333336}]
[42,null,{"$f":"IF('INGRESO DE DATOS'!$G$21=\"Guayas/Santa Elena\",'Tablas Guayaquil'!C241,'Tablas Resto de Ecuador'!C241)","v":402.8},{"$f":"IF('INGRESO DE DATOS'!$G$21=\"Guayas/Santa Elena\",'Tablas Guayaquil'!D241,'Tablas Resto de Ecuador'!D241)","v":394.67333333333335},{"$f":"IF('INGRESO DE DATOS'!$G$21=\"Guayas/Santa Elena\",'Tablas Guayaquil'!E241,'Tablas Resto de Ecuador'!E241)","v":371.97166666666669},{"$f":"IF('INGRESO DE DATOS'!$G$21=\"Guayas/Santa Elena\",'Tablas Guayaquil'!F241,'Tablas Resto de Ecuador'!F241)","v":338.75833333333333},{"$f":"IF('INGRESO DE DATOS'!$G$21=\"Guayas/Santa Elena\",'Tablas Guayaquil'!G241,'Tablas Resto de Ecuador'!G241)","v":288.58499999999998}]
[43,null,{"$f":"IF('INGRESO DE DATOS'!$G$21=\"Guayas/Santa Elena\",'Tablas Guayaquil'!C242,'Tablas Resto de Ecuador'!C242)","v":418.61166666666668},{"$f":"IF('INGRESO DE DATOS'!$G$21=\"Guayas/Santa Elena\",'Tablas Guayaquil'!D242,'Tablas Resto de Ecuador'!D242)","v":410.30833333333334},{"$f":"IF('INGRESO DE DATOS'!$G$21=\"Guayas/Santa Elena\",'Tablas Guayaquil'!E242,'Tablas Resto de Ecuador'!E242)","v":386.54666666666668},{"$f":"IF('INGRESO DE DATOS'!$G$21=\"Guayas/Santa Elena\",'Tablas Guayaquil'!F242,'Tablas Resto de Ecuador'!F242)","v":352.80333333333334},{"$f":"IF('INGRESO DE DATOS'!$G$21=\"Guayas/Santa Elena\",'Tablas Guayaquil'!G242,'Tablas Resto de Ecuador'!G242)","v":300.42166666666668}]
[44,null,{"$f":"IF('INGRESO DE DATOS'!$G$21=\"Guayas/Santa Elena\",'Tablas Guayaquil'!C243,'Tablas Resto de Ecuador'!C243)","v":434.77666666666664},{"$f":"IF('INGRESO DE DATOS'!$G$21=\"Guayas/Santa Elena\",'Tablas Guayaquil'!D243,'Tablas Resto de Ecuador'!D243)","v":426.03166666666664},{"$f":"IF('INGRESO DE DATOS'!$G$21=\"Guayas/Santa Elena\",'Tablas Guayaquil'!E243,'Tablas Resto de Ecuador'!E243)","v":401.29833333333335},{"$f":"IF('INGRESO DE DATOS'!$G$21=\"Guayas/Santa Elena\",'Tablas Guayaquil'!F243,'Tablas Resto de Ecuador'!F243)","v":366.23},{"$f":"IF('INGRESO DE DATOS'!$G$21=\"Guayas/Santa Elena\",'Tablas Guayaquil'!G243,'Tablas Resto de Ecuador'!G243)","v":313.67166666666668}]
[45,null,{"$f":"IF('INGRESO DE DATOS'!$G$21=\"Guayas/Santa Elena\",'Tablas Guayaquil'!C244,'Tablas Resto de Ecuador'!C244)","v":451.29500000000002},{"$f":"IF('INGRESO DE DATOS'!$G$21=\"Guayas/Santa Elena\",'Tablas Guayaquil'!D244,'Tablas Resto de Ecuador'!D244)","v":441.49},{"$f":"IF('INGRESO DE DATOS'!$G$21=\"Guayas/Santa Elena\",'Tablas Guayaquil'!E244,'Tablas Resto de Ecuador'!E244)","v":416.13833333333332},{"$f":"IF('INGRESO DE DATOS'!$G$21=\"Guayas/Santa Elena\",'Tablas Guayaquil'!F244,'Tablas Resto de Ecuador'!F244)","v":379.65666666666664},{"$f":"IF('INGRESO DE DATOS'!$G$21=\"Guayas/Santa Elena\",'Tablas Guayaquil'!G244,'Tablas Resto de Ecuador'!G244)","v":326.30333333333334}]
[46,null,{"$f":"IF('INGRESO DE DATOS'!$G$21=\"Guayas/Santa Elena\",'Tablas Guayaquil'!C245,'Tablas Resto de Ecuador'!C245)","v":466.31166666666667},{"$f":"IF('INGRESO DE DATOS'!$G$21=\"Guayas/Santa Elena\",'Tablas Guayaquil'!D245,'Tablas Resto de Ecuador'!D245)","v":457.65499999999997},{"$f":"IF('INGRESO DE DATOS'!$G$21=\"Guayas/Santa Elena\",'Tablas Guayaquil'!E245,'Tablas Resto de Ecuador'!E245)","v":430.97833333333335},{"$f":"IF('INGRESO DE DATOS'!$G$21=\"Guayas/Santa Elena\",'Tablas Guayaquil'!F245,'Tablas Resto de Ecuador'!F245)","v":393.17166666666668},{"$f":"IF('INGRESO DE DATOS'!$G$21=\"Guayas/Santa Elena\",'Tablas Guayaquil'!G245,'Tablas Resto de Ecuador'!G245)","v":338.49333333333334}]
[47,null,{"$f":"IF('INGRESO DE DATOS'!$G$21=\"Guayas/Santa Elena\",'Tablas Guayaquil'!C246,'Tablas Resto de Ecuador'!C246)","v":482.74166666666667},{"$f":"IF('INGRESO DE DATOS'!$G$21=\"Guayas/Santa Elena\",'Tablas Guayaquil'!D246,'Tablas Resto de Ecuador'!D246)","v":472.93666666666667},{"$f":"IF('INGRESO DE DATOS'!$G$21=\"Guayas/Santa Elena\",'Tablas Guayaquil'!E246,'Tablas Resto de Ecuador'!E246)","v":445.995},{"$f":"IF('INGRESO DE DATOS'!$G$21=\"Guayas/Santa Elena\",'Tablas Guayaquil'!F246,'Tablas Resto de Ecuador'!F246)","v":406.68666666666667},{"$f":"IF('INGRESO DE DATOS'!$G$21=\"Guayas/Santa Elena\",'Tablas Guayaquil'!G246,'Tablas Resto de Ecuador'!G246)","v":351.47833333333335}]
[48,null,{"$f":"IF('INGRESO DE DATOS'!$G$21=\"Guayas/Santa Elena\",'Tablas Guayaquil'!C247,'Tablas Resto de Ecuador'!C247)","v":499.87833333333333},{"$f":"IF('INGRESO DE DATOS'!$G$21=\"Guayas/Santa Elena\",'Tablas Guayaquil'!D247,'Tablas Resto de Ecuador'!D247)","v":489.54333333333335},{"$f":"IF('INGRESO DE DATOS'!$G$21=\"Guayas/Santa Elena\",'Tablas Guayaquil'!E247,'Tablas Resto de Ecuador'!E247)","v":461.36500000000001},{"$f":"IF('INGRESO DE DATOS'!$G$21=\"Guayas/Santa Elena\",'Tablas Guayaquil'!F247,'Tablas Resto de Ecuador'!F247)","v":420.90833333333336},{"$f":"IF('INGRESO DE DATOS'!$G$21=\"Guayas/Santa Elena\",'Tablas Guayaquil'!G247,'Tablas Resto de Ecuador'!G247)","v":364.19833333333332}]
[49,null,{"$f":"IF('INGRESO DE DATOS'!$G$21=\"Guayas/Santa Elena\",'Tablas Guayaquil'!C248,'Tablas Resto de Ecuador'!C248)","v":516.48500000000001},{"$f":"IF('INGRESO DE DATOS'!$G$21=\"Guayas/Santa Elena\",'Tablas Guayaquil'!D248,'Tablas Resto de Ecuador'!D248)","v":506.32666666666665},{"$f":"IF('INGRESO DE DATOS'!$G$21=\"Guayas/Santa Elena\",'Tablas Guayaquil'!E248,'Tablas Resto de Ecuador'!E248)","v":477},{"$f":"IF('INGRESO DE DATOS'!$G$21=\"Guayas/Santa Elena\",'Tablas Guayaquil'!F248,'Tablas Resto de Ecuador'!F248)","v":434.86500000000001},{"$f":"IF('INGRESO DE DATOS'!$G$21=\"Guayas/Santa Elena\",'Tablas Guayaquil'!G248,'Tablas Resto de Ecuador'!G248)","v":377.89}]
[50,null,{"$f":"IF('INGRESO DE DATOS'!$G$21=\"Guayas/Santa Elena\",'Tablas Guayaquil'!C249,'Tablas Resto de Ecuador'!C249)","v":533.26833333333332},{"$f":"IF('INGRESO DE DATOS'!$G$21=\"Guayas/Santa Elena\",'Tablas Guayaquil'!D249,'Tablas Resto de Ecuador'!D249)","v":523.11},{"$f":"IF('INGRESO DE DATOS'!$G$21=\"Guayas/Santa Elena\",'Tablas Guayaquil'!E249,'Tablas Resto de Ecuador'!E249)","v":492.72333333333336},{"$f":"IF('INGRESO DE DATOS'!$G$21=\"Guayas/Santa Elena\",'Tablas Guayaquil'!F249,'Tablas Resto de Ecuador'!F249)","v":449.26333333333332},{"$f":"IF('INGRESO DE DATOS'!$G$21=\"Guayas/Santa Elena\",'Tablas Guayaquil'!G249,'Tablas Resto de Ecuador'!G249)","v":391.22833333333335}]
[51,null,{"$f":"IF('INGRESO DE DATOS'!$G$21=\"Guayas/Santa Elena\",'Tablas Guayaquil'!C250,'Tablas Resto de Ecuador'!C250)","v":550.05166666666662},{"$f":"IF('INGRESO DE DATOS'!$G$21=\"Guayas/Santa Elena\",'Tablas Guayaquil'!D250,'Tablas Resto de Ecuador'!D250)","v":539.62833333333333},{"$f":"IF('INGRESO DE DATOS'!$G$21=\"Guayas/Santa Elena\",'Tablas Guayaquil'!E250,'Tablas Resto de Ecuador'!E250)","v":508.27},{"$f":"IF('INGRESO DE DATOS'!$G$21=\"Guayas/Santa Elena\",'Tablas Guayaquil'!F250,'Tablas Resto de Ecuador'!F250)","v":463.66166666666669},{"$f":"IF('INGRESO DE DATOS'!$G$21=\"Guayas/Santa Elena\",'Tablas Guayaquil'!G250,'Tablas Resto de Ecuador'!G250)","v":404.47833333333335}]
[52,null,{"$f":"IF('INGRESO DE DATOS'!$G$21=\"Guayas/Santa Elena\",'Tablas Guayaquil'!C251,'Tablas Resto de Ecuador'!C251)","v":567.18833333333328},{"$f":"IF('INGRESO DE DATOS'!$G$21=\"Guayas/Santa Elena\",'Tablas Guayaquil'!D251,'Tablas Resto de Ecuador'!D251)","v":555.70500000000004},{"$f":"IF('INGRESO DE DATOS'!$G$21=\"Guayas/Santa Elena\",'Tablas Guayaquil'!E251,'Tablas Resto de Ecuador'!E251)","v":523.99333333333334},{"$f":"IF('INGRESO DE DATOS'!$G$21=\"Guayas/Santa Elena\",'Tablas Guayaquil'!F251,'Tablas Resto de Ecuador'!F251)","v":477.97166666666669},{"$f":"IF('INGRESO DE DATOS'!$G$21=\"Guayas/Santa Elena\",'Tablas Guayaquil'!G251,'Tablas Resto de Ecuador'!G251)","v":417.72833333333335}]
[53,null,{"$f":"IF('INGRESO DE DATOS'!$G$21=\"Guayas/Santa Elena\",'Tablas Guayaquil'!C252,'Tablas Resto de Ecuador'!C252)","v":587.15166666666664},{"$f":"IF('INGRESO DE DATOS'!$G$21=\"Guayas/Santa Elena\",'Tablas Guayaquil'!D252,'Tablas Resto de Ecuador'!D252)","v":575.84500000000003},{"$f":"IF('INGRESO DE DATOS'!$G$21=\"Guayas/Santa Elena\",'Tablas Guayaquil'!E252,'Tablas Resto de Ecuador'!E252)","v":542.54333333333329},{"$f":"IF('INGRESO DE DATOS'!$G$21=\"Guayas/Santa Elena\",'Tablas Guayaquil'!F252,'Tablas Resto de Ecuador'!F252)","v":494.66666666666669},{"$f":"IF('INGRESO DE DATOS'!$G$21=\"Guayas/Santa Elena\",'Tablas Guayaquil'!G252,'Tablas Resto de Ecuador'!G252)","v":434.24666666666667}]
[54,null,{"$f":"IF('INGRESO DE DATOS'!$G$21=\"Guayas/Santa Elena\",'Tablas Guayaquil'!C253,'Tablas Resto de Ecuador'!C253)","v":607.29166666666663},{"$f":"IF('INGRESO DE DATOS'!$G$21=\"Guayas/Santa Elena\",'Tablas Guayaquil'!D253,'Tablas Resto de Ecuador'!D253)","v":595.54333333333329},{"$f":"IF('INGRESO DE DATOS'!$G$21=\"Guayas/Santa Elena\",'Tablas Guayaquil'!E253,'Tablas Resto de Ecuador'!E253)","v":561.09333333333336},{"$f":"IF('INGRESO DE DATOS'!$G$21=\"Guayas/Santa Elena\",'Tablas Guayaquil'!F253,'Tablas Resto de Ecuador'!F253)","v":511.80333333333334},{"$f":"IF('INGRESO DE DATOS'!$G$21=\"Guayas/Santa Elena\",'Tablas Guayaquil'!G253,'Tablas Resto de Ecuador'!G253)","v":450.05833333333334}]
[55,null,{"$f":"IF('INGRESO DE DATOS'!$G$21=\"Guayas/Santa Elena\",'Tablas Guayaquil'!C254,'Tablas Resto de Ecuador'!C254)","v":627.07833333333338},{"$f":"IF('INGRESO DE DATOS'!$G$21=\"Guayas/Santa Elena\",'Tablas Guayaquil'!D254,'Tablas Resto de Ecuador'!D254)","v":615.15333333333331},{"$f":"IF('INGRESO DE DATOS'!$G$21=\"Guayas/Santa Elena\",'Tablas Guayaquil'!E254,'Tablas Resto de Ecuador'!E254)","v":579.9083333333333},{"$f":"IF('INGRESO DE DATOS'!$G$21=\"Guayas/Santa Elena\",'Tablas Guayaquil'!F254,'Tablas Resto de Ecuador'!F254)","v":528.67499999999995},{"$f":"IF('INGRESO DE DATOS'!$G$21=\"Guayas/Santa Elena\",'Tablas Guayaquil'!G254,'Tablas Resto de Ecuador'!G254)","v":466.13499999999999}]
[56,null,{"$f":"IF('INGRESO DE DATOS'!$G$21=\"Guayas/Santa Elena\",'Tablas Guayaquil'!C255,'Tablas Resto de Ecuador'!C255)","v":647.57166666666672},{"$f":"IF('INGRESO DE DATOS'!$G$21=\"Guayas/Santa Elena\",'Tablas Guayaquil'!D255,'Tablas Resto de Ecuador'!D255)","v":634.76333333333332},{"$f":"IF('INGRESO DE DATOS'!$G$21=\"Guayas/Santa Elena\",'Tablas Guayaquil'!E255,'Tablas Resto de Ecuador'!E255)","v":598.37},{"$f":"IF('INGRESO DE DATOS'!$G$21=\"Guayas/Santa Elena\",'Tablas Guayaquil'!F255,'Tablas Resto de Ecuador'!F255)","v":545.72333333333336},{"$f":"IF('INGRESO DE DATOS'!$G$21=\"Guayas/Santa Elena\",'Tablas Guayaquil'!G255,'Tablas Resto de Ecuador'!G255)","v":482.47666666666669}]
[57,null,{"$f":"IF('INGRESO DE DATOS'!$G$21=\"Guayas/Santa Elena\",'Tablas Guayaquil'!C256,'Tablas Resto de Ecuador'!C256)","v":667.53499999999997},{"$f":"IF('INGRESO DE DATOS'!$G$21=\"Guayas/Santa Elena\",'Tablas Guayaquil'!D256,'Tablas Resto de Ecuador'!D256)","v":654.4616666666667},{"$f":"IF('INGRESO DE DATOS'!$G$21=\"Guayas/Santa Elena\",'Tablas Guayaquil'!E256,'Tablas Resto de Ecuador'!E256)","v":616.30166666666662},{"$f":"IF('INGRESO DE DATOS'!$G$21=\"Guayas/Santa Elena\",'Tablas Guayaquil'!F256,'Tablas Resto de Ecuador'!F256)","v":561.88833333333332},{"$f":"IF('INGRESO DE DATOS'!$G$21=\"Guayas/Santa Elena\",'Tablas Guayaquil'!G256,'Tablas Resto de Ecuador'!G256)","v":498.55333333333334}]
[58,null,{"$f":"IF('INGRESO DE DATOS'!$G$21=\"Guayas/Santa Elena\",'Tablas Guayaquil'!C257,'Tablas Resto de Ecuador'!C257)","v":690.59},{"$f":"IF('INGRESO DE DATOS'!$G$21=\"Guayas/Santa Elena\",'Tablas Guayaquil'!D257,'Tablas Resto de Ecuador'!D257)","v":677.25166666666667},{"$f":"IF('INGRESO DE DATOS'!$G$21=\"Guayas/Santa Elena\",'Tablas Guayaquil'!E257,'Tablas Resto de Ecuador'!E257)","v":635.73500000000001},{"$f":"IF('INGRESO DE DATOS'!$G$21=\"Guayas/Santa Elena\",'Tablas Guayaquil'!F257,'Tablas Resto de Ecuador'!F257)","v":581.67499999999995},{"$f":"IF('INGRESO DE DATOS'!$G$21=\"Guayas/Santa Elena\",'Tablas Guayaquil'!G257,'Tablas Resto de Ecuador'!G257)","v":519.66499999999996}]
[59,null,{"$f":"IF('INGRESO DE DATOS'!$G$21=\"Guayas/Santa Elena\",'Tablas Guayaquil'!C258,'Tablas Resto de Ecuador'!C258)","v":713.29166666666663},{"$f":"IF('INGRESO DE DATOS'!$G$21=\"Guayas/Santa Elena\",'Tablas Guayaquil'!D258,'Tablas Resto de Ecuador'!D258)","v":699.33500000000004},{"$f":"IF('INGRESO DE DATOS'!$G$21=\"Guayas/Santa Elena\",'Tablas Guayaquil'!E258,'Tablas Resto de Ecuador'!E258)","v":655.34500000000003},{"$f":"IF('INGRESO DE DATOS'!$G$21=\"Guayas/Santa Elena\",'Tablas Guayaquil'!F258,'Tablas Resto de Ecuador'!F258)","v":601.02},{"$f":"IF('INGRESO DE DATOS'!$G$21=\"Guayas/Santa Elena\",'Tablas Guayaquil'!G258,'Tablas Resto de Ecuador'!G258)","v":540.77666666666664}]
[60,null,{"$f":"IF('INGRESO DE DATOS'!$G$21=\"Guayas/Santa Elena\",'Tablas Guayaquil'!C259,'Tablas Resto de Ecuador'!C259)","v":736.87666666666667},{"$f":"IF('INGRESO DE DATOS'!$G$21=\"Guayas/Santa Elena\",'Tablas Guayaquil'!D259,'Tablas Resto de Ecuador'!D259)","v":721.50666666666666},{"$f":"IF('INGRESO DE DATOS'!$G$21=\"Guayas/Santa Elena\",'Tablas Guayaquil'!E259,'Tablas Resto de Ecuador'!E259)","v":674.60166666666669},{"$f":"IF('INGRESO DE DATOS'!$G$21=\"Guayas/Santa Elena\",'Tablas Guayaquil'!F259,'Tablas Resto de Ecuador'!F259)","v":620.63},{"$f":"IF('INGRESO DE DATOS'!$G$21=\"Guayas/Santa Elena\",'Tablas Guayaquil'!G259,'Tablas Resto de Ecuador'!G259)","v":561.88833333333332}]
[61,null,{"$f":"IF('INGRESO DE DATOS'!$G$21=\"Guayas/Santa Elena\",'Tablas Guayaquil'!C260,'Tablas Resto de Ecuador'!C260)","v":764.70166666666671},{"$f":"IF('INGRESO DE DATOS'!$G$21=\"Guayas/Santa Elena\",'Tablas Guayaquil'!D260,'Tablas Resto de Ecuador'!D260)","v":749.42},{"$f":"IF('INGRESO DE DATOS'!$G$21=\"Guayas/Santa Elena\",'Tablas Guayaquil'!E260,'Tablas Resto de Ecuador'!E260)","v":703.92833333333328},{"$f":"IF('INGRESO DE DATOS'!$G$21=\"Guayas/Santa Elena\",'Tablas Guayaquil'!F260,'Tablas Resto de Ecuador'!F260)","v":644.0383333333333},{"$f":"IF('INGRESO DE DATOS'!$G$21=\"Guayas/Santa Elena\",'Tablas Guayaquil'!G260,'Tablas Resto de Ecuador'!G260)","v":582.91166666666663}]
[62,null,{"$f":"IF('INGRESO DE DATOS'!$G$21=\"Guayas/Santa Elena\",'Tablas Guayaquil'!C261,'Tablas Resto de Ecuador'!C261)","v":798.97500000000002},{"$f":"IF('INGRESO DE DATOS'!$G$21=\"Guayas/Santa Elena\",'Tablas Guayaquil'!D261,'Tablas Resto de Ecuador'!D261)","v":783.42833333333328},{"$f":"IF('INGRESO DE DATOS'!$G$21=\"Guayas/Santa Elena\",'Tablas Guayaquil'!E261,'Tablas Resto de Ecuador'!E261)","v":738.20166666666671},{"$f":"IF('INGRESO DE DATOS'!$G$21=\"Guayas/Santa Elena\",'Tablas Guayaquil'!F261,'Tablas Resto de Ecuador'!F261)","v":673.18833333333328},{"$f":"IF('INGRESO DE DATOS'!$G$21=\"Guayas/Santa Elena\",'Tablas Guayaquil'!G261,'Tablas Resto de Ecuador'!G261)","v":609.41166666666663}]
[63,null,{"$f":"IF('INGRESO DE DATOS'!$G$21=\"Guayas/Santa Elena\",'Tablas Guayaquil'!C262,'Tablas Resto de Ecuador'!C262)","v":840.40333333333331},{"$f":"IF('INGRESO DE DATOS'!$G$21=\"Guayas/Santa Elena\",'Tablas Guayaquil'!D262,'Tablas Resto de Ecuador'!D262)","v":823.35500000000002},{"$f":"IF('INGRESO DE DATOS'!$G$21=\"Guayas/Santa Elena\",'Tablas Guayaquil'!E262,'Tablas Resto de Ecuador'!E262)","v":776.09666666666669},{"$f":"IF('INGRESO DE DATOS'!$G$21=\"Guayas/Santa Elena\",'Tablas Guayaquil'!F262,'Tablas Resto de Ecuador'!F262)","v":707.37333333333333},{"$f":"IF('INGRESO DE DATOS'!$G$21=\"Guayas/Santa Elena\",'Tablas Guayaquil'!G262,'Tablas Resto de Ecuador'!G262)","v":640.68166666666662}]
[64,null,{"$f":"IF('INGRESO DE DATOS'!$G$21=\"Guayas/Santa Elena\",'Tablas Guayaquil'!C263,'Tablas Resto de Ecuador'!C263)","v":889.07500000000005},{"$f":"IF('INGRESO DE DATOS'!$G$21=\"Guayas/Santa Elena\",'Tablas Guayaquil'!D263,'Tablas Resto de Ecuador'!D263)","v":870.87833333333333},{"$f":"IF('INGRESO DE DATOS'!$G$21=\"Guayas/Santa Elena\",'Tablas Guayaquil'!E263,'Tablas Resto de Ecuador'!E263)","v":821.05833333333328},{"$f":"IF('INGRESO DE DATOS'!$G$21=\"Guayas/Santa Elena\",'Tablas Guayaquil'!F263,'Tablas Resto de Ecuador'!F263)","v":748.53666666666663},{"$f":"IF('INGRESO DE DATOS'!$G$21=\"Guayas/Santa Elena\",'Tablas Guayaquil'!G263,'Tablas Resto de Ecuador'!G263)","v":677.42833333333328}]
[65,null,{"$f":"IF('INGRESO DE DATOS'!$G$21=\"Guayas/Santa Elena\",'Tablas Guayaquil'!C264,'Tablas Resto de Ecuador'!C264)","v":946.93333333333328},{"$f":"IF('INGRESO DE DATOS'!$G$21=\"Guayas/Santa Elena\",'Tablas Guayaquil'!D264,'Tablas Resto de Ecuador'!D264)","v":927.5},{"$f":"IF('INGRESO DE DATOS'!$G$21=\"Guayas/Santa Elena\",'Tablas Guayaquil'!E264,'Tablas Resto de Ecuador'!E264)","v":874.85333333333335},{"$f":"IF('INGRESO DE DATOS'!$G$21=\"Guayas/Santa Elena\",'Tablas Guayaquil'!F264,'Tablas Resto de Ecuador'!F264)","v":797.56166666666661},{"$f":"IF('INGRESO DE DATOS'!$G$21=\"Guayas/Santa Elena\",'Tablas Guayaquil'!G264,'Tablas Resto de Ecuador'!G264)","v":727.77833333333331}]
[66,null,{"$f":"IF('INGRESO DE DATOS'!$G$21=\"Guayas/Santa Elena\",'Tablas Guayaquil'!C265,'Tablas Resto de Ecuador'!C265)","v":1014.8616666666667},{"$f":"IF('INGRESO DE DATOS'!$G$21=\"Guayas/Santa Elena\",'Tablas Guayaquil'!D265,'Tablas Resto de Ecuador'!D265)","v":994.63333333333333},{"$f":"IF('INGRESO DE DATOS'!$G$21=\"Guayas/Santa Elena\",'Tablas Guayaquil'!E265,'Tablas Resto de Ecuador'!E265)","v":937.39333333333332},{"$f":"IF('INGRESO DE DATOS'!$G$21=\"Guayas/Santa Elena\",'Tablas Guayaquil'!F265,'Tablas Resto de Ecuador'!F265)","v":854.97833333333335},{"$f":"IF('INGRESO DE DATOS'!$G$21=\"Guayas/Santa Elena\",'Tablas Guayaquil'!G265,'Tablas Resto de Ecuador'!G265)","v":786.255}]
[67,null,{"$f":"IF('INGRESO DE DATOS'!$G$21=\"Guayas/Santa Elena\",'Tablas Guayaquil'!C266,'Tablas Resto de Ecuador'!C266)","v":1095.7750000000001},{"$f":"IF('INGRESO DE DATOS'!$G$21=\"Guayas/Santa Elena\",'Tablas Guayaquil'!D266,'Tablas Resto de Ecuador'!D266)","v":1074.4866666666667},{"$f":"IF('INGRESO DE DATOS'!$G$21=\"Guayas/Santa Elena\",'Tablas Guayaquil'!E266,'Tablas Resto de Ecuador'!E266)","v":1012.3883333333333},{"$f":"IF('INGRESO DE DATOS'!$G$21=\"Guayas/Santa Elena\",'Tablas Guayaquil'!F266,'Tablas Resto de Ecuador'!F266)","v":923.17166666666662},{"$f":"IF('INGRESO DE DATOS'!$G$21=\"Guayas/Santa Elena\",'Tablas Guayaquil'!G266,'Tablas Resto de Ecuador'!G266)","v":849.4133333333333}]
[68,null,{"$f":"IF('INGRESO DE DATOS'!$G$21=\"Guayas/Santa Elena\",'Tablas Guayaquil'!C267,'Tablas Resto de Ecuador'!C267)","v":1189.1433333333334},{"$f":"IF('INGRESO DE DATOS'!$G$21=\"Guayas/Santa Elena\",'Tablas Guayaquil'!D267,'Tablas Resto de Ecuador'!D267)","v":1164.94},{"$f":"IF('INGRESO DE DATOS'!$G$21=\"Guayas/Santa Elena\",'Tablas Guayaquil'!E267,'Tablas Resto de Ecuador'!E267)","v":1098.0716666666667},{"$f":"IF('INGRESO DE DATOS'!$G$21=\"Guayas/Santa Elena\",'Tablas Guayaquil'!F267,'Tablas Resto de Ecuador'!F267)","v":1001.0816666666667},{"$f":"IF('INGRESO DE DATOS'!$G$21=\"Guayas/Santa Elena\",'Tablas Guayaquil'!G267,'Tablas Resto de Ecuador'!G267)","v":921.14}]
[69,null,{"$f":"IF('INGRESO DE DATOS'!$G$21=\"Guayas/Santa Elena\",'Tablas Guayaquil'!C268,'Tablas Resto de Ecuador'!C268)","v":1297.6166666666666},{"$f":"IF('INGRESO DE DATOS'!$G$21=\"Guayas/Santa Elena\",'Tablas Guayaquil'!D268,'Tablas Resto de Ecuador'!D268)","v":1272},{"$f":"IF('INGRESO DE DATOS'!$G$21=\"Guayas/Santa Elena\",'Tablas Guayaquil'!E268,'Tablas Resto de Ecuador'!E268)","v":1198.4183333333333},{"$f":"IF('INGRESO DE DATOS'!$G$21=\"Guayas/Santa Elena\",'Tablas Guayaquil'!F268,'Tablas Resto de Ecuador'!F268)","v":1092.595},{"$f":"IF('INGRESO DE DATOS'!$G$21=\"Guayas/Santa Elena\",'Tablas Guayaquil'!G268,'Tablas Resto de Ecuador'!G268)","v":1006.2933333333333}]
[70,null,{"$f":"IF('INGRESO DE DATOS'!$G$21=\"Guayas/Santa Elena\",'Tablas Guayaquil'!C269,'Tablas Resto de Ecuador'!C269)","v":1423.58},{"$f":"IF('INGRESO DE DATOS'!$G$21=\"Guayas/Santa Elena\",'Tablas Guayaquil'!D269,'Tablas Resto de Ecuador'!D269)","v":1394.6066666666666},{"$f":"IF('INGRESO DE DATOS'!$G$21=\"Guayas/Santa Elena\",'Tablas Guayaquil'!E269,'Tablas Resto de Ecuador'!E269)","v":1303.4466666666667},{"$f":"IF('INGRESO DE DATOS'!$G$21=\"Guayas/Santa Elena\",'Tablas Guayaquil'!F269,'Tablas Resto de Ecuador'!F269)","v":1198.5066666666667},{"$f":"IF('INGRESO DE DATOS'!$G$21=\"Guayas/Santa Elena\",'Tablas Guayaquil'!G269,'Tablas Resto de Ecuador'!G269)","v":1119.2716666666668}]
[71,null,{"$f":"IF('INGRESO DE DATOS'!$G$21=\"Guayas/Santa Elena\",'Tablas Guayaquil'!C270,'Tablas Resto de Ecuador'!C270)","v":1566.9449999999999},{"$f":"IF('INGRESO DE DATOS'!$G$21=\"Guayas/Santa Elena\",'Tablas Guayaquil'!D270,'Tablas Resto de Ecuador'!D270)","v":1535.8516666666667},{"$f":"IF('INGRESO DE DATOS'!$G$21=\"Guayas/Santa Elena\",'Tablas Guayaquil'!E270,'Tablas Resto de Ecuador'!E270)","v":1447.5183333333334},{"$f":"IF('INGRESO DE DATOS'!$G$21=\"Guayas/Santa Elena\",'Tablas Guayaquil'!F270,'Tablas Resto de Ecuador'!F270)","v":1319.6116666666667},{"$f":"IF('INGRESO DE DATOS'!$G$21=\"Guayas/Santa Elena\",'Tablas Guayaquil'!G270,'Tablas Resto de Ecuador'!G270)","v":1232.5150000000001}]
[72,null,{"$f":"IF('INGRESO DE DATOS'!$G$21=\"Guayas/Santa Elena\",'Tablas Guayaquil'!C271,'Tablas Resto de Ecuador'!C271)","v":1734.0716666666667},{"$f":"IF('INGRESO DE DATOS'!$G$21=\"Guayas/Santa Elena\",'Tablas Guayaquil'!D271,'Tablas Resto de Ecuador'!D271)","v":1699.0033333333333},{"$f":"IF('INGRESO DE DATOS'!$G$21=\"Guayas/Santa Elena\",'Tablas Guayaquil'!E271,'Tablas Resto de Ecuador'!E271)","v":1601.5716666666667},{"$f":"IF('INGRESO DE DATOS'!$G$21=\"Guayas/Santa Elena\",'Tablas Guayaquil'!F271,'Tablas Resto de Ecuador'!F271)","v":1460.3266666666666},{"$f":"IF('INGRESO DE DATOS'!$G$21=\"Guayas/Santa Elena\",'Tablas Guayaquil'!G271,'Tablas Resto de Ecuador'!G271)","v":1364.3966666666668}]
[73,null,{"$f":"IF('INGRESO DE DATOS'!$G$21=\"Guayas/Santa Elena\",'Tablas Guayaquil'!C272,'Tablas Resto de Ecuador'!C272)","v":1925.8433333333332},{"$f":"IF('INGRESO DE DATOS'!$G$21=\"Guayas/Santa Elena\",'Tablas Guayaquil'!D272,'Tablas Resto de Ecuador'!D272)","v":1886.9766666666667},{"$f":"IF('INGRESO DE DATOS'!$G$21=\"Guayas/Santa Elena\",'Tablas Guayaquil'!E272,'Tablas Resto de Ecuador'!E272)","v":1778.7683333333334},{"$f":"IF('INGRESO DE DATOS'!$G$21=\"Guayas/Santa Elena\",'Tablas Guayaquil'!F272,'Tablas Resto de Ecuador'!F272)","v":1621.8},{"$f":"IF('INGRESO DE DATOS'!$G$21=\"Guayas/Santa Elena\",'Tablas Guayaquil'!G272,'Tablas Resto de Ecuador'!G272)","v":1514.4749999999999}]
[74,null,{"$f":"IF('INGRESO DE DATOS'!$G$21=\"Guayas/Santa Elena\",'Tablas Guayaquil'!C273,'Tablas Resto de Ecuador'!C273)","v":2147.3833333333332},{"$f":"IF('INGRESO DE DATOS'!$G$21=\"Guayas/Santa Elena\",'Tablas Guayaquil'!D273,'Tablas Resto de Ecuador'!D273)","v":2104.1883333333335},{"$f":"IF('INGRESO DE DATOS'!$G$21=\"Guayas/Santa Elena\",'Tablas Guayaquil'!E273,'Tablas Resto de Ecuador'!E273)","v":1982.9066666666668},{"$f":"IF('INGRESO DE DATOS'!$G$21=\"Guayas/Santa Elena\",'Tablas Guayaquil'!F273,'Tablas Resto de Ecuador'!F273)","v":1807.83},{"$f":"IF('INGRESO DE DATOS'!$G$21=\"Guayas/Santa Elena\",'Tablas Guayaquil'!G273,'Tablas Resto de Ecuador'!G273)","v":1688.845}]
[75,null,{"$f":"IF('INGRESO DE DATOS'!$G$21=\"Guayas/Santa Elena\",'Tablas Guayaquil'!C274,'Tablas Resto de Ecuador'!C274)","v":2400.7233333333334},{"$f":"IF('INGRESO DE DATOS'!$G$21=\"Guayas/Santa Elena\",'Tablas Guayaquil'!D274,'Tablas Resto de Ecuador'!D274)","v":2352.3166666666666},{"$f":"IF('INGRESO DE DATOS'!$G$21=\"Guayas/Santa Elena\",'Tablas Guayaquil'!E274,'Tablas Resto de Ecuador'!E274)","v":2207.98},{"$f":"IF('INGRESO DE DATOS'!$G$21=\"Guayas/Santa Elena\",'Tablas Guayaquil'!F274,'Tablas Resto de Ecuador'!F274)","v":2021.2433333333333},{"$f":"IF('INGRESO DE DATOS'!$G$21=\"Guayas/Santa Elena\",'Tablas Guayaquil'!G274,'Tablas Resto de Ecuador'!G274)","v":1900.05}]
[76,null,{"$f":"IF('INGRESO DE DATOS'!$G$21=\"Guayas/Santa Elena\",'Tablas Guayaquil'!C275,'Tablas Resto de Ecuador'!C275)","v":2692.4},{"$f":"IF('INGRESO DE DATOS'!$G$21=\"Guayas/Santa Elena\",'Tablas Guayaquil'!D275,'Tablas Resto de Ecuador'!D275)","v":2637.4566666666665},{"$f":"IF('INGRESO DE DATOS'!$G$21=\"Guayas/Santa Elena\",'Tablas Guayaquil'!E275,'Tablas Resto de Ecuador'!E275)","v":2484.1983333333333},{"$f":"IF('INGRESO DE DATOS'!$G$21=\"Guayas/Santa Elena\",'Tablas Guayaquil'!F275,'Tablas Resto de Ecuador'!F275)","v":2266.6333333333332},{"$f":"IF('INGRESO DE DATOS'!$G$21=\"Guayas/Santa Elena\",'Tablas Guayaquil'!G275,'Tablas Resto de Ecuador'!G275)","v":2130.6883333333335}]
[77,null,{"$f":"IF('INGRESO DE DATOS'!$G$21=\"Guayas/Santa Elena\",'Tablas Guayaquil'!C276,'Tablas Resto de Ecuador'!C276)","v":3023.2966666666666},{"$f":"IF('INGRESO DE DATOS'!$G$21=\"Guayas/Santa Elena\",'Tablas Guayaquil'!D276,'Tablas Resto de Ecuador'!D276)","v":2962.4349999999999},{"$f":"IF('INGRESO DE DATOS'!$G$21=\"Guayas/Santa Elena\",'Tablas Guayaquil'!E276,'Tablas Resto de Ecuador'!E276)","v":2791.5983333333334},{"$f":"IF('INGRESO DE DATOS'!$G$21=\"Guayas/Santa Elena\",'Tablas Guayaquil'!F276,'Tablas Resto de Ecuador'!F276)","v":2545.855},{"$f":"IF('INGRESO DE DATOS'!$G$21=\"Guayas/Santa Elena\",'Tablas Guayaquil'!G276,'Tablas Resto de Ecuador'!G276)","v":2392.8616666666667}]
[78,null,{"$f":"IF('INGRESO DE DATOS'!$G$21=\"Guayas/Santa Elena\",'Tablas Guayaquil'!C277,'Tablas Resto de Ecuador'!C277)","v":3397.3},{"$f":"IF('INGRESO DE DATOS'!$G$21=\"Guayas/Santa Elena\",'Tablas Guayaquil'!D277,'Tablas Resto de Ecuador'!D277)","v":3328.4883333333332},{"$f":"IF('INGRESO DE DATOS'!$G$21=\"Guayas/Santa Elena\",'Tablas Guayaquil'!E277,'Tablas Resto de Ecuador'!E277)","v":3137.2466666666664},{"$f":"IF('INGRESO DE DATOS'!$G$21=\"Guayas/Santa Elena\",'Tablas Guayaquil'!F277,'Tablas Resto de Ecuador'!F277)","v":2860.3216666666667},{"$f":"IF('INGRESO DE DATOS'!$G$21=\"Guayas/Santa Elena\",'Tablas Guayaquil'!G277,'Tablas Resto de Ecuador'!G277)","v":2688.2483333333334}]
[79,null,{"$f":"IF('INGRESO DE DATOS'!$G$21=\"Guayas/Santa Elena\",'Tablas Guayaquil'!C278,'Tablas Resto de Ecuador'!C278)","v":3816.8833333333332},{"$f":"IF('INGRESO DE DATOS'!$G$21=\"Guayas/Santa Elena\",'Tablas Guayaquil'!D278,'Tablas Resto de Ecuador'!D278)","v":3740.21},{"$f":"IF('INGRESO DE DATOS'!$G$21=\"Guayas/Santa Elena\",'Tablas Guayaquil'!E278,'Tablas Resto de Ecuador'!E278)","v":3524.7649999999999},{"$f":"IF('INGRESO DE DATOS'!$G$21=\"Guayas/Santa Elena\",'Tablas Guayaquil'!F278,'Tablas Resto de Ecuador'!F278)","v":3213.6550000000002},{"$f":"IF('INGRESO DE DATOS'!$G$21=\"Guayas/Santa Elena\",'Tablas Guayaquil'!G278,'Tablas Resto de Ecuador'!G278)","v":3020.3816666666667}]
[80,"o más",{"$f":"IF('INGRESO DE DATOS'!$G$21=\"Guayas/Santa Elena\",'Tablas Guayaquil'!C279,'Tablas Resto de Ecuador'!C279)","v":4319.2349999999997},{"$f":"IF('INGRESO DE DATOS'!$G$21=\"Guayas/Santa Elena\",'Tablas Guayaquil'!D279,'Tablas Resto de Ecuador'!D279)","v":4232.05},{"$f":"IF('INGRESO DE DATOS'!$G$21=\"Guayas/Santa Elena\",'Tablas Guayaquil'!E279,'Tablas Resto de Ecuador'!E279)","v":3988.6033333333335},{"$f":"IF('INGRESO DE DATOS'!$G$21=\"Guayas/Santa Elena\",'Tablas Guayaquil'!F279,'Tablas Resto de Ecuador'!F279)","v":3636.7716666666665},{"$f":"IF('INGRESO DE DATOS'!$G$21=\"Guayas/Santa Elena\",'Tablas Guayaquil'!G279,'Tablas Resto de Ecuador'!G279)","v":3417.6166666666668}]
[1,"Hijo",{"$f":"IF('INGRESO DE DATOS'!$G$21=\"Guayas/Santa Elena\",'Tablas Guayaquil'!C280,'Tablas Resto de Ecuador'!C280)","v":128.26},{"$f":"IF('INGRESO DE DATOS'!$G$21=\"Guayas/Santa Elena\",'Tablas Guayaquil'!D280,'Tablas Resto de Ecuador'!D280)","v":125.345},{"$f":"IF('INGRESO DE DATOS'!$G$21=\"Guayas/Santa Elena\",'Tablas Guayaquil'!E280,'Tablas Resto de Ecuador'!E280)","v":118.01333333333334},{"$f":"IF('INGRESO DE DATOS'!$G$21=\"Guayas/Santa Elena\",'Tablas Guayaquil'!F280,'Tablas Resto de Ecuador'!F280)","v":108.12},{"$f":"IF('INGRESO DE DATOS'!$G$21=\"Guayas/Santa Elena\",'Tablas Guayaquil'!G280,'Tablas Resto de Ecuador'!G280)","v":63.6}]
[2,"Hijos",{"$f":"IF('INGRESO DE DATOS'!$G$21=\"Guayas/Santa Elena\",'Tablas Guayaquil'!C281,'Tablas Resto de Ecuador'!C281)","v":215.53333333333333},{"$f":"IF('INGRESO DE DATOS'!$G$21=\"Guayas/Santa Elena\",'Tablas Guayaquil'!D281,'Tablas Resto de Ecuador'!D281)","v":211.11666666666667},{"$f":"IF('INGRESO DE DATOS'!$G$21=\"Guayas/Santa Elena\",'Tablas Guayaquil'!E281,'Tablas Resto de Ecuador'!E281)","v":198.83833333333334},{"$f":"IF('INGRESO DE DATOS'!$G$21=\"Guayas/Santa Elena\",'Tablas Guayaquil'!F281,'Tablas Resto de Ecuador'!F281)","v":181.43666666666667},{"$f":"IF('INGRESO DE DATOS'!$G$21=\"Guayas/Santa Elena\",'Tablas Guayaquil'!G281,'Tablas Resto de Ecuador'!G281)","v":94.781666666666666}]
[3,"Hijos o más",{"$f":"IF('INGRESO DE DATOS'!$G$21=\"Guayas/Santa Elena\",'Tablas Guayaquil'!C282,'Tablas Resto de Ecuador'!C282)","v":315.96833333333331},{"$f":"IF('INGRESO DE DATOS'!$G$21=\"Guayas/Santa Elena\",'Tablas Guayaquil'!D282,'Tablas Resto de Ecuador'!D282)","v":309.34333333333331},{"$f":"IF('INGRESO DE DATOS'!$G$21=\"Guayas/Santa Elena\",'Tablas Guayaquil'!E282,'Tablas Resto de Ecuador'!E282)","v":291.58833333333331},{"$f":"IF('INGRESO DE DATOS'!$G$21=\"Guayas/Santa Elena\",'Tablas Guayaquil'!F282,'Tablas Resto de Ecuador'!F282)","v":266.14833333333331},{"$f":"IF('INGRESO DE DATOS'!$G$21=\"Guayas/Santa Elena\",'Tablas Guayaquil'!G282,'Tablas Resto de Ecuador'!G282)","v":135.50333333333333}]
[]
[]
["FLEX 50"]
["TARIFAS ANUALES"]
["EDAD"]
[" "," ","F50-1","F50-2","F50-3","F50-4","F50-5"]
[18,null,{"$f":"IF('INGRESO DE DATOS'!$G$21=\"Guayas/Santa Elena\",'Tablas Guayaquil'!C289,'Tablas Resto de Ecuador'!C289)","v":2247},{"$f":"IF('INGRESO DE DATOS'!$G$21=\"Guayas/Santa Elena\",'Tablas Guayaquil'!D289,'Tablas Resto de Ecuador'!D289)","v":2201},{"$f":"IF('INGRESO DE DATOS'!$G$21=\"Guayas/Santa Elena\",'Tablas Guayaquil'!E289,'Tablas Resto de Ecuador'!E289)","v":2075},{"$f":"IF('INGRESO DE DATOS'!$G$21=\"Guayas/Santa Elena\",'Tablas Guayaquil'!F289,'Tablas Resto de Ecuador'!F289)","v":1894},{"$f":"IF('INGRESO DE DATOS'!$G$21=\"Guayas/Santa Elena\",'Tablas Guayaquil'!G289,'Tablas Resto de Ecuador'!G289)","v":1463}]
[19,null,{"$f":"IF('INGRESO DE DATOS'!$G$21=\"Guayas/Santa Elena\",'Tablas Guayaquil'!C290,'Tablas Resto de Ecuador'!C290)","v":2284},{"$f":"IF('INGRESO DE DATOS'!$G$21=\"Guayas/Santa Elena\",'Tablas Guayaquil'!D290,'Tablas Resto de Ecuador'!D290)","v":2239},{"$f":"IF('INGRESO DE DATOS'!$G$21=\"Guayas/Santa Elena\",'Tablas Guayaquil'!E290,'Tablas Resto de Ecuador'!E290)","v":2107},{"$f":"IF('INGRESO DE DATOS'!$G$21=\"Guayas/Santa Elena\",'Tablas Guayaquil'!F290,'Tablas Resto de Ecuador'!F290)","v":1923},{"$f":"IF('INGRESO DE DATOS'!$G$21=\"Guayas/Santa Elena\",'Tablas Guayaquil'!G290,'Tablas Resto de Ecuador'!G290)","v":1493}]
[20,null,{"$f":"IF('INGRESO DE DATOS'!$G$21=\"Guayas/Santa Elena\",'Tablas Guayaquil'!C291,'Tablas Resto de Ecuador'!C291)","v":2325},{"$f":"IF('INGRESO DE DATOS'!$G$21=\"Guayas/Santa Elena\",'Tablas Guayaquil'!D291,'Tablas Resto de Ecuador'!D291)","v":2274},{"$f":"IF('INGRESO DE DATOS'!$G$21=\"Guayas/Santa Elena\",'Tablas Guayaquil'!E291,'Tablas Resto de Ecuador'!E291)","v":2145},{"$f":"IF('INGRESO DE DATOS'!$G$21=\"Guayas/Santa Elena\",'Tablas Guayaquil'!F291,'Tablas Resto de Ecuador'!F291)","v":1952},{"$f":"IF('INGRESO DE DATOS'!$G$21=\"Guayas/Santa Elena\",'Tablas Guayaquil'!G291,'Tablas Resto de Ecuador'!G291)","v":1525}]
[21,null,{"$f":"IF('INGRESO DE DATOS'!$G$21=\"Guayas/Santa Elena\",'Tablas Guayaquil'!C292,'Tablas Resto de Ecuador'!C292)","v":2363},{"$f":"IF('INGRESO DE DATOS'!$G$21=\"Guayas/Santa Elena\",'Tablas Guayaquil'!D292,'Tablas Resto de Ecuador'!D292)","v":2311},{"$f":"IF('INGRESO DE DATOS'!$G$21=\"Guayas/Santa Elena\",'Tablas Guayaquil'!E292,'Tablas Resto de Ecuador'!E292)","v":2186},{"$f":"IF('INGRESO DE DATOS'!$G$21=\"Guayas/Santa Elena\",'Tablas Guayaquil'!F292,'Tablas Resto de Ecuador'!F292)","v":1989},{"$f":"IF('INGRESO DE DATOS'!$G$21=\"Guayas/Santa Elena\",'Tablas Guayaquil'!G292,'Tablas Resto de Ecuador'!G292)","v":1562}]
[22,null,{"$f":"IF('INGRESO DE DATOS'!$G$21=\"Guayas/Santa Elena\",'Tablas Guayaquil'!C293,'Tablas Resto de Ecuador'!C293)","v":2401},{"$f":"IF('INGRESO DE DATOS'!$G$21=\"Guayas/Santa Elena\",'Tablas Guayaquil'!D293,'Tablas Resto de Ecuador'!D293)","v":2352},{"$f":"IF('INGRESO DE DATOS'!$G$21=\"Guayas/Santa Elena\",'Tablas Guayaquil'!E293,'Tablas Resto de Ecuador'!E293)","v":2218},{"$f":"IF('INGRESO DE DATOS'!$G$21=\"Guayas/Santa Elena\",'Tablas Guayaquil'!F293,'Tablas Resto de Ecuador'!F293)","v":2021},{"$f":"IF('INGRESO DE DATOS'!$G$21=\"Guayas/Santa Elena\",'Tablas Guayaquil'!G293,'Tablas Resto de Ecuador'!G293)","v":1592}]
[23,null,{"$f":"IF('INGRESO DE DATOS'!$G$21=\"Guayas/Santa Elena\",'Tablas Guayaquil'!C294,'Tablas Resto de Ecuador'!C294)","v":2441},{"$f":"IF('INGRESO DE DATOS'!$G$21=\"Guayas/Santa Elena\",'Tablas Guayaquil'!D294,'Tablas Resto de Ecuador'!D294)","v":2395},{"$f":"IF('INGRESO DE DATOS'!$G$21=\"Guayas/Santa Elena\",'Tablas Guayaquil'!E294,'Tablas Resto de Ecuador'!E294)","v":2252},{"$f":"IF('INGRESO DE DATOS'!$G$21=\"Guayas/Santa Elena\",'Tablas Guayaquil'!F294,'Tablas Resto de Ecuador'!F294)","v":2056},{"$f":"IF('INGRESO DE DATOS'!$G$21=\"Guayas/Santa Elena\",'Tablas Guayaquil'!G294,'Tablas Resto de Ecuador'!G294)","v":1625}]
[24,null,{"$f":"IF('INGRESO DE DATOS'!$G$21=\"Guayas/Santa Elena\",'Tablas Guayaquil'!C295,'Tablas Resto de Ecuador'!C295)","v":2480},{"$f":"IF('INGRESO DE DATOS'!$G$21=\"Guayas/Santa Elena\",'Tablas Guayaquil'!D295,'Tablas Resto de Ecuador'!D295)","v":2434},{"$f":"IF('INGRESO DE DATOS'!$G$21=\"Guayas/Santa Elena\",'Tablas Guayaquil'!E295,'Tablas Resto de Ecuador'!E295)","v":2292},{"$f":"IF('INGRESO DE DATOS'!$G$21=\"Guayas/Santa Elena\",'Tablas Guayaquil'!F295,'Tablas Resto de Ecuador'!F295)","v":2091},{"$f":"IF('INGRESO DE DATOS'!$G$21=\"Guayas/Santa Elena\",'Tablas Guayaquil'!G295,'Tablas Resto de Ecuador'!G295)","v":1660}]
[25,null,{"$f":"IF('INGRESO DE DATOS'!$G$21=\"Guayas/Santa Elena\",'Tablas Guayaquil'!C296,'Tablas Resto de Ecuador'!C296)","v":2522},{"$f":"IF('INGRESO DE DATOS'!$G$21=\"Guayas/Santa Elena\",'Tablas Guayaquil'!D296,'Tablas Resto de Ecuador'!D296)","v":2470},{"$f":"IF('INGRESO DE DATOS'!$G$21=\"Guayas/Santa Elena\",'Tablas Guayaquil'!E296,'Tablas Resto de Ecuador'!E296)","v":2330},{"$f":"IF('INGRESO DE DATOS'!$G$21=\"Guayas/Santa Elena\",'Tablas Guayaquil'!F296,'Tablas Resto de Ecuador'!F296)","v":2123},{"$f":"IF('INGRESO DE DATOS'!$G$21=\"Guayas/Santa Elena\",'Tablas Guayaquil'!G296,'Tablas Resto de Ecuador'!G296)","v":1689}]
[26,null,{"$f":"IF('INGRESO DE DATOS'!$G$21=\"Guayas/Santa Elena\",'Tablas Guayaquil'!C297,'Tablas Resto de Ecuador'!C297)","v":2558},{"$f":"IF('INGRESO DE DATOS'!$G$21=\"Guayas/Santa Elena\",'Tablas Guayaquil'!D297,'Tablas Resto de Ecuador'!D297)","v":2512},{"$f":"IF('INGRESO DE DATOS'!$G$21=\"Guayas/Santa Elena\",'Tablas Guayaquil'!E297,'Tablas Resto de Ecuador'!E297)","v":2366},{"$f":"IF('INGRESO DE DATOS'!$G$21=\"Guayas/Santa Elena\",'Tablas Guayaquil'!F297,'Tablas Resto de Ecuador'!F297)","v":2158},{"$f":"IF('INGRESO DE DATOS'!$G$21=\"Guayas/Santa Elena\",'Tablas Guayaquil'!G297,'Tablas Resto de Ecuador'!G297)","v":1723}]
[27,null,{"$f":"IF('INGRESO DE DATOS'!$G$21=\"Guayas/Santa Elena\",'Tablas Guayaquil'!C298,'Tablas Resto de Ecuador'!C298)","v":2602},{"$f":"IF('INGRESO DE DATOS'!$G$21=\"Guayas/Santa Elena\",'Tablas Guayaquil'!D298,'Tablas Resto de Ecuador'!D298)","v":2550},{"$f":"IF('INGRESO DE DATOS'!$G$21=\"Guayas/Santa Elena\",'Tablas Guayaquil'!E298,'Tablas Resto de Ecuador'!E298)","v":2401},{"$f":"IF('INGRESO DE DATOS'!$G$21=\"Guayas/Santa Elena\",'Tablas Guayaquil'!F298,'Tablas Resto de Ecuador'!F298)","v":2191},{"$f":"IF('INGRESO DE DATOS'!$G$21=\"Guayas/Santa Elena\",'Tablas Guayaquil'!G298,'Tablas Resto de Ecuador'!G298)","v":1759}]
[28,null,{"$f":"IF('INGRESO DE DATOS'!$G$21=\"Guayas/Santa Elena\",'Tablas Guayaquil'!C299,'Tablas Resto de Ecuador'!C299)","v":2647},{"$f":"IF('INGRESO DE DATOS'!$G$21=\"Guayas/Santa Elena\",'Tablas Guayaquil'!D299,'Tablas Resto de Ecuador'!D299)","v":2592},{"$f":"IF('INGRESO DE DATOS'!$G$21=\"Guayas/Santa Elena\",'Tablas Guayaquil'!E299,'Tablas Resto de Ecuador'!E299)","v":2442},{"$f":"IF('INGRESO DE DATOS'!$G$21=\"Guayas/Santa Elena\",'Tablas Guayaquil'!F299,'Tablas Resto de Ecuador'!F299)","v":2230},{"$f":"IF('INGRESO DE DATOS'!$G$21=\"Guayas/Santa Elena\",'Tablas Guayaquil'!G299,'Tablas Resto de Ecuador'!G299)","v":1801}]
[29,null,{"$f":"IF('INGRESO DE DATOS'!$G$21=\"Guayas/Santa Elena\",'Tablas Guayaquil'!C300,'Tablas Resto de Ecuador'!C300)","v":2697},{"$f":"IF('INGRESO DE DATOS'!$G$21=\"Guayas/Santa Elena\",'Tablas Guayaquil'!D300,'Tablas Resto de Ecuador'!D300)","v":2641},{"$f":"IF('INGRESO DE DATOS'!$G$21=\"Guayas/Santa Elena\",'Tablas Guayaquil'!E300,'Tablas Resto de Ecuador'!E300)","v":2490},{"$f":"IF('INGRESO DE DATOS'!$G$21=\"Guayas/Santa Elena\",'Tablas Guayaquil'!F300,'Tablas Resto de Ecuador'!F300)","v":2270},{"$f":"IF('INGRESO DE DATOS'!$G$21=\"Guayas/Santa Elena\",'Tablas Guayaquil'!G300,'Tablas Resto de Ecuador'!G300)","v":1841}]
[30,null,{"$f":"IF('INGRESO DE DATOS'!$G$21=\"Guayas/Santa Elena\",'Tablas Guayaquil'!C301,'Tablas Resto de Ecuador'!C301)","v":2742},{"$f":"IF('INGRESO DE DATOS'!$G$21=\"Guayas/Santa Elena\",'Tablas Guayaquil'!D301,'Tablas Resto de Ecuador'!D301)","v":2684},{"$f":"IF('INGRESO DE DATOS'!$G$21=\"Guayas/Santa Elena\",'Tablas Guayaquil'!E301,'Tablas Resto de Ecuador'!E301)","v":2534},{"$f":"IF('INGRESO DE DATOS'!$G$21=\"Guayas/Santa Elena\",'Tablas Guayaquil'!F301,'Tablas Resto de Ecuador'!F301)","v":2306},{"$f":"IF('INGRESO DE DATOS'!$G$21=\"Guayas/Santa Elena\",'Tablas Guayaquil'!G301,'Tablas Resto de Ecuador'!G301)","v":1885}]
[31,null,{"$f":"IF('INGRESO DE DATOS'!$G$21=\"Guayas/Santa Elena\",'Tablas Guayaquil'!C302,'Tablas Resto de Ecuador'!C302)","v":2789},{"$f":"IF('INGRESO DE DATOS'!$G$21=\"Guayas/Santa Elena\",'Tablas Guayaquil'!D302,'Tablas Resto de Ecuador'!D302)","v":2730},{"$f":"IF('INGRESO DE DATOS'!$G$21=\"Guayas/Santa Elena\",'Tablas Guayaquil'!E302,'Tablas Resto de Ecuador'!E302)","v":2578},{"$f":"IF('INGRESO DE DATOS'!$G$21=\"Guayas/Santa Elena\",'Tablas Guayaquil'!F302,'Tablas Resto de Ecuador'!F302)","v":2348},{"$f":"IF('INGRESO DE DATOS'!$G$21=\"Guayas/Santa Elena\",'Tablas Guayaquil'!G302,'Tablas Resto de Ecuador'!G302)","v":1923}]
[32,null,{"$f":"IF('INGRESO DE DATOS'!$G$21=\"Guayas/Santa Elena\",'Tablas Guayaquil'!C303,'Tablas Resto de Ecuador'!C303)","v":2832},{"$f":"IF('INGRESO DE DATOS'!$G$21=\"Guayas/Santa Elena\",'Tablas Guayaquil'!D303,'Tablas Resto de Ecuador'!D303)","v":2781},{"$f":"IF('INGRESO DE DATOS'!$G$21=\"Guayas/Santa Elena\",'Tablas Guayaquil'!E303,'Tablas Resto de Ecuador'!E303)","v":2618},{"$f":"IF('INGRESO DE DATOS'!$G$21=\"Guayas/Santa Elena\",'Tablas Guayaquil'!F303,'Tablas Resto de Ecuador'!F303)","v":2390},{"$f":"IF('INGRESO DE DATOS'!$G$21=\"Guayas/Santa Elena\",'Tablas Guayaquil'!G303,'Tablas Resto de Ecuador'!G303)","v":1970}]
[33,null,{"$f":"IF('INGRESO DE DATOS'!$G$21=\"Guayas/Santa Elena\",'Tablas Guayaquil'!C304,'Tablas Resto de Ecuador'!C304)","v":2912},{"$f":"IF('INGRESO DE DATOS'!$G$21=\"Guayas/Santa Elena\",'Tablas Guayaquil'!D304,'Tablas Resto de Ecuador'!D304)","v":2855},{"$f":"IF('INGRESO DE DATOS'!$G$21=\"Guayas/Santa Elena\",'Tablas Guayaquil'!E304,'Tablas Resto de Ecuador'!E304)","v":2692},{"$f":"IF('INGRESO DE DATOS'!$G$21=\"Guayas/Santa Elena\",'Tablas Guayaquil'!F304,'Tablas Resto de Ecuador'!F304)","v":2454},{"$f":"IF('INGRESO DE DATOS'!$G$21=\"Guayas/Santa Elena\",'Tablas Guayaquil'!G304,'Tablas Resto de Ecuador'!G304)","v":2025}]
[34,null,{"$f":"IF('INGRESO DE DATOS'!$G$21=\"Guayas/Santa Elena\",'Tablas Guayaquil'!C305,'Tablas Resto de Ecuador'!C305)","v":2992},{"$f":"IF('INGRESO DE DATOS'!$G$21=\"Guayas/Santa Elena\",'Tablas Guayaquil'!D305,'Tablas Resto de Ecuador'!D305)","v":2934},{"$f":"IF('INGRESO DE DATOS'!$G$21=\"Guayas/Santa Elena\",'Tablas Guayaquil'!E305,'Tablas Resto de Ecuador'!E305)","v":2763},{"$f":"IF('INGRESO DE DATOS'!$G$21=\"Guayas/Santa Elena\",'Tablas Guayaquil'!F305,'Tablas Resto de Ecuador'!F305)","v":2520},{"$f":"IF('INGRESO DE DATOS'!$G$21=\"Guayas/Santa Elena\",'Tablas Guayaquil'!G305,'Tablas Resto de Ecuador'!G305)","v":2086}]
[35,null,{"$f":"IF('INGRESO DE DATOS'!$G$21=\"Guayas/Santa Elena\",'Tablas Guayaquil'!C306,'Tablas Resto de Ecuador'!C306)","v":3066},{"$f":"IF('INGRESO DE DATOS'!$G$21=\"Guayas/Santa Elena\",'Tablas Guayaquil'!D306,'Tablas Resto de Ecuador'!D306)","v":3005},{"$f":"IF('INGRESO DE DATOS'!$G$21=\"Guayas/Santa Elena\",'Tablas Guayaquil'!E306,'Tablas Resto de Ecuador'!E306)","v":2832},{"$f":"IF('INGRESO DE DATOS'!$G$21=\"Guayas/Santa Elena\",'Tablas Guayaquil'!F306,'Tablas Resto de Ecuador'!F306)","v":2585},{"$f":"IF('INGRESO DE DATOS'!$G$21=\"Guayas/Santa Elena\",'Tablas Guayaquil'!G306,'Tablas Resto de Ecuador'!G306)","v":2145}]
[36,null,{"$f":"IF('INGRESO DE DATOS'!$G$21=\"Guayas/Santa Elena\",'Tablas Guayaquil'!C307,'Tablas Resto de Ecuador'!C307)","v":3145},{"$f":"IF('INGRESO DE DATOS'!$G$21=\"Guayas/Santa Elena\",'Tablas Guayaquil'!D307,'Tablas Resto de Ecuador'!D307)","v":3083},{"$f":"IF('INGRESO DE DATOS'!$G$21=\"Guayas/Santa Elena\",'Tablas Guayaquil'!E307,'Tablas Resto de Ecuador'!E307)","v":2907},{"$f":"IF('INGRESO DE DATOS'!$G$21=\"Guayas/Santa Elena\",'Tablas Guayaquil'!F307,'Tablas Resto de Ecuador'!F307)","v":2647},{"$f":"IF('INGRESO DE DATOS'!$G$21=\"Guayas/Santa Elena\",'Tablas Guayaquil'!G307,'Tablas Resto de Ecuador'!G307)","v":2207}]
[37,null,{"$f":"IF('INGRESO DE DATOS'!$G$21=\"Guayas/Santa Elena\",'Tablas Guayaquil'!C308,'Tablas Resto de Ecuador'!C308)","v":3223},{"$f":"IF('INGRESO DE DATOS'!$G$21=\"Guayas/Santa Elena\",'Tablas Guayaquil'!D308,'Tablas Resto de Ecuador'!D308)","v":3158},{"$f":"IF('INGRESO DE DATOS'!$G$21=\"Guayas/Santa Elena\",'Tablas Guayaquil'!E308,'Tablas Resto de Ecuador'!E308)","v":2974},{"$f":"IF('INGRESO DE DATOS'!$G$21=\"Guayas/Santa Elena\",'Tablas Guayaquil'!F308,'Tablas Resto de Ecuador'!F308)","v":2711},{"$f":"IF('INGRESO DE DATOS'!$G$21=\"Guayas/Santa Elena\",'Tablas Guayaquil'!G308,'Tablas Resto de Ecuador'!G308)","v":2268}]
[38,null,{"$f":"IF('INGRESO DE DATOS'!$G$21=\"Guayas/Santa Elena\",'Tablas Guayaquil'!C309,'Tablas Resto de Ecuador'!C309)","v":3301},{"$f":"IF('INGRESO DE DATOS'!$G$21=\"Guayas/Santa Elena\",'Tablas Guayaquil'!D309,'Tablas Resto de Ecuador'!D309)","v":3238},{"$f":"IF('INGRESO DE DATOS'!$G$21=\"Guayas/Santa Elena\",'Tablas Guayaquil'!E309,'Tablas Resto de Ecuador'!E309)","v":3051},{"$f":"IF('INGRESO DE DATOS'!$G$21=\"Guayas/Santa Elena\",'Tablas Guayaquil'!F309,'Tablas Resto de Ecuador'!F309)","v":2784},{"$f":"IF('INGRESO DE DATOS'!$G$21=\"Guayas/Santa Elena\",'Tablas Guayaquil'!G309,'Tablas Resto de Ecuador'!G309)","v":2330}]
[39,null,{"$f":"IF('INGRESO DE DATOS'!$G$21=\"Guayas/Santa Elena\",'Tablas Guayaquil'!C310,'Tablas Resto de Ecuador'!C310)","v":3382},{"$f":"IF('INGRESO DE DATOS'!$G$21=\"Guayas/Santa Elena\",'Tablas Guayaquil'!D310,'Tablas Resto de Ecuador'!D310)","v":3313},{"$f":"IF('INGRESO DE DATOS'!$G$21=\"Guayas/Santa Elena\",'Tablas Guayaquil'!E310,'Tablas Resto de Ecuador'!E310)","v":3122},{"$f":"IF('INGRESO DE DATOS'!$G$21=\"Guayas/Santa Elena\",'Tablas Guayaquil'!F310,'Tablas Resto de Ecuador'!F310)","v":2848},{"$f":"IF('INGRESO DE DATOS'!$G$21=\"Guayas/Santa Elena\",'Tablas Guayaquil'!G310,'Tablas Resto de Ecuador'!G310)","v":2396}]
[40,null,{"$f":"IF('INGRESO DE DATOS'!$G$21=\"Guayas/Santa Elena\",'Tablas Guayaquil'!C311,'Tablas Resto de Ecuador'!C311)","v":3461},{"$f":"IF('INGRESO DE DATOS'!$G$21=\"Guayas/Santa Elena\",'Tablas Guayaquil'!D311,'Tablas Resto de Ecuador'!D311)","v":3389},{"$f":"IF('INGRESO DE DATOS'!$G$21=\"Guayas/Santa Elena\",'Tablas Guayaquil'!E311,'Tablas Resto de Ecuador'!E311)","v":3194},{"$f":"IF('INGRESO DE DATOS'!$G$21=\"Guayas/Santa Elena\",'Tablas Guayaquil'!F311,'Tablas Resto de Ecuador'!F311)","v":2913},{"$f":"IF('INGRESO DE DATOS'!$G$21=\"Guayas/Santa Elena\",'Tablas Guayaquil'!G311,'Tablas Resto de Ecuador'!G311)","v":2462}]
[41,null,{"$f":"IF('INGRESO DE DATOS'!$G$21=\"Guayas/Santa Elena\",'Tablas Guayaquil'!C312,'Tablas Resto de Ecuador'!C312)","v":3539},{"$f":"IF('INGRESO DE DATOS'!$G$21=\"Guayas/Santa Elena\",'Tablas Guayaquil'!D312,'Tablas Resto de Ecuador'!D312)","v":3467},{"$f":"IF('INGRESO DE DATOS'!$G$21=\"Guayas/Santa Elena\",'Tablas Guayaquil'!E312,'Tablas Resto de Ecuador'!E312)","v":3267},{"$f":"IF('INGRESO DE DATOS'!$G$21=\"Guayas/Santa Elena\",'Tablas Guayaquil'!F312,'Tablas Resto de Ecuador'!F312)","v":2975},{"$f":"IF('INGRESO DE DATOS'!$G$21=\"Guayas/Santa Elena\",'Tablas Guayaquil'!G312,'Tablas Resto de Ecuador'!G312)","v":2522}]
[42,null,{"$f":"IF('INGRESO DE DATOS'!$G$21=\"Guayas/Santa Elena\",'Tablas Guayaquil'!C313,'Tablas Resto de Ecuador'!C313)","v":3618},{"$f":"IF('INGRESO DE DATOS'!$G$21=\"Guayas/Santa Elena\",'Tablas Guayaquil'!D313,'Tablas Resto de Ecuador'!D313)","v":3544},{"$f":"IF('INGRESO DE DATOS'!$G$21=\"Guayas/Santa Elena\",'Tablas Guayaquil'!E313,'Tablas Resto de Ecuador'!E313)","v":3343},{"$f":"IF('INGRESO DE DATOS'!$G$21=\"Guayas/Santa Elena\",'Tablas Guayaquil'!F313,'Tablas Resto de Ecuador'!F313)","v":3047},{"$f":"IF('INGRESO DE DATOS'!$G$21=\"Guayas/Santa Elena\",'Tablas Guayaquil'!G313,'Tablas Resto de Ecuador'!G313)","v":2586}]
[43,null,{"$f":"IF('INGRESO DE DATOS'!$G$21=\"Guayas/Santa Elena\",'Tablas Guayaquil'!C314,'Tablas Resto de Ecuador'!C314)","v":3761},{"$f":"IF('INGRESO DE DATOS'!$G$21=\"Guayas/Santa Elena\",'Tablas Guayaquil'!D314,'Tablas Resto de Ecuador'!D314)","v":3686},{"$f":"IF('INGRESO DE DATOS'!$G$21=\"Guayas/Santa Elena\",'Tablas Guayaquil'!E314,'Tablas Resto de Ecuador'!E314)","v":3471},{"$f":"IF('INGRESO DE DATOS'!$G$21=\"Guayas/Santa Elena\",'Tablas Guayaquil'!F314,'Tablas Resto de Ecuador'!F314)","v":3168},{"$f":"IF('INGRESO DE DATOS'!$G$21=\"Guayas/Santa Elena\",'Tablas Guayaquil'!G314,'Tablas Resto de Ecuador'!G314)","v":2703}]
[44,null,{"$f":"IF('INGRESO DE DATOS'!$G$21=\"Guayas/Santa Elena\",'Tablas Guayaquil'!C315,'Tablas Resto de Ecuador'!C315)","v":3906},{"$f":"IF('INGRESO DE DATOS'!$G$21=\"Guayas/Santa Elena\",'Tablas Guayaquil'!D315,'Tablas Resto de Ecuador'!D315)","v":3830},{"$f":"IF('INGRESO DE DATOS'!$G$21=\"Guayas/Santa Elena\",'Tablas Guayaquil'!E315,'Tablas Resto de Ecuador'!E315)","v":3607},{"$f":"IF('INGRESO DE DATOS'!$G$21=\"Guayas/Santa Elena\",'Tablas Guayaquil'!F315,'Tablas Resto de Ecuador'!F315)","v":3290},{"$f":"IF('INGRESO DE DATOS'!$G$21=\"Guayas/Santa Elena\",'Tablas Guayaquil'!G315,'Tablas Resto de Ecuador'!G315)","v":2816}]
[45,null,{"$f":"IF('INGRESO DE DATOS'!$G$21=\"Guayas/Santa Elena\",'Tablas Guayaquil'!C316,'Tablas Resto de Ecuador'!C316)","v":4051},{"$f":"IF('INGRESO DE DATOS'!$G$21=\"Guayas/Santa Elena\",'Tablas Guayaquil'!D316,'Tablas Resto de Ecuador'!D316)","v":3963},{"$f":"IF('INGRESO DE DATOS'!$G$21=\"Guayas/Santa Elena\",'Tablas Guayaquil'!E316,'Tablas Resto de Ecuador'!E316)","v":3743},{"$f":"IF('INGRESO DE DATOS'!$G$21=\"Guayas/Santa Elena\",'Tablas Guayaquil'!F316,'Tablas Resto de Ecuador'!F316)","v":3412},{"$f":"IF('INGRESO DE DATOS'!$G$21=\"Guayas/Santa Elena\",'Tablas Guayaquil'!G316,'Tablas Resto de Ecuador'!G316)","v":2934}]
[46,null,{"$f":"IF('INGRESO DE DATOS'!$G$21=\"Guayas/Santa Elena\",'Tablas Guayaquil'!C317,'Tablas Resto de Ecuador'!C317)","v":4194},{"$f":"IF('INGRESO DE DATOS'!$G$21=\"Guayas/Santa Elena\",'Tablas Guayaquil'!D317,'Tablas Resto de Ecuador'!D317)","v":4107},{"$f":"IF('INGRESO DE DATOS'!$G$21=\"Guayas/Santa Elena\",'Tablas Guayaquil'!E317,'Tablas Resto de Ecuador'!E317)","v":3872},{"$f":"IF('INGRESO DE DATOS'!$G$21=\"Guayas/Santa Elena\",'Tablas Guayaquil'!F317,'Tablas Resto de Ecuador'!F317)","v":3535},{"$f":"IF('INGRESO DE DATOS'!$G$21=\"Guayas/Santa Elena\",'Tablas Guayaquil'!G317,'Tablas Resto de Ecuador'!G317)","v":3044}]
[47,null,{"$f":"IF('INGRESO DE DATOS'!$G$21=\"Guayas/Santa Elena\",'Tablas Guayaquil'!C318,'Tablas Resto de Ecuador'!C318)","v":4338},{"$f":"IF('INGRESO DE DATOS'!$G$21=\"Guayas/Santa Elena\",'Tablas Guayaquil'!D318,'Tablas Resto de Ecuador'!D318)","v":4248},{"$f":"IF('INGRESO DE DATOS'!$G$21=\"Guayas/Santa Elena\",'Tablas Guayaquil'!E318,'Tablas Resto de Ecuador'!E318)","v":4007},{"$f":"IF('INGRESO DE DATOS'!$G$21=\"Guayas/Santa Elena\",'Tablas Guayaquil'!F318,'Tablas Resto de Ecuador'!F318)","v":3651},{"$f":"IF('INGRESO DE DATOS'!$G$21=\"Guayas/Santa Elena\",'Tablas Guayaquil'!G318,'Tablas Resto de Ecuador'!G318)","v":3158}]
[48,null,{"$f":"IF('INGRESO DE DATOS'!$G$21=\"Guayas/Santa Elena\",'Tablas Guayaquil'!C319,'Tablas Resto de Ecuador'!C319)","v":4489},{"$f":"IF('INGRESO DE DATOS'!$G$21=\"Guayas/Santa Elena\",'Tablas Guayaquil'!D319,'Tablas Resto de Ecuador'!D319)","v":4398},{"$f":"IF('INGRESO DE DATOS'!$G$21=\"Guayas/Santa Elena\",'Tablas Guayaquil'!E319,'Tablas Resto de Ecuador'!E319)","v":4146},{"$f":"IF('INGRESO DE DATOS'!$G$21=\"Guayas/Santa Elena\",'Tablas Guayaquil'!F319,'Tablas Resto de Ecuador'!F319)","v":3784},{"$f":"IF('INGRESO DE DATOS'!$G$21=\"Guayas/Santa Elena\",'Tablas Guayaquil'!G319,'Tablas Resto de Ecuador'!G319)","v":3275}]
[49,null,{"$f":"IF('INGRESO DE DATOS'!$G$21=\"Guayas/Santa Elena\",'Tablas Guayaquil'!C320,'Tablas Resto de Ecuador'!C320)","v":4643},{"$f":"IF('INGRESO DE DATOS'!$G$21=\"Guayas/Santa Elena\",'Tablas Guayaquil'!D320,'Tablas Resto de Ecuador'!D320)","v":4551},{"$f":"IF('INGRESO DE DATOS'!$G$21=\"Guayas/Santa Elena\",'Tablas Guayaquil'!E320,'Tablas Resto de Ecuador'!E320)","v":4284},{"$f":"IF('INGRESO DE DATOS'!$G$21=\"Guayas/Santa Elena\",'Tablas Guayaquil'!F320,'Tablas Resto de Ecuador'!F320)","v":3911},{"$f":"IF('INGRESO DE DATOS'!$G$21=\"Guayas/Santa Elena\",'Tablas Guayaquil'!G320,'Tablas Resto de Ecuador'!G320)","v":3395}]
[50,null,{"$f":"IF('INGRESO DE DATOS'!$G$21=\"Guayas/Santa Elena\",'Tablas Guayaquil'!C321,'Tablas Resto de Ecuador'!C321)","v":4792},{"$f":"IF('INGRESO DE DATOS'!$G$21=\"Guayas/Santa Elena\",'Tablas Guayaquil'!D321,'Tablas Resto de Ecuador'!D321)","v":4698},{"$f":"IF('INGRESO DE DATOS'!$G$21=\"Guayas/Santa Elena\",'Tablas Guayaquil'!E321,'Tablas Resto de Ecuador'!E321)","v":4428},{"$f":"IF('INGRESO DE DATOS'!$G$21=\"Guayas/Santa Elena\",'Tablas Guayaquil'!F321,'Tablas Resto de Ecuador'!F321)","v":4038},{"$f":"IF('INGRESO DE DATOS'!$G$21=\"Guayas/Santa Elena\",'Tablas Guayaquil'!G321,'Tablas Resto de Ecuador'!G321)","v":3513}]
[51,null,{"$f":"IF('INGRESO DE DATOS'!$G$21=\"Guayas/Santa Elena\",'Tablas Guayaquil'!C322,'Tablas Resto de Ecuador'!C322)","v":4944},{"$f":"IF('INGRESO DE DATOS'!$G$21=\"Guayas/Santa Elena\",'Tablas Guayaquil'!D322,'Tablas Resto de Ecuador'!D322)","v":4846},{"$f":"IF('INGRESO DE DATOS'!$G$21=\"Guayas/Santa Elena\",'Tablas Guayaquil'!E322,'Tablas Resto de Ecuador'!E322)","v":4566},{"$f":"IF('INGRESO DE DATOS'!$G$21=\"Guayas/Santa Elena\",'Tablas Guayaquil'!F322,'Tablas Resto de Ecuador'!F322)","v":4166},{"$f":"IF('INGRESO DE DATOS'!$G$21=\"Guayas/Santa Elena\",'Tablas Guayaquil'!G322,'Tablas Resto de Ecuador'!G322)","v":3630}]
[52,null,{"$f":"IF('INGRESO DE DATOS'!$G$21=\"Guayas/Santa Elena\",'Tablas Guayaquil'!C323,'Tablas Resto de Ecuador'!C323)","v":5096},{"$f":"IF('INGRESO DE DATOS'!$G$21=\"Guayas/Santa Elena\",'Tablas Guayaquil'!D323,'Tablas Resto de Ecuador'!D323)","v":4993},{"$f":"IF('INGRESO DE DATOS'!$G$21=\"Guayas/Santa Elena\",'Tablas Guayaquil'!E323,'Tablas Resto de Ecuador'!E323)","v":4709},{"$f":"IF('INGRESO DE DATOS'!$G$21=\"Guayas/Santa Elena\",'Tablas Guayaquil'!F323,'Tablas Resto de Ecuador'!F323)","v":4295},{"$f":"IF('INGRESO DE DATOS'!$G$21=\"Guayas/Santa Elena\",'Tablas Guayaquil'!G323,'Tablas Resto de Ecuador'!G323)","v":3752}]
[53,null,{"$f":"IF('INGRESO DE DATOS'!$G$21=\"Guayas/Santa Elena\",'Tablas Guayaquil'!C324,'Tablas Resto de Ecuador'!C324)","v":5277},{"$f":"IF('INGRESO DE DATOS'!$G$21=\"Guayas/Santa Elena\",'Tablas Guayaquil'!D324,'Tablas Resto de Ecuador'!D324)","v":5170},{"$f":"IF('INGRESO DE DATOS'!$G$21=\"Guayas/Santa Elena\",'Tablas Guayaquil'!E324,'Tablas Resto de Ecuador'!E324)","v":4872},{"$f":"IF('INGRESO DE DATOS'!$G$21=\"Guayas/Santa Elena\",'Tablas Guayaquil'!F324,'Tablas Resto de Ecuador'!F324)","v":4443},{"$f":"IF('INGRESO DE DATOS'!$G$21=\"Guayas/Santa Elena\",'Tablas Guayaquil'!G324,'Tablas Resto de Ecuador'!G324)","v":3896}]
[54,null,{"$f":"IF('INGRESO DE DATOS'!$G$21=\"Guayas/Santa Elena\",'Tablas Guayaquil'!C325,'Tablas Resto de Ecuador'!C325)","v":5460},{"$f":"IF('INGRESO DE DATOS'!$G$21=\"Guayas/Santa Elena\",'Tablas Guayaquil'!D325,'Tablas Resto de Ecuador'!D325)","v":5347},{"$f":"IF('INGRESO DE DATOS'!$G$21=\"Guayas/Santa Elena\",'Tablas Guayaquil'!E325,'Tablas Resto de Ecuador'!E325)","v":5039},{"$f":"IF('INGRESO DE DATOS'!$G$21=\"Guayas/Santa Elena\",'Tablas Guayaquil'!F325,'Tablas Resto de Ecuador'!F325)","v":4595},{"$f":"IF('INGRESO DE DATOS'!$G$21=\"Guayas/Santa Elena\",'Tablas Guayaquil'!G325,'Tablas Resto de Ecuador'!G325)","v":4043}]
[55,null,{"$f":"IF('INGRESO DE DATOS'!$G$21=\"Guayas/Santa Elena\",'Tablas Guayaquil'!C326,'Tablas Resto de Ecuador'!C326)","v":5639},{"$f":"IF('INGRESO DE DATOS'!$G$21=\"Guayas/Santa Elena\",'Tablas Guayaquil'!D326,'Tablas Resto de Ecuador'!D326)","v":5523},{"$f":"IF('INGRESO DE DATOS'!$G$21=\"Guayas/Santa Elena\",'Tablas Guayaquil'!E326,'Tablas Resto de Ecuador'!E326)","v":5205},{"$f":"IF('INGRESO DE DATOS'!$G$21=\"Guayas/Santa Elena\",'Tablas Guayaquil'!F326,'Tablas Resto de Ecuador'!F326)","v":4745},{"$f":"IF('INGRESO DE DATOS'!$G$21=\"Guayas/Santa Elena\",'Tablas Guayaquil'!G326,'Tablas Resto de Ecuador'!G326)","v":4189}]
[56,null,{"$f":"IF('INGRESO DE DATOS'!$G$21=\"Guayas/Santa Elena\",'Tablas Guayaquil'!C327,'Tablas Resto de Ecuador'!C327)","v":5817},{"$f":"IF('INGRESO DE DATOS'!$G$21=\"Guayas/Santa Elena\",'Tablas Guayaquil'!D327,'Tablas Resto de Ecuador'!D327)","v":5702},{"$f":"IF('INGRESO DE DATOS'!$G$21=\"Guayas/Santa Elena\",'Tablas Guayaquil'!E327,'Tablas Resto de Ecuador'!E327)","v":5372},{"$f":"IF('INGRESO DE DATOS'!$G$21=\"Guayas/Santa Elena\",'Tablas Guayaquil'!F327,'Tablas Resto de Ecuador'!F327)","v":4895},{"$f":"IF('INGRESO DE DATOS'!$G$21=\"Guayas/Santa Elena\",'Tablas Guayaquil'!G327,'Tablas Resto de Ecuador'!G327)","v":4332}]
[57,null,{"$f":"IF('INGRESO DE DATOS'!$G$21=\"Guayas/Santa Elena\",'Tablas Guayaquil'!C328,'Tablas Resto de Ecuador'!C328)","v":5997},{"$f":"IF('INGRESO DE DATOS'!$G$21=\"Guayas/Santa Elena\",'Tablas Guayaquil'!D328,'Tablas Resto de Ecuador'!D328)","v":5876},{"$f":"IF('INGRESO DE DATOS'!$G$21=\"Guayas/Santa Elena\",'Tablas Guayaquil'!E328,'Tablas Resto de Ecuador'!E328)","v":5543},{"$f":"IF('INGRESO DE DATOS'!$G$21=\"Guayas/Santa Elena\",'Tablas Guayaquil'!F328,'Tablas Resto de Ecuador'!F328)","v":5050},{"$f":"IF('INGRESO DE DATOS'!$G$21=\"Guayas/Santa Elena\",'Tablas Guayaquil'!G328,'Tablas Resto de Ecuador'!G328)","v":4479}]
[58,null,{"$f":"IF('INGRESO DE DATOS'!$G$21=\"Guayas/Santa Elena\",'Tablas Guayaquil'!C329,'Tablas Resto de Ecuador'!C329)","v":6210},{"$f":"IF('INGRESO DE DATOS'!$G$21=\"Guayas/Santa Elena\",'Tablas Guayaquil'!D329,'Tablas Resto de Ecuador'!D329)","v":6077},{"$f":"IF('INGRESO DE DATOS'!$G$21=\"Guayas/Santa Elena\",'Tablas Guayaquil'!E329,'Tablas Resto de Ecuador'!E329)","v":5716},{"$f":"IF('INGRESO DE DATOS'!$G$21=\"Guayas/Santa Elena\",'Tablas Guayaquil'!F329,'Tablas Resto de Ecuador'!F329)","v":5226},{"$f":"IF('INGRESO DE DATOS'!$G$21=\"Guayas/Santa Elena\",'Tablas Guayaquil'!G329,'Tablas Resto de Ecuador'!G329)","v":4671}]
[59,null,{"$f":"IF('INGRESO DE DATOS'!$G$21=\"Guayas/Santa Elena\",'Tablas Guayaquil'!C330,'Tablas Resto de Ecuador'!C330)","v":6415},{"$f":"IF('INGRESO DE DATOS'!$G$21=\"Guayas/Santa Elena\",'Tablas Guayaquil'!D330,'Tablas Resto de Ecuador'!D330)","v":6285},{"$f":"IF('INGRESO DE DATOS'!$G$21=\"Guayas/Santa Elena\",'Tablas Guayaquil'!E330,'Tablas Resto de Ecuador'!E330)","v":5891},{"$f":"IF('INGRESO DE DATOS'!$G$21=\"Guayas/Santa Elena\",'Tablas Guayaquil'!F330,'Tablas Resto de Ecuador'!F330)","v":5399},{"$f":"IF('INGRESO DE DATOS'!$G$21=\"Guayas/Santa Elena\",'Tablas Guayaquil'!G330,'Tablas Resto de Ecuador'!G330)","v":4860}]
[60,null,{"$f":"IF('INGRESO DE DATOS'!$G$21=\"Guayas/Santa Elena\",'Tablas Guayaquil'!C331,'Tablas Resto de Ecuador'!C331)","v":6624},{"$f":"IF('INGRESO DE DATOS'!$G$21=\"Guayas/Santa Elena\",'Tablas Guayaquil'!D331,'Tablas Resto de Ecuador'!D331)","v":6486},{"$f":"IF('INGRESO DE DATOS'!$G$21=\"Guayas/Santa Elena\",'Tablas Guayaquil'!E331,'Tablas Resto de Ecuador'!E331)","v":6061},{"$f":"IF('INGRESO DE DATOS'!$G$21=\"Guayas/Santa Elena\",'Tablas Guayaquil'!F331,'Tablas Resto de Ecuador'!F331)","v":5576},{"$f":"IF('INGRESO DE DATOS'!$G$21=\"Guayas/Santa Elena\",'Tablas Guayaquil'!G331,'Tablas Resto de Ecuador'!G331)","v":5049}]
[61,null,{"$f":"IF('INGRESO DE DATOS'!$G$21=\"Guayas/Santa Elena\",'Tablas Guayaquil'!C332,'Tablas Resto de Ecuador'!C332)","v":6870},{"$f":"IF('INGRESO DE DATOS'!$G$21=\"Guayas/Santa Elena\",'Tablas Guayaquil'!D332,'Tablas Resto de Ecuador'!D332)","v":6737},{"$f":"IF('INGRESO DE DATOS'!$G$21=\"Guayas/Santa Elena\",'Tablas Guayaquil'!E332,'Tablas Resto de Ecuador'!E332)","v":6325},{"$f":"IF('INGRESO DE DATOS'!$G$21=\"Guayas/Santa Elena\",'Tablas Guayaquil'!F332,'Tablas Resto de Ecuador'!F332)","v":5787},{"$f":"IF('INGRESO DE DATOS'!$G$21=\"Guayas/Santa Elena\",'Tablas Guayaquil'!G332,'Tablas Resto de Ecuador'!G332)","v":5237}]
[62,null,{"$f":"IF('INGRESO DE DATOS'!$G$21=\"Guayas/Santa Elena\",'Tablas Guayaquil'!C333,'Tablas Resto de Ecuador'!C333)","v":7181},{"$f":"IF('INGRESO DE DATOS'!$G$21=\"Guayas/Santa Elena\",'Tablas Guayaquil'!D333,'Tablas Resto de Ecuador'!D333)","v":7036},{"$f":"IF('INGRESO DE DATOS'!$G$21=\"Guayas/Santa Elena\",'Tablas Guayaquil'!E333,'Tablas Resto de Ecuador'!E333)","v":6632},{"$f":"IF('INGRESO DE DATOS'!$G$21=\"Guayas/Santa Elena\",'Tablas Guayaquil'!F333,'Tablas Resto de Ecuador'!F333)","v":6047},{"$f":"IF('INGRESO DE DATOS'!$G$21=\"Guayas/Santa Elena\",'Tablas Guayaquil'!G333,'Tablas Resto de Ecuador'!G333)","v":5472}]
[63,null,{"$f":"IF('INGRESO DE DATOS'!$G$21=\"Guayas/Santa Elena\",'Tablas Guayaquil'!C334,'Tablas Resto de Ecuador'!C334)","v":7552},{"$f":"IF('INGRESO DE DATOS'!$G$21=\"Guayas/Santa Elena\",'Tablas Guayaquil'!D334,'Tablas Resto de Ecuador'!D334)","v":7399},{"$f":"IF('INGRESO DE DATOS'!$G$21=\"Guayas/Santa Elena\",'Tablas Guayaquil'!E334,'Tablas Resto de Ecuador'!E334)","v":6977},{"$f":"IF('INGRESO DE DATOS'!$G$21=\"Guayas/Santa Elena\",'Tablas Guayaquil'!F334,'Tablas Resto de Ecuador'!F334)","v":6358},{"$f":"IF('INGRESO DE DATOS'!$G$21=\"Guayas/Santa Elena\",'Tablas Guayaquil'!G334,'Tablas Resto de Ecuador'!G334)","v":5754}]
[64,null,{"$f":"IF('INGRESO DE DATOS'!$G$21=\"Guayas/Santa Elena\",'Tablas Guayaquil'!C335,'Tablas Resto de Ecuador'!C335)","v":7986},{"$f":"IF('INGRESO DE DATOS'!$G$21=\"Guayas/Santa Elena\",'Tablas Guayaquil'!D335,'Tablas Resto de Ecuador'!D335)","v":7825},{"$f":"IF('INGRESO DE DATOS'!$G$21=\"Guayas/Santa Elena\",'Tablas Guayaquil'!E335,'Tablas Resto de Ecuador'!E335)","v":7375},{"$f":"IF('INGRESO DE DATOS'!$G$21=\"Guayas/Santa Elena\",'Tablas Guayaquil'!F335,'Tablas Resto de Ecuador'!F335)","v":6722},{"$f":"IF('INGRESO DE DATOS'!$G$21=\"Guayas/Santa Elena\",'Tablas Guayaquil'!G335,'Tablas Resto de Ecuador'!G335)","v":6083}]
[65,null,{"$f":"IF('INGRESO DE DATOS'!$G$21=\"Guayas/Santa Elena\",'Tablas Guayaquil'!C336,'Tablas Resto de Ecuador'!C336)","v":8507},{"$f":"IF('INGRESO DE DATOS'!$G$21=\"Guayas/Santa Elena\",'Tablas Guayaquil'!D336,'Tablas Resto de Ecuador'!D336)","v":8336},{"$f":"IF('INGRESO DE DATOS'!$G$21=\"Guayas/Santa Elena\",'Tablas Guayaquil'!E336,'Tablas Resto de Ecuador'!E336)","v":7853},{"$f":"IF('INGRESO DE DATOS'!$G$21=\"Guayas/Santa Elena\",'Tablas Guayaquil'!F336,'Tablas Resto de Ecuador'!F336)","v":7164},{"$f":"IF('INGRESO DE DATOS'!$G$21=\"Guayas/Santa Elena\",'Tablas Guayaquil'!G336,'Tablas Resto de Ecuador'!G336)","v":6538}]
[66,null,{"$f":"IF('INGRESO DE DATOS'!$G$21=\"Guayas/Santa Elena\",'Tablas Guayaquil'!C337,'Tablas Resto de Ecuador'!C337)","v":9120},{"$f":"IF('INGRESO DE DATOS'!$G$21=\"Guayas/Santa Elena\",'Tablas Guayaquil'!D337,'Tablas Resto de Ecuador'!D337)","v":8938},{"$f":"IF('INGRESO DE DATOS'!$G$21=\"Guayas/Santa Elena\",'Tablas Guayaquil'!E337,'Tablas Resto de Ecuador'!E337)","v":8425},{"$f":"IF('INGRESO DE DATOS'!$G$21=\"Guayas/Santa Elena\",'Tablas Guayaquil'!F337,'Tablas Resto de Ecuador'!F337)","v":7683},{"$f":"IF('INGRESO DE DATOS'!$G$21=\"Guayas/Santa Elena\",'Tablas Guayaquil'!G337,'Tablas Resto de Ecuador'!G337)","v":7064}]
[67,null,{"$f":"IF('INGRESO DE DATOS'!$G$21=\"Guayas/Santa Elena\",'Tablas Guayaquil'!C338,'Tablas Resto de Ecuador'!C338)","v":9845},{"$f":"IF('INGRESO DE DATOS'!$G$21=\"Guayas/Santa Elena\",'Tablas Guayaquil'!D338,'Tablas Resto de Ecuador'!D338)","v":9647},{"$f":"IF('INGRESO DE DATOS'!$G$21=\"Guayas/Santa Elena\",'Tablas Guayaquil'!E338,'Tablas Resto de Ecuador'!E338)","v":9094},{"$f":"IF('INGRESO DE DATOS'!$G$21=\"Guayas/Santa Elena\",'Tablas Guayaquil'!F338,'Tablas Resto de Ecuador'!F338)","v":8291},{"$f":"IF('INGRESO DE DATOS'!$G$21=\"Guayas/Santa Elena\",'Tablas Guayaquil'!G338,'Tablas Resto de Ecuador'!G338)","v":7629}]
[68,null,{"$f":"IF('INGRESO DE DATOS'!$G$21=\"Guayas/Santa Elena\",'Tablas Guayaquil'!C339,'Tablas Resto de Ecuador'!C339)","v":10683},{"$f":"IF('INGRESO DE DATOS'!$G$21=\"Guayas/Santa Elena\",'Tablas Guayaquil'!D339,'Tablas Resto de Ecuador'!D339)","v":10465},{"$f":"IF('INGRESO DE DATOS'!$G$21=\"Guayas/Santa Elena\",'Tablas Guayaquil'!E339,'Tablas Resto de Ecuador'!E339)","v":9863},{"$f":"IF('INGRESO DE DATOS'!$G$21=\"Guayas/Santa Elena\",'Tablas Guayaquil'!F339,'Tablas Resto de Ecuador'!F339)","v":8997},{"$f":"IF('INGRESO DE DATOS'!$G$21=\"Guayas/Santa Elena\",'Tablas Guayaquil'!G339,'Tablas Resto de Ecuador'!G339)","v":8276}]
[69,null,{"$f":"IF('INGRESO DE DATOS'!$G$21=\"Guayas/Santa Elena\",'Tablas Guayaquil'!C340,'Tablas Resto de Ecuador'!C340)","v":11655},{"$f":"IF('INGRESO DE DATOS'!$G$21=\"Guayas/Santa Elena\",'Tablas Guayaquil'!D340,'Tablas Resto de Ecuador'!D340)","v":11425},{"$f":"IF('INGRESO DE DATOS'!$G$21=\"Guayas/Santa Elena\",'Tablas Guayaquil'!E340,'Tablas Resto de Ecuador'!E340)","v":10768},{"$f":"IF('INGRESO DE DATOS'!$G$21=\"Guayas/Santa Elena\",'Tablas Guayaquil'!F340,'Tablas Resto de Ecuador'!F340)","v":9816},{"$f":"IF('INGRESO DE DATOS'!$G$21=\"Guayas/Santa Elena\",'Tablas Guayaquil'!G340,'Tablas Resto de Ecuador'!G340)","v":9036}]
[70,null,{"$f":"IF('INGRESO DE DATOS'!$G$21=\"Guayas/Santa Elena\",'Tablas Guayaquil'!C341,'Tablas Resto de Ecuador'!C341)","v":12785},{"$f":"IF('INGRESO DE DATOS'!$G$21=\"Guayas/Santa Elena\",'Tablas Guayaquil'!D341,'Tablas Resto de Ecuador'!D341)","v":12527},{"$f":"IF('INGRESO DE DATOS'!$G$21=\"Guayas/Santa Elena\",'Tablas Guayaquil'!E341,'Tablas Resto de Ecuador'!E341)","v":11706},{"$f":"IF('INGRESO DE DATOS'!$G$21=\"Guayas/Santa Elena\",'Tablas Guayaquil'!F341,'Tablas Resto de Ecuador'!F341)","v":10768},{"$f":"IF('INGRESO DE DATOS'!$G$21=\"Guayas/Santa Elena\",'Tablas Guayaquil'!G341,'Tablas Resto de Ecuador'!G341)","v":10054}]
[71,null,{"$f":"IF('INGRESO DE DATOS'!$G$21=\"Guayas/Santa Elena\",'Tablas Guayaquil'!C342,'Tablas Resto de Ecuador'!C342)","v":14081},{"$f":"IF('INGRESO DE DATOS'!$G$21=\"Guayas/Santa Elena\",'Tablas Guayaquil'!D342,'Tablas Resto de Ecuador'!D342)","v":13796},{"$f":"IF('INGRESO DE DATOS'!$G$21=\"Guayas/Santa Elena\",'Tablas Guayaquil'!E342,'Tablas Resto de Ecuador'!E342)","v":12999},{"$f":"IF('INGRESO DE DATOS'!$G$21=\"Guayas/Santa Elena\",'Tablas Guayaquil'!F342,'Tablas Resto de Ecuador'!F342)","v":11855},{"$f":"IF('INGRESO DE DATOS'!$G$21=\"Guayas/Santa Elena\",'Tablas Guayaquil'!G342,'Tablas Resto de Ecuador'!G342)","v":11071}]
[72,null,{"$f":"IF('INGRESO DE DATOS'!$G$21=\"Guayas/Santa Elena\",'Tablas Guayaquil'!C343,'Tablas Resto de Ecuador'!C343)","v":15578},{"$f":"IF('INGRESO DE DATOS'!$G$21=\"Guayas/Santa Elena\",'Tablas Guayaquil'!D343,'Tablas Resto de Ecuador'!D343)","v":15261},{"$f":"IF('INGRESO DE DATOS'!$G$21=\"Guayas/Santa Elena\",'Tablas Guayaquil'!E343,'Tablas Resto de Ecuador'!E343)","v":14385},{"$f":"IF('INGRESO DE DATOS'!$G$21=\"Guayas/Santa Elena\",'Tablas Guayaquil'!F343,'Tablas Resto de Ecuador'!F343)","v":13119},{"$f":"IF('INGRESO DE DATOS'!$G$21=\"Guayas/Santa Elena\",'Tablas Guayaquil'!G343,'Tablas Resto de Ecuador'!G343)","v":12257}]
[73,null,{"$f":"IF('INGRESO DE DATOS'!$G$21=\"Guayas/Santa Elena\",'Tablas Guayaquil'!C344,'Tablas Resto de Ecuador'!C344)","v":17298},{"$f":"IF('INGRESO DE DATOS'!$G$21=\"Guayas/Santa Elena\",'Tablas Guayaquil'!D344,'Tablas Resto de Ecuador'!D344)","v":16945},{"$f":"IF('INGRESO DE DATOS'!$G$21=\"Guayas/Santa Elena\",'Tablas Guayaquil'!E344,'Tablas Resto de Ecuador'!E344)","v":15979},{"$f":"IF('INGRESO DE DATOS'!$G$21=\"Guayas/Santa Elena\",'Tablas Guayaquil'!F344,'Tablas Resto de Ecuador'!F344)","v":14566},{"$f":"IF('INGRESO DE DATOS'!$G$21=\"Guayas/Santa Elena\",'Tablas Guayaquil'!G344,'Tablas Resto de Ecuador'!G344)","v":13602}]
[74,null,{"$f":"IF('INGRESO DE DATOS'!$G$21=\"Guayas/Santa Elena\",'Tablas Guayaquil'!C345,'Tablas Resto de Ecuador'!C345)","v":19285},{"$f":"IF('INGRESO DE DATOS'!$G$21=\"Guayas/Santa Elena\",'Tablas Guayaquil'!D345,'Tablas Resto de Ecuador'!D345)","v":18893},{"$f":"IF('INGRESO DE DATOS'!$G$21=\"Guayas/Santa Elena\",'Tablas Guayaquil'!E345,'Tablas Resto de Ecuador'!E345)","v":17811},{"$f":"IF('INGRESO DE DATOS'!$G$21=\"Guayas/Santa Elena\",'Tablas Guayaquil'!F345,'Tablas Resto de Ecuador'!F345)","v":16240},{"$f":"IF('INGRESO DE DATOS'!$G$21=\"Guayas/Santa Elena\",'Tablas Guayaquil'!G345,'Tablas Resto de Ecuador'!G345)","v":15172}]
[75,null,{"$f":"IF('INGRESO DE DATOS'!$G$21=\"Guayas/Santa Elena\",'Tablas Guayaquil'!C346,'Tablas Resto de Ecuador'!C346)","v":21563},{"$f":"IF('INGRESO DE DATOS'!$G$21=\"Guayas/Santa Elena\",'Tablas Guayaquil'!D346,'Tablas Resto de Ecuador'!D346)","v":21130},{"$f":"IF('INGRESO DE DATOS'!$G$21=\"Guayas/Santa Elena\",'Tablas Guayaquil'!E346,'Tablas Resto de Ecuador'!E346)","v":19835},{"$f":"IF('INGRESO DE DATOS'!$G$21=\"Guayas/Santa Elena\",'Tablas Guayaquil'!F346,'Tablas Resto de Ecuador'!F346)","v":18158},{"$f":"IF('INGRESO DE DATOS'!$G$21=\"Guayas/Santa Elena\",'Tablas Guayaquil'!G346,'Tablas Resto de Ecuador'!G346)","v":17060}]
[76,null,{"$f":"IF('INGRESO DE DATOS'!$G$21=\"Guayas/Santa Elena\",'Tablas Guayaquil'!C347,'Tablas Resto de Ecuador'!C347)","v":24178},{"$f":"IF('INGRESO DE DATOS'!$G$21=\"Guayas/Santa Elena\",'Tablas Guayaquil'!D347,'Tablas Resto de Ecuador'!D347)","v":23691},{"$f":"IF('INGRESO DE DATOS'!$G$21=\"Guayas/Santa Elena\",'Tablas Guayaquil'!E347,'Tablas Resto de Ecuador'!E347)","v":22311},{"$f":"IF('INGRESO DE DATOS'!$G$21=\"Guayas/Santa Elena\",'Tablas Guayaquil'!F347,'Tablas Resto de Ecuador'!F347)","v":20359},{"$f":"IF('INGRESO DE DATOS'!$G$21=\"Guayas/Santa Elena\",'Tablas Guayaquil'!G347,'Tablas Resto de Ecuador'!G347)","v":19137}]
[77,null,{"$f":"IF('INGRESO DE DATOS'!$G$21=\"Guayas/Santa Elena\",'Tablas Guayaquil'!C348,'Tablas Resto de Ecuador'!C348)","v":27157},{"$f":"IF('INGRESO DE DATOS'!$G$21=\"Guayas/Santa Elena\",'Tablas Guayaquil'!D348,'Tablas Resto de Ecuador'!D348)","v":26611},{"$f":"IF('INGRESO DE DATOS'!$G$21=\"Guayas/Santa Elena\",'Tablas Guayaquil'!E348,'Tablas Resto de Ecuador'!E348)","v":25080},{"$f":"IF('INGRESO DE DATOS'!$G$21=\"Guayas/Santa Elena\",'Tablas Guayaquil'!F348,'Tablas Resto de Ecuador'!F348)","v":22870},{"$f":"IF('INGRESO DE DATOS'!$G$21=\"Guayas/Santa Elena\",'Tablas Guayaquil'!G348,'Tablas Resto de Ecuador'!G348)","v":21491}]
[78,null,{"$f":"IF('INGRESO DE DATOS'!$G$21=\"Guayas/Santa Elena\",'Tablas Guayaquil'!C349,'Tablas Resto de Ecuador'!C349)","v":30514},{"$f":"IF('INGRESO DE DATOS'!$G$21=\"Guayas/Santa Elena\",'Tablas Guayaquil'!D349,'Tablas Resto de Ecuador'!D349)","v":29895},{"$f":"IF('INGRESO DE DATOS'!$G$21=\"Guayas/Santa Elena\",'Tablas Guayaquil'!E349,'Tablas Resto de Ecuador'!E349)","v":28179},{"$f":"IF('INGRESO DE DATOS'!$G$21=\"Guayas/Santa Elena\",'Tablas Guayaquil'!F349,'Tablas Resto de Ecuador'!F349)","v":25689},{"$f":"IF('INGRESO DE DATOS'!$G$21=\"Guayas/Santa Elena\",'Tablas Guayaquil'!G349,'Tablas Resto de Ecuador'!G349)","v":24147}]
[79,null,{"$f":"IF('INGRESO DE DATOS'!$G$21=\"Guayas/Santa Elena\",'Tablas Guayaquil'!C350,'Tablas Resto de Ecuador'!C350)","v":34283},{"$f":"IF('INGRESO DE DATOS'!$G$21=\"Guayas/Santa Elena\",'Tablas Guayaquil'!D350,'Tablas Resto de Ecuador'!D350)","v":33594},{"$f":"IF('INGRESO DE DATOS'!$G$21=\"Guayas/Santa Elena\",'Tablas Guayaquil'!E350,'Tablas Resto de Ecuador'!E350)","v":31663},{"$f":"IF('INGRESO DE DATOS'!$G$21=\"Guayas/Santa Elena\",'Tablas Guayaquil'!F350,'Tablas Resto de Ecuador'!F350)","v":28869},{"$f":"IF('INGRESO DE DATOS'!$G$21=\"Guayas/Santa Elena\",'Tablas Guayaquil'!G350,'Tablas Resto de Ecuador'!G350)","v":27130}]
[80,"o más",{"$f":"IF('INGRESO DE DATOS'!$G$21=\"Guayas/Santa Elena\",'Tablas Guayaquil'!C351,'Tablas Resto de Ecuador'!C351)","v":38795},{"$f":"IF('INGRESO DE DATOS'!$G$21=\"Guayas/Santa Elena\",'Tablas Guayaquil'!D351,'Tablas Resto de Ecuador'!D351)","v":38012},{"$f":"IF('INGRESO DE DATOS'!$G$21=\"Guayas/Santa Elena\",'Tablas Guayaquil'!E351,'Tablas Resto de Ecuador'!E351)","v":35824},{"$f":"IF('INGRESO DE DATOS'!$G$21=\"Guayas/Santa Elena\",'Tablas Guayaquil'!F351,'Tablas Resto de Ecuador'!F351)","v":32670},{"$f":"IF('INGRESO DE DATOS'!$G$21=\"Guayas/Santa Elena\",'Tablas Guayaquil'!G351,'Tablas Resto de Ecuador'!G351)","v":30698}]
[1,"Hijo",{"$f":"IF('INGRESO DE DATOS'!$G$21=\"Guayas/Santa Elena\",'Tablas Guayaquil'!C352,'Tablas Resto de Ecuador'!C352)","v":1146},{"$f":"IF('INGRESO DE DATOS'!$G$21=\"Guayas/Santa Elena\",'Tablas Guayaquil'!D352,'Tablas Resto de Ecuador'!D352)","v":1126},{"$f":"IF('INGRESO DE DATOS'!$G$21=\"Guayas/Santa Elena\",'Tablas Guayaquil'!E352,'Tablas Resto de Ecuador'!E352)","v":1058},{"$f":"IF('INGRESO DE DATOS'!$G$21=\"Guayas/Santa Elena\",'Tablas Guayaquil'!F352,'Tablas Resto de Ecuador'!F352)","v":966},{"$f":"IF('INGRESO DE DATOS'!$G$21=\"Guayas/Santa Elena\",'Tablas Guayaquil'!G352,'Tablas Resto de Ecuador'!G352)","v":575}]
[2,"Hijos",{"$f":"IF('INGRESO DE DATOS'!$G$21=\"Guayas/Santa Elena\",'Tablas Guayaquil'!C353,'Tablas Resto de Ecuador'!C353)","v":1931},{"$f":"IF('INGRESO DE DATOS'!$G$21=\"Guayas/Santa Elena\",'Tablas Guayaquil'!D353,'Tablas Resto de Ecuador'!D353)","v":1896},{"$f":"IF('INGRESO DE DATOS'!$G$21=\"Guayas/Santa Elena\",'Tablas Guayaquil'!E353,'Tablas Resto de Ecuador'!E353)","v":1785},{"$f":"IF('INGRESO DE DATOS'!$G$21=\"Guayas/Santa Elena\",'Tablas Guayaquil'!F353,'Tablas Resto de Ecuador'!F353)","v":1629},{"$f":"IF('INGRESO DE DATOS'!$G$21=\"Guayas/Santa Elena\",'Tablas Guayaquil'!G353,'Tablas Resto de Ecuador'!G353)","v":848}]
[3,"Hijos o más",{"$f":"IF('INGRESO DE DATOS'!$G$21=\"Guayas/Santa Elena\",'Tablas Guayaquil'!C354,'Tablas Resto de Ecuador'!C354)","v":2838},{"$f":"IF('INGRESO DE DATOS'!$G$21=\"Guayas/Santa Elena\",'Tablas Guayaquil'!D354,'Tablas Resto de Ecuador'!D354)","v":2781},{"$f":"IF('INGRESO DE DATOS'!$G$21=\"Guayas/Santa Elena\",'Tablas Guayaquil'!E354,'Tablas Resto de Ecuador'!E354)","v":2618},{"$f":"IF('INGRESO DE DATOS'!$G$21=\"Guayas/Santa Elena\",'Tablas Guayaquil'!F354,'Tablas Resto de Ecuador'!F354)","v":2390},{"$f":"IF('INGRESO DE DATOS'!$G$21=\"Guayas/Santa Elena\",'Tablas Guayaquil'!G354,'Tablas Resto de Ecuador'!G354)","v":1223}]
[]
["TARIFAS MENSUALES"]
["EDAD"]
[" "," ","F50-1","F50-2","F50-3","F50-4","F50-5"]
[18,null,{"$f":"+C289*$M$2","v":198.48500000000001},194.42166666666665,183.29166666666666,167.30333333333334,129.23166666666665]
[19,null,201.75333333333333,197.77833333333334,186.11833333333334,169.86500000000001,131.88166666666666]
[20,null,205.375,200.87,189.47499999999999,172.42666666666668,134.70833333333334]
[21,null,208.73166666666665,204.13833333333332,193.09666666666666,175.69499999999999,137.97666666666666]
[22,null,212.08833333333334,207.76,195.92333333333335,178.52166666666668,140.62666666666667]
[23,null,215.62166666666667,211.55833333333334,198.92666666666668,181.61333333333334,143.54166666666666]
[24,null,219.06666666666666,215.00333333333333,202.46,184.70500000000001,146.63333333333333]
[25,null,222.77666666666667,218.18333333333334,205.81666666666666,187.53166666666667,149.19499999999999]
[26,null,225.95666666666668,221.89333333333335,208.99666666666667,190.62333333333333,152.19833333333332]
[27,null,229.84333333333333,225.25,212.08833333333334,193.53833333333333,155.37833333333333]
[28,null,{"$f":"+C299*$M$2","v":233.81833333333333},228.96,215.71,196.98333333333332,159.08833333333334]
[29,null,238.23500000000001,233.28833333333333,219.95,200.51666666666668,162.62166666666667]
[30,null,242.21,237.08666666666667,223.83666666666667,203.69666666666666,166.50833333333333]
[31,null,246.36166666666668,241.15,227.72333333333333,207.40666666666667,169.86500000000001]
[32,null,250.16,245.655,231.25666666666666,211.11666666666667,174.01666666666668]
[33,null,257.22666666666669,252.19166666666666,237.79333333333332,216.77,178.875]
[34,null,264.29333333333335,259.17,244.065,222.6,184.26333333333332]
[35,null,270.83,265.44166666666666,250.16,228.34166666666667,189.47499999999999]
[36,null,277.80833333333334,272.33166666666665,256.78500000000003,233.81833333333333,194.95166666666665]
[37,null,284.69833333333332,278.95666666666665,262.70333333333332,239.47166666666666,200.34]
[38,null,{"$f":"+C309*$M$2","v":291.58833333333331},286.02333333333331,269.505,245.92,205.81666666666666]
[39,null,298.74333333333334,292.64833333333331,275.77666666666664,251.57333333333332,211.64666666666668]
[40,null,305.72166666666669,299.36166666666668,282.13666666666666,257.315,217.47666666666666]
[41,null,312.61166666666668,306.25166666666667,288.58499999999998,262.79166666666669,222.77666666666667]
[42,null,319.58999999999997,313.05333333333334,295.29833333333335,269.15166666666664,228.43]
[43,null,332.22166666666669,325.59666666666669,306.60500000000002,279.83999999999997,238.76499999999999]
[44,null,345.03,338.31666666666666,318.61833333333334,290.61666666666667,248.74666666666667]
[45,null,357.83833333333331,350.065,330.63166666666666,301.39333333333332,259.17]
[46,null,370.47,362.78500000000003,342.02666666666664,312.25833333333333,268.88666666666666]
[47,null,383.19,375.24,353.95166666666665,322.505,278.95666666666665]
[48,null,{"$f":"+C319*$M$2","v":396.52833333333331},388.49,366.23,334.25333333333333,289.29166666666669]
[49,null,410.13166666666666,402.005,378.42,345.47166666666669,299.89166666666665]
[50,null,423.29333333333335,414.99,391.14,356.69,310.315]
[51,null,436.72,428.06333333333333,403.33,367.99666666666667,320.64999999999998]
[52,null,450.14666666666665,441.04833333333335,415.96166666666664,379.39166666666665,331.42666666666668]
[53,null,466.13499999999999,456.68333333333334,430.36,392.46499999999997,344.14666666666665]
[54,null,482.3,472.31833333333333,445.11166666666668,405.89166666666665,357.13166666666666]
[55,null,498.11166666666668,487.86500000000001,459.77499999999998,419.14166666666665,370.02833333333331]
[56,null,513.83500000000004,503.67666666666668,474.52666666666664,432.39166666666665,382.66]
[57,null,529.73500000000001,519.04666666666662,489.63166666666666,446.08333333333331,395.64499999999998]
[58,null,{"$f":"+C329*$M$2","v":548.54999999999995},536.80166666666662,504.91333333333336,461.63,412.60500000000002]
[59,null,566.6583333333333,555.17499999999995,520.37166666666667,476.91166666666669,429.3]
[60,null,585.12,572.92999999999995,535.38833333333332,492.54666666666668,445.995]
[61,null,606.85,595.10166666666669,558.70833333333337,511.185,462.60166666666669]
[62,null,634.32166666666672,621.51333333333332,585.82666666666671,534.15166666666664,483.36]
[63,null,667.09333333333336,653.57833333333338,616.30166666666662,561.62333333333333,508.27]
[64,null,705.43,691.20833333333337,651.45833333333337,593.77666666666664,537.33166666666671]
[65,null,751.45166666666671,736.34666666666669,693.68166666666662,632.82000000000005,577.52333333333331]
[66,null,805.6,789.52333333333331,744.20833333333337,678.66499999999996,623.98666666666668]
[67,null,869.64166666666665,852.15166666666664,803.30333333333328,732.37166666666667,673.89499999999998]
[68,null,{"$f":"+C339*$M$2","v":943.66499999999996},924.4083333333333,871.23166666666668,794.73500000000001,731.04666666666662]
[69,null,1029.5250000000001,1009.2083333333334,951.17333333333329,867.08,798.18]
[70,null,1129.3416666666667,1106.5516666666667,1034.03,951.17333333333329,888.10333333333335]
[71,null,1243.8216666666667,1218.6466666666668,1148.2449999999999,1047.1916666666666,977.93833333333328]
[72,null,1376.0566666666666,1348.0550000000001,1270.675,1158.845,1082.7016666666666]
[73,null,1527.99,1496.8083333333334,1411.4783333333332,1286.6633333333334,1201.51]
[74,null,1703.5083333333334,1668.8816666666667,1573.3050000000001,1434.5333333333333,1340.1933333333334]
[75,null,1904.7316666666666,1866.4833333333333,1752.0916666666667,1603.9566666666667,1506.9666666666667]
[76,null,2135.7233333333334,2092.7049999999999,1970.8050000000001,1798.3783333333333,1690.4349999999999]
[77,null,2398.8683333333333,2350.6383333333333,2215.4,2020.1833333333334,1898.3716666666667]
[78,null,{"$f":"+C349*$M$2","v":2695.4033333333332},2640.7249999999999,2489.145,2269.1950000000002,2132.9850000000001]
[79,null,3028.3316666666665,2967.47,2796.8983333333335,2550.0949999999998,2396.4833333333331]
[80,"o más",3426.8916666666669,3357.7266666666665,3164.4533333333334,2885.85,2711.6566666666668]
[1,"Hijo",101.23,99.463333333333338,93.456666666666663,85.33,50.791666666666664]
[2,"Hijos",170.57166666666666,167.48,157.67500000000001,143.89500000000001,74.906666666666666]
[3,"Hijos o más",250.69,245.655,231.25666666666666,211.11666666666667,108.03166666666667]
[]
["ESSENTIAL"]
["TARIFAS ANUALES"]
["EDAD"]
[" "," ","ET1","ET2","ET3","ET4","ET5","ET6"]
[18,-24,{"$f":"L430*85%","v":4352.8499999999995},{"$f":"M430*85%","v":3679.65},2881.5,2091.85,1626.8999999999999,1230.8,null,null,null,{"$f":"IF('INGRESO DE DATOS'!$G$21=\"Guayas/Santa Elena\",'Tablas Guayaquil'!L430,'Tablas Resto de Ecuador'!L430)","v":5121},{"$f":"IF('INGRESO DE DATOS'!$G$21=\"Guayas/Santa Elena\",'Tablas Guayaquil'!M430,'Tablas Resto de Ecuador'!M430)","v":4329},{"$f":"IF('INGRESO DE DATOS'!$G$21=\"Guayas/Santa Elena\",'Tablas Guayaquil'!N430,'Tablas Resto de Ecuador'!N430)","v":3390},{"$f":"IF('INGRESO DE DATOS'!$G$21=\"Guayas/Santa Elena\",'Tablas Guayaquil'!O430,'Tablas Resto de Ecuador'!O430)","v":2461},{"$f":"IF('INGRESO DE DATOS'!$G$21=\"Guayas/Santa Elena\",'Tablas Guayaquil'!P430,'Tablas Resto de Ecuador'!P430)","v":1914},{"$f":"IF('INGRESO DE DATOS'!$G$21=\"Guayas/Santa Elena\",'Tablas Guayaquil'!Q430,'Tablas Resto de Ecuador'!Q430)","v":1448}]
[25,-29,{"$f":"L431*85%","v":4828},{"$f":"M431*85%","v":4051.1},{"$f":"N431*85%","v":3254.65},{"$f":"O431*85%","v":2331.5499999999997},{"$f":"P431*85%","v":1821.55},{"$f":"Q431*85%","v":1371.05},null,null,null,{"$f":"IF('INGRESO DE DATOS'!$G$21=\"Guayas/Santa Elena\",'Tablas Guayaquil'!L431,'Tablas Resto de Ecuador'!L431)","v":5680},{"$f":"IF('INGRESO DE DATOS'!$G$21=\"Guayas/Santa Elena\",'Tablas Guayaquil'!M431,'Tablas Resto de Ecuador'!M431)","v":4766},{"$f":"IF('INGRESO DE DATOS'!$G$21=\"Guayas/Santa Elena\",'Tablas Guayaquil'!N431,'Tablas Resto de Ecuador'!N431)","v":3829},{"$f":"IF('INGRESO DE DATOS'!$G$21=\"Guayas/Santa Elena\",'Tablas Guayaquil'!O431,'Tablas Resto de Ecuador'!O431)","v":2743},{"$f":"IF('INGRESO DE DATOS'!$G$21=\"Guayas/Santa Elena\",'Tablas Guayaquil'!P431,'Tablas Resto de Ecuador'!P431)","v":2143},{"$f":"IF('INGRESO DE DATOS'!$G$21=\"Guayas/Santa Elena\",'Tablas Guayaquil'!Q431,'Tablas Resto de Ecuador'!Q431)","v":1613}]
[30,-34,5586.2,4648.6499999999996,3829.25,2707.25,2103.75,1587.8,null,null,null,{"$f":"IF('INGRESO DE DATOS'!$G$21=\"Guayas/Santa Elena\",'Tablas Guayaquil'!L432,'Tablas Resto de Ecuador'!L432)","v":6572},{"$f":"IF('INGRESO DE DATOS'!$G$21=\"Guayas/Santa Elena\",'Tablas Guayaquil'!M432,'Tablas Resto de Ecuador'!M432)","v":5469},{"$f":"IF('INGRESO DE DATOS'!$G$21=\"Guayas/Santa Elena\",'Tablas Guayaquil'!N432,'Tablas Resto de Ecuador'!N432)","v":4505},{"$f":"IF('INGRESO DE DATOS'!$G$21=\"Guayas/Santa Elena\",'Tablas Guayaquil'!O432,'Tablas Resto de Ecuador'!O432)","v":3185},{"$f":"IF('INGRESO DE DATOS'!$G$21=\"Guayas/Santa Elena\",'Tablas Guayaquil'!P432,'Tablas Resto de Ecuador'!P432)","v":2475},{"$f":"IF('INGRESO DE DATOS'!$G$21=\"Guayas/Santa Elena\",'Tablas Guayaquil'!Q432,'Tablas Resto de Ecuador'!Q432)","v":1868}]
[35,-39,6177.8,5121.25,4279.75,3014.95,2340.0499999999997,1764.6,null,null,null,{"$f":"IF('INGRESO DE DATOS'!$G$21=\"Guayas/Santa Elena\",'Tablas Guayaquil'!L433,'Tablas Resto de Ecuador'!L433)","v":7268},{"$f":"IF('INGRESO DE DATOS'!$G$21=\"Guayas/Santa Elena\",'Tablas Guayaquil'!M433,'Tablas Resto de Ecuador'!M433)","v":6025},{"$f":"IF('INGRESO DE DATOS'!$G$21=\"Guayas/Santa Elena\",'Tablas Guayaquil'!N433,'Tablas Resto de Ecuador'!N433)","v":5035},{"$f":"IF('INGRESO DE DATOS'!$G$21=\"Guayas/Santa Elena\",'Tablas Guayaquil'!O433,'Tablas Resto de Ecuador'!O433)","v":3547},{"$f":"IF('INGRESO DE DATOS'!$G$21=\"Guayas/Santa Elena\",'Tablas Guayaquil'!P433,'Tablas Resto de Ecuador'!P433)","v":2753},{"$f":"IF('INGRESO DE DATOS'!$G$21=\"Guayas/Santa Elena\",'Tablas Guayaquil'!Q433,'Tablas Resto de Ecuador'!Q433)","v":2076}]
[40,-44,6965.75,5749.4,4884.95,3406.7999999999997,2653.7,1991.55,null,null,null,{"$f":"IF('INGRESO DE DATOS'!$G$21=\"Guayas/Santa Elena\",'Tablas Guayaquil'!L434,'Tablas Resto de Ecuador'!L434)","v":8195},{"$f":"IF('INGRESO DE DATOS'!$G$21=\"Guayas/Santa Elena\",'Tablas Guayaquil'!M434,'Tablas Resto de Ecuador'!M434)","v":6764},{"$f":"IF('INGRESO DE DATOS'!$G$21=\"Guayas/Santa Elena\",'Tablas Guayaquil'!N434,'Tablas Resto de Ecuador'!N434)","v":5747},{"$f":"IF('INGRESO DE DATOS'!$G$21=\"Guayas/Santa Elena\",'Tablas Guayaquil'!O434,'Tablas Resto de Ecuador'!O434)","v":4008},{"$f":"IF('INGRESO DE DATOS'!$G$21=\"Guayas/Santa Elena\",'Tablas Guayaquil'!P434,'Tablas Resto de Ecuador'!P434)","v":3122},{"$f":"IF('INGRESO DE DATOS'!$G$21=\"Guayas/Santa Elena\",'Tablas Guayaquil'!Q434,'Tablas Resto de Ecuador'!Q434)","v":2343}]
[45,-49,8075.8499999999995,6624.9,5730.7,3973.75,3084.65,2316.25,null,null,null,{"$f":"IF('INGRESO DE DATOS'!$G$21=\"Guayas/Santa Elena\",'Tablas Guayaquil'!L435,'Tablas Resto de Ecuador'!L435)","v":9501},{"$f":"IF('INGRESO DE DATOS'!$G$21=\"Guayas/Santa Elena\",'Tablas Guayaquil'!M435,'Tablas Resto de Ecuador'!M435)","v":7794},{"$f":"IF('INGRESO DE DATOS'!$G$21=\"Guayas/Santa Elena\",'Tablas Guayaquil'!N435,'Tablas Resto de Ecuador'!N435)","v":6742},{"$f":"IF('INGRESO DE DATOS'!$G$21=\"Guayas/Santa Elena\",'Tablas Guayaquil'!O435,'Tablas Resto de Ecuador'!O435)","v":4675},{"$f":"IF('INGRESO DE DATOS'!$G$21=\"Guayas/Santa Elena\",'Tablas Guayaquil'!P435,'Tablas Resto de Ecuador'!P435)","v":3629},{"$f":"IF('INGRESO DE DATOS'!$G$21=\"Guayas/Santa Elena\",'Tablas Guayaquil'!Q435,'Tablas Resto de Ecuador'!Q435)","v":2725}]
[50,-54,8842.5499999999993,7221.5999999999995,6311.25,4352.8499999999995,3384.7,2533.85,null,null,null,{"$f":"IF('INGRESO DE DATOS'!$G$21=\"Guayas/Santa Elena\",'Tablas Guayaquil'!L436,'Tablas Resto de Ecuador'!L436)","v":10403},{"$f":"IF('INGRESO DE DATOS'!$G$21=\"Guayas/Santa Elena\",'Tablas Guayaquil'!M436,'Tablas Resto de Ecuador'!M436)","v":8496},{"$f":"IF('INGRESO DE DATOS'!$G$21=\"Guayas/Santa Elena\",'Tablas Guayaquil'!N436,'Tablas Resto de Ecuador'!N436)","v":7425},{"$f":"IF('INGRESO DE DATOS'!$G$21=\"Guayas/Santa Elena\",'Tablas Guayaquil'!O436,'Tablas Resto de Ecuador'!O436)","v":5121},{"$f":"IF('INGRESO DE DATOS'!$G$21=\"Guayas/Santa Elena\",'Tablas Guayaquil'!P436,'Tablas Resto de Ecuador'!P436)","v":3982},{"$f":"IF('INGRESO DE DATOS'!$G$21=\"Guayas/Santa Elena\",'Tablas Guayaquil'!Q436,'Tablas Resto de Ecuador'!Q436)","v":2981}]
[55,-59,10451.6,8493.1999999999989,7537.8,5163.75,4020.5,2998.7999999999997,null,null,null,{"$f":"IF('INGRESO DE DATOS'!$G$21=\"Guayas/Santa Elena\",'Tablas Guayaquil'!L437,'Tablas Resto de Ecuador'!L437)","v":12296},{"$f":"IF('INGRESO DE DATOS'!$G$21=\"Guayas/Santa Elena\",'Tablas Guayaquil'!M437,'Tablas Resto de Ecuador'!M437)","v":9992},{"$f":"IF('INGRESO DE DATOS'!$G$21=\"Guayas/Santa Elena\",'Tablas Guayaquil'!N437,'Tablas Resto de Ecuador'!N437)","v":8868},{"$f":"IF('INGRESO DE DATOS'!$G$21=\"Guayas/Santa Elena\",'Tablas Guayaquil'!O437,'Tablas Resto de Ecuador'!O437)","v":6075},{"$f":"IF('INGRESO DE DATOS'!$G$21=\"Guayas/Santa Elena\",'Tablas Guayaquil'!P437,'Tablas Resto de Ecuador'!P437)","v":4730},{"$f":"IF('INGRESO DE DATOS'!$G$21=\"Guayas/Santa Elena\",'Tablas Guayaquil'!Q437,'Tablas Resto de Ecuador'!Q437)","v":3528}]
[60,null,11018.55,8891.85,8057.15,5472.3,4250,3174.75,null,null,null,{"$f":"IF('INGRESO DE DATOS'!$G$21=\"Guayas/Santa Elena\",'Tablas Guayaquil'!L438,'Tablas Resto de Ecuador'!L438)","v":12963},{"$f":"IF('INGRESO DE DATOS'!$G$21=\"Guayas/Santa Elena\",'Tablas Guayaquil'!M438,'Tablas Resto de Ecuador'!M438)","v":10461},{"$f":"IF('INGRESO DE DATOS'!$G$21=\"Guayas/Santa Elena\",'Tablas Guayaquil'!N438,'Tablas Resto de Ecuador'!N438)","v":9479},{"$f":"IF('INGRESO DE DATOS'!$G$21=\"Guayas/Santa Elena\",'Tablas Guayaquil'!O438,'Tablas Resto de Ecuador'!O438)","v":6438},{"$f":"IF('INGRESO DE DATOS'!$G$21=\"Guayas/Santa Elena\",'Tablas Guayaquil'!P438,'Tablas Resto de Ecuador'!P438)","v":5000},{"$f":"IF('INGRESO DE DATOS'!$G$21=\"Guayas/Santa Elena\",'Tablas Guayaquil'!Q438,'Tablas Resto de Ecuador'!Q438)","v":3735}]
[61,null,12402.35,10017.25,9063.5499999999993,6163.3499999999995,4790.5999999999995,3582.75,null,null,null,{"$f":"IF('INGRESO DE DATOS'!$G$21=\"Guayas/Santa Elena\",'Tablas Guayaquil'!L439,'Tablas Resto de Ecuador'!L439)","v":14591},{"$f":"IF('INGRESO DE DATOS'!$G$21=\"Guayas/Santa Elena\",'Tablas Guayaquil'!M439,'Tablas Resto de Ecuador'!M439)","v":11785},{"$f":"IF('INGRESO DE DATOS'!$G$21=\"Guayas/Santa Elena\",'Tablas Guayaquil'!N439,'Tablas Resto de Ecuador'!N439)","v":10663},{"$f":"IF('INGRESO DE DATOS'!$G$21=\"Guayas/Santa Elena\",'Tablas Guayaquil'!O439,'Tablas Resto de Ecuador'!O439)","v":7251},{"$f":"IF('INGRESO DE DATOS'!$G$21=\"Guayas/Santa Elena\",'Tablas Guayaquil'!P439,'Tablas Resto de Ecuador'!P439)","v":5636},{"$f":"IF('INGRESO DE DATOS'!$G$21=\"Guayas/Santa Elena\",'Tablas Guayaquil'!Q439,'Tablas Resto de Ecuador'!Q439)","v":4215}]
[62,null,13796.35,11135.85,10080.15,6854.4,5328.65,3989.0499999999997,null,null,null,{"$f":"IF('INGRESO DE DATOS'!$G$21=\"Guayas/Santa Elena\",'Tablas Guayaquil'!L440,'Tablas Resto de Ecuador'!L440)","v":16231},{"$f":"IF('INGRESO DE DATOS'!$G$21=\"Guayas/Santa Elena\",'Tablas Guayaquil'!M440,'Tablas Resto de Ecuador'!M440)","v":13101},{"$f":"IF('INGRESO DE DATOS'!$G$21=\"Guayas/Santa Elena\",'Tablas Guayaquil'!N440,'Tablas Resto de Ecuador'!N440)","v":11859},{"$f":"IF('INGRESO DE DATOS'!$G$21=\"Guayas/Santa Elena\",'Tablas Guayaquil'!O440,'Tablas Resto de Ecuador'!O440)","v":8064},{"$f":"IF('INGRESO DE DATOS'!$G$21=\"Guayas/Santa Elena\",'Tablas Guayaquil'!P440,'Tablas Resto de Ecuador'!P440)","v":6269},{"$f":"IF('INGRESO DE DATOS'!$G$21=\"Guayas/Santa Elena\",'Tablas Guayaquil'!Q440,'Tablas Resto de Ecuador'!Q440)","v":4693}]
[63,null,15175.9,12254.449999999999,11090.8,7548.8499999999995,5865,4387.7,null,null,null,{"$f":"IF('INGRESO DE DATOS'!$G$21=\"Guayas/Santa Elena\",'Tablas Guayaquil'!L441,'Tablas Resto de Ecuador'!L441)","v":17854},{"$f":"IF('INGRESO DE DATOS'!$G$21=\"Guayas/Santa Elena\",'Tablas Guayaquil'!M441,'Tablas Resto de Ecuador'!M441)","v":14417},{"$f":"IF('INGRESO DE DATOS'!$G$21=\"Guayas/Santa Elena\",'Tablas Guayaquil'!N441,'Tablas Resto de Ecuador'!N441)","v":13048},{"$f":"IF('INGRESO DE DATOS'!$G$21=\"Guayas/Santa Elena\",'Tablas Guayaquil'!O441,'Tablas Resto de Ecuador'!O441)","v":8881},{"$f":"IF('INGRESO DE DATOS'!$G$21=\"Guayas/Santa Elena\",'Tablas Guayaquil'!P441,'Tablas Resto de Ecuador'!P441)","v":6900},{"$f":"IF('INGRESO DE DATOS'!$G$21=\"Guayas/Santa Elena\",'Tablas Guayaquil'!Q441,'Tablas Resto de Ecuador'!Q441)","v":5162}]
[64,null,16559.7,13380.699999999999,12104,8235.65,6403.9,4790.5999999999995,null,null,null,{"$f":"IF('INGRESO DE DATOS'!$G$21=\"Guayas/Santa Elena\",'Tablas Guayaquil'!L442,'Tablas Resto de Ecuador'!L442)","v":19482},{"$f":"IF('INGRESO DE DATOS'!$G$21=\"Guayas/Santa Elena\",'Tablas Guayaquil'!M442,'Tablas Resto de Ecuador'!M442)","v":15742},{"$f":"IF('INGRESO DE DATOS'!$G$21=\"Guayas/Santa Elena\",'Tablas Guayaquil'!N442,'Tablas Resto de Ecuador'!N442)","v":14240},{"$f":"IF('INGRESO DE DATOS'!$G$21=\"Guayas/Santa Elena\",'Tablas Guayaquil'!O442,'Tablas Resto de Ecuador'!O442)","v":9689},{"$f":"IF('INGRESO DE DATOS'!$G$21=\"Guayas/Santa Elena\",'Tablas Guayaquil'!P442,'Tablas Resto de Ecuador'!P442)","v":7534},{"$f":"IF('INGRESO DE DATOS'!$G$21=\"Guayas/Santa Elena\",'Tablas Guayaquil'!Q442,'Tablas Resto de Ecuador'!Q442)","v":5636}]
[65,null,16628.55,13390.9,12225.55,8284.9499999999989,6439.5999999999995,4809.3,null,null,null,{"$f":"IF('INGRESO DE DATOS'!$G$21=\"Guayas/Santa Elena\",'Tablas Guayaquil'!L443,'Tablas Resto de Ecuador'!L443)","v":19563},{"$f":"IF('INGRESO DE DATOS'!$G$21=\"Guayas/Santa Elena\",'Tablas Guayaquil'!M443,'Tablas Resto de Ecuador'!M443)","v":15754},{"$f":"IF('INGRESO DE DATOS'!$G$21=\"Guayas/Santa Elena\",'Tablas Guayaquil'!N443,'Tablas Resto de Ecuador'!N443)","v":14383},{"$f":"IF('INGRESO DE DATOS'!$G$21=\"Guayas/Santa Elena\",'Tablas Guayaquil'!O443,'Tablas Resto de Ecuador'!O443)","v":9747},{"$f":"IF('INGRESO DE DATOS'!$G$21=\"Guayas/Santa Elena\",'Tablas Guayaquil'!P443,'Tablas Resto de Ecuador'!P443)","v":7576},{"$f":"IF('INGRESO DE DATOS'!$G$21=\"Guayas/Santa Elena\",'Tablas Guayaquil'!Q443,'Tablas Resto de Ecuador'!Q443)","v":5658}]
[66,null,16694,13404.5,12331.8,8338.5,6470.2,4817.8,null,null,null,{"$f":"IF('INGRESO DE DATOS'!$G$21=\"Guayas/Santa Elena\",'Tablas Guayaquil'!L444,'Tablas Resto de Ecuador'!L444)","v":19640},{"$f":"IF('INGRESO DE DATOS'!$G$21=\"Guayas/Santa Elena\",'Tablas Guayaquil'!M444,'Tablas Resto de Ecuador'!M444)","v":15770},{"$f":"IF('INGRESO DE DATOS'!$G$21=\"Guayas/Santa Elena\",'Tablas Guayaquil'!N444,'Tablas Resto de Ecuador'!N444)","v":14508},{"$f":"IF('INGRESO DE DATOS'!$G$21=\"Guayas/Santa Elena\",'Tablas Guayaquil'!O444,'Tablas Resto de Ecuador'!O444)","v":9810},{"$f":"IF('INGRESO DE DATOS'!$G$21=\"Guayas/Santa Elena\",'Tablas Guayaquil'!P444,'Tablas Resto de Ecuador'!P444)","v":7612},{"$f":"IF('INGRESO DE DATOS'!$G$21=\"Guayas/Santa Elena\",'Tablas Guayaquil'!Q444,'Tablas Resto de Ecuador'!Q444)","v":5668}]
[67,null,18558.05,14895.4,13711.35,9270.1,7200.3499999999995,5363.5,null,null,null,{"$f":"IF('INGRESO DE DATOS'!$G$21=\"Guayas/Santa Elena\",'Tablas Guayaquil'!L445,'Tablas Resto de Ecuador'!L445)","v":21833},{"$f":"IF('INGRESO DE DATOS'!$G$21=\"Guayas/Santa Elena\",'Tablas Guayaquil'!M445,'Tablas Resto de Ecuador'!M445)","v":17524},{"$f":"IF('INGRESO DE DATOS'!$G$21=\"Guayas/Santa Elena\",'Tablas Guayaquil'!N445,'Tablas Resto de Ecuador'!N445)","v":16131},{"$f":"IF('INGRESO DE DATOS'!$G$21=\"Guayas/Santa Elena\",'Tablas Guayaquil'!O445,'Tablas Resto de Ecuador'!O445)","v":10906},{"$f":"IF('INGRESO DE DATOS'!$G$21=\"Guayas/Santa Elena\",'Tablas Guayaquil'!P445,'Tablas Resto de Ecuador'!P445)","v":8471},{"$f":"IF('INGRESO DE DATOS'!$G$21=\"Guayas/Santa Elena\",'Tablas Guayaquil'!Q445,'Tablas Resto de Ecuador'!Q445)","v":6310}]
[68,null,20424.649999999998,16404.149999999998,15089.199999999999,10194.049999999999,7922.8499999999995,5907.5,null,null,null,{"$f":"IF('INGRESO DE DATOS'!$G$21=\"Guayas/Santa Elena\",'Tablas Guayaquil'!L446,'Tablas Resto de Ecuador'!L446)","v":24029},{"$f":"IF('INGRESO DE DATOS'!$G$21=\"Guayas/Santa Elena\",'Tablas Guayaquil'!M446,'Tablas Resto de Ecuador'!M446)","v":19299},{"$f":"IF('INGRESO DE DATOS'!$G$21=\"Guayas/Santa Elena\",'Tablas Guayaquil'!N446,'Tablas Resto de Ecuador'!N446)","v":17752},{"$f":"IF('INGRESO DE DATOS'!$G$21=\"Guayas/Santa Elena\",'Tablas Guayaquil'!O446,'Tablas Resto de Ecuador'!O446)","v":11993},{"$f":"IF('INGRESO DE DATOS'!$G$21=\"Guayas/Santa Elena\",'Tablas Guayaquil'!P446,'Tablas Resto de Ecuador'!P446)","v":9321},{"$f":"IF('INGRESO DE DATOS'!$G$21=\"Guayas/Santa Elena\",'Tablas Guayaquil'!Q446,'Tablas Resto de Ecuador'!Q446)","v":6950}]
[69,null,21352.85,17139.399999999998,15778.55,10665.8,8274.75,6182.05,null,null,null,{"$f":"IF('INGRESO DE DATOS'!$G$21=\"Guayas/Santa Elena\",'Tablas Guayaquil'!L447,'Tablas Resto de Ecuador'!L447)","v":25121},{"$f":"IF('INGRESO DE DATOS'!$G$21=\"Guayas/Santa Elena\",'Tablas Guayaquil'!M447,'Tablas Resto de Ecuador'!M447)","v":20164},{"$f":"IF('INGRESO DE DATOS'!$G$21=\"Guayas/Santa Elena\",'Tablas Guayaquil'!N447,'Tablas Resto de Ecuador'!N447)","v":18563},{"$f":"IF('INGRESO DE DATOS'!$G$21=\"Guayas/Santa Elena\",'Tablas Guayaquil'!O447,'Tablas Resto de Ecuador'!O447)","v":12548},{"$f":"IF('INGRESO DE DATOS'!$G$21=\"Guayas/Santa Elena\",'Tablas Guayaquil'!P447,'Tablas Resto de Ecuador'!P447)","v":9735},{"$f":"IF('INGRESO DE DATOS'!$G$21=\"Guayas/Santa Elena\",'Tablas Guayaquil'!Q447,'Tablas Resto de Ecuador'!Q447)","v":7273}]
[70,null,21505,17178.5,16048,10779.699999999999,8365.6999999999989,6213.5,null,null,null,{"$f":"IF('INGRESO DE DATOS'!$G$21=\"Guayas/Santa Elena\",'Tablas Guayaquil'!L448,'Tablas Resto de Ecuador'!L448)","v":25300},{"$f":"IF('INGRESO DE DATOS'!$G$21=\"Guayas/Santa Elena\",'Tablas Guayaquil'!M448,'Tablas Resto de Ecuador'!M448)","v":20210},{"$f":"IF('INGRESO DE DATOS'!$G$21=\"Guayas/Santa Elena\",'Tablas Guayaquil'!N448,'Tablas Resto de Ecuador'!N448)","v":18880},{"$f":"IF('INGRESO DE DATOS'!$G$21=\"Guayas/Santa Elena\",'Tablas Guayaquil'!O448,'Tablas Resto de Ecuador'!O448)","v":12682},{"$f":"IF('INGRESO DE DATOS'!$G$21=\"Guayas/Santa Elena\",'Tablas Guayaquil'!P448,'Tablas Resto de Ecuador'!P448)","v":9842},{"$f":"IF('INGRESO DE DATOS'!$G$21=\"Guayas/Santa Elena\",'Tablas Guayaquil'!Q448,'Tablas Resto de Ecuador'!Q448)","v":7310}]
[71,null,24201.200000000001,19329.849999999999,18054.849999999999,12130.35,9413.75,6992.95,null,null,null,{"$f":"IF('INGRESO DE DATOS'!$G$21=\"Guayas/Santa Elena\",'Tablas Guayaquil'!L449,'Tablas Resto de Ecuador'!L449)","v":28472},{"$f":"IF('INGRESO DE DATOS'!$G$21=\"Guayas/Santa Elena\",'Tablas Guayaquil'!M449,'Tablas Resto de Ecuador'!M449)","v":22741},{"$f":"IF('INGRESO DE DATOS'!$G$21=\"Guayas/Santa Elena\",'Tablas Guayaquil'!N449,'Tablas Resto de Ecuador'!N449)","v":21241},{"$f":"IF('INGRESO DE DATOS'!$G$21=\"Guayas/Santa Elena\",'Tablas Guayaquil'!O449,'Tablas Resto de Ecuador'!O449)","v":14271},{"$f":"IF('INGRESO DE DATOS'!$G$21=\"Guayas/Santa Elena\",'Tablas Guayaquil'!P449,'Tablas Resto de Ecuador'!P449)","v":11075},{"$f":"IF('INGRESO DE DATOS'!$G$21=\"Guayas/Santa Elena\",'Tablas Guayaquil'!Q449,'Tablas Resto de Ecuador'!Q449)","v":8227}]
[72,null,26894.85,21484.6,20077,13483.55,10462.65,7779.2,null,null,null,{"$f":"IF('INGRESO DE DATOS'!$G$21=\"Guayas/Santa Elena\",'Tablas Guayaquil'!L450,'Tablas Resto de Ecuador'!L450)","v":31641},{"$f":"IF('INGRESO DE DATOS'!$G$21=\"Guayas/Santa Elena\",'Tablas Guayaquil'!M450,'Tablas Resto de Ecuador'!M450)","v":25276},{"$f":"IF('INGRESO DE DATOS'!$G$21=\"Guayas/Santa Elena\",'Tablas Guayaquil'!N450,'Tablas Resto de Ecuador'!N450)","v":23620},{"$f":"IF('INGRESO DE DATOS'!$G$21=\"Guayas/Santa Elena\",'Tablas Guayaquil'!O450,'Tablas Resto de Ecuador'!O450)","v":15863},{"$f":"IF('INGRESO DE DATOS'!$G$21=\"Guayas/Santa Elena\",'Tablas Guayaquil'!P450,'Tablas Resto de Ecuador'!P450)","v":12309},{"$f":"IF('INGRESO DE DATOS'!$G$21=\"Guayas/Santa Elena\",'Tablas Guayaquil'!Q450,'Tablas Resto de Ecuador'!Q450)","v":9152}]
[73,null,29593.599999999999,23654.649999999998,22087.25,14838.449999999999,11517.5,8558.65,null,null,null,{"$f":"IF('INGRESO DE DATOS'!$G$21=\"Guayas/Santa Elena\",'Tablas Guayaquil'!L451,'Tablas Resto de Ecuador'!L451)","v":34816},{"$f":"IF('INGRESO DE DATOS'!$G$21=\"Guayas/Santa Elena\",'Tablas Guayaquil'!M451,'Tablas Resto de Ecuador'!M451)","v":27829},{"$f":"IF('INGRESO DE DATOS'!$G$21=\"Guayas/Santa Elena\",'Tablas Guayaquil'!N451,'Tablas Resto de Ecuador'!N451)","v":25985},{"$f":"IF('INGRESO DE DATOS'!$G$21=\"Guayas/Santa Elena\",'Tablas Guayaquil'!O451,'Tablas Resto de Ecuador'!O451)","v":17457},{"$f":"IF('INGRESO DE DATOS'!$G$21=\"Guayas/Santa Elena\",'Tablas Guayaquil'!P451,'Tablas Resto de Ecuador'!P451)","v":13550},{"$f":"IF('INGRESO DE DATOS'!$G$21=\"Guayas/Santa Elena\",'Tablas Guayaquil'!Q451,'Tablas Resto de Ecuador'!Q451)","v":10069}]
[74,null,32288.1,25803.45,24105.149999999998,16190.8,12568.1,9344.0499999999993,null,null,null,{"$f":"IF('INGRESO DE DATOS'!$G$21=\"Guayas/Santa Elena\",'Tablas Guayaquil'!L452,'Tablas Resto de Ecuador'!L452)","v":37986},{"$f":"IF('INGRESO DE DATOS'!$G$21=\"Guayas/Santa Elena\",'Tablas Guayaquil'!M452,'Tablas Resto de Ecuador'!M452)","v":30357},{"$f":"IF('INGRESO DE DATOS'!$G$21=\"Guayas/Santa Elena\",'Tablas Guayaquil'!N452,'Tablas Resto de Ecuador'!N452)","v":28359},{"$f":"IF('INGRESO DE DATOS'!$G$21=\"Guayas/Santa Elena\",'Tablas Guayaquil'!O452,'Tablas Resto de Ecuador'!O452)","v":19048},{"$f":"IF('INGRESO DE DATOS'!$G$21=\"Guayas/Santa Elena\",'Tablas Guayaquil'!P452,'Tablas Resto de Ecuador'!P452)","v":14786},{"$f":"IF('INGRESO DE DATOS'!$G$21=\"Guayas/Santa Elena\",'Tablas Guayaquil'!Q452,'Tablas Resto de Ecuador'!Q452)","v":10993}]
[75,"o más",35271.599999999999,28127.35,26434.149999999998,17714,13752.15,10212.75,null,null,null,{"$f":"IF('INGRESO DE DATOS'!$G$21=\"Guayas/Santa Elena\",'Tablas Guayaquil'!L453,'Tablas Resto de Ecuador'!L453)","v":41496},{"$f":"IF('INGRESO DE DATOS'!$G$21=\"Guayas/Santa Elena\",'Tablas Guayaquil'!M453,'Tablas Resto de Ecuador'!M453)","v":33091},{"$f":"IF('INGRESO DE DATOS'!$G$21=\"Guayas/Santa Elena\",'Tablas Guayaquil'!N453,'Tablas Resto de Ecuador'!N453)","v":31099},{"$f":"IF('INGRESO DE DATOS'!$G$21=\"Guayas/Santa Elena\",'Tablas Guayaquil'!O453,'Tablas Resto de Ecuador'!O453)","v":20840},{"$f":"IF('INGRESO DE DATOS'!$G$21=\"Guayas/Santa Elena\",'Tablas Guayaquil'!P453,'Tablas Resto de Ecuador'!P453)","v":16179},{"$f":"IF('INGRESO DE DATOS'!$G$21=\"Guayas/Santa Elena\",'Tablas Guayaquil'!Q453,'Tablas Resto de Ecuador'!Q453)","v":12015}]
[1,"Hijo",1983.8999999999999,1786.7,1056.55,854.25,663,490.45,null,null,null,{"$f":"IF('INGRESO DE DATOS'!$G$21=\"Guayas/Santa Elena\",'Tablas Guayaquil'!L454,'Tablas Resto de Ecuador'!L454)","v":2334},{"$f":"IF('INGRESO DE DATOS'!$G$21=\"Guayas/Santa Elena\",'Tablas Guayaquil'!M454,'Tablas Resto de Ecuador'!M454)","v":2102},{"$f":"IF('INGRESO DE DATOS'!$G$21=\"Guayas/Santa Elena\",'Tablas Guayaquil'!N454,'Tablas Resto de Ecuador'!N454)","v":1243},{"$f":"IF('INGRESO DE DATOS'!$G$21=\"Guayas/Santa Elena\",'Tablas Guayaquil'!O454,'Tablas Resto de Ecuador'!O454)","v":1005},{"$f":"IF('INGRESO DE DATOS'!$G$21=\"Guayas/Santa Elena\",'Tablas Guayaquil'!P454,'Tablas Resto de Ecuador'!P454)","v":780},{"$f":"IF('INGRESO DE DATOS'!$G$21=\"Guayas/Santa Elena\",'Tablas Guayaquil'!Q454,'Tablas Resto de Ecuador'!Q454)","v":577}]
[2,"Hijos",3256.35,3014.1,1569.95,1337.8999999999999,1038.7,769.25,null,null,null,{"$f":"IF('INGRESO DE DATOS'!$G$21=\"Guayas/Santa Elena\",'Tablas Guayaquil'!L455,'Tablas Resto de Ecuador'!L455)","v":3831},{"$f":"IF('INGRESO DE DATOS'!$G$21=\"Guayas/Santa Elena\",'Tablas Guayaquil'!M455,'Tablas Resto de Ecuador'!M455)","v":3546},{"$f":"IF('INGRESO DE DATOS'!$G$21=\"Guayas/Santa Elena\",'Tablas Guayaquil'!N455,'Tablas Resto de Ecuador'!N455)","v":1847},{"$f":"IF('INGRESO DE DATOS'!$G$21=\"Guayas/Santa Elena\",'Tablas Guayaquil'!O455,'Tablas Resto de Ecuador'!O455)","v":1574},{"$f":"IF('INGRESO DE DATOS'!$G$21=\"Guayas/Santa Elena\",'Tablas Guayaquil'!P455,'Tablas Resto de Ecuador'!P455)","v":1222},{"$f":"IF('INGRESO DE DATOS'!$G$21=\"Guayas/Santa Elena\",'Tablas Guayaquil'!Q455,'Tablas Resto de Ecuador'!Q455)","v":905}]
[3,"Hijos o más",{"$f":"L456*85%","v":4765.95},4413.2,2254.1999999999998,1942.25,1507.8999999999999,1111.8,null,null,null,{"$f":"IF('INGRESO DE DATOS'!$G$21=\"Guayas/Santa Elena\",'Tablas Guayaquil'!L456,'Tablas Resto de Ecuador'!L456)","v":5607},{"$f":"IF('INGRESO DE DATOS'!$G$21=\"Guayas/Santa Elena\",'Tablas Guayaquil'!M456,'Tablas Resto de Ecuador'!M456)","v":5192},{"$f":"IF('INGRESO DE DATOS'!$G$21=\"Guayas/Santa Elena\",'Tablas Guayaquil'!N456,'Tablas Resto de Ecuador'!N456)","v":2652},{"$f":"IF('INGRESO DE DATOS'!$G$21=\"Guayas/Santa Elena\",'Tablas Guayaquil'!O456,'Tablas Resto de Ecuador'!O456)","v":2285},{"$f":"IF('INGRESO DE DATOS'!$G$21=\"Guayas/Santa Elena\",'Tablas Guayaquil'!P456,'Tablas Resto de Ecuador'!P456)","v":1774},{"$f":"IF('INGRESO DE DATOS'!$G$21=\"Guayas/Santa Elena\",'Tablas Guayaquil'!Q456,'Tablas Resto de Ecuador'!Q456)","v":1308}]
[]
["TARIFAS MENSUALES"]
["EDAD"]
[" "," ","ET1","ET2","ET3","ET4","ET5","ET6"]
[18,-24,{"$f":"+C430*$M$2","v":384.50174999999996},325.03575000000001,254.5325,184.78008333333332,143.70949999999999,108.72066666666666]
[25,-29,{"$f":"+C431*$M$2","v":426.47333333333336},357.84716666666668,287.49408333333332,205.95358333333331,{"$f":"+G431*$M$2","v":160.90358333333333},121.10941666666666]
[30,-34,493.44766666666663,410.63074999999998,338.25041666666664,239.14041666666665,{"$f":"+G432*$M$2","v":185.83125000000001},140.25566666666666]
[35,-39,545.70566666666673,452.37708333333336,378.04458333333332,266.32058333333333,{"$f":"+G433*$M$2","v":206.70441666666665},155.87299999999999]
[40,-44,615.30791666666664,507.86366666666663,431.50391666666667,300.93399999999997,{"$f":"+G434*$M$2","v":234.41016666666664},175.92024999999998]
[45,-49,713.36674999999991,585.19949999999994,506.21183333333329,351.01458333333335,{"$f":"+G435*$M$2","v":272.47741666666667},204.60208333333333]
[50,-54,781.09191666666663,637.9079999999999,557.49374999999998,384.50174999999996,{"$f":"+G436*$M$2","v":298.98183333333333},223.82341666666665]
[55,-59,923.22466666666674,750.23266666666655,665.83900000000006,456.13125000000002,{"$f":"+G437*$M$2","v":355.14416666666665},264.89399999999995]
[60,null,973.30524999999989,785.44675000000007,711.71491666666668,483.38650000000001,{"$f":"+G438*$M$2","v":375.41666666666669},280.43624999999997]
[61,null,1095.5409166666666,884.85708333333332,800.61358333333328,544.42924999999991,{"$f":"+G439*$M$2","v":423.16966666666661},316.47624999999999]
[62,null,1218.6775833333334,983.66674999999998,890.41324999999995,605.47199999999998,{"$f":"+G440*$M$2","v":470.69741666666664},352.36608333333334]
[63,null,1340.5378333333333,1082.4764166666666,979.6873333333333,666.81508333333329,{"$f":"+G441*$M$2","v":518.07500000000005},387.58016666666663]
[64,null,1462.7735,1181.9618333333333,1069.1866666666667,727.48241666666661,{"$f":"+G442*$M$2","v":565.6778333333333},423.16966666666661]
[65,null,1468.8552499999998,1182.8628333333334,1079.9235833333332,731.83724999999993,{"$f":"+G443*$M$2","v":568.8313333333333},424.82150000000001]
[66,null,1474.6366666666668,1184.0641666666666,1089.309,736.5675,{"$f":"+G444*$M$2","v":571.53433333333328},425.57233333333335]
[67,null,1639.2944166666666,1315.7603333333334,1211.1692499999999,818.85883333333334,{"$f":"+G445*$M$2","v":636.0309166666666},473.77583333333331]
[68,null,1804.1774166666664,1449.0332499999997,1332.8793333333333,900.47441666666657,{"$f":"+G446*$M$2","v":699.85174999999992},521.82916666666665]
[69,null,1886.1684166666666,1513.9803333333332,1393.7719166666666,942.14566666666656,{"$f":"+G447*$M$2","v":730.93624999999997},546.08108333333337]
[70,null,1899.6083333333333,1517.4341666666667,1417.5733333333333,952.20683333333318,{"$f":"+G448*$M$2","v":738.97016666666661},548.85916666666662]
[71,null,2137.7726666666667,1707.4700833333332,1594.8450833333332,1071.5142499999999,{"$f":"+G449*$M$2","v":831.54791666666665},617.71058333333326]
[72,null,2375.7117499999999,1897.8063333333332,1773.4683333333332,1191.0469166666667,{"$f":"+G450*$M$2","v":924.20074999999997},687.16266666666661]
[73,null,2614.1013333333331,2089.494083333333,1951.0404166666667,1310.72975,{"$f":"+G451*$M$2","v":1017.3791666666667},756.01408333333325]
[74,null,2852.1154999999999,2279.3047500000002,2129.2882499999996,1430.1873333333333,{"$f":"+G452*$M$2","v":1110.1821666666667},825.39108333333331]
[75,"o más",3115.6579999999999,2484.5825833333333,2335.0165833333331,1564.7366666666667,{"$f":"+G453*$M$2","v":1214.77325},902.12625000000003]
[1,"Hijo",175.24449999999999,157.82516666666666,93.328583333333327,75.458749999999995,{"$f":"+G454*$M$2","v":58.564999999999998},43.323083333333329]
[2,"Hijos",287.64425,266.24549999999999,138.67891666666668,118.18116666666666,{"$f":"+G455*$M$2","v":91.751833333333337},67.950416666666669]
[3,"Hijos o más",420.99224999999996,389.83266666666663,199.12099999999998,171.56541666666666,{"$f":"+G456*$M$2","v":133.19783333333331},98.208999999999989]
[]
["ESSENTIAL 500"]
["TARIFAS SEMESTRALES"]
["EDAD"]
[" "," ","F500-1","F500-2","F500-3","F500-4","F500-5"]
[18,null,{"$f":"+C6*$M$3","v":1149.48},{"$f":"+D6*$M$3","v":983.13499999999999},719.97,496.46000000000004,269.34500000000003,155.01500000000001,89.094999999999999]
[19,null,{"$f":"+C7*$M$3","v":1168.02},983.13499999999999,719.97,496.97500000000002,272.435,157.07500000000002,91.155000000000001]
[20,null,{"$f":"+C8*$M$3","v":1188.6200000000001},983.13499999999999,719.97,498.005,275.01,159.13499999999999,93.215000000000003]
[21,null,{"$f":"+C9*$M$3","v":1210.7650000000001},983.13499999999999,721,501.61,278.61500000000001,162.74,95.79]
[22,null,{"$f":"+C10*$M$3","v":1230.335},983.13499999999999,723.06000000000006,505.73,282.73500000000001,165.83,98.365000000000009]
[23,null,{"$f":"+C11*$M$3","v":1250.9349999999999},985.19500000000005,727.18000000000006,510.88,287.37,169.95000000000002,100.94]
[24,null,{"$f":"+C12*$M$3","v":1254.54},989.83,733.875,517.06000000000006,293.03500000000003,173.55500000000001,104.03]
[25,null,{"$f":"+C13*$M$3","v":1260.2049999999999},997.04000000000008,741.6,524.78499999999997,299.21500000000003,178.70500000000001,108.15]
[26,null,{"$f":"+C14*$M$3","v":1269.4750000000001},1006.825,751.9,534.05500000000006,305.91000000000003,183.85500000000002,111.24000000000001]
[27,null,{"$f":"+C15*$M$3","v":1281.835},1019.7,763.745,544.87,314.15000000000003,190.035,115.36]
[28,null,{"$f":"+C16*$M$3","v":1297.2850000000001},1034.1200000000001,777.65,556.71500000000003,323.42,196.215,120.51]
[29,null,{"$f":"+C17*$M$3","v":1316.855},1052.145,793.1,570.62,333.20499999999998,203.42500000000001,125.14500000000001]
[30,null,{"$f":"+C18*$M$3","v":1339},1073.26,812.15499999999997,585.55500000000006,344.02,210.63500000000002,130.81]
[31,null,{"$f":"+C19*$M$3","v":1365.2650000000001},1097.4649999999999,832.24,602.55000000000007,355.86500000000001,218.875,136.99]
[32,null,{"$f":"+C20*$M$3","v":1395.65},1124.2450000000001,854.9,621.09,368.74,228.14500000000001,143.685]
[33,null,{"$f":"+C21*$M$3","v":1430.155},1154.6300000000001,880.65,642.20500000000004,382.64499999999998,238.44499999999999,150.38]
[34,null,{"$f":"+C22*$M$3","v":1467.75},1187.5899999999999,908.97500000000002,664.86500000000001,398.61,248.745,158.62]
[35,null,{"$f":"+C23*$M$3","v":1509.98},1224.67,940.39,690.1,415.09000000000003,261.10500000000002,166.86]
[36,null,{"$f":"+C24*$M$3","v":1556.845},1265.8700000000001,974.89499999999998,716.88,434.14500000000004,273.98,176.64500000000001]
[37,null,{"$f":"+C25*$M$3","v":1607.8300000000002},1310.675,1011.46,747.26499999999999,454.745,287.88499999999999,185.91499999999999]
[38,null,{"$f":"+C26*$M$3","v":1663.9650000000001},1359.6000000000001,1052.145,779.19500000000005,476.375,302.82,197.245]
[39,null,{"$f":"+C27*$M$3","v":1724.7350000000001},1412.645,1097.4649999999999,814.73,500.58000000000004,319.3,208.57500000000002]
[40,null,{"$f":"+C28*$M$3","v":1773.66},1470.325,1145.3600000000001,853.35500000000002,526.33000000000004,337.32499999999999,221.965]
[41,null,{"$f":"+C29*$M$3","v":1812.8},1532.64,1196.8600000000001,894.55500000000006,553.625,356.89499999999998,236.38500000000002]
[42,null,{"$f":"+C30*$M$3","v":1856.06},1601.65,1253.51,939.875,584.52499999999998,378.01,251.83500000000001]
[43,null,{"$f":"+C31*$M$3","v":1926.615},1674.2650000000001,1314.28,988.80000000000007,617.48500000000001,401.185,268.315]
[44,null,{"$f":"+C32*$M$3","v":2000.7750000000001},1740.7,1380.2,1041.33,653.02,425.90500000000003,286.85500000000002]
[45,null,{"$f":"+C33*$M$3","v":2075.4500000000003},1804.0450000000001,1451.7850000000001,1098.4950000000001,691.13,452.685,305.91000000000003]
[46,null,{"$f":"+C34*$M$3","v":2148.58},1868.42,1528.52,1159.78,733.875,482.04,327.54000000000002]
[47,null,{"$f":"+C35*$M$3","v":2223.2550000000001},1932.28,1610.405,1225.7,778.16499999999996,512.94000000000005,350.71500000000003]
[48,null,{"$f":"+C36*$M$3","v":2302.0500000000002},2000.7750000000001,1700.0150000000001,1297.2850000000001,827.60500000000002,547.44500000000005,376.46500000000003]
[49,null,{"$f":"+C37*$M$3","v":2378.7849999999999},2068.2400000000002,1795.8050000000001,1375.05,880.13499999999999,585.55500000000006,403.245]
[50,null,{"$f":"+C38*$M$3","v":2456.5500000000002},2137.25,1906.0150000000001,1464.66,941.93500000000006,628.30000000000007,435.69]
[51,null,{"$f":"+C39*$M$3","v":2533.2849999999999},2204.2000000000003,2009.53,1572.2950000000001,1016.61,681.34500000000003,474.83]
[52,null,{"$f":"+C40*$M$3","v":2611.5650000000001},2272.1799999999998,2071.33,1688.17,1096.4349999999999,738.51,517.06000000000006]
[53,null,{"$f":"+C41*$M$3","v":2704.2649999999999},2351.4900000000002,2145.4900000000002,1812.2850000000001,1182.44,798.76499999999999,562.38]
[54,null,{"$f":"+C42*$M$3","v":2797.48},2431.83,2217.59,1946.1849999999999,1275.1400000000001,864.17000000000007,611.30500000000006]
[55,null,{"$f":"+C43*$M$3","v":2891.21},2513.7150000000001,2290.7200000000003,2021.375,1374.5350000000001,934.21,663.32]
[56,null,{"$f":"+C44*$M$3","v":2982.88},2593.0250000000001,2363.335,2090.9,1454.3600000000001,1009.9150000000001,719.45500000000004]
[57,null,{"$f":"+C45*$M$3","v":3074.0349999999999},2674.395,2438.0100000000002,2161.4549999999999,1499.68,1090.77,780.22500000000002]
[58,null,{"$f":"+C46*$M$3","v":3180.125},2764.52,2514.23,2254.1550000000002,1558.905,1177.8050000000001,845.11500000000001]
[59,null,{"$f":"+C47*$M$3","v":3286.73},2858.25,2589.9349999999999,2344.7950000000001,1618.13,1271.02,914.64]
[60,null,{"$f":"+C48*$M$3","v":3392.3050000000003},2949.4050000000002,2667.7000000000003,2436.4650000000001,1677.355,1372.4750000000001,989.83]
[61,null,{"$f":"+C49*$M$3","v":3523.1150000000002},3062.7049999999999,2782.5450000000001,2527.62,1739.67,1480.1100000000001,1070.17]
[62,null,{"$f":"+C50*$M$3","v":3681.2200000000003},3200.7249999999999,2918.5050000000001,2641.4349999999999,1819.4950000000001,1597.53,1157.72]
[63,null,{"$f":"+C51*$M$3","v":3870.7400000000002},3365.01,3069.915,2777.395,1914.2550000000001,1723.19,1250.9349999999999]
[64,null,{"$f":"+C52*$M$3","v":4093.2200000000003},3560.71,3245.53,2937.56,2124.89,1859.665,1351.3600000000001]
[65,null,{"$f":"+C53*$M$3","v":4362.05},3791.9450000000002,3457.1950000000002,3156.9500000000003,2274.7550000000001,2005.925,1459.51]
[66,null,{"$f":"+C54*$M$3","v":4674.6549999999997},4065.4100000000003,3706.9700000000003,3408.7850000000003,2450.37,2164.5450000000001,1576.415]
[67,null,{"$f":"+C55*$M$3","v":5048.03},4389.8599999999997,4003.61,3684.31,2646.585,2334.4949999999999,1702.075]
[68,null,{"$f":"+C56*$M$3","v":5478.0550000000003},4762.2049999999999,4342.9949999999999,3994.855,2870.0950000000003,2518.8650000000002,1838.0350000000001]
[69,null,{"$f":"+C57*$M$3","v":5977.09},5197.38,4739.03,4362.5650000000005,2985.4549999999999,2717.14,1983.2650000000001]
[70,null,{"$f":"+C58*$M$3","v":6555.4350000000004},5700.5349999999999,5152.5749999999998,4854.9049999999997,3301.15,2930.35,2139.31]
[71,null,{"$f":"+C59*$M$3","v":7220.3},6278.88,5723.71,5345.7,3636.415,3160.04,2305.6550000000002]
[72,null,{"$f":"+C60*$M$3","v":7986.62},6944.7750000000005,6332.9549999999999,5916.32,4024.7249999999999,3405.6950000000002,2483.8450000000003]
[73,null,{"$f":"+C61*$M$3","v":8870.36},7713.1549999999997,7032.3249999999998,6567.7950000000001,4466.5950000000003,3669.375,2672.85]
[74,null,{"$f":"+C62*$M$3","v":9889.5450000000001},8598.44,7839.8450000000003,7323.8150000000005,4981.5950000000003,3950.5650000000001,2872.67]
[75,null,{"$f":"+C63*$M$3","v":11057.050000000001},9615.5650000000005,8731.8250000000007,8240.5149999999994,5589.2950000000001,4247.72,3082.2750000000001]
[76,null,{"$f":"+C64*$M$3","v":12401.2},10782.555,9824.14,9239.6149999999998,6267.0349999999999,4562.3850000000002,3300.6350000000002]
[77,null,{"$f":"+C65*$M$3","v":13925.6},12110.74,11041.6,10301.545,7040.05,4890.9549999999999,3525.69]
[78,null,{"$f":"+C66*$M$3","v":15648.275},13606.815000000001,12405.835000000001,11050.355,7580.8,5232.4000000000005,3754.35]
[79,null,{"$f":"+C67*$M$3","v":17581.584999999999},15286.745000000001,13939.505000000001,11836.245000000001,8114.34,5583.63,3981.4650000000001]
[80,"o más",{"$f":"+C68*$M$3","v":19759.52},17300.91,15400.045,12656.64,8664.36,5938.4650000000001,4202.4000000000005]
[1,"Hijo",{"$f":"+C69*$M$3","v":758.08},659.2,477.40500000000003,327.02500000000003,178.70500000000001,101.97,58.71]
[2,"Hijos",{"$f":"+C70*$M$3","v":896.61500000000001},778.68000000000006,564.44000000000005,387.28000000000003,210.63500000000002,121.02500000000001,69.010000000000005]
[3,"Hijos o más",{"$f":"+C71*$M$3","v":1241.1500000000001},1078.4100000000001,781.77,536.11500000000001,292.005,166.86,96.305000000000007]
[]
["ESSENTIAL 100"]
["TARIFAS SEMESTRALES"]
["EDAD"]
[" "," ","F100-1","F100-2","F100-3","F100-4","F100-5"]
[18,null,{"$f":"+C147*$M$3","v":1454.875},{"$f":"+D147*$M$3","v":1425.52},1346.21,1228.2750000000001,{"$f":"+G147*$M$3","v":950.69}]
[19,null,{"$f":"+C148*$M$3","v":1482.6849999999999},1453.33,1370.415,1250.42,970.26]
[20,null,{"$f":"+C149*$M$3","v":1507.405},1473.93,1392.0450000000001,1268.4449999999999,988.28500000000008]
[21,null,{"$f":"+C150*$M$3","v":1532.125},1501.74,1414.19,1289.0450000000001,1010.4300000000001]
[22,null,{"$f":"+C151*$M$3","v":1556.33},1530.58,1438.91,1314.28,1032.06]
[23,null,{"$f":"+C152*$M$3","v":1585.6849999999999},1552.21,1463.63,1333.335,1053.175]
[24,null,{"$f":"+C153*$M$3","v":1611.95},1578.99,1488.3500000000001,1356.51,1074.29]
[25,null,{"$f":"+C154*$M$3","v":1636.155},1603.1949999999999,1508.4349999999999,1380.2,1099.5250000000001]
[26,null,{"$f":"+C155*$M$3","v":1662.9349999999999},1629.46,1535.73,1399.77,1118.0650000000001]
[27,null,{"$f":"+C156*$M$3","v":1686.1100000000001},1653.665,1556.33,1422.43,1139.6949999999999]
[28,null,{"$f":"+C157*$M$3","v":1717.5250000000001},1684.5650000000001,1587.7450000000001,1447.665,1167.5050000000001]
[29,null,{"$f":"+C158*$M$3","v":1748.425},1713.92,1615.04,1471.355,1197.375]
[30,null,{"$f":"+C159*$M$3","v":1780.355},1743.2750000000001,1642.8500000000001,1499.68,1223.125]
[31,null,{"$f":"+C160*$M$3","v":1808.68},1771.6000000000001,1669.115,1523.3700000000001,1250.42]
[32,null,{"$f":"+C161*$M$3","v":1840.6100000000001},1801.9850000000001,1700.0150000000001,1549.1200000000001,1275.655]
[33,null,{"$f":"+C162*$M$3","v":1889.5350000000001},1851.425,1745.335,1589.29,1315.825]
[34,null,{"$f":"+C163*$M$3","v":1940.0050000000001},1901.895,1791.17,1633.5800000000002,1354.45]
[35,null,{"$f":"+C164*$M$3","v":1990.4750000000001},1950.8200000000002,1839.5800000000002,1676.325,1392.0450000000001]
[36,null,{"$f":"+C165*$M$3","v":2039.915},2000.26,1885.415,1717.5250000000001,1433.76]
[37,null,{"$f":"+C166*$M$3","v":2088.84},2049.1849999999999,1931.7650000000001,1762.3300000000002,1470.8400000000001]
[38,null,{"$f":"+C167*$M$3","v":2141.37},2099.6550000000002,1980.175,1804.0450000000001,1513.585]
[39,null,{"$f":"+C168*$M$3","v":2193.9},2148.58,2025.4950000000001,1848.8500000000001,1553.7550000000001]
[40,null,{"$f":"+C169*$M$3","v":2245.915},2200.08,2073.9050000000002,1889.5350000000001,1596.5]
[41,null,{"$f":"+C170*$M$3","v":2297.9299999999998},2251.58,2121.2849999999999,1933.31,1636.67]
[42,null,{"$f":"+C171*$M$3","v":2348.4},2301.02,2168.665,1975.0250000000001,1682.5050000000001]
[43,null,{"$f":"+C172*$M$3","v":2440.585},2392.1750000000002,2253.64,2056.91,1751.5150000000001]
[44,null,{"$f":"+C173*$M$3","v":2534.83},2483.8450000000003,2339.645,2135.19,1828.7650000000001]
[45,null,{"$f":"+C174*$M$3","v":2631.1350000000002},2573.9700000000003,2426.165,2213.4700000000003,1902.41]
[46,null,{"$f":"+C175*$M$3","v":2718.6849999999999},2668.2150000000001,2512.6849999999999,2292.2649999999999,1973.48]
[47,null,{"$f":"+C176*$M$3","v":2814.4749999999999},2757.31,2600.2350000000001,2371.06,2049.1849999999999]
[48,null,{"$f":"+C177*$M$3","v":2914.3850000000002},2854.13,2689.8450000000003,2453.9749999999999,2123.3450000000003]
[49,null,{"$f":"+C178*$M$3","v":3011.2049999999999},2951.98,2781,2535.3450000000003,2203.17]
[50,null,{"$f":"+C179*$M$3","v":3109.0550000000003},3049.83,2872.67,2619.29,2280.9349999999999]
[51,null,{"$f":"+C180*$M$3","v":3206.9050000000002},3146.1350000000002,2963.31,2703.2350000000001,2358.1849999999999]
[52,null,{"$f":"+C181*$M$3","v":3306.8150000000001},3239.8650000000002,3054.98,2786.665,2435.4349999999999]
[53,null,{"$f":"+C182*$M$3","v":3423.2049999999999},3357.2850000000003,3163.13,2884,2531.7400000000002]
[54,null,{"$f":"+C183*$M$3","v":3540.625},3472.13,3271.28,2983.91,2623.9250000000002]
[55,null,{"$f":"+C184*$M$3","v":3655.9850000000001},3586.46,3380.9749999999999,3082.2750000000001,2717.6550000000002]
[56,null,{"$f":"+C185*$M$3","v":3775.4650000000001},3700.79,3488.61,3181.67,2812.9300000000003]
[57,null,{"$f":"+C186*$M$3","v":3891.855},3815.6350000000002,3593.1550000000002,3275.915,2906.66]
[58,null,{"$f":"+C187*$M$3","v":4026.27},3948.5050000000001,3706.4549999999999,3391.2750000000001,3029.7449999999999]
[59,null,{"$f":"+C188*$M$3","v":4158.625},4077.2550000000001,3820.7850000000003,3504.06,3152.83]
[60,null,{"$f":"+C189*$M$3","v":4296.13},4206.5200000000004,3933.0550000000003,3618.39,3275.915]
[61,null,{"$f":"+C190*$M$3","v":4458.3550000000005},4369.26,4104.0349999999999,3754.8650000000002,3398.4850000000001]
[62,null,{"$f":"+C191*$M$3","v":4658.1750000000002},4567.5349999999999,4303.8550000000005,3924.8150000000001,3552.9850000000001]
[63,null,{"$f":"+C192*$M$3","v":4899.71},4800.3150000000005,4524.79,4124.12,3735.2950000000001]
[64,null,{"$f":"+C193*$M$3","v":5183.4750000000004},5077.3850000000002,4786.9250000000002,4364.1099999999997,3949.5350000000003]
[65,null,{"$f":"+C194*$M$3","v":5520.8},5407.5,5100.5600000000004,4649.9350000000004,4243.085]
[66,null,{"$f":"+C195*$M$3","v":5916.835},5798.9000000000005,5465.18,4984.6850000000004,4584.0150000000003]
[67,null,{"$f":"+C196*$M$3","v":6388.5749999999998},6264.46,5902.415,5382.2650000000003,4952.24]
[68,null,{"$f":"+C197*$M$3","v":6932.93},6791.8200000000006,6401.9650000000001,5836.4949999999999,5370.42]
[69,null,{"$f":"+C198*$M$3","v":7565.35},7416,6987.0050000000001,6370.0349999999999,5866.88]
[70,null,{"$f":"+C199*$M$3","v":8299.74},8130.8200000000006,7599.34,6987.52,6525.5650000000005]
[71,null,{"$f":"+C200*$M$3","v":9135.5850000000009},8954.3050000000003,8439.3050000000003,7693.585,7185.7950000000001]
[72,null,{"$f":"+C201*$M$3","v":10109.965},9905.51,9337.4650000000001,8513.98,7954.6900000000005]
[73,null,{"$f":"+C202*$M$3","v":11228.03},11001.43,10370.555,9455.4,8829.6750000000011]
[74,null,{"$f":"+C203*$M$3","v":12519.65},12267.815000000001,11560.720000000001,10539.99,9846.2849999999999]
[75,null,{"$f":"+C204*$M$3","v":13996.67},13714.45,12872.94,11784.23,11077.65]
[76,null,{"$f":"+C205*$M$3","v":15697.2},15376.87,14483.345000000001,13214.9,12422.315000000001]
[77,null,{"$f":"+C206*$M$3","v":17626.39},17271.555,16275.545,14842.815000000001,13950.835000000001]
[78,null,{"$f":"+C207*$M$3","v":19806.900000000001},19405.715,18290.740000000002,16676.215,15672.995000000001]
[79,null,{"$f":"+C208*$M$3","v":22253.15},21806.13,20550.045000000002,18736.215,17609.395]
[80,"o más",{"$f":"+C209*$M$3","v":25181.955000000002},24673.65,23254.31,21203.065000000002,19925.350000000002]
[1,"Hijo",{"$f":"+C210*$M$3","v":747.78},730.78499999999997,688.04,630.36,370.8]
[2,"Hijos",{"$f":"+C211*$M$3","v":1256.6000000000001},1230.8500000000001,1159.2650000000001,1057.81,552.59500000000003]
[3,"Hijos o más",{"$f":"+C212*$M$3","v":1842.155},1803.53,1700.0150000000001,1551.6949999999999,790.01]
[]
["ESSENTIAL 50"]
["TARIFAS SEMESTRALES"]
["EDAD"]
[" "," ","F50-1","F50-2","F50-3","F50-4","F50-5"]
[18,null,{"$f":"+C289*$M$3","v":1157.2049999999999},{"$f":"+D289*$M$3","v":1133.5150000000001},1068.625,975.41000000000008,753.44500000000005]
[19,null,{"$f":"+C290*$M$3","v":1176.26},1153.085,1085.105,990.34500000000003,768.89499999999998]
[20,null,{"$f":"+C291*$M$3","v":1197.375},1171.1100000000001,1104.675,1005.28,785.375]
[21,null,{"$f":"+C292*$M$3","v":1216.9449999999999},1190.165,1125.79,1024.335,804.43000000000006]
[22,null,{"$f":"+C293*$M$3","v":1236.5150000000001},1211.28,1142.27,1040.8150000000001,819.88]
[23,null,{"$f":"+C294*$M$3","v":1257.115},1233.425,1159.78,1058.8399999999999,836.875]
[24,null,{"$f":"+C295*$M$3","v":1277.2},1253.51,1180.3800000000001,1076.865,854.9]
[25,null,{"$f":"+C296*$M$3","v":1298.83},1272.05,1199.95,1093.345,869.83500000000004]
[26,null,{"$f":"+C297*$M$3","v":1317.3700000000001},1293.68,1218.49,1111.3700000000001,887.34500000000003]
[27,null,{"$f":"+C298*$M$3","v":1340.03},1313.25,1236.5150000000001,1128.365,905.88499999999999]
[28,null,{"$f":"+C299*$M$3","v":1363.2049999999999},1334.88,1257.6300000000001,1148.45,927.51499999999999]
[29,null,{"$f":"+C300*$M$3","v":1388.9549999999999},1360.115,1282.3500000000001,1169.05,948.11500000000001]
[30,null,{"$f":"+C301*$M$3","v":1412.13},1382.26,1305.01,1187.5899999999999,970.77499999999998]
[31,null,{"$f":"+C302*$M$3","v":1436.335},1405.95,1327.67,1209.22,990.34500000000003]
[32,null,{"$f":"+C303*$M$3","v":1458.48},1432.2150000000001,1348.27,1230.8500000000001,1014.5500000000001]
[33,null,{"$f":"+C304*$M$3","v":1499.68},1470.325,1386.38,1263.81,1042.875]
[34,null,{"$f":"+C305*$M$3","v":1540.88},1511.01,1422.9449999999999,1297.8,1074.29]
[35,null,{"$f":"+C306*$M$3","v":1578.99},1547.575,1458.48,1331.2750000000001,1104.675]
[36,null,{"$f":"+C307*$M$3","v":1619.675},1587.7450000000001,1497.105,1363.2049999999999,1136.605]
[37,null,{"$f":"+C308*$M$3","v":1659.845},1626.3700000000001,1531.6100000000001,1396.165,1168.02]
[38,null,{"$f":"+C309*$M$3","v":1700.0150000000001},1667.57,1571.2650000000001,1433.76,1199.95]
[39,null,{"$f":"+C310*$M$3","v":1741.73},1706.1949999999999,1607.8300000000002,1466.72,1233.94]
[40,null,{"$f":"+C311*$M$3","v":1782.415},1745.335,1644.91,1500.1949999999999,1267.93]
[41,null,{"$f":"+C312*$M$3","v":1822.585},1785.5050000000001,1682.5050000000001,1532.125,1298.83]
[42,null,{"$f":"+C313*$M$3","v":1863.27},1825.16,1721.645,1569.2049999999999,1331.79]
[43,null,{"$f":"+C314*$M$3","v":1936.915},1898.29,1787.5650000000001,1631.52,1392.0450000000001]
[44,null,{"$f":"+C315*$M$3","v":2011.5900000000001},1972.45,1857.605,1694.3500000000001,1450.24]
[45,null,{"$f":"+C316*$M$3","v":2086.2649999999999},2040.9450000000002,1927.645,1757.18,1511.01]
[46,null,{"$f":"+C317*$M$3","v":2159.91},2115.105,1994.0800000000002,1820.5250000000001,1567.66]
[47,null,{"$f":"+C318*$M$3","v":2234.0700000000002},2187.7200000000003,2063.605,1880.2650000000001,1626.3700000000001]
[48,null,{"$f":"+C319*$M$3","v":2311.835},2264.9700000000003,2135.19,1948.76,1686.625]
[49,null,{"$f":"+C320*$M$3","v":2391.145},2343.7649999999999,2206.2600000000002,2014.165,1748.425]
[50,null,{"$f":"+C321*$M$3","v":2467.88},2419.4700000000003,2280.42,2079.5700000000002,1809.1949999999999]
[51,null,{"$f":"+C322*$M$3","v":2546.16},2495.69,2351.4900000000002,2145.4900000000002,1869.45]
[52,null,{"$f":"+C323*$M$3","v":2624.44},2571.395,2425.1350000000002,2211.9250000000002,1932.28]
[53,null,{"$f":"+C324*$M$3","v":2717.6550000000002},2662.55,2509.08,2288.145,2006.44]
[54,null,{"$f":"+C325*$M$3","v":2811.9},2753.7049999999999,2595.085,2366.4250000000002,2082.145]
[55,null,{"$f":"+C326*$M$3","v":2904.085},2844.3450000000003,2680.5750000000003,2443.6750000000002,2157.335]
[56,null,{"$f":"+C327*$M$3","v":2995.7550000000001},2936.53,2766.58,2520.9250000000002,2230.98]
[57,null,{"$f":"+C328*$M$3","v":3088.4549999999999},3026.14,2854.645,2600.75,2306.6849999999999]
[58,null,{"$f":"+C329*$M$3","v":3198.15},3129.6550000000002,2943.7400000000002,2691.39,2405.5650000000001]
[59,null,{"$f":"+C330*$M$3","v":3303.7249999999999},3236.7750000000001,3033.8650000000002,2780.4850000000001,2502.9]
[60,null,{"$f":"+C331*$M$3","v":3411.36},3340.29,3121.415,2871.64,2600.2350000000001]
[61,null,{"$f":"+C332*$M$3","v":3538.05},3469.5550000000003,3257.375,2980.3050000000003,2697.0550000000003]
[62,null,{"$f":"+C333*$M$3","v":3698.2150000000001},3623.54,3415.48,3114.2049999999999,2818.08]
[63,null,{"$f":"+C334*$M$3","v":3889.28},3810.4850000000001,3593.1550000000002,3274.37,2963.31]
[64,null,{"$f":"+C335*$M$3","v":4112.79},4029.875,3798.125,3461.83,3132.7449999999999]
[65,null,{"$f":"+C336*$M$3","v":4381.1050000000005},4293.04,4044.2950000000001,3689.46,3367.07]
[66,null,{"$f":"+C337*$M$3","v":4696.8},4603.07,4338.875,3956.7449999999999,3637.96]
[67,null,{"$f":"+C338*$M$3","v":5070.1750000000002},4968.2049999999999,4683.41,4269.8649999999998,3928.9349999999999]
[68,null,{"$f":"+C339*$M$3","v":5501.7449999999999},5389.4750000000004,5079.4449999999997,4633.4549999999999,4262.1400000000003]
[69,null,{"$f":"+C340*$M$3","v":6002.3249999999998},5883.875,5545.52,5055.24,4653.54]
[70,null,{"$f":"+C341*$M$3","v":6584.2750000000005},6451.4049999999997,6028.59,5545.52,5177.8100000000004]
[71,null,{"$f":"+C342*$M$3","v":7251.7150000000001},7104.9400000000005,6694.4850000000006,6105.3249999999998,5701.5650000000005]
[72,null,{"$f":"+C343*$M$3","v":8022.67},7859.415,7408.2750000000005,6756.2849999999999,6312.3550000000005]
[73,null,{"$f":"+C344*$M$3","v":8908.4699999999993},8726.6750000000011,8229.1849999999995,7501.49,7005.03]
[74,null,{"$f":"+C345*$M$3","v":9931.7749999999996},9729.8950000000004,9172.6650000000009,8363.6,7813.58]
[75,null,{"$f":"+C346*$M$3","v":11104.945},10881.95,10215.025,9351.3700000000008,8785.9]
[76,null,{"$f":"+C347*$M$3","v":12451.67},12200.865,11490.165000000001,10484.885,9855.5550000000003]
[77,null,{"$f":"+C348*$M$3","v":13985.855},13704.665000000001,12916.2,11778.050000000001,11067.865]
[78,null,{"$f":"+C349*$M$3","v":15714.710000000001},15395.925000000001,14512.184999999999,13229.835000000001,12435.705]
[79,null,{"$f":"+C350*$M$3","v":17655.744999999999},17300.91,16306.445,14867.535,13971.95]
[80,"o más",{"$f":"+C351*$M$3","v":19979.424999999999},19576.18,18449.36,16825.05,15809.470000000001]
[1,"Hijo",{"$f":"+C352*$M$3","v":590.19000000000005},579.89,544.87,497.49,296.125]
[2,"Hijos",{"$f":"+C353*$M$3","v":994.46500000000003},976.44,919.27499999999998,838.93500000000006,436.72]
[3,"Hijos o más",{"$f":"+C354*$M$3","v":1461.57},1432.2150000000001,1348.27,1230.8500000000001,629.84500000000003]
[]
["ESSENTIAL 500"]
["TARIFAS TRIMESTRALES"]
["EDAD"]
[" "," ","F500-1","F500-2","F500-3","F500-4","F500-5"]
[18,null,{"$f":"+C6*$M$4","v":583.11},{"$f":"+D6*$M$4","v":498.72624999999999},365.22749999999996,251.84499999999997,136.63374999999999,78.63624999999999,45.196249999999999]
[19,null,{"$f":"+C7*$M$4","v":592.51499999999999},498.72624999999999,365.22749999999996,252.10624999999999,138.20124999999999,79.681249999999991,46.241249999999994]
[20,null,{"$f":"+C8*$M$4","v":602.96499999999992},498.72624999999999,365.22749999999996,252.62875,139.50749999999999,80.726249999999993,47.286249999999995]
[21,null,{"$f":"+C9*$M$4","v":614.1987499999999},498.72624999999999,365.75,254.45749999999998,141.33624999999998,82.554999999999993,48.592499999999994]
[22,null,{"$f":"+C10*$M$4","v":624.12624999999991},498.72624999999999,366.79499999999996,256.54749999999996,143.42624999999998,84.122499999999988,49.89875]
[23,null,{"$f":"+C11*$M$4","v":634.57624999999996},499.77124999999995,368.88499999999999,259.15999999999997,145.7775,86.212499999999991,51.204999999999998]
[24,null,{"$f":"+C12*$M$4","v":636.40499999999997},502.12249999999995,372.28125,262.29499999999996,148.65124999999998,88.041249999999991,52.772499999999994]
[25,null,{"$f":"+C13*$M$4","v":639.27874999999995},505.78,376.2,266.21375,151.78625,90.653749999999988,54.862499999999997]
[26,null,{"$f":"+C14*$M$4","v":643.98124999999993},510.74374999999998,381.42499999999995,270.91624999999999,155.18249999999998,93.266249999999999,56.429999999999993]
[27,null,{"$f":"+C15*$M$4","v":650.25124999999991},517.27499999999998,387.43374999999997,276.40249999999997,159.36249999999998,96.40124999999999,58.519999999999996]
[28,null,{"$f":"+C16*$M$4","v":658.08875},524.58999999999992,394.48749999999995,282.41125,164.065,99.536249999999995,61.132499999999993]
[29,null,{"$f":"+C17*$M$4","v":668.0162499999999},533.73374999999999,402.32499999999999,289.46499999999997,169.02875,103.19374999999999,63.483749999999993]
[30,null,{"$f":"+C18*$M$4","v":679.25},544.44499999999994,411.99124999999998,297.04124999999999,174.51499999999999,106.85124999999999,66.357500000000002]
[31,null,{"$f":"+C19*$M$4","v":692.5737499999999},556.72375,422.17999999999995,305.66249999999997,180.52374999999998,111.03124999999999,69.492499999999993]
[32,null,{"$f":"+C20*$M$4","v":707.98749999999995},570.30874999999992,433.67499999999995,315.0675,187.05499999999998,115.73374999999999,72.888750000000002]
[33,null,{"$f":"+C21*$M$4","v":725.49124999999992},585.72249999999997,446.73749999999995,325.77875,194.10874999999999,120.95874999999999,76.284999999999997]
[34,null,{"$f":"+C22*$M$4","v":744.5625},602.4425,461.10624999999999,337.27374999999995,202.20749999999998,126.18374999999999,80.464999999999989]
[35,null,{"$f":"+C23*$M$4","v":765.9849999999999},621.25249999999994,477.04249999999996,350.07499999999999,210.5675,132.45374999999999,84.644999999999996]
[36,null,{"$f":"+C24*$M$4","v":789.75874999999996},642.15249999999992,494.54624999999999,363.65999999999997,220.23374999999999,138.98499999999999,89.608750000000001]
[37,null,{"$f":"+C25*$M$4","v":815.62249999999995},664.88124999999991,513.09499999999991,379.07374999999996,230.68374999999997,146.03874999999999,94.311249999999987]
[38,null,{"$f":"+C26*$M$4","v":844.09875},689.69999999999993,533.73374999999999,395.27124999999995,241.65624999999997,153.61499999999998,100.05874999999999]
[39,null,{"$f":"+C27*$M$4","v":874.92624999999998},716.60874999999999,556.72375,413.29749999999996,253.93499999999997,161.97499999999999,105.80624999999999]
[40,null,{"$f":"+C28*$M$4","v":899.74499999999989},745.86874999999998,581.02,432.89124999999996,266.9975,171.11874999999998,112.59875]
[41,null,{"$f":"+C29*$M$4","v":919.59999999999991},777.4799999999999,607.14499999999998,453.79124999999999,280.84375,181.04624999999999,119.91374999999999]
[42,null,{"$f":"+C30*$M$4","v":941.54499999999996},812.48749999999995,635.88249999999994,476.78124999999994,296.51874999999995,191.75749999999999,127.75124999999998]
[43,null,{"$f":"+C31*$M$4","v":977.33624999999995},849.3237499999999,666.70999999999992,501.59999999999997,313.23874999999998,203.51374999999999,136.11124999999998]
[44,null,{"$f":"+C32*$M$4","v":1014.95625},883.02499999999998,700.15,528.24749999999995,331.26499999999999,216.05374999999998,145.51624999999999]
[45,null,{"$f":"+C33*$M$4","v":1052.8374999999999},915.15874999999994,736.46375,557.24624999999992,350.59749999999997,229.63874999999999,155.18249999999998]
[46,null,{"$f":"+C34*$M$4","v":1089.9349999999999},947.81499999999994,775.39,588.33499999999992,372.28125,244.52999999999997,166.155]
[47,null,{"$f":"+C35*$M$4","v":1127.8162499999999},980.20999999999992,816.92874999999992,621.77499999999998,394.74874999999997,260.20499999999998,177.91125]
[48,null,{"$f":"+C36*$M$4","v":1167.7874999999999},1014.95625,862.3862499999999,658.08875,419.82874999999996,277.70875000000001,190.97375]
[49,null,{"$f":"+C37*$M$4","v":1206.7137499999999},1049.1799999999998,910.97874999999999,697.53749999999991,446.47624999999999,297.04124999999999,204.55874999999997]
[50,null,{"$f":"+C38*$M$4","v":1246.1624999999999},1084.1875,966.8862499999999,742.995,477.82624999999996,318.72499999999997,221.01749999999998]
[51,null,{"$f":"+C39*$M$4","v":1285.0887499999999},1118.1499999999999,1019.3974999999999,797.59624999999994,515.70749999999998,345.63374999999996,240.87249999999997]
[52,null,{"$f":"+C40*$M$4","v":1324.7987499999999},1152.635,1050.7474999999999,856.37749999999994,556.20124999999996,374.63249999999999,262.29499999999996]
[53,null,{"$f":"+C41*$M$4","v":1371.82375},1192.8674999999998,1088.3674999999998,919.33874999999989,599.82999999999993,405.19874999999996,285.28499999999997]
[54,null,{"$f":"+C42*$M$4","v":1419.11},1233.6224999999999,1124.9424999999999,987.26374999999996,646.8549999999999,438.3775,310.10374999999999]
[55,null,{"$f":"+C43*$M$4","v":1466.6574999999998},1275.1612499999999,1162.04,1025.40625,697.27625,473.90749999999997,336.48999999999995]
[56,null,{"$f":"+C44*$M$4","v":1513.1599999999999},1315.39375,1198.87625,1060.675,737.77,512.31124999999997,364.96625]
[57,null,{"$f":"+C45*$M$4","v":1559.4012499999999},1356.6712499999999,1236.7574999999999,1096.4662499999999,760.76,553.32749999999999,395.79374999999999]
[58,null,{"$f":"+C46*$M$4","v":1613.21875},1402.3899999999999,1275.4224999999999,1143.4912499999998,790.80374999999992,597.47874999999999,428.71124999999995]
[59,null,{"$f":"+C47*$M$4","v":1667.2974999999999},1449.9375,1313.8262499999998,1189.4712499999998,820.84749999999997,644.76499999999999,463.97999999999996]
[60,null,{"$f":"+C48*$M$4","v":1720.85375},1496.1787499999998,1353.2749999999999,1235.9737499999999,850.8912499999999,696.23124999999993,502.12249999999995]
[61,null,{"$f":"+C49*$M$4","v":1787.2112499999998},1553.6537499999999,1411.5337499999998,1282.2149999999999,882.50249999999994,750.83249999999998,542.87749999999994]
[62,null,{"$f":"+C50*$M$4","v":1867.415},1623.6687499999998,1480.5037499999999,1339.9512499999998,922.99624999999992,810.39749999999992,587.29]
[63,null,{"$f":"+C51*$M$4","v":1963.5549999999998},1707.0074999999999,1557.31125,1408.9212499999999,971.06624999999997,874.14249999999993,634.57624999999996]
[64,null,{"$f":"+C52*$M$4","v":2076.415},1806.2824999999998,1646.3974999999998,1490.1699999999998,1077.9175,943.37374999999997,685.52]
[65,null,{"$f":"+C53*$M$4","v":2212.7874999999999},1923.5837499999998,1753.7712499999998,1601.4624999999999,1153.9412499999999,1017.5687499999999,740.38249999999994]
[66,null,{"$f":"+C54*$M$4","v":2371.36625},2062.3074999999999,1880.4775,1729.2137499999999,1243.0274999999999,1098.0337499999998,799.68624999999997]
[67,null,{"$f":"+C55*$M$4","v":2560.7725},2226.895,2030.9574999999998,1868.9824999999998,1342.5637499999998,1184.2462499999999,863.43124999999998]
[68,null,{"$f":"+C56*$M$4","v":2778.9162499999998},2415.7787499999999,2203.1212499999997,2026.5162499999999,1455.94625,1277.7737499999998,932.40124999999989]
[69,null,{"$f":"+C57*$M$4","v":3032.0674999999997},2636.5349999999999,2404.0225,2213.0487499999999,1514.4662499999999,1378.355,1006.0737499999999]
[70,null,{"$f":"+C58*$M$4","v":3325.4512499999996},2891.7762499999999,2613.8062499999996,2462.80375,1674.6125,1486.5124999999998,1085.2324999999998]
[71,null,{"$f":"+C59*$M$4","v":3662.7249999999999},3185.16,2903.5324999999998,2711.7749999999996,1844.68625,1603.03,1169.6162499999998]
[72,null,{"$f":"+C60*$M$4","v":4051.4649999999997},3522.9562499999997,3212.5912499999999,3001.24,2041.6687499999998,1727.6462499999998,1260.00875]
[73,null,{"$f":"+C61*$M$4","v":4499.7699999999995},3912.7412499999996,3567.3687499999996,3331.7212499999996,2265.82125,1861.4062499999998,1355.8874999999998]
[74,null,{"$f":"+C62*$M$4","v":5016.7837499999996},4361.83,3977.0087499999995,3715.2362499999999,2527.07125,2004.0487499999999,1457.2524999999998]
[75,null,{"$f":"+C63*$M$4","v":5609.0374999999995},4877.7987499999999,4429.4937499999996,4180.2612499999996,2835.3462499999996,2154.79,1563.58125]
[76,null,{"$f":"+C64*$M$4","v":6290.9},5469.7912499999993,4983.6049999999996,4687.0862499999994,3179.1512499999999,2314.4137499999997,1674.3512499999999]
[77,null,{"$f":"+C65*$M$4","v":7064.2},6143.5549999999994,5601.2,5225.7837499999996,3571.2874999999999,2481.0912499999999,1788.5174999999999]
[78,null,{"$f":"+C66*$M$4","v":7938.0812499999993},6902.4862499999999,6293.2512499999993,5605.6412499999997,3845.6,2654.2999999999997,1904.5124999999998]
[79,null,{"$f":"+C67*$M$4","v":8918.8137499999993},7754.6837499999992,7071.2537499999999,6004.3087499999992,4116.2550000000001,2832.4724999999999,2019.7237499999999]
[80,"o más",{"$f":"+C68*$M$4","v":10023.64},8776.432499999999,7812.1587499999996,6420.48,4395.2699999999995,3012.4737499999997,2131.7999999999997]
[1,"Hijo",{"$f":"+C69*$M$4","v":384.55999999999995},334.4,242.17874999999998,165.89374999999998,90.653749999999988,51.727499999999999,29.782499999999999]
[2,"Hijos",{"$f":"+C70*$M$4","v":454.83624999999995},395.01,286.33,196.45999999999998,106.85124999999999,61.393749999999997,35.0075]
[3,"Hijos o más",{"$f":"+C71*$M$4","v":629.61249999999995},547.0575,396.57749999999999,271.96125000000001,148.12875,84.644999999999996,48.853749999999998]
[]
["ESSENTIAL 100"]
["TARIFAS TRIMESTRALES"]
["EDAD"]
[" "," ","F100-1","F100-2","F100-3","F100-4","F100-5"]
[18,null,{"$f":"+C147*$M$4","v":738.03125},{"$f":"+D147*$M$4","v":723.14},682.90749999999991,623.08124999999995,482.26749999999998]
[19,null,{"$f":"+C148*$M$4","v":752.13874999999996},737.24749999999995,695.18624999999997,634.31499999999994,492.19499999999999]
[20,null,{"$f":"+C149*$M$4","v":764.67874999999992},747.69749999999999,706.15874999999994,643.45875000000001,501.33874999999995]
[21,null,{"$f":"+C150*$M$4","v":777.21875},761.80499999999995,717.39249999999993,653.90874999999994,512.57249999999999]
[22,null,{"$f":"+C151*$M$4","v":789.49749999999995},776.43499999999995,729.9325,666.70999999999992,523.54499999999996]
[23,null,{"$f":"+C152*$M$4","v":804.38874999999996},787.40749999999991,742.47249999999997,676.37624999999991,534.25624999999991]
[24,null,{"$f":"+C153*$M$4","v":817.71249999999998},800.99249999999995,755.01249999999993,688.13249999999994,544.96749999999997]
[25,null,{"$f":"+C154*$M$4","v":829.99124999999992},813.2712499999999,765.20124999999996,700.15,557.76874999999995]
[26,null,{"$f":"+C155*$M$4","v":843.57624999999996},826.59499999999991,779.0474999999999,710.07749999999999,567.17374999999993]
[27,null,{"$f":"+C156*$M$4","v":855.33249999999998},838.87374999999997,789.49749999999995,721.57249999999999,578.14625000000001]
[28,null,{"$f":"+C157*$M$4","v":871.26874999999995},854.54874999999993,805.43374999999992,734.37374999999997,592.25374999999997]
[29,null,{"$f":"+C158*$M$4","v":886.94374999999991},869.43999999999994,819.28,746.3912499999999,607.40625]
[30,null,{"$f":"+C159*$M$4","v":903.1412499999999},884.33124999999995,833.38749999999993,760.76,620.46875]
[31,null,{"$f":"+C160*$M$4","v":917.51},898.69999999999993,846.71124999999995,772.77749999999992,634.31499999999994]
[32,null,{"$f":"+C161*$M$4","v":933.70749999999998},914.11374999999998,862.3862499999999,785.83999999999992,647.11624999999992]
[33,null,{"$f":"+C162*$M$4","v":958.52624999999989},939.19374999999991,885.37624999999991,806.21749999999997,667.49374999999998]
[34,null,{"$f":"+C163*$M$4","v":984.12874999999997},964.79624999999999,908.62749999999994,828.68499999999995,687.08749999999998]
[35,null,{"$f":"+C164*$M$4","v":1009.7312499999999},989.6149999999999,933.18499999999995,850.36874999999998,706.15874999999994]
[36,null,{"$f":"+C165*$M$4","v":1034.81125},1014.6949999999999,956.43624999999997,871.26874999999995,727.31999999999994]
[37,null,{"$f":"+C166*$M$4","v":1059.6299999999999},1039.5137499999998,979.9487499999999,893.99749999999995,746.13]
[38,null,{"$f":"+C167*$M$4","v":1086.2774999999999},1065.11625,1004.5062499999999,915.15874999999994,767.81374999999991]
[39,null,{"$f":"+C168*$M$4","v":1112.925},1089.9349999999999,1027.4962499999999,937.88749999999993,788.19124999999997]
[40,null,{"$f":"+C169*$M$4","v":1139.31125},1116.06,1052.05375,958.52624999999989,809.875]
[41,null,{"$f":"+C170*$M$4","v":1165.6975},1142.1849999999999,1076.0887499999999,980.73249999999996,830.25249999999994]
[42,null,{"$f":"+C171*$M$4","v":1191.3},1167.2649999999999,1100.12375,1001.89375,853.50374999999997]
[43,null,{"$f":"+C172*$M$4","v":1238.06375},1213.5062499999999,1143.23,1043.4324999999999,888.5112499999999]
[44,null,{"$f":"+C173*$M$4","v":1285.8724999999999},1260.00875,1186.8587499999999,1083.1424999999999,927.6987499999999]
[45,null,{"$f":"+C174*$M$4","v":1334.7262499999999},1305.7275,1230.74875,1122.8525,965.05749999999989]
[46,null,{"$f":"+C175*$M$4","v":1379.1387499999998},1353.5362499999999,1274.6387499999998,1162.82375,1001.1099999999999]
[47,null,{"$f":"+C176*$M$4","v":1427.7312499999998},1398.7324999999998,1319.05125,1202.7949999999998,1039.5137499999998]
[48,null,{"$f":"+C177*$M$4","v":1478.4137499999999},1447.8474999999999,1364.50875,1244.8562499999998,1077.13375]
[49,null,{"$f":"+C178*$M$4","v":1527.5287499999999},1497.4849999999999,1410.75,1286.13375,1117.6274999999998]
[50,null,{"$f":"+C179*$M$4","v":1577.16625},1547.1224999999999,1457.2524999999998,1328.7175,1157.0762499999998]
[51,null,{"$f":"+C180*$M$4","v":1626.8037499999998},1595.9762499999999,1503.2324999999998,1371.30125,1196.2637499999998]
[52,null,{"$f":"+C181*$M$4","v":1677.4862499999999},1643.5237499999998,1549.7349999999999,1413.62375,1235.4512499999998]
[53,null,{"$f":"+C182*$M$4","v":1736.5287499999999},1703.0887499999999,1604.5974999999999,1463,1284.3049999999998]
[54,null,{"$f":"+C183*$M$4","v":1796.0937499999998},1761.3474999999999,1659.4599999999998,1513.6824999999999,1331.0687499999999]
[55,null,{"$f":"+C184*$M$4","v":1854.61375},1819.3449999999998,1715.1062499999998,1563.58125,1378.6162499999998]
[56,null,{"$f":"+C185*$M$4","v":1915.2237499999999},1877.3425,1769.7075,1614.0024999999998,1426.9475]
[57,null,{"$f":"+C186*$M$4","v":1974.2662499999999},1935.6012499999999,1822.7412499999998,1661.81125,1474.4949999999999]
[58,null,{"$f":"+C187*$M$4","v":2042.4524999999999},2003.0037499999999,1880.2162499999999,1720.33125,1536.9337499999999]
[59,null,{"$f":"+C188*$M$4","v":2109.59375},2068.3162499999999,1938.2137499999999,1777.5449999999998,1599.3724999999999]
[60,null,{"$f":"+C189*$M$4","v":2179.3474999999999},2133.89,1995.1662499999998,1835.5424999999998,1661.81125]
[61,null,{"$f":"+C190*$M$4","v":2261.6412499999997},2216.4449999999997,2081.9012499999999,1904.7737499999998,1723.98875]
[62,null,{"$f":"+C191*$M$4","v":2363.0062499999999},2317.0262499999999,2183.2662499999997,1990.9862499999999,1802.36375]
[63,null,{"$f":"+C192*$M$4","v":2485.5324999999998},2435.1112499999999,2295.3424999999997,2092.0899999999997,1894.8462499999998]
[64,null,{"$f":"+C193*$M$4","v":2629.4812499999998},2575.6637499999997,2428.3187499999999,2213.8325,2003.5262499999999]
[65,null,{"$f":"+C194*$M$4","v":2800.6},2743.125,2587.4199999999996,2358.8262499999996,2152.4387499999998]
[66,null,{"$f":"+C195*$M$4","v":3001.5012499999998},2941.6749999999997,2772.3849999999998,2528.6387499999996,2325.38625]
[67,null,{"$f":"+C196*$M$4","v":3240.8062499999996},3177.8449999999998,2994.1862499999997,2730.32375,2512.1799999999998]
[68,null,{"$f":"+C197*$M$4","v":3516.9474999999998},3445.3649999999998,3247.5987499999997,2960.7462499999997,2724.3149999999996]
[69,null,{"$f":"+C198*$M$4","v":3837.7624999999998},3761.9999999999995,3544.3787499999999,3231.4012499999999,2976.16]
[70,null,{"$f":"+C199*$M$4","v":4210.3049999999994},4124.6149999999998,3855.0049999999997,3544.64,3310.2987499999999]
[71,null,{"$f":"+C200*$M$4","v":4634.3137499999993},4542.3537499999993,4281.1037499999993,3902.8137499999998,3645.2212499999996]
[72,null,{"$f":"+C201*$M$4","v":5128.5987499999992},5024.8824999999997,4736.7237500000001,4318.9849999999997,4035.2674999999999]
[73,null,{"$f":"+C202*$M$4","v":5695.7725},5580.8224999999993,5260.7912499999993,4796.5499999999993,4479.1312499999995]
[74,null,{"$f":"+C203*$M$4","v":6350.9874999999993},6223.2362499999999,5864.54,5346.7424999999994,4994.8387499999999]
[75,null,{"$f":"+C204*$M$4","v":7100.2524999999996},6957.0874999999996,6530.2049999999999,5977.9224999999997,5619.4874999999993]
[76,null,{"$f":"+C205*$M$4","v":7962.9},7800.4024999999992,7347.1337499999991,6703.6749999999993,6301.6112499999999]
[77,null,{"$f":"+C206*$M$4","v":8941.5424999999996},8761.5412500000002,8256.2837499999987,7529.4862499999999,7077.0012499999993]
[78,null,{"$f":"+C207*$M$4","v":10047.674999999999},9844.1612499999992,9278.5549999999985,8459.5362499999992,7950.6212499999992]
[79,null,{"$f":"+C208*$M$4","v":11288.612499999999},11061.8475,10424.658749999999,9504.5362499999992,8932.9212499999994]
[80,"o más",{"$f":"+C209*$M$4","v":12774.341249999999},12516.487499999999,11796.4825,10755.92375,10107.762499999999]
[1,"Hijo",{"$f":"+C210*$M$4","v":379.33499999999998},370.71374999999995,349.03,319.77,188.1]
[2,"Hijos",{"$f":"+C211*$M$4","v":637.44999999999993},624.38749999999993,588.0737499999999,536.60749999999996,280.32124999999996]
[3,"Hijos o más",{"$f":"+C212*$M$4","v":934.49124999999992},914.89749999999992,862.3862499999999,787.1462499999999,400.75749999999999]
[]
["ESSENTIAL 50"]
["TARIFAS TRIMESTRALES"]
["EDAD"]
[" "," ","F50-1","F50-2","F50-3","F50-4","F50-5"]
[18,null,{"$f":"+C289*$M$4","v":587.02874999999995},{"$f":"+D289*$M$4","v":575.0112499999999},542.09375,494.80749999999995,382.20874999999995]
[19,null,{"$f":"+C290*$M$4","v":596.69499999999994},584.93874999999991,550.45375000000001,502.38374999999996,390.04624999999999]
[20,null,{"$f":"+C291*$M$4","v":607.40625},594.08249999999998,560.38124999999991,509.96,398.40625]
[21,null,{"$f":"+C292*$M$4","v":617.33375000000001},603.74874999999997,571.09249999999997,519.62624999999991,408.07249999999999]
[22,null,{"$f":"+C293*$M$4","v":627.2612499999999},614.45999999999992,579.45249999999999,527.98624999999993,415.90999999999997]
[23,null,{"$f":"+C294*$M$4","v":637.71124999999995},625.69374999999991,588.33499999999992,537.13,424.53124999999994]
[24,null,{"$f":"+C295*$M$4","v":647.9},635.88249999999994,598.78499999999997,546.27374999999995,433.67499999999995]
[25,null,{"$f":"+C296*$M$4","v":658.87249999999995},645.28749999999991,608.71249999999998,554.63374999999996,441.25124999999997]
[26,null,{"$f":"+C297*$M$4","v":668.27749999999992},656.26,618.11749999999995,563.77749999999992,450.13374999999996]
[27,null,{"$f":"+C298*$M$4","v":679.77249999999992},666.1875,627.2612499999999,572.39874999999995,459.53874999999999]
[28,null,{"$f":"+C299*$M$4","v":691.52874999999995},677.16,637.97249999999997,582.58749999999998,470.51124999999996]
[29,null,{"$f":"+C300*$M$4","v":704.59124999999995},689.96124999999995,650.51249999999993,593.03749999999991,480.96124999999995]
[30,null,{"$f":"+C301*$M$4","v":716.34749999999997},701.19499999999994,662.00749999999994,602.4425,492.45624999999995]
[31,null,{"$f":"+C302*$M$4","v":728.62624999999991},713.21249999999998,673.50249999999994,613.41499999999996,502.38374999999996]
[32,null,{"$f":"+C303*$M$4","v":739.8599999999999},726.53625,683.95249999999999,624.38749999999993,514.66249999999991]
[33,null,{"$f":"+C304*$M$4","v":760.76},745.86874999999998,703.28499999999997,641.10749999999996,529.03125]
[34,null,{"$f":"+C305*$M$4","v":781.66},766.50749999999994,721.8337499999999,658.34999999999991,544.96749999999997]
[35,null,{"$f":"+C306*$M$4","v":800.99249999999995},785.05624999999998,739.8599999999999,675.33124999999995,560.38124999999991]
[36,null,{"$f":"+C307*$M$4","v":821.63124999999991},805.43374999999992,759.4537499999999,691.52874999999995,576.57875000000001]
[37,null,{"$f":"+C308*$M$4","v":842.00874999999996},825.02749999999992,776.95749999999998,708.24874999999997,592.51499999999999]
[38,null,{"$f":"+C309*$M$4","v":862.3862499999999},845.9274999999999,797.0737499999999,727.31999999999994,608.71249999999998]
[39,null,{"$f":"+C310*$M$4","v":883.5474999999999},865.5212499999999,815.62249999999995,744.04,625.95499999999993]
[40,null,{"$f":"+C311*$M$4","v":904.18624999999997},885.37624999999991,834.43249999999989,761.0212499999999,643.19749999999999]
[41,null,{"$f":"+C312*$M$4","v":924.56374999999991},905.75374999999997,853.50374999999997,777.21875,658.87249999999995]
[42,null,{"$f":"+C313*$M$4","v":945.20249999999999},925.86999999999989,873.35874999999999,796.02874999999995,675.59249999999997]
[43,null,{"$f":"+C314*$M$4","v":982.56124999999997},962.96749999999997,906.79874999999993,827.64,706.15874999999994]
[44,null,{"$f":"+C315*$M$4","v":1020.4424999999999},1000.5875,942.3287499999999,859.51249999999993,735.68]
[45,null,{"$f":"+C316*$M$4","v":1058.32375},1035.33375,977.85874999999999,891.38499999999999,766.50749999999994]
[46,null,{"$f":"+C317*$M$4","v":1095.6824999999999},1072.9537499999999,1011.56,923.51874999999995,795.24499999999989]
[47,null,{"$f":"+C318*$M$4","v":1133.3025},1109.79,1046.8287499999999,953.8237499999999,825.02749999999992]
[48,null,{"$f":"+C319*$M$4","v":1172.75125},1148.9775,1083.1424999999999,988.56999999999994,855.59374999999989]
[49,null,{"$f":"+C320*$M$4","v":1212.9837499999999},1188.94875,1119.1949999999999,1021.74875,886.94374999999991]
[50,null,{"$f":"+C321*$M$4","v":1251.9099999999999},1227.3525,1156.8149999999998,1054.9275,917.7712499999999]
[51,null,{"$f":"+C322*$M$4","v":1291.6199999999999},1266.0174999999999,1192.8674999999998,1088.3674999999998,948.33749999999998]
[52,null,{"$f":"+C323*$M$4","v":1331.33},1304.4212499999999,1230.2262499999999,1122.0687499999999,980.20999999999992]
[53,null,{"$f":"+C324*$M$4","v":1378.6162499999998},1350.6624999999999,1272.81,1160.7337499999999,1017.8299999999999]
[54,null,{"$f":"+C325*$M$4","v":1426.425},1396.9037499999999,1316.4387499999998,1200.4437499999999,1056.2337499999999]
[55,null,{"$f":"+C326*$M$4","v":1473.1887499999998},1442.88375,1359.8062499999999,1239.6312499999999,1094.37625]
[56,null,{"$f":"+C327*$M$4","v":1519.6912499999999},1489.6474999999998,1403.4349999999999,1278.8187499999999,1131.7349999999999]
[57,null,{"$f":"+C328*$M$4","v":1566.7162499999999},1535.1049999999998,1448.1087499999999,1319.3125,1170.1387499999998]
[58,null,{"$f":"+C329*$M$4","v":1622.3625},1587.6162499999998,1493.3049999999998,1365.2925,1220.2987499999999]
[59,null,{"$f":"+C330*$M$4","v":1675.9187499999998},1641.95625,1539.0237499999998,1410.48875,1269.675]
[60,null,{"$f":"+C331*$M$4","v":1730.52},1694.4675,1583.43625,1456.7299999999998,1319.05125]
[61,null,{"$f":"+C332*$M$4","v":1794.7874999999999},1760.04125,1652.40625,1511.85375,1368.16625]
[62,null,{"$f":"+C333*$M$4","v":1876.0362499999999},1838.155,1732.61,1579.7787499999999,1429.56]
[63,null,{"$f":"+C334*$M$4","v":1972.9599999999998},1932.98875,1822.7412499999998,1661.0274999999999,1503.2324999999998]
[64,null,{"$f":"+C335*$M$4","v":2086.3424999999997},2044.2812499999998,1926.7187499999998,1756.1224999999999,1589.1837499999999]
[65,null,{"$f":"+C336*$M$4","v":2222.4537499999997},2177.7799999999997,2051.5962500000001,1871.5949999999998,1708.0524999999998]
[66,null,{"$f":"+C337*$M$4","v":2382.6},2335.0524999999998,2201.03125,2007.1837499999999,1845.4699999999998]
[67,null,{"$f":"+C338*$M$4","v":2572.0062499999999},2520.2787499999999,2375.8074999999999,2166.0237499999998,1993.0762499999998]
[68,null,{"$f":"+C339*$M$4","v":2790.9337499999997},2733.9812499999998,2576.7087499999998,2350.4662499999999,2162.105]
[69,null,{"$f":"+C340*$M$4","v":3044.8687499999996},2984.78125,2813.14,2564.4299999999998,2360.6549999999997]
[70,null,{"$f":"+C341*$M$4","v":3340.0812499999997},3272.6787499999996,3058.1924999999997,2813.14,2626.6074999999996]
[71,null,{"$f":"+C342*$M$4","v":3678.6612499999997},3604.2049999999999,3395.98875,3097.1187499999996,2892.2987499999999]
[72,null,{"$f":"+C343*$M$4","v":4069.7524999999996},3986.9362499999997,3758.0812499999997,3427.3387499999999,3202.1412499999997]
[73,null,{"$f":"+C344*$M$4","v":4519.1025},4426.8812499999995,4174.5137500000001,3805.3674999999998,3553.5224999999996]
[74,null,{"$f":"+C345*$M$4","v":5038.2062499999993},4935.7962499999994,4653.1237499999997,4242.7,3963.6849999999999]
[75,null,{"$f":"+C346*$M$4","v":5633.3337499999998},5520.2124999999996,5181.8937499999993,4743.7774999999992,4456.9249999999993]
[76,null,{"$f":"+C347*$M$4","v":6316.5024999999996},6189.2737499999994,5828.7487499999997,5318.7887499999997,4999.5412499999993]
[77,null,{"$f":"+C348*$M$4","v":7094.7662499999997},6952.1237499999997,6552.15,5974.7874999999995,5614.5237499999994]
[78,null,{"$f":"+C349*$M$4","v":7971.7824999999993},7810.0687499999995,7361.7637499999992,6711.2512499999993,6308.4037499999995]
[79,null,{"$f":"+C350*$M$4","v":8956.4337500000001},8776.432499999999,8271.9587499999998,7542.0262499999999,7087.7124999999996]
[80,"o más",{"$f":"+C351*$M$4","v":10135.193749999999},9930.6350000000002,9359.0199999999986,8535.0374999999985,8019.8524999999991]
[1,"Hijo",{"$f":"+C352*$M$4","v":299.39249999999998},294.16749999999996,276.40249999999997,252.36749999999998,150.21875]
[2,"Hijos",{"$f":"+C353*$M$4","v":504.47374999999994},495.33,466.33124999999995,425.57624999999996,221.54]
[3,"Hijos o más",{"$f":"+C354*$M$4","v":741.4274999999999},726.53625,683.95249999999999,624.38749999999993,319.50874999999996]
[]
[]
["ESSENTIAL 1000"]
["TARIFAS ANUALES"]
["EDAD"]
[" "," ","F50-1","F50-2","F50-3","F50-4","F50-5","F50-4","F50-5"]
[18,null,{"$f":"K920*0.95","v":2494.6999999999998},{"$f":"L920*0.95","v":2171.6999999999998},1862.9499999999998,1298.6499999999999,714.4,415.15,243.2,null,{"$f":"IF('INGRESO DE DATOS'!$G$21=\"Guayas/Santa Elena\",'Tablas Guayaquil'!C920,'Tablas Resto de Ecuador'!C920)","v":2626},{"$f":"IF('INGRESO DE DATOS'!$G$21=\"Guayas/Santa Elena\",'Tablas Guayaquil'!D920,'Tablas Resto de Ecuador'!D920)","v":2286},{"$f":"IF('INGRESO DE DATOS'!$G$21=\"Guayas/Santa Elena\",'Tablas Guayaquil'!E920,'Tablas Resto de Ecuador'!E920)","v":1961},{"$f":"IF('INGRESO DE DATOS'!$G$21=\"Guayas/Santa Elena\",'Tablas Guayaquil'!F920,'Tablas Resto de Ecuador'!F920)","v":1367},{"$f":"IF('INGRESO DE DATOS'!$G$21=\"Guayas/Santa Elena\",'Tablas Guayaquil'!G920,'Tablas Resto de Ecuador'!G920)","v":752},{"$f":"IF('INGRESO DE DATOS'!$G$21=\"Guayas/Santa Elena\",'Tablas Guayaquil'!H920,'Tablas Resto de Ecuador'!H920)","v":437},{"$f":"IF('INGRESO DE DATOS'!$G$21=\"Guayas/Santa Elena\",'Tablas Guayaquil'!I920,'Tablas Resto de Ecuador'!I920)","v":256}]
[19,null,{"$f":"K921*0.95","v":2535.5499999999997},{"$f":"L921*0.95","v":2209.6999999999998},{"$f":"M921*0.95","v":1862.9499999999998},{"$f":"N921*0.95","v":1298.6499999999999},{"$f":"O921*0.95","v":720.1},{"$f":"P921*0.95","v":419.9},{"$f":"Q921*0.95","v":247.95},null,{"$f":"IF('INGRESO DE DATOS'!$G$21=\"Guayas/Santa Elena\",'Tablas Guayaquil'!C921,'Tablas Resto de Ecuador'!C921)","v":2669},{"$f":"IF('INGRESO DE DATOS'!$G$21=\"Guayas/Santa Elena\",'Tablas Guayaquil'!D921,'Tablas Resto de Ecuador'!D921)","v":2326},{"$f":"IF('INGRESO DE DATOS'!$G$21=\"Guayas/Santa Elena\",'Tablas Guayaquil'!E921,'Tablas Resto de Ecuador'!E921)","v":1961},{"$f":"IF('INGRESO DE DATOS'!$G$21=\"Guayas/Santa Elena\",'Tablas Guayaquil'!F921,'Tablas Resto de Ecuador'!F921)","v":1367},{"$f":"IF('INGRESO DE DATOS'!$G$21=\"Guayas/Santa Elena\",'Tablas Guayaquil'!G921,'Tablas Resto de Ecuador'!G921)","v":758},{"$f":"IF('INGRESO DE DATOS'!$G$21=\"Guayas/Santa Elena\",'Tablas Guayaquil'!H921,'Tablas Resto de Ecuador'!H921)","v":442},{"$f":"IF('INGRESO DE DATOS'!$G$21=\"Guayas/Santa Elena\",'Tablas Guayaquil'!I921,'Tablas Resto de Ecuador'!I921)","v":261}]
[20,null,2578.2999999999997,2244.85,1862.9499999999998,1301.5,726.75,426.54999999999995,252.7,null,{"$f":"IF('INGRESO DE DATOS'!$G$21=\"Guayas/Santa Elena\",'Tablas Guayaquil'!C922,'Tablas Resto de Ecuador'!C922)","v":2714},{"$f":"IF('INGRESO DE DATOS'!$G$21=\"Guayas/Santa Elena\",'Tablas Guayaquil'!D922,'Tablas Resto de Ecuador'!D922)","v":2363},{"$f":"IF('INGRESO DE DATOS'!$G$21=\"Guayas/Santa Elena\",'Tablas Guayaquil'!E922,'Tablas Resto de Ecuador'!E922)","v":1961},{"$f":"IF('INGRESO DE DATOS'!$G$21=\"Guayas/Santa Elena\",'Tablas Guayaquil'!F922,'Tablas Resto de Ecuador'!F922)","v":1370},{"$f":"IF('INGRESO DE DATOS'!$G$21=\"Guayas/Santa Elena\",'Tablas Guayaquil'!G922,'Tablas Resto de Ecuador'!G922)","v":765},{"$f":"IF('INGRESO DE DATOS'!$G$21=\"Guayas/Santa Elena\",'Tablas Guayaquil'!H922,'Tablas Resto de Ecuador'!H922)","v":449},{"$f":"IF('INGRESO DE DATOS'!$G$21=\"Guayas/Santa Elena\",'Tablas Guayaquil'!I922,'Tablas Resto de Ecuador'!I922)","v":266}]
[21,null,2627.7,2285.6999999999998,1862.9499999999998,1308.1499999999999,735.3,434.15,259.34999999999997,null,{"$f":"IF('INGRESO DE DATOS'!$G$21=\"Guayas/Santa Elena\",'Tablas Guayaquil'!C923,'Tablas Resto de Ecuador'!C923)","v":2766},{"$f":"IF('INGRESO DE DATOS'!$G$21=\"Guayas/Santa Elena\",'Tablas Guayaquil'!D923,'Tablas Resto de Ecuador'!D923)","v":2406},{"$f":"IF('INGRESO DE DATOS'!$G$21=\"Guayas/Santa Elena\",'Tablas Guayaquil'!E923,'Tablas Resto de Ecuador'!E923)","v":1961},{"$f":"IF('INGRESO DE DATOS'!$G$21=\"Guayas/Santa Elena\",'Tablas Guayaquil'!F923,'Tablas Resto de Ecuador'!F923)","v":1377},{"$f":"IF('INGRESO DE DATOS'!$G$21=\"Guayas/Santa Elena\",'Tablas Guayaquil'!G923,'Tablas Resto de Ecuador'!G923)","v":774},{"$f":"IF('INGRESO DE DATOS'!$G$21=\"Guayas/Santa Elena\",'Tablas Guayaquil'!H923,'Tablas Resto de Ecuador'!H923)","v":457},{"$f":"IF('INGRESO DE DATOS'!$G$21=\"Guayas/Santa Elena\",'Tablas Guayaquil'!I923,'Tablas Resto de Ecuador'!I923)","v":273}]
[22,null,2671.4,2322.75,1866.75,1317.6499999999999,745.75,442.7,266,null,{"$f":"IF('INGRESO DE DATOS'!$G$21=\"Guayas/Santa Elena\",'Tablas Guayaquil'!C924,'Tablas Resto de Ecuador'!C924)","v":2812},{"$f":"IF('INGRESO DE DATOS'!$G$21=\"Guayas/Santa Elena\",'Tablas Guayaquil'!D924,'Tablas Resto de Ecuador'!D924)","v":2445},{"$f":"IF('INGRESO DE DATOS'!$G$21=\"Guayas/Santa Elena\",'Tablas Guayaquil'!E924,'Tablas Resto de Ecuador'!E924)","v":1965},{"$f":"IF('INGRESO DE DATOS'!$G$21=\"Guayas/Santa Elena\",'Tablas Guayaquil'!F924,'Tablas Resto de Ecuador'!F924)","v":1387},{"$f":"IF('INGRESO DE DATOS'!$G$21=\"Guayas/Santa Elena\",'Tablas Guayaquil'!G924,'Tablas Resto de Ecuador'!G924)","v":785},{"$f":"IF('INGRESO DE DATOS'!$G$21=\"Guayas/Santa Elena\",'Tablas Guayaquil'!H924,'Tablas Resto de Ecuador'!H924)","v":466},{"$f":"IF('INGRESO DE DATOS'!$G$21=\"Guayas/Santa Elena\",'Tablas Guayaquil'!I924,'Tablas Resto de Ecuador'!I924)","v":280}]
[23,null,2715.1,2359.7999999999997,1877.1999999999998,1330,757.15,452.2,273.59999999999997,null,{"$f":"IF('INGRESO DE DATOS'!$G$21=\"Guayas/Santa Elena\",'Tablas Guayaquil'!C925,'Tablas Resto de Ecuador'!C925)","v":2858},{"$f":"IF('INGRESO DE DATOS'!$G$21=\"Guayas/Santa Elena\",'Tablas Guayaquil'!D925,'Tablas Resto de Ecuador'!D925)","v":2484},{"$f":"IF('INGRESO DE DATOS'!$G$21=\"Guayas/Santa Elena\",'Tablas Guayaquil'!E925,'Tablas Resto de Ecuador'!E925)","v":1976},{"$f":"IF('INGRESO DE DATOS'!$G$21=\"Guayas/Santa Elena\",'Tablas Guayaquil'!F925,'Tablas Resto de Ecuador'!F925)","v":1400},{"$f":"IF('INGRESO DE DATOS'!$G$21=\"Guayas/Santa Elena\",'Tablas Guayaquil'!G925,'Tablas Resto de Ecuador'!G925)","v":797},{"$f":"IF('INGRESO DE DATOS'!$G$21=\"Guayas/Santa Elena\",'Tablas Guayaquil'!H925,'Tablas Resto de Ecuador'!H925)","v":476},{"$f":"IF('INGRESO DE DATOS'!$G$21=\"Guayas/Santa Elena\",'Tablas Guayaquil'!I925,'Tablas Resto de Ecuador'!I925)","v":288}]
[24,null,2759.75,2398.75,1891.4499999999998,1346.1499999999999,771.4,463.59999999999997,282.14999999999998,null,{"$f":"IF('INGRESO DE DATOS'!$G$21=\"Guayas/Santa Elena\",'Tablas Guayaquil'!C926,'Tablas Resto de Ecuador'!C926)","v":2905},{"$f":"IF('INGRESO DE DATOS'!$G$21=\"Guayas/Santa Elena\",'Tablas Guayaquil'!D926,'Tablas Resto de Ecuador'!D926)","v":2525},{"$f":"IF('INGRESO DE DATOS'!$G$21=\"Guayas/Santa Elena\",'Tablas Guayaquil'!E926,'Tablas Resto de Ecuador'!E926)","v":1991},{"$f":"IF('INGRESO DE DATOS'!$G$21=\"Guayas/Santa Elena\",'Tablas Guayaquil'!F926,'Tablas Resto de Ecuador'!F926)","v":1417},{"$f":"IF('INGRESO DE DATOS'!$G$21=\"Guayas/Santa Elena\",'Tablas Guayaquil'!G926,'Tablas Resto de Ecuador'!G926)","v":812},{"$f":"IF('INGRESO DE DATOS'!$G$21=\"Guayas/Santa Elena\",'Tablas Guayaquil'!H926,'Tablas Resto de Ecuador'!H926)","v":488},{"$f":"IF('INGRESO DE DATOS'!$G$21=\"Guayas/Santa Elena\",'Tablas Guayaquil'!I926,'Tablas Resto de Ecuador'!I926)","v":297}]
[25,null,2802.5,2439.6,1910.4499999999998,1364.2,785.65,474.04999999999995,290.7,null,{"$f":"IF('INGRESO DE DATOS'!$G$21=\"Guayas/Santa Elena\",'Tablas Guayaquil'!C927,'Tablas Resto de Ecuador'!C927)","v":2950},{"$f":"IF('INGRESO DE DATOS'!$G$21=\"Guayas/Santa Elena\",'Tablas Guayaquil'!D927,'Tablas Resto de Ecuador'!D927)","v":2568},{"$f":"IF('INGRESO DE DATOS'!$G$21=\"Guayas/Santa Elena\",'Tablas Guayaquil'!E927,'Tablas Resto de Ecuador'!E927)","v":2011},{"$f":"IF('INGRESO DE DATOS'!$G$21=\"Guayas/Santa Elena\",'Tablas Guayaquil'!F927,'Tablas Resto de Ecuador'!F927)","v":1436},{"$f":"IF('INGRESO DE DATOS'!$G$21=\"Guayas/Santa Elena\",'Tablas Guayaquil'!G927,'Tablas Resto de Ecuador'!G927)","v":827},{"$f":"IF('INGRESO DE DATOS'!$G$21=\"Guayas/Santa Elena\",'Tablas Guayaquil'!H927,'Tablas Resto de Ecuador'!H927)","v":499},{"$f":"IF('INGRESO DE DATOS'!$G$21=\"Guayas/Santa Elena\",'Tablas Guayaquil'!I927,'Tablas Resto de Ecuador'!I927)","v":306}]
[26,null,2847.15,2476.65,1934.1999999999998,1387,804.65,487.34999999999997,300.2,null,{"$f":"IF('INGRESO DE DATOS'!$G$21=\"Guayas/Santa Elena\",'Tablas Guayaquil'!C928,'Tablas Resto de Ecuador'!C928)","v":2997},{"$f":"IF('INGRESO DE DATOS'!$G$21=\"Guayas/Santa Elena\",'Tablas Guayaquil'!D928,'Tablas Resto de Ecuador'!D928)","v":2607},{"$f":"IF('INGRESO DE DATOS'!$G$21=\"Guayas/Santa Elena\",'Tablas Guayaquil'!E928,'Tablas Resto de Ecuador'!E928)","v":2036},{"$f":"IF('INGRESO DE DATOS'!$G$21=\"Guayas/Santa Elena\",'Tablas Guayaquil'!F928,'Tablas Resto de Ecuador'!F928)","v":1460},{"$f":"IF('INGRESO DE DATOS'!$G$21=\"Guayas/Santa Elena\",'Tablas Guayaquil'!G928,'Tablas Resto de Ecuador'!G928)","v":847},{"$f":"IF('INGRESO DE DATOS'!$G$21=\"Guayas/Santa Elena\",'Tablas Guayaquil'!H928,'Tablas Resto de Ecuador'!H928)","v":513},{"$f":"IF('INGRESO DE DATOS'!$G$21=\"Guayas/Santa Elena\",'Tablas Guayaquil'!I928,'Tablas Resto de Ecuador'!I928)","v":316}]
[27,null,2890.85,2513.6999999999998,1962.6999999999998,1413.6,823.65,503.5,312.55,null,{"$f":"IF('INGRESO DE DATOS'!$G$21=\"Guayas/Santa Elena\",'Tablas Guayaquil'!C929,'Tablas Resto de Ecuador'!C929)","v":3043},{"$f":"IF('INGRESO DE DATOS'!$G$21=\"Guayas/Santa Elena\",'Tablas Guayaquil'!D929,'Tablas Resto de Ecuador'!D929)","v":2646},{"$f":"IF('INGRESO DE DATOS'!$G$21=\"Guayas/Santa Elena\",'Tablas Guayaquil'!E929,'Tablas Resto de Ecuador'!E929)","v":2066},{"$f":"IF('INGRESO DE DATOS'!$G$21=\"Guayas/Santa Elena\",'Tablas Guayaquil'!F929,'Tablas Resto de Ecuador'!F929)","v":1488},{"$f":"IF('INGRESO DE DATOS'!$G$21=\"Guayas/Santa Elena\",'Tablas Guayaquil'!G929,'Tablas Resto de Ecuador'!G929)","v":867},{"$f":"IF('INGRESO DE DATOS'!$G$21=\"Guayas/Santa Elena\",'Tablas Guayaquil'!H929,'Tablas Resto de Ecuador'!H929)","v":530},{"$f":"IF('INGRESO DE DATOS'!$G$21=\"Guayas/Santa Elena\",'Tablas Guayaquil'!I929,'Tablas Resto de Ecuador'!I929)","v":329}]
[28,null,2945.95,2557.4,1996.8999999999999,1444,846.44999999999993,519.65,323.95,null,{"$f":"IF('INGRESO DE DATOS'!$G$21=\"Guayas/Santa Elena\",'Tablas Guayaquil'!C930,'Tablas Resto de Ecuador'!C930)","v":3101},{"$f":"IF('INGRESO DE DATOS'!$G$21=\"Guayas/Santa Elena\",'Tablas Guayaquil'!D930,'Tablas Resto de Ecuador'!D930)","v":2692},{"$f":"IF('INGRESO DE DATOS'!$G$21=\"Guayas/Santa Elena\",'Tablas Guayaquil'!E930,'Tablas Resto de Ecuador'!E930)","v":2102},{"$f":"IF('INGRESO DE DATOS'!$G$21=\"Guayas/Santa Elena\",'Tablas Guayaquil'!F930,'Tablas Resto de Ecuador'!F930)","v":1520},{"$f":"IF('INGRESO DE DATOS'!$G$21=\"Guayas/Santa Elena\",'Tablas Guayaquil'!G930,'Tablas Resto de Ecuador'!G930)","v":891},{"$f":"IF('INGRESO DE DATOS'!$G$21=\"Guayas/Santa Elena\",'Tablas Guayaquil'!H930,'Tablas Resto de Ecuador'!H930)","v":547},{"$f":"IF('INGRESO DE DATOS'!$G$21=\"Guayas/Santa Elena\",'Tablas Guayaquil'!I930,'Tablas Resto de Ecuador'!I930)","v":341}]
[29,null,2996.2999999999997,2608.6999999999998,2036.8,1478.1999999999998,872.09999999999991,535.79999999999995,337.25,null,{"$f":"IF('INGRESO DE DATOS'!$G$21=\"Guayas/Santa Elena\",'Tablas Guayaquil'!C931,'Tablas Resto de Ecuador'!C931)","v":3154},{"$f":"IF('INGRESO DE DATOS'!$G$21=\"Guayas/Santa Elena\",'Tablas Guayaquil'!D931,'Tablas Resto de Ecuador'!D931)","v":2746},{"$f":"IF('INGRESO DE DATOS'!$G$21=\"Guayas/Santa Elena\",'Tablas Guayaquil'!E931,'Tablas Resto de Ecuador'!E931)","v":2144},{"$f":"IF('INGRESO DE DATOS'!$G$21=\"Guayas/Santa Elena\",'Tablas Guayaquil'!F931,'Tablas Resto de Ecuador'!F931)","v":1556},{"$f":"IF('INGRESO DE DATOS'!$G$21=\"Guayas/Santa Elena\",'Tablas Guayaquil'!G931,'Tablas Resto de Ecuador'!G931)","v":918},{"$f":"IF('INGRESO DE DATOS'!$G$21=\"Guayas/Santa Elena\",'Tablas Guayaquil'!H931,'Tablas Resto de Ecuador'!H931)","v":564},{"$f":"IF('INGRESO DE DATOS'!$G$21=\"Guayas/Santa Elena\",'Tablas Guayaquil'!I931,'Tablas Resto de Ecuador'!I931)","v":355}]
[30,null,3047.6,2653.35,2083.35,1516.1999999999998,898.69999999999993,556.69999999999993,351.5,null,{"$f":"IF('INGRESO DE DATOS'!$G$21=\"Guayas/Santa Elena\",'Tablas Guayaquil'!C932,'Tablas Resto de Ecuador'!C932)","v":3208},{"$f":"IF('INGRESO DE DATOS'!$G$21=\"Guayas/Santa Elena\",'Tablas Guayaquil'!D932,'Tablas Resto de Ecuador'!D932)","v":2793},{"$f":"IF('INGRESO DE DATOS'!$G$21=\"Guayas/Santa Elena\",'Tablas Guayaquil'!E932,'Tablas Resto de Ecuador'!E932)","v":2193},{"$f":"IF('INGRESO DE DATOS'!$G$21=\"Guayas/Santa Elena\",'Tablas Guayaquil'!F932,'Tablas Resto de Ecuador'!F932)","v":1596},{"$f":"IF('INGRESO DE DATOS'!$G$21=\"Guayas/Santa Elena\",'Tablas Guayaquil'!G932,'Tablas Resto de Ecuador'!G932)","v":946},{"$f":"IF('INGRESO DE DATOS'!$G$21=\"Guayas/Santa Elena\",'Tablas Guayaquil'!H932,'Tablas Resto de Ecuador'!H932)","v":586},{"$f":"IF('INGRESO DE DATOS'!$G$21=\"Guayas/Santa Elena\",'Tablas Guayaquil'!I932,'Tablas Resto de Ecuador'!I932)","v":370}]
[31,null,3099.85,2698,2133.6999999999998,1558.9499999999998,928.15,578.54999999999995,366.7,null,{"$f":"IF('INGRESO DE DATOS'!$G$21=\"Guayas/Santa Elena\",'Tablas Guayaquil'!C933,'Tablas Resto de Ecuador'!C933)","v":3263},{"$f":"IF('INGRESO DE DATOS'!$G$21=\"Guayas/Santa Elena\",'Tablas Guayaquil'!D933,'Tablas Resto de Ecuador'!D933)","v":2840},{"$f":"IF('INGRESO DE DATOS'!$G$21=\"Guayas/Santa Elena\",'Tablas Guayaquil'!E933,'Tablas Resto de Ecuador'!E933)","v":2246},{"$f":"IF('INGRESO DE DATOS'!$G$21=\"Guayas/Santa Elena\",'Tablas Guayaquil'!F933,'Tablas Resto de Ecuador'!F933)","v":1641},{"$f":"IF('INGRESO DE DATOS'!$G$21=\"Guayas/Santa Elena\",'Tablas Guayaquil'!G933,'Tablas Resto de Ecuador'!G933)","v":977},{"$f":"IF('INGRESO DE DATOS'!$G$21=\"Guayas/Santa Elena\",'Tablas Guayaquil'!H933,'Tablas Resto de Ecuador'!H933)","v":609},{"$f":"IF('INGRESO DE DATOS'!$G$21=\"Guayas/Santa Elena\",'Tablas Guayaquil'!I933,'Tablas Resto de Ecuador'!I933)","v":386}]
[32,null,3153.0499999999997,2738.85,2190.6999999999998,1606.4499999999998,962.34999999999991,600.4,383.79999999999995,null,{"$f":"IF('INGRESO DE DATOS'!$G$21=\"Guayas/Santa Elena\",'Tablas Guayaquil'!C934,'Tablas Resto de Ecuador'!C934)","v":3319},{"$f":"IF('INGRESO DE DATOS'!$G$21=\"Guayas/Santa Elena\",'Tablas Guayaquil'!D934,'Tablas Resto de Ecuador'!D934)","v":2883},{"$f":"IF('INGRESO DE DATOS'!$G$21=\"Guayas/Santa Elena\",'Tablas Guayaquil'!E934,'Tablas Resto de Ecuador'!E934)","v":2306},{"$f":"IF('INGRESO DE DATOS'!$G$21=\"Guayas/Santa Elena\",'Tablas Guayaquil'!F934,'Tablas Resto de Ecuador'!F934)","v":1691},{"$f":"IF('INGRESO DE DATOS'!$G$21=\"Guayas/Santa Elena\",'Tablas Guayaquil'!G934,'Tablas Resto de Ecuador'!G934)","v":1013},{"$f":"IF('INGRESO DE DATOS'!$G$21=\"Guayas/Santa Elena\",'Tablas Guayaquil'!H934,'Tablas Resto de Ecuador'!H934)","v":632},{"$f":"IF('INGRESO DE DATOS'!$G$21=\"Guayas/Santa Elena\",'Tablas Guayaquil'!I934,'Tablas Resto de Ecuador'!I934)","v":404}]
[33,null,3238.5499999999997,2817.7,2255.2999999999997,1659.6499999999999,998.44999999999993,627,402.79999999999995,null,{"$f":"IF('INGRESO DE DATOS'!$G$21=\"Guayas/Santa Elena\",'Tablas Guayaquil'!C935,'Tablas Resto de Ecuador'!C935)","v":3409},{"$f":"IF('INGRESO DE DATOS'!$G$21=\"Guayas/Santa Elena\",'Tablas Guayaquil'!D935,'Tablas Resto de Ecuador'!D935)","v":2966},{"$f":"IF('INGRESO DE DATOS'!$G$21=\"Guayas/Santa Elena\",'Tablas Guayaquil'!E935,'Tablas Resto de Ecuador'!E935)","v":2374},{"$f":"IF('INGRESO DE DATOS'!$G$21=\"Guayas/Santa Elena\",'Tablas Guayaquil'!F935,'Tablas Resto de Ecuador'!F935)","v":1747},{"$f":"IF('INGRESO DE DATOS'!$G$21=\"Guayas/Santa Elena\",'Tablas Guayaquil'!G935,'Tablas Resto de Ecuador'!G935)","v":1051},{"$f":"IF('INGRESO DE DATOS'!$G$21=\"Guayas/Santa Elena\",'Tablas Guayaquil'!H935,'Tablas Resto de Ecuador'!H935)","v":660},{"$f":"IF('INGRESO DE DATOS'!$G$21=\"Guayas/Santa Elena\",'Tablas Guayaquil'!I935,'Tablas Resto de Ecuador'!I935)","v":424}]
[34,null,3325,2890.85,2326.5499999999997,1717.6,1039.3,655.5,422.75,null,{"$f":"IF('INGRESO DE DATOS'!$G$21=\"Guayas/Santa Elena\",'Tablas Guayaquil'!C936,'Tablas Resto de Ecuador'!C936)","v":3500},{"$f":"IF('INGRESO DE DATOS'!$G$21=\"Guayas/Santa Elena\",'Tablas Guayaquil'!D936,'Tablas Resto de Ecuador'!D936)","v":3043},{"$f":"IF('INGRESO DE DATOS'!$G$21=\"Guayas/Santa Elena\",'Tablas Guayaquil'!E936,'Tablas Resto de Ecuador'!E936)","v":2449},{"$f":"IF('INGRESO DE DATOS'!$G$21=\"Guayas/Santa Elena\",'Tablas Guayaquil'!F936,'Tablas Resto de Ecuador'!F936)","v":1808},{"$f":"IF('INGRESO DE DATOS'!$G$21=\"Guayas/Santa Elena\",'Tablas Guayaquil'!G936,'Tablas Resto de Ecuador'!G936)","v":1094},{"$f":"IF('INGRESO DE DATOS'!$G$21=\"Guayas/Santa Elena\",'Tablas Guayaquil'!H936,'Tablas Resto de Ecuador'!H936)","v":690},{"$f":"IF('INGRESO DE DATOS'!$G$21=\"Guayas/Santa Elena\",'Tablas Guayaquil'!I936,'Tablas Resto de Ecuador'!I936)","v":445}]
[35,null,3410.5,2965.8999999999996,2404.4499999999998,1780.3,1082.05,684.94999999999993,444.59999999999997,null,{"$f":"IF('INGRESO DE DATOS'!$G$21=\"Guayas/Santa Elena\",'Tablas Guayaquil'!C937,'Tablas Resto de Ecuador'!C937)","v":3590},{"$f":"IF('INGRESO DE DATOS'!$G$21=\"Guayas/Santa Elena\",'Tablas Guayaquil'!D937,'Tablas Resto de Ecuador'!D937)","v":3122},{"$f":"IF('INGRESO DE DATOS'!$G$21=\"Guayas/Santa Elena\",'Tablas Guayaquil'!E937,'Tablas Resto de Ecuador'!E937)","v":2531},{"$f":"IF('INGRESO DE DATOS'!$G$21=\"Guayas/Santa Elena\",'Tablas Guayaquil'!F937,'Tablas Resto de Ecuador'!F937)","v":1874},{"$f":"IF('INGRESO DE DATOS'!$G$21=\"Guayas/Santa Elena\",'Tablas Guayaquil'!G937,'Tablas Resto de Ecuador'!G937)","v":1139},{"$f":"IF('INGRESO DE DATOS'!$G$21=\"Guayas/Santa Elena\",'Tablas Guayaquil'!H937,'Tablas Resto de Ecuador'!H937)","v":721},{"$f":"IF('INGRESO DE DATOS'!$G$21=\"Guayas/Santa Elena\",'Tablas Guayaquil'!I937,'Tablas Resto de Ecuador'!I937)","v":468}]
[36,null,3496,3041.8999999999996,2489.9499999999998,1848.6999999999998,1129.55,718.19999999999993,469.29999999999995,null,{"$f":"IF('INGRESO DE DATOS'!$G$21=\"Guayas/Santa Elena\",'Tablas Guayaquil'!C938,'Tablas Resto de Ecuador'!C938)","v":3680},{"$f":"IF('INGRESO DE DATOS'!$G$21=\"Guayas/Santa Elena\",'Tablas Guayaquil'!D938,'Tablas Resto de Ecuador'!D938)","v":3202},{"$f":"IF('INGRESO DE DATOS'!$G$21=\"Guayas/Santa Elena\",'Tablas Guayaquil'!E938,'Tablas Resto de Ecuador'!E938)","v":2621},{"$f":"IF('INGRESO DE DATOS'!$G$21=\"Guayas/Santa Elena\",'Tablas Guayaquil'!F938,'Tablas Resto de Ecuador'!F938)","v":1946},{"$f":"IF('INGRESO DE DATOS'!$G$21=\"Guayas/Santa Elena\",'Tablas Guayaquil'!G938,'Tablas Resto de Ecuador'!G938)","v":1189},{"$f":"IF('INGRESO DE DATOS'!$G$21=\"Guayas/Santa Elena\",'Tablas Guayaquil'!H938,'Tablas Resto de Ecuador'!H938)","v":756},{"$f":"IF('INGRESO DE DATOS'!$G$21=\"Guayas/Santa Elena\",'Tablas Guayaquil'!I938,'Tablas Resto de Ecuador'!I938)","v":494}]
[37,null,3584.35,3117.8999999999996,2584,1923.75,1181.8,754.3,494.95,null,{"$f":"IF('INGRESO DE DATOS'!$G$21=\"Guayas/Santa Elena\",'Tablas Guayaquil'!C939,'Tablas Resto de Ecuador'!C939)","v":3773},{"$f":"IF('INGRESO DE DATOS'!$G$21=\"Guayas/Santa Elena\",'Tablas Guayaquil'!D939,'Tablas Resto de Ecuador'!D939)","v":3282},{"$f":"IF('INGRESO DE DATOS'!$G$21=\"Guayas/Santa Elena\",'Tablas Guayaquil'!E939,'Tablas Resto de Ecuador'!E939)","v":2720},{"$f":"IF('INGRESO DE DATOS'!$G$21=\"Guayas/Santa Elena\",'Tablas Guayaquil'!F939,'Tablas Resto de Ecuador'!F939)","v":2025},{"$f":"IF('INGRESO DE DATOS'!$G$21=\"Guayas/Santa Elena\",'Tablas Guayaquil'!G939,'Tablas Resto de Ecuador'!G939)","v":1244},{"$f":"IF('INGRESO DE DATOS'!$G$21=\"Guayas/Santa Elena\",'Tablas Guayaquil'!H939,'Tablas Resto de Ecuador'!H939)","v":794},{"$f":"IF('INGRESO DE DATOS'!$G$21=\"Guayas/Santa Elena\",'Tablas Guayaquil'!I939,'Tablas Resto de Ecuador'!I939)","v":521}]
[38,null,3673.6499999999996,3195.7999999999997,2687.5499999999997,2007.35,1237.8499999999999,793.25,524.4,null,{"$f":"IF('INGRESO DE DATOS'!$G$21=\"Guayas/Santa Elena\",'Tablas Guayaquil'!C940,'Tablas Resto de Ecuador'!C940)","v":3867},{"$f":"IF('INGRESO DE DATOS'!$G$21=\"Guayas/Santa Elena\",'Tablas Guayaquil'!D940,'Tablas Resto de Ecuador'!D940)","v":3364},{"$f":"IF('INGRESO DE DATOS'!$G$21=\"Guayas/Santa Elena\",'Tablas Guayaquil'!E940,'Tablas Resto de Ecuador'!E940)","v":2829},{"$f":"IF('INGRESO DE DATOS'!$G$21=\"Guayas/Santa Elena\",'Tablas Guayaquil'!F940,'Tablas Resto de Ecuador'!F940)","v":2113},{"$f":"IF('INGRESO DE DATOS'!$G$21=\"Guayas/Santa Elena\",'Tablas Guayaquil'!G940,'Tablas Resto de Ecuador'!G940)","v":1303},{"$f":"IF('INGRESO DE DATOS'!$G$21=\"Guayas/Santa Elena\",'Tablas Guayaquil'!H940,'Tablas Resto de Ecuador'!H940)","v":835},{"$f":"IF('INGRESO DE DATOS'!$G$21=\"Guayas/Santa Elena\",'Tablas Guayaquil'!I940,'Tablas Resto de Ecuador'!I940)","v":552}]
[39,null,3762,3268.95,2798.7,2096.65,1298.6499999999999,836.94999999999993,555.75,null,{"$f":"IF('INGRESO DE DATOS'!$G$21=\"Guayas/Santa Elena\",'Tablas Guayaquil'!C941,'Tablas Resto de Ecuador'!C941)","v":3960},{"$f":"IF('INGRESO DE DATOS'!$G$21=\"Guayas/Santa Elena\",'Tablas Guayaquil'!D941,'Tablas Resto de Ecuador'!D941)","v":3441},{"$f":"IF('INGRESO DE DATOS'!$G$21=\"Guayas/Santa Elena\",'Tablas Guayaquil'!E941,'Tablas Resto de Ecuador'!E941)","v":2946},{"$f":"IF('INGRESO DE DATOS'!$G$21=\"Guayas/Santa Elena\",'Tablas Guayaquil'!F941,'Tablas Resto de Ecuador'!F941)","v":2207},{"$f":"IF('INGRESO DE DATOS'!$G$21=\"Guayas/Santa Elena\",'Tablas Guayaquil'!G941,'Tablas Resto de Ecuador'!G941)","v":1367},{"$f":"IF('INGRESO DE DATOS'!$G$21=\"Guayas/Santa Elena\",'Tablas Guayaquil'!H941,'Tablas Resto de Ecuador'!H941)","v":881},{"$f":"IF('INGRESO DE DATOS'!$G$21=\"Guayas/Santa Elena\",'Tablas Guayaquil'!I941,'Tablas Resto de Ecuador'!I941)","v":585}]
[40,null,3848.45,3344.95,2918.3999999999996,2193.5499999999997,1365.1499999999999,882.55,589,null,{"$f":"IF('INGRESO DE DATOS'!$G$21=\"Guayas/Santa Elena\",'Tablas Guayaquil'!C942,'Tablas Resto de Ecuador'!C942)","v":4051},{"$f":"IF('INGRESO DE DATOS'!$G$21=\"Guayas/Santa Elena\",'Tablas Guayaquil'!D942,'Tablas Resto de Ecuador'!D942)","v":3521},{"$f":"IF('INGRESO DE DATOS'!$G$21=\"Guayas/Santa Elena\",'Tablas Guayaquil'!E942,'Tablas Resto de Ecuador'!E942)","v":3072},{"$f":"IF('INGRESO DE DATOS'!$G$21=\"Guayas/Santa Elena\",'Tablas Guayaquil'!F942,'Tablas Resto de Ecuador'!F942)","v":2309},{"$f":"IF('INGRESO DE DATOS'!$G$21=\"Guayas/Santa Elena\",'Tablas Guayaquil'!G942,'Tablas Resto de Ecuador'!G942)","v":1437},{"$f":"IF('INGRESO DE DATOS'!$G$21=\"Guayas/Santa Elena\",'Tablas Guayaquil'!H942,'Tablas Resto de Ecuador'!H942)","v":929},{"$f":"IF('INGRESO DE DATOS'!$G$21=\"Guayas/Santa Elena\",'Tablas Guayaquil'!I942,'Tablas Resto de Ecuador'!I942)","v":620}]
[41,null,3934.8999999999996,3424.75,3051.3999999999996,2299,1436.3999999999999,932.9,625.1,null,{"$f":"IF('INGRESO DE DATOS'!$G$21=\"Guayas/Santa Elena\",'Tablas Guayaquil'!C943,'Tablas Resto de Ecuador'!C943)","v":4142},{"$f":"IF('INGRESO DE DATOS'!$G$21=\"Guayas/Santa Elena\",'Tablas Guayaquil'!D943,'Tablas Resto de Ecuador'!D943)","v":3605},{"$f":"IF('INGRESO DE DATOS'!$G$21=\"Guayas/Santa Elena\",'Tablas Guayaquil'!E943,'Tablas Resto de Ecuador'!E943)","v":3212},{"$f":"IF('INGRESO DE DATOS'!$G$21=\"Guayas/Santa Elena\",'Tablas Guayaquil'!F943,'Tablas Resto de Ecuador'!F943)","v":2420},{"$f":"IF('INGRESO DE DATOS'!$G$21=\"Guayas/Santa Elena\",'Tablas Guayaquil'!G943,'Tablas Resto de Ecuador'!G943)","v":1512},{"$f":"IF('INGRESO DE DATOS'!$G$21=\"Guayas/Santa Elena\",'Tablas Guayaquil'!H943,'Tablas Resto de Ecuador'!H943)","v":982},{"$f":"IF('INGRESO DE DATOS'!$G$21=\"Guayas/Santa Elena\",'Tablas Guayaquil'!I943,'Tablas Resto de Ecuador'!I943)","v":658}]
[42,null,4026.1,3497.8999999999996,3192,2413.9499999999998,1514.3,987.05,665,null,{"$f":"IF('INGRESO DE DATOS'!$G$21=\"Guayas/Santa Elena\",'Tablas Guayaquil'!C944,'Tablas Resto de Ecuador'!C944)","v":4238},{"$f":"IF('INGRESO DE DATOS'!$G$21=\"Guayas/Santa Elena\",'Tablas Guayaquil'!D944,'Tablas Resto de Ecuador'!D944)","v":3682},{"$f":"IF('INGRESO DE DATOS'!$G$21=\"Guayas/Santa Elena\",'Tablas Guayaquil'!E944,'Tablas Resto de Ecuador'!E944)","v":3360},{"$f":"IF('INGRESO DE DATOS'!$G$21=\"Guayas/Santa Elena\",'Tablas Guayaquil'!F944,'Tablas Resto de Ecuador'!F944)","v":2541},{"$f":"IF('INGRESO DE DATOS'!$G$21=\"Guayas/Santa Elena\",'Tablas Guayaquil'!G944,'Tablas Resto de Ecuador'!G944)","v":1594},{"$f":"IF('INGRESO DE DATOS'!$G$21=\"Guayas/Santa Elena\",'Tablas Guayaquil'!H944,'Tablas Resto de Ecuador'!H944)","v":1039},{"$f":"IF('INGRESO DE DATOS'!$G$21=\"Guayas/Santa Elena\",'Tablas Guayaquil'!I944,'Tablas Resto de Ecuador'!I944)","v":700}]
[43,null,4182.8499999999995,3638.5,3320.25,2536.5,1597.8999999999999,1046.8999999999999,709.65,null,{"$f":"IF('INGRESO DE DATOS'!$G$21=\"Guayas/Santa Elena\",'Tablas Guayaquil'!C945,'Tablas Resto de Ecuador'!C945)","v":4403},{"$f":"IF('INGRESO DE DATOS'!$G$21=\"Guayas/Santa Elena\",'Tablas Guayaquil'!D945,'Tablas Resto de Ecuador'!D945)","v":3830},{"$f":"IF('INGRESO DE DATOS'!$G$21=\"Guayas/Santa Elena\",'Tablas Guayaquil'!E945,'Tablas Resto de Ecuador'!E945)","v":3495},{"$f":"IF('INGRESO DE DATOS'!$G$21=\"Guayas/Santa Elena\",'Tablas Guayaquil'!F945,'Tablas Resto de Ecuador'!F945)","v":2670},{"$f":"IF('INGRESO DE DATOS'!$G$21=\"Guayas/Santa Elena\",'Tablas Guayaquil'!G945,'Tablas Resto de Ecuador'!G945)","v":1682},{"$f":"IF('INGRESO DE DATOS'!$G$21=\"Guayas/Santa Elena\",'Tablas Guayaquil'!H945,'Tablas Resto de Ecuador'!H945)","v":1102},{"$f":"IF('INGRESO DE DATOS'!$G$21=\"Guayas/Santa Elena\",'Tablas Guayaquil'!I945,'Tablas Resto de Ecuador'!I945)","v":747}]
[44,null,4344.3499999999995,3779.1,3446.6,2671.4,1690.05,1110.55,756.19999999999993,null,{"$f":"IF('INGRESO DE DATOS'!$G$21=\"Guayas/Santa Elena\",'Tablas Guayaquil'!C946,'Tablas Resto de Ecuador'!C946)","v":4573},{"$f":"IF('INGRESO DE DATOS'!$G$21=\"Guayas/Santa Elena\",'Tablas Guayaquil'!D946,'Tablas Resto de Ecuador'!D946)","v":3978},{"$f":"IF('INGRESO DE DATOS'!$G$21=\"Guayas/Santa Elena\",'Tablas Guayaquil'!E946,'Tablas Resto de Ecuador'!E946)","v":3628},{"$f":"IF('INGRESO DE DATOS'!$G$21=\"Guayas/Santa Elena\",'Tablas Guayaquil'!F946,'Tablas Resto de Ecuador'!F946)","v":2812},{"$f":"IF('INGRESO DE DATOS'!$G$21=\"Guayas/Santa Elena\",'Tablas Guayaquil'!G946,'Tablas Resto de Ecuador'!G946)","v":1779},{"$f":"IF('INGRESO DE DATOS'!$G$21=\"Guayas/Santa Elena\",'Tablas Guayaquil'!H946,'Tablas Resto de Ecuador'!H946)","v":1169},{"$f":"IF('INGRESO DE DATOS'!$G$21=\"Guayas/Santa Elena\",'Tablas Guayaquil'!I946,'Tablas Resto de Ecuador'!I946)","v":796}]
[45,null,4503,3915.8999999999996,3570.1,2815.7999999999997,1788.85,1178.95,807.5,null,{"$f":"IF('INGRESO DE DATOS'!$G$21=\"Guayas/Santa Elena\",'Tablas Guayaquil'!C947,'Tablas Resto de Ecuador'!C947)","v":4740},{"$f":"IF('INGRESO DE DATOS'!$G$21=\"Guayas/Santa Elena\",'Tablas Guayaquil'!D947,'Tablas Resto de Ecuador'!D947)","v":4122},{"$f":"IF('INGRESO DE DATOS'!$G$21=\"Guayas/Santa Elena\",'Tablas Guayaquil'!E947,'Tablas Resto de Ecuador'!E947)","v":3758},{"$f":"IF('INGRESO DE DATOS'!$G$21=\"Guayas/Santa Elena\",'Tablas Guayaquil'!F947,'Tablas Resto de Ecuador'!F947)","v":2964},{"$f":"IF('INGRESO DE DATOS'!$G$21=\"Guayas/Santa Elena\",'Tablas Guayaquil'!G947,'Tablas Resto de Ecuador'!G947)","v":1883},{"$f":"IF('INGRESO DE DATOS'!$G$21=\"Guayas/Santa Elena\",'Tablas Guayaquil'!H947,'Tablas Resto de Ecuador'!H947)","v":1241},{"$f":"IF('INGRESO DE DATOS'!$G$21=\"Guayas/Santa Elena\",'Tablas Guayaquil'!I947,'Tablas Resto de Ecuador'!I947)","v":850}]
[46,null,4662.5999999999995,4054.6,3699.2999999999997,2970.6499999999996,1895.25,1254.95,864.5,null,{"$f":"IF('INGRESO DE DATOS'!$G$21=\"Guayas/Santa Elena\",'Tablas Guayaquil'!C948,'Tablas Resto de Ecuador'!C948)","v":4908},{"$f":"IF('INGRESO DE DATOS'!$G$21=\"Guayas/Santa Elena\",'Tablas Guayaquil'!D948,'Tablas Resto de Ecuador'!D948)","v":4268},{"$f":"IF('INGRESO DE DATOS'!$G$21=\"Guayas/Santa Elena\",'Tablas Guayaquil'!E948,'Tablas Resto de Ecuador'!E948)","v":3894},{"$f":"IF('INGRESO DE DATOS'!$G$21=\"Guayas/Santa Elena\",'Tablas Guayaquil'!F948,'Tablas Resto de Ecuador'!F948)","v":3127},{"$f":"IF('INGRESO DE DATOS'!$G$21=\"Guayas/Santa Elena\",'Tablas Guayaquil'!G948,'Tablas Resto de Ecuador'!G948)","v":1995},{"$f":"IF('INGRESO DE DATOS'!$G$21=\"Guayas/Santa Elena\",'Tablas Guayaquil'!H948,'Tablas Resto de Ecuador'!H948)","v":1321},{"$f":"IF('INGRESO DE DATOS'!$G$21=\"Guayas/Santa Elena\",'Tablas Guayaquil'!I948,'Tablas Resto de Ecuador'!I948)","v":910}]
[47,null,4825.05,4194.25,3823.75,3139.75,2011.1499999999999,1336.6499999999999,923.4,null,{"$f":"IF('INGRESO DE DATOS'!$G$21=\"Guayas/Santa Elena\",'Tablas Guayaquil'!C949,'Tablas Resto de Ecuador'!C949)","v":5079},{"$f":"IF('INGRESO DE DATOS'!$G$21=\"Guayas/Santa Elena\",'Tablas Guayaquil'!D949,'Tablas Resto de Ecuador'!D949)","v":4415},{"$f":"IF('INGRESO DE DATOS'!$G$21=\"Guayas/Santa Elena\",'Tablas Guayaquil'!E949,'Tablas Resto de Ecuador'!E949)","v":4025},{"$f":"IF('INGRESO DE DATOS'!$G$21=\"Guayas/Santa Elena\",'Tablas Guayaquil'!F949,'Tablas Resto de Ecuador'!F949)","v":3305},{"$f":"IF('INGRESO DE DATOS'!$G$21=\"Guayas/Santa Elena\",'Tablas Guayaquil'!G949,'Tablas Resto de Ecuador'!G949)","v":2117},{"$f":"IF('INGRESO DE DATOS'!$G$21=\"Guayas/Santa Elena\",'Tablas Guayaquil'!H949,'Tablas Resto de Ecuador'!H949)","v":1407},{"$f":"IF('INGRESO DE DATOS'!$G$21=\"Guayas/Santa Elena\",'Tablas Guayaquil'!I949,'Tablas Resto de Ecuador'!I949)","v":972}]
[48,null,4996.05,4341.5,3957.7,3320.25,2136.5499999999997,1425.95,989.9,null,{"$f":"IF('INGRESO DE DATOS'!$G$21=\"Guayas/Santa Elena\",'Tablas Guayaquil'!C950,'Tablas Resto de Ecuador'!C950)","v":5259},{"$f":"IF('INGRESO DE DATOS'!$G$21=\"Guayas/Santa Elena\",'Tablas Guayaquil'!D950,'Tablas Resto de Ecuador'!D950)","v":4570},{"$f":"IF('INGRESO DE DATOS'!$G$21=\"Guayas/Santa Elena\",'Tablas Guayaquil'!E950,'Tablas Resto de Ecuador'!E950)","v":4166},{"$f":"IF('INGRESO DE DATOS'!$G$21=\"Guayas/Santa Elena\",'Tablas Guayaquil'!F950,'Tablas Resto de Ecuador'!F950)","v":3495},{"$f":"IF('INGRESO DE DATOS'!$G$21=\"Guayas/Santa Elena\",'Tablas Guayaquil'!G950,'Tablas Resto de Ecuador'!G950)","v":2249},{"$f":"IF('INGRESO DE DATOS'!$G$21=\"Guayas/Santa Elena\",'Tablas Guayaquil'!H950,'Tablas Resto de Ecuador'!H950)","v":1501},{"$f":"IF('INGRESO DE DATOS'!$G$21=\"Guayas/Santa Elena\",'Tablas Guayaquil'!I950,'Tablas Resto de Ecuador'!I950)","v":1042}]
[49,null,5163.25,4490.6499999999996,4095.45,3515.95,2271.4499999999998,1520.9499999999998,1062.0999999999999,null,{"$f":"IF('INGRESO DE DATOS'!$G$21=\"Guayas/Santa Elena\",'Tablas Guayaquil'!C951,'Tablas Resto de Ecuador'!C951)","v":5435},{"$f":"IF('INGRESO DE DATOS'!$G$21=\"Guayas/Santa Elena\",'Tablas Guayaquil'!D951,'Tablas Resto de Ecuador'!D951)","v":4727},{"$f":"IF('INGRESO DE DATOS'!$G$21=\"Guayas/Santa Elena\",'Tablas Guayaquil'!E951,'Tablas Resto de Ecuador'!E951)","v":4311},{"$f":"IF('INGRESO DE DATOS'!$G$21=\"Guayas/Santa Elena\",'Tablas Guayaquil'!F951,'Tablas Resto de Ecuador'!F951)","v":3701},{"$f":"IF('INGRESO DE DATOS'!$G$21=\"Guayas/Santa Elena\",'Tablas Guayaquil'!G951,'Tablas Resto de Ecuador'!G951)","v":2391},{"$f":"IF('INGRESO DE DATOS'!$G$21=\"Guayas/Santa Elena\",'Tablas Guayaquil'!H951,'Tablas Resto de Ecuador'!H951)","v":1601},{"$f":"IF('INGRESO DE DATOS'!$G$21=\"Guayas/Santa Elena\",'Tablas Guayaquil'!I951,'Tablas Resto de Ecuador'!I951)","v":1118}]
[50,null,5332.3499999999995,4637.8999999999996,4226.55,3682.2,2429.15,1549.4499999999998,1145.7,null,{"$f":"IF('INGRESO DE DATOS'!$G$21=\"Guayas/Santa Elena\",'Tablas Guayaquil'!C952,'Tablas Resto de Ecuador'!C952)","v":5613},{"$f":"IF('INGRESO DE DATOS'!$G$21=\"Guayas/Santa Elena\",'Tablas Guayaquil'!D952,'Tablas Resto de Ecuador'!D952)","v":4882},{"$f":"IF('INGRESO DE DATOS'!$G$21=\"Guayas/Santa Elena\",'Tablas Guayaquil'!E952,'Tablas Resto de Ecuador'!E952)","v":4449},{"$f":"IF('INGRESO DE DATOS'!$G$21=\"Guayas/Santa Elena\",'Tablas Guayaquil'!F952,'Tablas Resto de Ecuador'!F952)","v":3876},{"$f":"IF('INGRESO DE DATOS'!$G$21=\"Guayas/Santa Elena\",'Tablas Guayaquil'!G952,'Tablas Resto de Ecuador'!G952)","v":2557},{"$f":"IF('INGRESO DE DATOS'!$G$21=\"Guayas/Santa Elena\",'Tablas Guayaquil'!H952,'Tablas Resto de Ecuador'!H952)","v":1631},{"$f":"IF('INGRESO DE DATOS'!$G$21=\"Guayas/Santa Elena\",'Tablas Guayaquil'!I952,'Tablas Resto de Ecuador'!I952)","v":1206}]
[51,null,5499.55,4783.25,4361.45,3805.7,2620.1,1679.6,1247.3499999999999,null,{"$f":"IF('INGRESO DE DATOS'!$G$21=\"Guayas/Santa Elena\",'Tablas Guayaquil'!C953,'Tablas Resto de Ecuador'!C953)","v":5789},{"$f":"IF('INGRESO DE DATOS'!$G$21=\"Guayas/Santa Elena\",'Tablas Guayaquil'!D953,'Tablas Resto de Ecuador'!D953)","v":5035},{"$f":"IF('INGRESO DE DATOS'!$G$21=\"Guayas/Santa Elena\",'Tablas Guayaquil'!E953,'Tablas Resto de Ecuador'!E953)","v":4591},{"$f":"IF('INGRESO DE DATOS'!$G$21=\"Guayas/Santa Elena\",'Tablas Guayaquil'!F953,'Tablas Resto de Ecuador'!F953)","v":4006},{"$f":"IF('INGRESO DE DATOS'!$G$21=\"Guayas/Santa Elena\",'Tablas Guayaquil'!G953,'Tablas Resto de Ecuador'!G953)","v":2758},{"$f":"IF('INGRESO DE DATOS'!$G$21=\"Guayas/Santa Elena\",'Tablas Guayaquil'!H953,'Tablas Resto de Ecuador'!H953)","v":1768},{"$f":"IF('INGRESO DE DATOS'!$G$21=\"Guayas/Santa Elena\",'Tablas Guayaquil'!I953,'Tablas Resto de Ecuador'!I953)","v":1313}]
[52,null,5669.5999999999995,4930.5,4497.3,3932.0499999999997,2746.45,1818.3,1356.6,null,{"$f":"IF('INGRESO DE DATOS'!$G$21=\"Guayas/Santa Elena\",'Tablas Guayaquil'!C954,'Tablas Resto de Ecuador'!C954)","v":5968},{"$f":"IF('INGRESO DE DATOS'!$G$21=\"Guayas/Santa Elena\",'Tablas Guayaquil'!D954,'Tablas Resto de Ecuador'!D954)","v":5190},{"$f":"IF('INGRESO DE DATOS'!$G$21=\"Guayas/Santa Elena\",'Tablas Guayaquil'!E954,'Tablas Resto de Ecuador'!E954)","v":4734},{"$f":"IF('INGRESO DE DATOS'!$G$21=\"Guayas/Santa Elena\",'Tablas Guayaquil'!F954,'Tablas Resto de Ecuador'!F954)","v":4139},{"$f":"IF('INGRESO DE DATOS'!$G$21=\"Guayas/Santa Elena\",'Tablas Guayaquil'!G954,'Tablas Resto de Ecuador'!G954)","v":2891},{"$f":"IF('INGRESO DE DATOS'!$G$21=\"Guayas/Santa Elena\",'Tablas Guayaquil'!H954,'Tablas Resto de Ecuador'!H954)","v":1914},{"$f":"IF('INGRESO DE DATOS'!$G$21=\"Guayas/Santa Elena\",'Tablas Guayaquil'!I954,'Tablas Resto de Ecuador'!I954)","v":1428}]
[53,null,5869.0999999999995,5104.3499999999995,4655.95,4085.95,2846.2,1895.25,1476.3,null,{"$f":"IF('INGRESO DE DATOS'!$G$21=\"Guayas/Santa Elena\",'Tablas Guayaquil'!C955,'Tablas Resto de Ecuador'!C955)","v":6178},{"$f":"IF('INGRESO DE DATOS'!$G$21=\"Guayas/Santa Elena\",'Tablas Guayaquil'!D955,'Tablas Resto de Ecuador'!D955)","v":5373},{"$f":"IF('INGRESO DE DATOS'!$G$21=\"Guayas/Santa Elena\",'Tablas Guayaquil'!E955,'Tablas Resto de Ecuador'!E955)","v":4901},{"$f":"IF('INGRESO DE DATOS'!$G$21=\"Guayas/Santa Elena\",'Tablas Guayaquil'!F955,'Tablas Resto de Ecuador'!F955)","v":4301},{"$f":"IF('INGRESO DE DATOS'!$G$21=\"Guayas/Santa Elena\",'Tablas Guayaquil'!G955,'Tablas Resto de Ecuador'!G955)","v":2996},{"$f":"IF('INGRESO DE DATOS'!$G$21=\"Guayas/Santa Elena\",'Tablas Guayaquil'!H955,'Tablas Resto de Ecuador'!H955)","v":1995},{"$f":"IF('INGRESO DE DATOS'!$G$21=\"Guayas/Santa Elena\",'Tablas Guayaquil'!I955,'Tablas Resto de Ecuador'!I955)","v":1554}]
[54,null,6070.5,5278.2,4814.5999999999995,4235.0999999999995,2946.8999999999996,2049.15,1602.6499999999999,null,{"$f":"IF('INGRESO DE DATOS'!$G$21=\"Guayas/Santa Elena\",'Tablas Guayaquil'!C956,'Tablas Resto de Ecuador'!C956)","v":6390},{"$f":"IF('INGRESO DE DATOS'!$G$21=\"Guayas/Santa Elena\",'Tablas Guayaquil'!D956,'Tablas Resto de Ecuador'!D956)","v":5556},{"$f":"IF('INGRESO DE DATOS'!$G$21=\"Guayas/Santa Elena\",'Tablas Guayaquil'!E956,'Tablas Resto de Ecuador'!E956)","v":5068},{"$f":"IF('INGRESO DE DATOS'!$G$21=\"Guayas/Santa Elena\",'Tablas Guayaquil'!F956,'Tablas Resto de Ecuador'!F956)","v":4458},{"$f":"IF('INGRESO DE DATOS'!$G$21=\"Guayas/Santa Elena\",'Tablas Guayaquil'!G956,'Tablas Resto de Ecuador'!G956)","v":3102},{"$f":"IF('INGRESO DE DATOS'!$G$21=\"Guayas/Santa Elena\",'Tablas Guayaquil'!H956,'Tablas Resto de Ecuador'!H956)","v":2157},{"$f":"IF('INGRESO DE DATOS'!$G$21=\"Guayas/Santa Elena\",'Tablas Guayaquil'!I956,'Tablas Resto de Ecuador'!I956)","v":1687}]
[55,null,6273.7999999999993,5455.8499999999995,4971.3499999999995,4387.0999999999995,3054.25,2214.4499999999998,1739.4499999999998,null,{"$f":"IF('INGRESO DE DATOS'!$G$21=\"Guayas/Santa Elena\",'Tablas Guayaquil'!C957,'Tablas Resto de Ecuador'!C957)","v":6604},{"$f":"IF('INGRESO DE DATOS'!$G$21=\"Guayas/Santa Elena\",'Tablas Guayaquil'!D957,'Tablas Resto de Ecuador'!D957)","v":5743},{"$f":"IF('INGRESO DE DATOS'!$G$21=\"Guayas/Santa Elena\",'Tablas Guayaquil'!E957,'Tablas Resto de Ecuador'!E957)","v":5233},{"$f":"IF('INGRESO DE DATOS'!$G$21=\"Guayas/Santa Elena\",'Tablas Guayaquil'!F957,'Tablas Resto de Ecuador'!F957)","v":4618},{"$f":"IF('INGRESO DE DATOS'!$G$21=\"Guayas/Santa Elena\",'Tablas Guayaquil'!G957,'Tablas Resto de Ecuador'!G957)","v":3215},{"$f":"IF('INGRESO DE DATOS'!$G$21=\"Guayas/Santa Elena\",'Tablas Guayaquil'!H957,'Tablas Resto de Ecuador'!H957)","v":2331},{"$f":"IF('INGRESO DE DATOS'!$G$21=\"Guayas/Santa Elena\",'Tablas Guayaquil'!I957,'Tablas Resto de Ecuador'!I957)","v":1831}]
[56,null,6474.25,5629.7,5130,4539.0999999999995,3155.8999999999996,2301.85,1886.6999999999998,null,{"$f":"IF('INGRESO DE DATOS'!$G$21=\"Guayas/Santa Elena\",'Tablas Guayaquil'!C958,'Tablas Resto de Ecuador'!C958)","v":6815},{"$f":"IF('INGRESO DE DATOS'!$G$21=\"Guayas/Santa Elena\",'Tablas Guayaquil'!D958,'Tablas Resto de Ecuador'!D958)","v":5926},{"$f":"IF('INGRESO DE DATOS'!$G$21=\"Guayas/Santa Elena\",'Tablas Guayaquil'!E958,'Tablas Resto de Ecuador'!E958)","v":5400},{"$f":"IF('INGRESO DE DATOS'!$G$21=\"Guayas/Santa Elena\",'Tablas Guayaquil'!F958,'Tablas Resto de Ecuador'!F958)","v":4778},{"$f":"IF('INGRESO DE DATOS'!$G$21=\"Guayas/Santa Elena\",'Tablas Guayaquil'!G958,'Tablas Resto de Ecuador'!G958)","v":3322},{"$f":"IF('INGRESO DE DATOS'!$G$21=\"Guayas/Santa Elena\",'Tablas Guayaquil'!H958,'Tablas Resto de Ecuador'!H958)","v":2423},{"$f":"IF('INGRESO DE DATOS'!$G$21=\"Guayas/Santa Elena\",'Tablas Guayaquil'!I958,'Tablas Resto de Ecuador'!I958)","v":1986}]
[57,null,6669.95,5803.55,5290.55,4692.05,3254.7,2486.15,2044.3999999999999,null,{"$f":"IF('INGRESO DE DATOS'!$G$21=\"Guayas/Santa Elena\",'Tablas Guayaquil'!C959,'Tablas Resto de Ecuador'!C959)","v":7021},{"$f":"IF('INGRESO DE DATOS'!$G$21=\"Guayas/Santa Elena\",'Tablas Guayaquil'!D959,'Tablas Resto de Ecuador'!D959)","v":6109},{"$f":"IF('INGRESO DE DATOS'!$G$21=\"Guayas/Santa Elena\",'Tablas Guayaquil'!E959,'Tablas Resto de Ecuador'!E959)","v":5569},{"$f":"IF('INGRESO DE DATOS'!$G$21=\"Guayas/Santa Elena\",'Tablas Guayaquil'!F959,'Tablas Resto de Ecuador'!F959)","v":4939},{"$f":"IF('INGRESO DE DATOS'!$G$21=\"Guayas/Santa Elena\",'Tablas Guayaquil'!G959,'Tablas Resto de Ecuador'!G959)","v":3426},{"$f":"IF('INGRESO DE DATOS'!$G$21=\"Guayas/Santa Elena\",'Tablas Guayaquil'!H959,'Tablas Resto de Ecuador'!H959)","v":2617},{"$f":"IF('INGRESO DE DATOS'!$G$21=\"Guayas/Santa Elena\",'Tablas Guayaquil'!I959,'Tablas Resto de Ecuador'!I959)","v":2152}]
[58,null,6901.75,6002.0999999999995,5456.8,4891.55,3383.8999999999996,2684.7,2214.4499999999998,null,{"$f":"IF('INGRESO DE DATOS'!$G$21=\"Guayas/Santa Elena\",'Tablas Guayaquil'!C960,'Tablas Resto de Ecuador'!C960)","v":7265},{"$f":"IF('INGRESO DE DATOS'!$G$21=\"Guayas/Santa Elena\",'Tablas Guayaquil'!D960,'Tablas Resto de Ecuador'!D960)","v":6318},{"$f":"IF('INGRESO DE DATOS'!$G$21=\"Guayas/Santa Elena\",'Tablas Guayaquil'!E960,'Tablas Resto de Ecuador'!E960)","v":5744},{"$f":"IF('INGRESO DE DATOS'!$G$21=\"Guayas/Santa Elena\",'Tablas Guayaquil'!F960,'Tablas Resto de Ecuador'!F960)","v":5149},{"$f":"IF('INGRESO DE DATOS'!$G$21=\"Guayas/Santa Elena\",'Tablas Guayaquil'!G960,'Tablas Resto de Ecuador'!G960)","v":3562},{"$f":"IF('INGRESO DE DATOS'!$G$21=\"Guayas/Santa Elena\",'Tablas Guayaquil'!H960,'Tablas Resto de Ecuador'!H960)","v":2826},{"$f":"IF('INGRESO DE DATOS'!$G$21=\"Guayas/Santa Elena\",'Tablas Guayaquil'!I960,'Tablas Resto de Ecuador'!I960)","v":2331}]
[59,null,7134.5,6204.45,5622.0999999999995,5089.1499999999996,3512.1499999999996,2782.5499999999997,2397.7999999999997,null,{"$f":"IF('INGRESO DE DATOS'!$G$21=\"Guayas/Santa Elena\",'Tablas Guayaquil'!C961,'Tablas Resto de Ecuador'!C961)","v":7510},{"$f":"IF('INGRESO DE DATOS'!$G$21=\"Guayas/Santa Elena\",'Tablas Guayaquil'!D961,'Tablas Resto de Ecuador'!D961)","v":6531},{"$f":"IF('INGRESO DE DATOS'!$G$21=\"Guayas/Santa Elena\",'Tablas Guayaquil'!E961,'Tablas Resto de Ecuador'!E961)","v":5918},{"$f":"IF('INGRESO DE DATOS'!$G$21=\"Guayas/Santa Elena\",'Tablas Guayaquil'!F961,'Tablas Resto de Ecuador'!F961)","v":5357},{"$f":"IF('INGRESO DE DATOS'!$G$21=\"Guayas/Santa Elena\",'Tablas Guayaquil'!G961,'Tablas Resto de Ecuador'!G961)","v":3697},{"$f":"IF('INGRESO DE DATOS'!$G$21=\"Guayas/Santa Elena\",'Tablas Guayaquil'!H961,'Tablas Resto de Ecuador'!H961)","v":2929},{"$f":"IF('INGRESO DE DATOS'!$G$21=\"Guayas/Santa Elena\",'Tablas Guayaquil'!I961,'Tablas Resto de Ecuador'!I961)","v":2524}]
[60,null,7363.45,6401.0999999999995,5788.3499999999995,5287.7,3640.3999999999996,3004.85,2595.4,null,{"$f":"IF('INGRESO DE DATOS'!$G$21=\"Guayas/Santa Elena\",'Tablas Guayaquil'!C962,'Tablas Resto de Ecuador'!C962)","v":7751},{"$f":"IF('INGRESO DE DATOS'!$G$21=\"Guayas/Santa Elena\",'Tablas Guayaquil'!D962,'Tablas Resto de Ecuador'!D962)","v":6738},{"$f":"IF('INGRESO DE DATOS'!$G$21=\"Guayas/Santa Elena\",'Tablas Guayaquil'!E962,'Tablas Resto de Ecuador'!E962)","v":6093},{"$f":"IF('INGRESO DE DATOS'!$G$21=\"Guayas/Santa Elena\",'Tablas Guayaquil'!F962,'Tablas Resto de Ecuador'!F962)","v":5566},{"$f":"IF('INGRESO DE DATOS'!$G$21=\"Guayas/Santa Elena\",'Tablas Guayaquil'!G962,'Tablas Resto de Ecuador'!G962)","v":3832},{"$f":"IF('INGRESO DE DATOS'!$G$21=\"Guayas/Santa Elena\",'Tablas Guayaquil'!H962,'Tablas Resto de Ecuador'!H962)","v":3163},{"$f":"IF('INGRESO DE DATOS'!$G$21=\"Guayas/Santa Elena\",'Tablas Guayaquil'!I962,'Tablas Resto de Ecuador'!I962)","v":2732}]
[61,null,7646.5499999999993,6648.0999999999995,6038.2,5486.25,3776.25,3242.35,2807.25,null,{"$f":"IF('INGRESO DE DATOS'!$G$21=\"Guayas/Santa Elena\",'Tablas Guayaquil'!C963,'Tablas Resto de Ecuador'!C963)","v":8049},{"$f":"IF('INGRESO DE DATOS'!$G$21=\"Guayas/Santa Elena\",'Tablas Guayaquil'!D963,'Tablas Resto de Ecuador'!D963)","v":6998},{"$f":"IF('INGRESO DE DATOS'!$G$21=\"Guayas/Santa Elena\",'Tablas Guayaquil'!E963,'Tablas Resto de Ecuador'!E963)","v":6356},{"$f":"IF('INGRESO DE DATOS'!$G$21=\"Guayas/Santa Elena\",'Tablas Guayaquil'!F963,'Tablas Resto de Ecuador'!F963)","v":5775},{"$f":"IF('INGRESO DE DATOS'!$G$21=\"Guayas/Santa Elena\",'Tablas Guayaquil'!G963,'Tablas Resto de Ecuador'!G963)","v":3975},{"$f":"IF('INGRESO DE DATOS'!$G$21=\"Guayas/Santa Elena\",'Tablas Guayaquil'!H963,'Tablas Resto de Ecuador'!H963)","v":3413},{"$f":"IF('INGRESO DE DATOS'!$G$21=\"Guayas/Santa Elena\",'Tablas Guayaquil'!I963,'Tablas Resto de Ecuador'!I963)","v":2955}]
[62,null,8131.0499999999993,6981.5499999999993,6334.5999999999995,5734.2,3948.2,3354.45,3035.25,null,{"$f":"IF('INGRESO DE DATOS'!$G$21=\"Guayas/Santa Elena\",'Tablas Guayaquil'!C964,'Tablas Resto de Ecuador'!C964)","v":8559},{"$f":"IF('INGRESO DE DATOS'!$G$21=\"Guayas/Santa Elena\",'Tablas Guayaquil'!D964,'Tablas Resto de Ecuador'!D964)","v":7349},{"$f":"IF('INGRESO DE DATOS'!$G$21=\"Guayas/Santa Elena\",'Tablas Guayaquil'!E964,'Tablas Resto de Ecuador'!E964)","v":6668},{"$f":"IF('INGRESO DE DATOS'!$G$21=\"Guayas/Santa Elena\",'Tablas Guayaquil'!F964,'Tablas Resto de Ecuador'!F964)","v":6036},{"$f":"IF('INGRESO DE DATOS'!$G$21=\"Guayas/Santa Elena\",'Tablas Guayaquil'!G964,'Tablas Resto de Ecuador'!G964)","v":4156},{"$f":"IF('INGRESO DE DATOS'!$G$21=\"Guayas/Santa Elena\",'Tablas Guayaquil'!H964,'Tablas Resto de Ecuador'!H964)","v":3531},{"$f":"IF('INGRESO DE DATOS'!$G$21=\"Guayas/Santa Elena\",'Tablas Guayaquil'!I964,'Tablas Resto de Ecuador'!I964)","v":3195}]
[63,null,8694.4,7485.0499999999993,6664.25,6027.75,4153.3999999999996,3619.5,3282.25,null,{"$f":"IF('INGRESO DE DATOS'!$G$21=\"Guayas/Santa Elena\",'Tablas Guayaquil'!C965,'Tablas Resto de Ecuador'!C965)","v":9152},{"$f":"IF('INGRESO DE DATOS'!$G$21=\"Guayas/Santa Elena\",'Tablas Guayaquil'!D965,'Tablas Resto de Ecuador'!D965)","v":7879},{"$f":"IF('INGRESO DE DATOS'!$G$21=\"Guayas/Santa Elena\",'Tablas Guayaquil'!E965,'Tablas Resto de Ecuador'!E965)","v":7015},{"$f":"IF('INGRESO DE DATOS'!$G$21=\"Guayas/Santa Elena\",'Tablas Guayaquil'!F965,'Tablas Resto de Ecuador'!F965)","v":6345},{"$f":"IF('INGRESO DE DATOS'!$G$21=\"Guayas/Santa Elena\",'Tablas Guayaquil'!G965,'Tablas Resto de Ecuador'!G965)","v":4372},{"$f":"IF('INGRESO DE DATOS'!$G$21=\"Guayas/Santa Elena\",'Tablas Guayaquil'!H965,'Tablas Resto de Ecuador'!H965)","v":3810},{"$f":"IF('INGRESO DE DATOS'!$G$21=\"Guayas/Santa Elena\",'Tablas Guayaquil'!I965,'Tablas Resto de Ecuador'!I965)","v":3455}]
[64,null,9300.5,8028.45,7044.25,6374.5,4392.8,3907.35,3549.2,null,{"$f":"IF('INGRESO DE DATOS'!$G$21=\"Guayas/Santa Elena\",'Tablas Guayaquil'!C966,'Tablas Resto de Ecuador'!C966)","v":9790},{"$f":"IF('INGRESO DE DATOS'!$G$21=\"Guayas/Santa Elena\",'Tablas Guayaquil'!D966,'Tablas Resto de Ecuador'!D966)","v":8451},{"$f":"IF('INGRESO DE DATOS'!$G$21=\"Guayas/Santa Elena\",'Tablas Guayaquil'!E966,'Tablas Resto de Ecuador'!E966)","v":7415},{"$f":"IF('INGRESO DE DATOS'!$G$21=\"Guayas/Santa Elena\",'Tablas Guayaquil'!F966,'Tablas Resto de Ecuador'!F966)","v":6710},{"$f":"IF('INGRESO DE DATOS'!$G$21=\"Guayas/Santa Elena\",'Tablas Guayaquil'!G966,'Tablas Resto de Ecuador'!G966)","v":4624},{"$f":"IF('INGRESO DE DATOS'!$G$21=\"Guayas/Santa Elena\",'Tablas Guayaquil'!H966,'Tablas Resto de Ecuador'!H966)","v":4113},{"$f":"IF('INGRESO DE DATOS'!$G$21=\"Guayas/Santa Elena\",'Tablas Guayaquil'!I966,'Tablas Resto de Ecuador'!I966)","v":3736}]
[65,null,9950.2999999999993,8613.65,7504.0499999999993,6851.4,4702.5,4034.6499999999996,3838,null,{"$f":"IF('INGRESO DE DATOS'!$G$21=\"Guayas/Santa Elena\",'Tablas Guayaquil'!C967,'Tablas Resto de Ecuador'!C967)","v":10474},{"$f":"IF('INGRESO DE DATOS'!$G$21=\"Guayas/Santa Elena\",'Tablas Guayaquil'!D967,'Tablas Resto de Ecuador'!D967)","v":9067},{"$f":"IF('INGRESO DE DATOS'!$G$21=\"Guayas/Santa Elena\",'Tablas Guayaquil'!E967,'Tablas Resto de Ecuador'!E967)","v":7899},{"$f":"IF('INGRESO DE DATOS'!$G$21=\"Guayas/Santa Elena\",'Tablas Guayaquil'!F967,'Tablas Resto de Ecuador'!F967)","v":7212},{"$f":"IF('INGRESO DE DATOS'!$G$21=\"Guayas/Santa Elena\",'Tablas Guayaquil'!G967,'Tablas Resto de Ecuador'!G967)","v":4950},{"$f":"IF('INGRESO DE DATOS'!$G$21=\"Guayas/Santa Elena\",'Tablas Guayaquil'!H967,'Tablas Resto de Ecuador'!H967)","v":4247},{"$f":"IF('INGRESO DE DATOS'!$G$21=\"Guayas/Santa Elena\",'Tablas Guayaquil'!I967,'Tablas Resto de Ecuador'!I967)","v":4040}]
[66,null,10650.449999999999,9244.4499999999989,8044.5999999999995,7399.5499999999993,5064.45,4355.75,4147.7,null,{"$f":"IF('INGRESO DE DATOS'!$G$21=\"Guayas/Santa Elena\",'Tablas Guayaquil'!C968,'Tablas Resto de Ecuador'!C968)","v":11211},{"$f":"IF('INGRESO DE DATOS'!$G$21=\"Guayas/Santa Elena\",'Tablas Guayaquil'!D968,'Tablas Resto de Ecuador'!D968)","v":9731},{"$f":"IF('INGRESO DE DATOS'!$G$21=\"Guayas/Santa Elena\",'Tablas Guayaquil'!E968,'Tablas Resto de Ecuador'!E968)","v":8468},{"$f":"IF('INGRESO DE DATOS'!$G$21=\"Guayas/Santa Elena\",'Tablas Guayaquil'!F968,'Tablas Resto de Ecuador'!F968)","v":7789},{"$f":"IF('INGRESO DE DATOS'!$G$21=\"Guayas/Santa Elena\",'Tablas Guayaquil'!G968,'Tablas Resto de Ecuador'!G968)","v":5331},{"$f":"IF('INGRESO DE DATOS'!$G$21=\"Guayas/Santa Elena\",'Tablas Guayaquil'!H968,'Tablas Resto de Ecuador'!H968)","v":4585},{"$f":"IF('INGRESO DE DATOS'!$G$21=\"Guayas/Santa Elena\",'Tablas Guayaquil'!I968,'Tablas Resto de Ecuador'!I968)","v":4366}]
[67,null,11402.85,9921.7999999999993,8688.6999999999989,7996.15,5471.05,4701.55,4482.0999999999995,null,{"$f":"IF('INGRESO DE DATOS'!$G$21=\"Guayas/Santa Elena\",'Tablas Guayaquil'!C969,'Tablas Resto de Ecuador'!C969)","v":12003},{"$f":"IF('INGRESO DE DATOS'!$G$21=\"Guayas/Santa Elena\",'Tablas Guayaquil'!D969,'Tablas Resto de Ecuador'!D969)","v":10444},{"$f":"IF('INGRESO DE DATOS'!$G$21=\"Guayas/Santa Elena\",'Tablas Guayaquil'!E969,'Tablas Resto de Ecuador'!E969)","v":9146},{"$f":"IF('INGRESO DE DATOS'!$G$21=\"Guayas/Santa Elena\",'Tablas Guayaquil'!F969,'Tablas Resto de Ecuador'!F969)","v":8417},{"$f":"IF('INGRESO DE DATOS'!$G$21=\"Guayas/Santa Elena\",'Tablas Guayaquil'!G969,'Tablas Resto de Ecuador'!G969)","v":5759},{"$f":"IF('INGRESO DE DATOS'!$G$21=\"Guayas/Santa Elena\",'Tablas Guayaquil'!H969,'Tablas Resto de Ecuador'!H969)","v":4949},{"$f":"IF('INGRESO DE DATOS'!$G$21=\"Guayas/Santa Elena\",'Tablas Guayaquil'!I969,'Tablas Resto de Ecuador'!I969)","v":4718}]
[68,null,12209.4,10652.35,9425.9,8670.65,5931.7999999999993,5304.8,4843.0999999999995,null,{"$f":"IF('INGRESO DE DATOS'!$G$21=\"Guayas/Santa Elena\",'Tablas Guayaquil'!C970,'Tablas Resto de Ecuador'!C970)","v":12852},{"$f":"IF('INGRESO DE DATOS'!$G$21=\"Guayas/Santa Elena\",'Tablas Guayaquil'!D970,'Tablas Resto de Ecuador'!D970)","v":11213},{"$f":"IF('INGRESO DE DATOS'!$G$21=\"Guayas/Santa Elena\",'Tablas Guayaquil'!E970,'Tablas Resto de Ecuador'!E970)","v":9922},{"$f":"IF('INGRESO DE DATOS'!$G$21=\"Guayas/Santa Elena\",'Tablas Guayaquil'!F970,'Tablas Resto de Ecuador'!F970)","v":9127},{"$f":"IF('INGRESO DE DATOS'!$G$21=\"Guayas/Santa Elena\",'Tablas Guayaquil'!G970,'Tablas Resto de Ecuador'!G970)","v":6244},{"$f":"IF('INGRESO DE DATOS'!$G$21=\"Guayas/Santa Elena\",'Tablas Guayaquil'!H970,'Tablas Resto de Ecuador'!H970)","v":5584},{"$f":"IF('INGRESO DE DATOS'!$G$21=\"Guayas/Santa Elena\",'Tablas Guayaquil'!I970,'Tablas Resto de Ecuador'!I970)","v":5098}]
[69,null,13075.8,11436.1,10283.75,9468.65,6479,5727.55,5232.5999999999995,null,{"$f":"IF('INGRESO DE DATOS'!$G$21=\"Guayas/Santa Elena\",'Tablas Guayaquil'!C971,'Tablas Resto de Ecuador'!C971)","v":13764},{"$f":"IF('INGRESO DE DATOS'!$G$21=\"Guayas/Santa Elena\",'Tablas Guayaquil'!D971,'Tablas Resto de Ecuador'!D971)","v":12038},{"$f":"IF('INGRESO DE DATOS'!$G$21=\"Guayas/Santa Elena\",'Tablas Guayaquil'!E971,'Tablas Resto de Ecuador'!E971)","v":10825},{"$f":"IF('INGRESO DE DATOS'!$G$21=\"Guayas/Santa Elena\",'Tablas Guayaquil'!F971,'Tablas Resto de Ecuador'!F971)","v":9967},{"$f":"IF('INGRESO DE DATOS'!$G$21=\"Guayas/Santa Elena\",'Tablas Guayaquil'!G971,'Tablas Resto de Ecuador'!G971)","v":6820},{"$f":"IF('INGRESO DE DATOS'!$G$21=\"Guayas/Santa Elena\",'Tablas Guayaquil'!H971,'Tablas Resto de Ecuador'!H971)","v":6029},{"$f":"IF('INGRESO DE DATOS'!$G$21=\"Guayas/Santa Elena\",'Tablas Guayaquil'!I971,'Tablas Resto de Ecuador'!I971)","v":5508}]
[70,null,14227.199999999999,12372.8,11183.4,10537.4,7164.9,6184.5,5653.45,null,{"$f":"IF('INGRESO DE DATOS'!$G$21=\"Guayas/Santa Elena\",'Tablas Guayaquil'!C972,'Tablas Resto de Ecuador'!C972)","v":14976},{"$f":"IF('INGRESO DE DATOS'!$G$21=\"Guayas/Santa Elena\",'Tablas Guayaquil'!D972,'Tablas Resto de Ecuador'!D972)","v":13024},{"$f":"IF('INGRESO DE DATOS'!$G$21=\"Guayas/Santa Elena\",'Tablas Guayaquil'!E972,'Tablas Resto de Ecuador'!E972)","v":11772},{"$f":"IF('INGRESO DE DATOS'!$G$21=\"Guayas/Santa Elena\",'Tablas Guayaquil'!F972,'Tablas Resto de Ecuador'!F972)","v":11092},{"$f":"IF('INGRESO DE DATOS'!$G$21=\"Guayas/Santa Elena\",'Tablas Guayaquil'!G972,'Tablas Resto de Ecuador'!G972)","v":7542},{"$f":"IF('INGRESO DE DATOS'!$G$21=\"Guayas/Santa Elena\",'Tablas Guayaquil'!H972,'Tablas Resto de Ecuador'!H972)","v":6510},{"$f":"IF('INGRESO DE DATOS'!$G$21=\"Guayas/Santa Elena\",'Tablas Guayaquil'!I972,'Tablas Resto de Ecuador'!I972)","v":5951}]
[71,null,15668.349999999999,13626.8,12422.199999999999,11603.3,7892.5999999999995,6965.4,6104.7,null,{"$f":"IF('INGRESO DE DATOS'!$G$21=\"Guayas/Santa Elena\",'Tablas Guayaquil'!C973,'Tablas Resto de Ecuador'!C973)","v":16493},{"$f":"IF('INGRESO DE DATOS'!$G$21=\"Guayas/Santa Elena\",'Tablas Guayaquil'!D973,'Tablas Resto de Ecuador'!D973)","v":14344},{"$f":"IF('INGRESO DE DATOS'!$G$21=\"Guayas/Santa Elena\",'Tablas Guayaquil'!E973,'Tablas Resto de Ecuador'!E973)","v":13076},{"$f":"IF('INGRESO DE DATOS'!$G$21=\"Guayas/Santa Elena\",'Tablas Guayaquil'!F973,'Tablas Resto de Ecuador'!F973)","v":12214},{"$f":"IF('INGRESO DE DATOS'!$G$21=\"Guayas/Santa Elena\",'Tablas Guayaquil'!G973,'Tablas Resto de Ecuador'!G973)","v":8308},{"$f":"IF('INGRESO DE DATOS'!$G$21=\"Guayas/Santa Elena\",'Tablas Guayaquil'!H973,'Tablas Resto de Ecuador'!H973)","v":7332},{"$f":"IF('INGRESO DE DATOS'!$G$21=\"Guayas/Santa Elena\",'Tablas Guayaquil'!I973,'Tablas Resto de Ecuador'!I973)","v":6426}]
[72,null,17331.8,15072.699999999999,13743.65,12841.15,8735.25,7517.3499999999995,6589.2,null,{"$f":"IF('INGRESO DE DATOS'!$G$21=\"Guayas/Santa Elena\",'Tablas Guayaquil'!C974,'Tablas Resto de Ecuador'!C974)","v":18244},{"$f":"IF('INGRESO DE DATOS'!$G$21=\"Guayas/Santa Elena\",'Tablas Guayaquil'!D974,'Tablas Resto de Ecuador'!D974)","v":15866},{"$f":"IF('INGRESO DE DATOS'!$G$21=\"Guayas/Santa Elena\",'Tablas Guayaquil'!E974,'Tablas Resto de Ecuador'!E974)","v":14467},{"$f":"IF('INGRESO DE DATOS'!$G$21=\"Guayas/Santa Elena\",'Tablas Guayaquil'!F974,'Tablas Resto de Ecuador'!F974)","v":13517},{"$f":"IF('INGRESO DE DATOS'!$G$21=\"Guayas/Santa Elena\",'Tablas Guayaquil'!G974,'Tablas Resto de Ecuador'!G974)","v":9195},{"$f":"IF('INGRESO DE DATOS'!$G$21=\"Guayas/Santa Elena\",'Tablas Guayaquil'!H974,'Tablas Resto de Ecuador'!H974)","v":7913},{"$f":"IF('INGRESO DE DATOS'!$G$21=\"Guayas/Santa Elena\",'Tablas Guayaquil'!I974,'Tablas Resto de Ecuador'!I974)","v":6936}]
[73,null,19252.7,16739.95,15260.8,14254.75,9693.7999999999993,8112.0499999999993,7107.9,null,{"$f":"IF('INGRESO DE DATOS'!$G$21=\"Guayas/Santa Elena\",'Tablas Guayaquil'!C975,'Tablas Resto de Ecuador'!C975)","v":20266},{"$f":"IF('INGRESO DE DATOS'!$G$21=\"Guayas/Santa Elena\",'Tablas Guayaquil'!D975,'Tablas Resto de Ecuador'!D975)","v":17621},{"$f":"IF('INGRESO DE DATOS'!$G$21=\"Guayas/Santa Elena\",'Tablas Guayaquil'!E975,'Tablas Resto de Ecuador'!E975)","v":16064},{"$f":"IF('INGRESO DE DATOS'!$G$21=\"Guayas/Santa Elena\",'Tablas Guayaquil'!F975,'Tablas Resto de Ecuador'!F975)","v":15005},{"$f":"IF('INGRESO DE DATOS'!$G$21=\"Guayas/Santa Elena\",'Tablas Guayaquil'!G975,'Tablas Resto de Ecuador'!G975)","v":10204},{"$f":"IF('INGRESO DE DATOS'!$G$21=\"Guayas/Santa Elena\",'Tablas Guayaquil'!H975,'Tablas Resto de Ecuador'!H975)","v":8539},{"$f":"IF('INGRESO DE DATOS'!$G$21=\"Guayas/Santa Elena\",'Tablas Guayaquil'!I975,'Tablas Resto de Ecuador'!I975)","v":7482}]
[74,null,21462.399999999998,18661.8,17014.5,15893.5,10810.05,9110.5,7660.7999999999993,null,{"$f":"IF('INGRESO DE DATOS'!$G$21=\"Guayas/Santa Elena\",'Tablas Guayaquil'!C976,'Tablas Resto de Ecuador'!C976)","v":22592},{"$f":"IF('INGRESO DE DATOS'!$G$21=\"Guayas/Santa Elena\",'Tablas Guayaquil'!D976,'Tablas Resto de Ecuador'!D976)","v":19644},{"$f":"IF('INGRESO DE DATOS'!$G$21=\"Guayas/Santa Elena\",'Tablas Guayaquil'!E976,'Tablas Resto de Ecuador'!E976)","v":17910},{"$f":"IF('INGRESO DE DATOS'!$G$21=\"Guayas/Santa Elena\",'Tablas Guayaquil'!F976,'Tablas Resto de Ecuador'!F976)","v":16730},{"$f":"IF('INGRESO DE DATOS'!$G$21=\"Guayas/Santa Elena\",'Tablas Guayaquil'!G976,'Tablas Resto de Ecuador'!G976)","v":11379},{"$f":"IF('INGRESO DE DATOS'!$G$21=\"Guayas/Santa Elena\",'Tablas Guayaquil'!H976,'Tablas Resto de Ecuador'!H976)","v":9590},{"$f":"IF('INGRESO DE DATOS'!$G$21=\"Guayas/Santa Elena\",'Tablas Guayaquil'!I976,'Tablas Resto de Ecuador'!I976)","v":8064}]
[75,null,23997.949999999997,20868.649999999998,18948.7,17884.7,12130.55,9818.25,8246,null,{"$f":"IF('INGRESO DE DATOS'!$G$21=\"Guayas/Santa Elena\",'Tablas Guayaquil'!C977,'Tablas Resto de Ecuador'!C977)","v":25261},{"$f":"IF('INGRESO DE DATOS'!$G$21=\"Guayas/Santa Elena\",'Tablas Guayaquil'!D977,'Tablas Resto de Ecuador'!D977)","v":21967},{"$f":"IF('INGRESO DE DATOS'!$G$21=\"Guayas/Santa Elena\",'Tablas Guayaquil'!E977,'Tablas Resto de Ecuador'!E977)","v":19946},{"$f":"IF('INGRESO DE DATOS'!$G$21=\"Guayas/Santa Elena\",'Tablas Guayaquil'!F977,'Tablas Resto de Ecuador'!F977)","v":18826},{"$f":"IF('INGRESO DE DATOS'!$G$21=\"Guayas/Santa Elena\",'Tablas Guayaquil'!G977,'Tablas Resto de Ecuador'!G977)","v":12769},{"$f":"IF('INGRESO DE DATOS'!$G$21=\"Guayas/Santa Elena\",'Tablas Guayaquil'!H977,'Tablas Resto de Ecuador'!H977)","v":10335},{"$f":"IF('INGRESO DE DATOS'!$G$21=\"Guayas/Santa Elena\",'Tablas Guayaquil'!I977,'Tablas Resto de Ecuador'!I977)","v":8680}]
[76,null,26912.55,23401.35,21318.95,20052.599999999999,13601.15,10572.55,8865.4,null,{"$f":"IF('INGRESO DE DATOS'!$G$21=\"Guayas/Santa Elena\",'Tablas Guayaquil'!C978,'Tablas Resto de Ecuador'!C978)","v":28329},{"$f":"IF('INGRESO DE DATOS'!$G$21=\"Guayas/Santa Elena\",'Tablas Guayaquil'!D978,'Tablas Resto de Ecuador'!D978)","v":24633},{"$f":"IF('INGRESO DE DATOS'!$G$21=\"Guayas/Santa Elena\",'Tablas Guayaquil'!E978,'Tablas Resto de Ecuador'!E978)","v":22441},{"$f":"IF('INGRESO DE DATOS'!$G$21=\"Guayas/Santa Elena\",'Tablas Guayaquil'!F978,'Tablas Resto de Ecuador'!F978)","v":21108},{"$f":"IF('INGRESO DE DATOS'!$G$21=\"Guayas/Santa Elena\",'Tablas Guayaquil'!G978,'Tablas Resto de Ecuador'!G978)","v":14317},{"$f":"IF('INGRESO DE DATOS'!$G$21=\"Guayas/Santa Elena\",'Tablas Guayaquil'!H978,'Tablas Resto de Ecuador'!H978)","v":11129},{"$f":"IF('INGRESO DE DATOS'!$G$21=\"Guayas/Santa Elena\",'Tablas Guayaquil'!I978,'Tablas Resto de Ecuador'!I978)","v":9332}]
[77,null,30222.35,26281.75,23961.85,22520.7,15278.849999999999,11820.849999999999,9511.4,null,{"$f":"IF('INGRESO DE DATOS'!$G$21=\"Guayas/Santa Elena\",'Tablas Guayaquil'!C979,'Tablas Resto de Ecuador'!C979)","v":31813},{"$f":"IF('INGRESO DE DATOS'!$G$21=\"Guayas/Santa Elena\",'Tablas Guayaquil'!D979,'Tablas Resto de Ecuador'!D979)","v":27665},{"$f":"IF('INGRESO DE DATOS'!$G$21=\"Guayas/Santa Elena\",'Tablas Guayaquil'!E979,'Tablas Resto de Ecuador'!E979)","v":25223},{"$f":"IF('INGRESO DE DATOS'!$G$21=\"Guayas/Santa Elena\",'Tablas Guayaquil'!F979,'Tablas Resto de Ecuador'!F979)","v":23706},{"$f":"IF('INGRESO DE DATOS'!$G$21=\"Guayas/Santa Elena\",'Tablas Guayaquil'!G979,'Tablas Resto de Ecuador'!G979)","v":16083},{"$f":"IF('INGRESO DE DATOS'!$G$21=\"Guayas/Santa Elena\",'Tablas Guayaquil'!H979,'Tablas Resto de Ecuador'!H979)","v":12443},{"$f":"IF('INGRESO DE DATOS'!$G$21=\"Guayas/Santa Elena\",'Tablas Guayaquil'!I979,'Tablas Resto de Ecuador'!I979)","v":10012}]
[78,null,33959.65,29529.8,26923.949999999997,25302.3,17165.55,12692.949999999999,10182.1,null,{"$f":"IF('INGRESO DE DATOS'!$G$21=\"Guayas/Santa Elena\",'Tablas Guayaquil'!C980,'Tablas Resto de Ecuador'!C980)","v":35747},{"$f":"IF('INGRESO DE DATOS'!$G$21=\"Guayas/Santa Elena\",'Tablas Guayaquil'!D980,'Tablas Resto de Ecuador'!D980)","v":31084},{"$f":"IF('INGRESO DE DATOS'!$G$21=\"Guayas/Santa Elena\",'Tablas Guayaquil'!E980,'Tablas Resto de Ecuador'!E980)","v":28341},{"$f":"IF('INGRESO DE DATOS'!$G$21=\"Guayas/Santa Elena\",'Tablas Guayaquil'!F980,'Tablas Resto de Ecuador'!F980)","v":26634},{"$f":"IF('INGRESO DE DATOS'!$G$21=\"Guayas/Santa Elena\",'Tablas Guayaquil'!G980,'Tablas Resto de Ecuador'!G980)","v":18069},{"$f":"IF('INGRESO DE DATOS'!$G$21=\"Guayas/Santa Elena\",'Tablas Guayaquil'!H980,'Tablas Resto de Ecuador'!H980)","v":13361},{"$f":"IF('INGRESO DE DATOS'!$G$21=\"Guayas/Santa Elena\",'Tablas Guayaquil'!I980,'Tablas Resto de Ecuador'!I980)","v":10718}]
[79,null,38155.799999999996,33175.9,30250.85,28431.599999999999,19288.8,13600.199999999999,10869.9,null,{"$f":"IF('INGRESO DE DATOS'!$G$21=\"Guayas/Santa Elena\",'Tablas Guayaquil'!C981,'Tablas Resto de Ecuador'!C981)","v":40164},{"$f":"IF('INGRESO DE DATOS'!$G$21=\"Guayas/Santa Elena\",'Tablas Guayaquil'!D981,'Tablas Resto de Ecuador'!D981)","v":34922},{"$f":"IF('INGRESO DE DATOS'!$G$21=\"Guayas/Santa Elena\",'Tablas Guayaquil'!E981,'Tablas Resto de Ecuador'!E981)","v":31843},{"$f":"IF('INGRESO DE DATOS'!$G$21=\"Guayas/Santa Elena\",'Tablas Guayaquil'!F981,'Tablas Resto de Ecuador'!F981)","v":29928},{"$f":"IF('INGRESO DE DATOS'!$G$21=\"Guayas/Santa Elena\",'Tablas Guayaquil'!G981,'Tablas Resto de Ecuador'!G981)","v":20304},{"$f":"IF('INGRESO DE DATOS'!$G$21=\"Guayas/Santa Elena\",'Tablas Guayaquil'!H981,'Tablas Resto de Ecuador'!H981)","v":14316},{"$f":"IF('INGRESO DE DATOS'!$G$21=\"Guayas/Santa Elena\",'Tablas Guayaquil'!I981,'Tablas Resto de Ecuador'!I981)","v":11442}]
[80,"o más",43175.6,37546.85,34229.449999999997,32171.75,21825.3,15092.65,11561.5,null,{"$f":"IF('INGRESO DE DATOS'!$G$21=\"Guayas/Santa Elena\",'Tablas Guayaquil'!C982,'Tablas Resto de Ecuador'!C982)","v":45448},{"$f":"IF('INGRESO DE DATOS'!$G$21=\"Guayas/Santa Elena\",'Tablas Guayaquil'!D982,'Tablas Resto de Ecuador'!D982)","v":39523},{"$f":"IF('INGRESO DE DATOS'!$G$21=\"Guayas/Santa Elena\",'Tablas Guayaquil'!E982,'Tablas Resto de Ecuador'!E982)","v":36031},{"$f":"IF('INGRESO DE DATOS'!$G$21=\"Guayas/Santa Elena\",'Tablas Guayaquil'!F982,'Tablas Resto de Ecuador'!F982)","v":33865},{"$f":"IF('INGRESO DE DATOS'!$G$21=\"Guayas/Santa Elena\",'Tablas Guayaquil'!G982,'Tablas Resto de Ecuador'!G982)","v":22974},{"$f":"IF('INGRESO DE DATOS'!$G$21=\"Guayas/Santa Elena\",'Tablas Guayaquil'!H982,'Tablas Resto de Ecuador'!H982)","v":15887},{"$f":"IF('INGRESO DE DATOS'!$G$21=\"Guayas/Santa Elena\",'Tablas Guayaquil'!I982,'Tablas Resto de Ecuador'!I982)","v":12170}]
[1,"Hijo",1645.3999999999999,1433.55,1237.8499999999999,856.9,472.15,273.59999999999997,160.54999999999998,null,{"$f":"IF('INGRESO DE DATOS'!$G$21=\"Guayas/Santa Elena\",'Tablas Guayaquil'!C983,'Tablas Resto de Ecuador'!C983)","v":1732},{"$f":"IF('INGRESO DE DATOS'!$G$21=\"Guayas/Santa Elena\",'Tablas Guayaquil'!D983,'Tablas Resto de Ecuador'!D983)","v":1509},{"$f":"IF('INGRESO DE DATOS'!$G$21=\"Guayas/Santa Elena\",'Tablas Guayaquil'!E983,'Tablas Resto de Ecuador'!E983)","v":1303},{"$f":"IF('INGRESO DE DATOS'!$G$21=\"Guayas/Santa Elena\",'Tablas Guayaquil'!F983,'Tablas Resto de Ecuador'!F983)","v":902},{"$f":"IF('INGRESO DE DATOS'!$G$21=\"Guayas/Santa Elena\",'Tablas Guayaquil'!G983,'Tablas Resto de Ecuador'!G983)","v":497},{"$f":"IF('INGRESO DE DATOS'!$G$21=\"Guayas/Santa Elena\",'Tablas Guayaquil'!H983,'Tablas Resto de Ecuador'!H983)","v":288},{"$f":"IF('INGRESO DE DATOS'!$G$21=\"Guayas/Santa Elena\",'Tablas Guayaquil'!I983,'Tablas Resto de Ecuador'!I983)","v":169}]
[2,"Hijos",1944.6499999999999,1693.85,1462.05,1013.65,557.65,323.95,189.04999999999998,null,{"$f":"IF('INGRESO DE DATOS'!$G$21=\"Guayas/Santa Elena\",'Tablas Guayaquil'!C984,'Tablas Resto de Ecuador'!C984)","v":2047},{"$f":"IF('INGRESO DE DATOS'!$G$21=\"Guayas/Santa Elena\",'Tablas Guayaquil'!D984,'Tablas Resto de Ecuador'!D984)","v":1783},{"$f":"IF('INGRESO DE DATOS'!$G$21=\"Guayas/Santa Elena\",'Tablas Guayaquil'!E984,'Tablas Resto de Ecuador'!E984)","v":1539},{"$f":"IF('INGRESO DE DATOS'!$G$21=\"Guayas/Santa Elena\",'Tablas Guayaquil'!F984,'Tablas Resto de Ecuador'!F984)","v":1067},{"$f":"IF('INGRESO DE DATOS'!$G$21=\"Guayas/Santa Elena\",'Tablas Guayaquil'!G984,'Tablas Resto de Ecuador'!G984)","v":587},{"$f":"IF('INGRESO DE DATOS'!$G$21=\"Guayas/Santa Elena\",'Tablas Guayaquil'!H984,'Tablas Resto de Ecuador'!H984)","v":341},{"$f":"IF('INGRESO DE DATOS'!$G$21=\"Guayas/Santa Elena\",'Tablas Guayaquil'!I984,'Tablas Resto de Ecuador'!I984)","v":199}]
[3,"Hijos o más",{"$f":"K985*0.95","v":2692.2999999999997},{"$f":"L985*0.95","v":2344.6},{"$f":"M985*0.95","v":2025.3999999999999},{"$f":"N985*0.95","v":1403.1499999999999},{"$f":"O985*0.95","v":772.34999999999991},{"$f":"P985*0.95","v":447.45},{"$f":"Q985*0.95","v":263.14999999999998},null,{"$f":"IF('INGRESO DE DATOS'!$G$21=\"Guayas/Santa Elena\",'Tablas Guayaquil'!C985,'Tablas Resto de Ecuador'!C985)","v":2834},{"$f":"IF('INGRESO DE DATOS'!$G$21=\"Guayas/Santa Elena\",'Tablas Guayaquil'!D985,'Tablas Resto de Ecuador'!D985)","v":2468},{"$f":"IF('INGRESO DE DATOS'!$G$21=\"Guayas/Santa Elena\",'Tablas Guayaquil'!E985,'Tablas Resto de Ecuador'!E985)","v":2132},{"$f":"IF('INGRESO DE DATOS'!$G$21=\"Guayas/Santa Elena\",'Tablas Guayaquil'!F985,'Tablas Resto de Ecuador'!F985)","v":1477},{"$f":"IF('INGRESO DE DATOS'!$G$21=\"Guayas/Santa Elena\",'Tablas Guayaquil'!G985,'Tablas Resto de Ecuador'!G985)","v":813},{"$f":"IF('INGRESO DE DATOS'!$G$21=\"Guayas/Santa Elena\",'Tablas Guayaquil'!H985,'Tablas Resto de Ecuador'!H985)","v":471},{"$f":"IF('INGRESO DE DATOS'!$G$21=\"Guayas/Santa Elena\",'Tablas Guayaquil'!I985,'Tablas Resto de Ecuador'!I985)","v":277}]
[]
["ESSENTIAL 1000"]
["TARIFAS MENSUALES"]
["EDAD"]
[" "," ","F50-1","F50-2","F50-3","F50-4","F50-5"]
[18,null,{"$f":"C920*$M$2","v":220.36516666666665},{"$f":"D920*$M$2","v":191.83349999999999},164.56058333333331,114.71408333333332,63.105333333333334,36.671583333333331,21.482666666666667]
[19,null,{"$f":"C921*$M$2","v":223.97358333333329},195.19016666666664,164.56058333333331,114.71408333333332,63.608833333333337,37.091166666666666,21.902249999999999]
[20,null,{"$f":"C922*$M$2","v":227.7498333333333},198.29508333333334,164.56058333333331,114.96583333333334,64.196250000000006,37.678583333333329,22.321833333333331]
[21,null,{"$f":"C923*$M$2","v":232.11349999999999},201.90349999999998,164.56058333333331,115.55324999999999,64.951499999999996,38.349916666666665,22.909249999999997]
[22,null,{"$f":"C924*$M$2","v":235.97366666666667},205.17625000000001,164.89625000000001,116.39241666666665,65.874583333333334,39.105166666666669,23.496666666666666]
[23,null,{"$f":"C925*$M$2","v":239.83383333333333},208.44899999999998,165.8193333333333,117.48333333333333,66.881583333333325,39.944333333333333,24.167999999999996]
[24,null,{"$f":"C926*$M$2","v":243.77791666666667},211.88958333333332,167.07808333333332,118.90991666666666,68.140333333333331,40.951333333333331,24.923249999999999]
[25,null,{"$f":"C927*$M$2","v":247.55416666666667},215.49799999999999,168.75641666666664,120.50433333333334,69.399083333333337,41.874416666666662,25.6785]
[26,null,{"$f":"C928*$M$2","v":251.49825000000001},218.77075000000002,170.85433333333333,122.51833333333333,71.077416666666664,43.049249999999994,26.517666666666667]
[27,null,{"$f":"C929*$M$2","v":255.35841666666667},222.04349999999999,173.37183333333331,124.86799999999999,72.755749999999992,44.475833333333334,27.608583333333335]
[28,null,{"$f":"C930*$M$2","v":260.2255833333333},225.90366666666668,176.39283333333333,127.55333333333333,74.769749999999988,45.902416666666667,28.615583333333333]
[29,null,{"$f":"C931*$M$2","v":264.67316666666665},230.43516666666665,179.91733333333332,130.57433333333333,77.035499999999985,47.328999999999994,29.790416666666665]
[30,null,{"$f":"C932*$M$2","v":269.20466666666664},234.37924999999998,184.02924999999999,133.93099999999998,79.385166666666663,49.175166666666662,31.049166666666668]
[31,null,{"$f":"C933*$M$2","v":273.82008333333334},238.32333333333332,188.4768333333333,137.70724999999999,81.986583333333328,51.105249999999998,32.391833333333331]
[32,null,{"$f":"C934*$M$2","v":278.51941666666664},241.93174999999999,193.51183333333333,141.90308333333331,85.007583333333329,53.035333333333334,33.902333333333331]
[33,null,{"$f":"C935*$M$2","v":286.07191666666665},248.89683333333332,199.21816666666663,146.60241666666664,88.196416666666664,55.384999999999998,35.580666666666666]
[34,null,{"$f":"C936*$M$2","v":293.70833333333331},255.35841666666667,205.51191666666665,151.72133333333332,91.804833333333335,57.902500000000003,37.342916666666667]
[35,null,{"$f":"C937*$M$2","v":301.26083333333332},261.9878333333333,212.39308333333332,157.25983333333332,95.581083333333325,60.503916666666662,39.272999999999996]
[36,null,{"$f":"C938*$M$2","v":308.81333333333333},268.70116666666661,219.9455833333333,163.30183333333332,99.776916666666665,63.440999999999995,41.454833333333326]
[37,null,{"$f":"C939*$M$2","v":316.6175833333333},275.41449999999998,228.25333333333333,169.93125000000001,104.39233333333333,66.629833333333323,43.72058333333333]
[38,null,{"$f":"C940*$M$2","v":324.50574999999998},282.29566666666665,237.40024999999997,177.31591666666665,109.34341666666666,70.070416666666659,46.321999999999996]
[39,null,{"$f":"C941*$M$2","v":332.31},288.75725,247.21849999999998,185.20408333333333,114.71408333333332,73.930583333333331,49.091250000000002]
[40,null,{"$f":"C942*$M$2","v":339.94641666666666},295.47058333333331,257.79199999999997,193.76358333333332,120.58824999999999,77.958583333333323,52.028333333333336]
[41,null,{"$f":"C943*$M$2","v":347.58283333333333},302.51958333333334,269.54033333333331,203.07833333333332,126.88199999999999,82.406166666666664,55.217166666666671]
[42,null,{"$f":"C944*$M$2","v":355.63883333333331},308.98116666666664,281.95999999999998,213.23224999999999,133.76316666666665,87.189416666666659,58.741666666666667]
[43,null,{"$f":"C945*$M$2","v":369.48508333333331},321.40083333333331,293.28874999999999,224.0575,141.14783333333332,92.476166666666657,62.685749999999999]
[44,null,{"$f":"C946*$M$2","v":383.75091666666663},333.82049999999998,304.44966666666664,235.97366666666667,149.28774999999999,98.098583333333323,66.797666666666657]
[45,null,{"$f":"C947*$M$2","v":397.76499999999999},345.90449999999998,315.35883333333334,248.72899999999998,158.01508333333334,104.14058333333334,71.329166666666666]
[46,null,{"$f":"C948*$M$2","v":411.86299999999994},358.15633333333335,326.7715,262.40741666666662,167.41374999999999,110.85391666666668,76.364166666666662]
[47,null,{"$f":"C949*$M$2","v":426.21275000000003},370.49208333333331,337.76458333333335,277.34458333333333,177.65158333333332,118.07074999999999,81.566999999999993]
[48,null,{"$f":"C950*$M$2","v":441.31774999999999},383.49916666666667,349.59683333333334,293.28874999999999,188.72858333333332,125.95891666666667,87.44116666666666]
[49,null,{"$f":"C951*$M$2","v":456.08708333333334},396.67408333333333,361.76474999999999,310.57558333333333,200.64474999999999,134.3505833333333,93.81883333333333]
[50,null,{"$f":"C952*$M$2","v":471.02424999999994},409.68116666666663,373.34525000000002,325.26099999999997,214.57491666666667,136.86808333333332,101.20350000000001]
[51,null,{"$f":"C953*$M$2","v":485.79358333333334},422.52041666666668,385.26141666666666,336.17016666666666,231.44216666666665,148.36466666666666,110.18258333333333]
[52,null,{"$f":"C954*$M$2","v":500.8146666666666},435.52749999999997,397.26150000000001,347.33108333333331,242.60308333333333,160.6165,119.833]
[53,null,{"$f":"C955*$M$2","v":518.4371666666666},450.88424999999995,411.27558333333332,360.92558333333329,251.4143333333333,167.41374999999999,130.40649999999999]
[54,null,{"$f":"C956*$M$2","v":536.22749999999996},466.24099999999999,425.28966666666662,374.10049999999995,260.30949999999996,181.00825,141.56741666666665]
[55,null,{"$f":"C957*$M$2","v":554.18566666666663},481.93341666666663,439.13591666666662,387.52716666666663,269.79208333333332,195.60974999999999,153.65141666666665]
[56,null,{"$f":"C958*$M$2","v":571.89208333333329},497.29016666666666,453.15,400.95383333333331,278.77116666666666,203.33008333333333,166.65849999999998]
[57,null,{"$f":"C959*$M$2","v":589.17891666666662},512.6469166666667,467.3319166666667,414.46441666666669,287.49849999999998,219.60991666666666,180.58866666666665]
[58,null,{"$f":"C960*$M$2","v":609.65458333333333},530.18549999999993,482.01733333333334,432.0869166666667,298.91116666666665,237.14849999999998,195.60974999999999]
[59,null,{"$f":"C961*$M$2","v":630.21416666666664},548.05975000000001,496.61883333333327,449.54158333333328,310.23991666666666,245.79191666666665,211.80566666666664]
[60,null,{"$f":"C962*$M$2","v":650.43808333333334},565.43049999999994,511.30424999999997,467.08016666666663,321.56866666666662,265.42841666666664,229.26033333333334]
[61,null,{"$f":"C963*$M$2","v":675.44524999999999},587.24883333333332,533.37433333333331,484.61874999999998,333.56875000000002,286.40758333333332,247.97375]
[62,null,{"$f":"C964*$M$2","v":718.24274999999989},616.70358333333331,559.55633333333333,506.52099999999996,348.75766666666664,296.30975000000001,268.11374999999998]
[63,null,{"$f":"C965*$M$2","v":768.00533333333328},661.17941666666661,588.67541666666671,532.45124999999996,366.88366666666661,319.72250000000003,289.93208333333331]
[64,null,{"$f":"C966*$M$2","v":821.54416666666668},709.17975000000001,622.24208333333331,563.08083333333332,388.03066666666666,345.14924999999999,313.51266666666663]
[65,null,{"$f":"C967*$M$2","v":878.94316666666657},760.8724166666666,662.8577499999999,605.20699999999999,415.38749999999999,356.3940833333333,339.02333333333331]
[66,null,{"$f":"C968*$M$2","v":940.78974999999991},816.5930833333332,710.60633333333328,653.6269166666666,447.35974999999996,384.75791666666669,366.38016666666664]
[67,null,{"$f":"C969*$M$2","v":1007.25175},876.42566666666664,767.50183333333325,706.32658333333325,483.27608333333336,415.30358333333334,395.91883333333328]
[68,null,{"$f":"C970*$M$2","v":1078.4970000000001},940.95758333333333,832.62116666666668,765.90741666666668,523.9756666666666,468.59066666666666,427.8071666666666]
[69,null,{"$f":"C971*$M$2","v":1155.029},1010.1888333333334,908.39791666666667,836.39741666666669,572.31166666666661,505.93358333333333,462.21299999999997]
[70,null,{"$f":"C972*$M$2","v":1256.7359999999999},1092.9306666666666,987.86699999999996,930.80366666666669,632.89949999999999,546.29750000000001,499.38808333333333]
[71,null,{"$f":"C973*$M$2","v":1384.0375833333333},1203.7006666666666,1097.2943333333333,1024.9581666666666,697.17966666666666,615.27699999999993,539.24850000000004]
[72,null,{"$f":"C974*$M$2","v":1530.9756666666667},1331.4218333333333,1214.0224166666667,1134.3015833333334,771.61374999999998,664.03258333333326,582.04599999999994]
[73,null,{"$f":"C975*$M$2","v":1700.6551666666667},1478.6955833333334,1348.0373333333332,1259.1695833333333,856.28566666666666,716.5644166666666,627.86450000000002]
[74,null,{"$f":"C976*$M$2","v":1895.8453333333332},1648.4589999999998,1502.9475,1403.9258333333332,954.88774999999998,804.76083333333338,676.70399999999995]
[75,null,{"$f":"C977*$M$2","v":2119.8189166666666},1843.3974166666665,1673.8018333333334,1579.8151666666668,1071.5319166666666,867.27874999999995,728.39666666666665]
[76,null,{"$f":"C978*$M$2","v":2377.2752500000001},2067.1192499999997,1883.1739166666666,1771.3129999999999,1201.4349166666666,933.90858333333324,783.1103333333333]
[77,null,{"$f":"C979*$M$2","v":2669.6409166666667},2321.5545833333335,2116.630083333333,1989.3285000000001,1349.6317499999998,1044.1750833333333,840.17366666666658]
[78,null,{"$f":"C980*$M$2","v":2999.7690833333336},2608.4656666666665,2378.2822499999997,2235.0364999999997,1516.29025,1121.2105833333333,899.4188333333334]
[79,null,{"$f":"C981*$M$2","v":3370.4289999999996},2930.5378333333333,2672.1584166666667,2511.4580000000001,1703.8439999999998,1201.3509999999999,960.17449999999997]
[80,"o más",{"$f":"C982*$M$2","v":3813.8446666666664},3316.6384166666667,3023.6014166666664,2841.8379166666668,1927.9014999999999,1333.1840833333333,1021.2658333333334]
[1,"Hijo",{"$f":"C983*$M$2","v":145.34366666666665},126.63024999999999,109.34341666666666,75.692833333333326,41.706583333333334,24.167999999999996,14.181916666666664]
[2,"Hijos",{"$f":"C984*$M$2","v":171.77741666666665},149.62341666666666,129.14775,89.539083333333338,49.259083333333329,28.615583333333333,16.699416666666664]
[3,"Hijos o más",{"$f":"C985*$M$2","v":237.81983333333332},207.10633333333334,178.91033333333331,123.94491666666666,68.224249999999998,39.524749999999997,23.244916666666665]
[]
["ESSENTIAL 1000"]
["TARIFAS TRIMESTRAL"]
["EDAD"]
[" "," ","F50-1","F50-2","F50-3","F50-4","F50-5"]
[18,null,{"$f":"C920*$M$4","v":651.74037499999986},{"$f":"D920*$M$4","v":567.35662499999989},486.69568749999991,339.27231249999994,186.63699999999997,108.45793749999999,63.535999999999994]
[19,null,{"$f":"C921*$M$4","v":662.4124374999999},577.2841249999999,486.69568749999991,339.27231249999994,188.126125,109.69887499999999,64.776937499999988]
[20,null,{"$f":"C922*$M$4","v":673.58087499999988},586.46706249999988,486.69568749999991,340.01687499999997,189.86343749999997,111.43618749999997,66.017874999999989]
[21,null,{"$f":"C923*$M$4","v":686.48662499999989},597.13912499999992,486.69568749999991,341.75418749999994,192.09712499999998,113.42168749999999,67.755187499999991]
[22,null,{"$f":"C924*$M$4","v":697.90324999999996},606.81843749999996,487.68843749999996,344.23606249999995,194.82718749999998,115.65537499999999,69.492499999999993]
[23,null,{"$f":"C925*$M$4","v":709.31987499999991},616.49774999999988,490.41849999999994,347.46249999999998,197.80543749999998,118.13724999999999,71.47799999999998]
[24,null,{"$f":"C926*$M$4","v":720.98468749999995},626.67343749999998,494.14131249999991,351.68168749999995,201.52824999999999,121.11549999999998,73.711687499999982]
[25,null,{"$f":"C927*$M$4","v":732.15312499999993},637.3454999999999,499.10506249999992,356.39724999999999,205.25106249999999,123.84556249999999,75.945374999999999]
[26,null,{"$f":"C928*$M$4","v":743.81793749999997},647.02481249999994,505.30974999999989,362.35374999999999,210.21481249999999,127.32018749999999,78.427249999999987]
[27,null,{"$f":"C929*$M$4","v":755.23456249999992},656.70412499999986,512.75537499999996,369.30299999999994,215.17856249999997,131.53937499999998,81.653687500000004]
[28,null,{"$f":"C930*$M$4","v":769.62943749999988},668.12074999999993,521.69012499999997,377.24499999999995,221.13506249999998,135.75856249999998,84.631937499999992]
[29,null,{"$f":"C931*$M$4","v":782.78337499999986},681.52287499999989,532.11399999999992,386.1797499999999,227.83612499999995,139.97774999999999,88.106562499999995]
[30,null,{"$f":"C932*$M$4","v":796.18549999999993},693.18768749999992,544.2751874999999,396.10724999999991,234.78537499999996,145.43787499999996,91.829374999999999]
[31,null,{"$f":"C933*$M$4","v":809.83581249999997},704.85249999999996,557.42912499999989,407.27568749999995,242.47918749999997,151.14618749999997,95.800374999999988]
[32,null,{"$f":"C934*$M$4","v":823.73431249999987},715.52456249999989,572.3203749999999,419.6850624999999,251.41393749999995,156.85449999999997,100.26774999999998]
[33,null,{"$f":"C935*$M$4","v":846.07118749999984},736.12412499999994,589.19712499999991,433.58356249999991,260.84506249999998,163.80374999999998,105.23149999999998]
[34,null,{"$f":"C936*$M$4","v":868.65624999999989},755.23456249999992,607.81118749999985,448.72299999999996,271.51712499999996,171.24937499999999,110.44343749999999]
[35,null,{"$f":"C937*$M$4","v":890.99312499999996},774.84137499999986,628.16256249999992,465.10337499999997,282.68556249999995,178.94318749999996,116.15174999999998]
[36,null,{"$f":"C938*$M$4","v":913.32999999999993},794.69637499999988,650.49943749999989,482.97287499999993,295.09493749999996,187.62974999999997,122.60462499999998]
[37,null,{"$f":"C939*$M$4","v":936.41143749999992},814.55137499999989,675.06999999999994,502.57968749999998,308.74524999999994,197.06087499999998,129.30568749999998]
[38,null,{"$f":"C940*$M$4","v":959.74106249999988},834.90274999999986,702.12243749999993,524.4201875,323.38831249999993,207.23656249999999,136.99949999999998]
[39,null,{"$f":"C941*$M$4","v":982.82249999999988},854.01318749999984,731.16037499999993,547.74981249999996,339.27231249999994,218.65318749999997,145.18968749999999]
[40,null,{"$f":"C942*$M$4","v":1005.4075624999999},873.86818749999986,762.4319999999999,573.06493749999993,356.64543749999996,230.56618749999998,153.87625]
[41,null,{"$f":"C943*$M$4","v":1027.9926249999999},894.7159375,797.17824999999982,600.61374999999998,375.25949999999995,243.72012499999997,163.30737500000001]
[42,null,{"$f":"C944*$M$4","v":1051.8186249999999},913.82637499999987,833.91,630.64443749999987,395.61087499999996,257.86681249999998,173.73124999999999]
[43,null,{"$f":"C945*$M$4","v":1092.7695624999999},950.5581249999999,867.41531249999991,662.66062499999998,417.45137499999993,273.50262499999997,185.39606249999997]
[44,null,{"$f":"C946*$M$4","v":1134.9614374999999},987.28987499999994,900.42424999999992,697.90324999999996,441.52556249999998,290.13118749999995,197.55724999999998]
[45,null,{"$f":"C947*$M$4","v":1176.4087499999998},1023.0288749999999,932.68862499999989,735.62774999999988,467.33706249999994,308.00068749999997,210.95937499999999]
[46,null,{"$f":"C948*$M$4","v":1218.1042499999999},1059.2642499999999,966.44212499999992,776.08231249999983,495.13406249999997,327.85568749999999,225.85062499999998]
[47,null,{"$f":"C949*$M$4","v":1260.5443124999999},1095.7478125,998.95468749999998,820.25968749999993,525.41293749999988,349.19981249999995,241.23824999999997]
[48,null,{"$f":"C950*$M$4","v":1305.2180624999999},1134.2168749999998,1033.9491249999999,867.41531249999991,558.17368749999991,372.52943749999997,258.61137499999995]
[49,null,{"$f":"C951*$M$4","v":1348.8990624999999},1173.1823124999999,1069.9363125,918.5419374999999,593.41631249999989,397.34818749999994,277.47362499999997]
[50,null,{"$f":"C952*$M$4","v":1393.0764374999997},1211.6513749999999,1104.1861875,961.97474999999986,634.61543749999998,404.79381249999994,299.31412499999999]
[51,null,{"$f":"C953*$M$4","v":1436.7574374999999},1249.6240624999998,1139.4288124999998,994.23912499999983,684.50112499999989,438.79549999999995,325.87018749999993]
[52,null,{"$f":"C954*$M$4","v":1481.1829999999998},1288.0931249999999,1174.919625,1027.2480624999998,717.51006249999989,475.03087499999998,354.41174999999993]
[53,null,{"$f":"C955*$M$4","v":1533.3023749999998},1333.5114374999998,1216.3669374999999,1067.4544374999998,743.56974999999989,495.13406249999997,385.68337499999996]
[54,null,{"$f":"C956*$M$4","v":1585.9181249999999},1378.9297499999998,1257.8142499999997,1106.4198749999998,769.87762499999985,535.34043750000001,418.69231249999996]
[55,null,{"$f":"C957*$M$4","v":1639.0302499999998},1425.3408124999999,1298.7651874999997,1146.1298749999999,797.92281249999996,578.52506249999988,454.43131249999993]
[56,null,{"$f":"C958*$M$4","v":1691.3978124999999},1470.7591249999998,1340.2124999999999,1185.8398749999997,824.4788749999999,601.3583124999999,492.90037499999994]
[57,null,{"$f":"C959*$M$4","v":1742.5244374999997},1516.1774375,1382.1561875,1225.7980625,850.29037499999993,649.5066875,534.09949999999992]
[58,null,{"$f":"C960*$M$4","v":1803.0821874999999},1568.0486249999997,1425.5889999999999,1277.9174375,884.04387499999984,701.3778749999999,578.52506249999988]
[59,null,{"$f":"C961*$M$4","v":1863.8881249999999},1620.9125624999999,1468.7736249999998,1329.5404374999998,917.54918749999979,726.94118749999984,626.42524999999989]
[60,null,{"$f":"C962*$M$4","v":1923.7013124999999},1672.2873749999997,1512.2064374999998,1381.411625,951.05449999999985,785.01706249999995,678.04824999999994]
[61,null,{"$f":"C963*$M$4","v":1997.6611874999996},1736.8161249999998,1577.4797499999997,1433.2828124999999,986.54531249999991,847.06393749999995,733.3940624999999]
[62,null,{"$f":"C964*$M$4","v":2124.2368124999998},1823.9299374999996,1654.9142499999998,1498.0597499999999,1031.4672499999999,876.35006249999992,792.95906249999996]
[63,null,{"$f":"C965*$M$4","v":2271.4119999999998},1955.4693124999997,1741.0353124999999,1574.7496874999999,1085.0757499999997,945.5943749999999,857.4878124999999]
[64,null,{"$f":"C966*$M$4","v":2429.7556249999998},2097.4325624999997,1840.3103124999998,1665.338125,1147.6189999999999,1020.7951874999999,927.22849999999994]
[65,null,{"$f":"C967*$M$4","v":2599.5158749999996},2250.3160624999996,1960.4330624999998,1789.9282499999997,1228.5281249999998,1054.0523124999997,1002.6774999999999]
[66,null,{"$f":"C968*$M$4","v":2782.4300624999996},2415.1125624999995,2101.6517499999995,1933.1324374999997,1323.0875624999999,1137.9396875,1083.5866249999999]
[67,null,{"$f":"C969*$M$4","v":2978.9945625},2592.0702499999998,2269.9228749999997,2088.9941875,1429.3118124999999,1228.2799375,1170.9486249999998]
[68,null,{"$f":"C970*$M$4","v":3189.7057499999996},2782.9264374999998,2462.5163749999997,2265.2073124999997,1549.6827499999997,1385.8789999999999,1265.2598749999997]
[69,null,{"$f":"C971*$M$4","v":3416.0527499999994},2987.6811250000001,2686.6296874999998,2473.6848124999997,1692.6387499999998,1496.3224375,1367.0167499999998]
[70,null,{"$f":"C972*$M$4","v":3716.8559999999993},3232.3939999999998,2921.6632499999996,2752.8957499999997,1871.8301249999997,1615.7006249999999,1476.9638124999999]
[71,null,{"$f":"C973*$M$4","v":4093.3564374999992},3560.0014999999994,3245.2997499999997,3031.3621249999997,2061.9417499999995,1819.7107499999997,1594.8528749999998]
[72,null,{"$f":"C974*$M$4","v":4527.9327499999999},3937.7428749999995,3590.5285624999997,3354.7504374999999,2282.0840624999996,1963.9076874999996,1721.4284999999998]
[73,null,{"$f":"C975*$M$4","v":5029.7678749999995},4373.3119374999997,3986.8839999999996,3724.0534374999997,2532.5052499999997,2119.2730624999995,1856.9388749999998]
[74,null,{"$f":"C976*$M$4","v":5607.0519999999988},4875.3952499999996,4445.038125,4152.1768750000001,2824.1255624999994,2380.118125,2001.3839999999998]
[75,null,{"$f":"C977*$M$4","v":6269.4644374999989},5451.9348124999988,4950.3478749999995,4672.3778750000001,3169.1061874999996,2565.0178124999998,2154.2674999999999]
[76,null,{"$f":"C978*$M$4","v":7030.9036874999993},6113.6026874999989,5569.5756874999997,5238.7417499999992,3553.3004374999996,2762.0786874999994,2316.0857499999997]
[77,null,{"$f":"C979*$M$4","v":7895.5889374999988},6866.1071874999998,6260.0333124999988,5883.5328749999999,3991.5995624999991,3088.1970624999994,2484.8532499999997]
[78,null,{"$f":"C980*$M$4","v":8871.9585625},7714.660249999999,7033.8819374999985,6610.2258749999992,4484.4999374999998,3316.0331874999997,2660.073625]
[79,null,{"$f":"C981*$M$4","v":9968.2027499999986},8667.2038749999992,7903.0345624999991,7427.7554999999993,5039.1989999999996,3553.0522499999993,2839.7613749999996]
[80,"o más",{"$f":"C982*$M$4","v":11279.625499999998},9809.114562499999,8942.4438124999979,8404.8696874999987,5701.8596249999991,3942.9548124999997,3020.441875]
[1,"Hijo",{"$f":"C983*$M$4","v":429.86074999999994},374.51493749999997,323.38831249999993,223.86512499999998,123.34918749999999,71.47799999999998,41.943687499999996]
[2,"Hijos",{"$f":"C984*$M$4","v":508.03981249999993},442.51831249999992,381.96056249999998,264.81606249999999,145.68606249999999,84.631937499999992,49.389312499999996]
[3,"Hijos o más",{"$f":"C985*$M$4","v":703.36337499999991},612.52674999999988,529.13574999999992,366.57293749999997,201.77643749999996,116.89631249999999,68.747937499999992]
[]
["ESSENTIAL 1000"]
["TARIFAS SEMESTRAL"]
["EDAD"]
[" "," ","F50-1","F50-2","F50-3","F50-4","F50-5"]
[18,null,{"$f":"C920*$M$3","v":1284.7704999999999},{"$f":"D920*$M$3","v":1118.4254999999998},959.41924999999992,668.8047499999999,367.916,213.80224999999999,125.24799999999999]
[19,null,{"$f":"C921*$M$3","v":1305.8082499999998},1137.9955,959.41924999999992,668.8047499999999,370.85150000000004,216.24850000000001,127.69425]
[20,null,{"$f":"C922*$M$3","v":1327.8244999999999},1156.0977499999999,959.41924999999992,670.27250000000004,374.27625,219.67325,130.1405]
[21,null,{"$f":"C923*$M$3","v":1353.2655},1177.1354999999999,959.41924999999992,673.69724999999994,378.67949999999996,223.58724999999998,133.56524999999999]
[22,null,{"$f":"C924*$M$3","v":1375.7710000000002},1196.2162499999999,961.37625000000003,678.58974999999998,384.06125000000003,227.9905,136.99]
[23,null,{"$f":"C925*$M$3","v":1398.2764999999999},1215.2969999999998,966.75799999999992,684.95,389.93225000000001,232.88300000000001,140.904]
[24,null,{"$f":"C926*$M$3","v":1421.27125},1235.35625,974.09674999999993,693.26724999999999,397.27100000000002,238.75399999999999,145.30724999999998]
[25,null,{"$f":"C927*$M$3","v":1443.2875000000001},1256.394,983.8817499999999,702.56299999999999,404.60975000000002,244.13574999999997,149.7105]
[26,null,{"$f":"C928*$M$3","v":1466.28225},1275.4747500000001,996.11299999999994,714.30500000000006,414.39474999999999,250.98524999999998,154.60300000000001]
[27,null,{"$f":"C929*$M$3","v":1488.78775},1294.5554999999999,1010.7905,728.00400000000002,424.17975000000001,259.30250000000001,160.96325000000002]
[28,null,{"$f":"C930*$M$3","v":1517.16425},1317.0610000000001,1028.4034999999999,743.66,435.92174999999997,267.61975000000001,166.83425]
[29,null,{"$f":"C931*$M$3","v":1543.0944999999999},1343.4804999999999,1048.952,761.27299999999991,449.13149999999996,275.93700000000001,173.68375]
[30,null,{"$f":"C932*$M$3","v":1569.5139999999999},1366.47525,1072.92525,780.84299999999996,462.83049999999997,286.70049999999998,181.02250000000001]
[31,null,{"$f":"C933*$M$3","v":1596.42275},1389.47,1098.8554999999999,802.85924999999997,477.99725000000001,297.95324999999997,188.85050000000001]
[32,null,{"$f":"C934*$M$3","v":1623.8207499999999},1410.50775,1128.2104999999999,827.32174999999995,495.61024999999995,309.20600000000002,197.65699999999998]
[33,null,{"$f":"C935*$M$3","v":1667.8532499999999},1451.1154999999999,1161.4794999999999,854.71974999999998,514.20174999999995,322.90500000000003,207.44199999999998]
[34,null,{"$f":"C936*$M$3","v":1712.375},1488.78775,1198.1732499999998,884.56399999999996,535.23950000000002,337.58249999999998,217.71625]
[35,null,{"$f":"C937*$M$3","v":1756.4075},1527.4384999999997,1238.2917499999999,916.85450000000003,557.25575000000003,352.74924999999996,228.96899999999999]
[36,null,{"$f":"C938*$M$3","v":1800.44},1566.5784999999998,1282.3242499999999,952.08049999999992,581.71825000000001,369.87299999999999,241.68949999999998]
[37,null,{"$f":"C939*$M$3","v":1845.9402500000001},1605.7184999999999,1330.76,990.73125000000005,608.62699999999995,388.46449999999999,254.89924999999999]
[38,null,{"$f":"C940*$M$3","v":1891.9297499999998},1645.837,1384.0882499999998,1033.7852499999999,637.49275,408.52375000000001,270.06599999999997]
[39,null,{"$f":"C941*$M$3","v":1937.43},1683.5092499999998,1441.3305,1079.77475,668.8047499999999,431.02924999999999,286.21125000000001]
[40,null,{"$f":"C942*$M$3","v":1981.9517499999999},1722.6492499999999,1502.9759999999999,1129.6782499999999,703.05224999999996,454.51324999999997,303.33499999999998]
[41,null,{"$f":"C943*$M$3","v":2026.4734999999998},1763.7462500000001,1571.4709999999998,1183.9850000000001,739.74599999999998,480.44350000000003,321.92650000000003]
[42,null,{"$f":"C944*$M$3","v":2073.4414999999999},1801.4184999999998,1643.88,1243.18425,779.86450000000002,508.33074999999997,342.47500000000002]
[43,null,{"$f":"C945*$M$3","v":2154.1677499999996},1873.8275000000001,1709.92875,1306.2975000000001,822.91849999999999,539.15349999999989,365.46974999999998]
[44,null,{"$f":"C946*$M$3","v":2237.3402499999997},1946.2365,1774.999,1375.7710000000002,870.37575000000004,571.93325000000004,389.44299999999998]
[45,null,{"$f":"C947*$M$3","v":2319.0450000000001},2016.6885,1838.6015,1450.1369999999999,921.25774999999999,607.15925000000004,415.86250000000001]
[46,null,{"$f":"C948*$M$3","v":2401.2389999999996},2088.1190000000001,1905.1395,1529.8847499999999,976.05375000000004,646.29925000000003,445.21750000000003]
[47,null,{"$f":"C949*$M$3","v":2484.9007500000002},2160.0387500000002,1969.23125,1616.9712500000001,1035.74225,688.37474999999995,475.55099999999999]
[48,null,{"$f":"C950*$M$3","v":2572.9657500000003},2235.8724999999999,2038.2155,1709.92875,1100.3232499999999,734.36425000000008,509.79849999999999]
[49,null,{"$f":"C951*$M$3","v":2659.07375},2312.6847499999999,2109.1567500000001,1810.71425,1169.79675,783.28924999999992,546.98149999999998]
[50,null,{"$f":"C952*$M$3","v":2746.1602499999999},2388.5184999999997,2176.6732500000003,1896.3329999999999,1251.01225,797.96674999999993,590.03550000000007]
[51,null,{"$f":"C953*$M$3","v":2832.2682500000001},2463.3737500000002,2246.1467499999999,1959.9355,1349.3515,864.99400000000003,642.38524999999993]
[52,null,{"$f":"C954*$M$3","v":2919.8439999999996},2539.2075,2316.1095,2025.0057499999998,1414.42175,936.42449999999997,698.649]
[53,null,{"$f":"C955*$M$3","v":3022.5864999999999},2628.7402499999998,2397.8142499999999,2104.2642500000002,1465.7929999999999,976.05375000000004,760.29449999999997]
[54,null,{"$f":"C956*$M$3","v":3126.3074999999999},2718.2730000000001,2479.5189999999998,2181.0764999999997,1517.6534999999999,1055.3122500000002,825.36474999999996]
[55,null,{"$f":"C957*$M$3","v":3231.0069999999996},2809.7627499999999,2560.2452499999999,2259.3564999999999,1572.93875,1140.44175,895.81674999999996]
[56,null,{"$f":"C958*$M$3","v":3334.23875},2899.2955000000002,2641.9500000000003,2337.6364999999996,1625.2884999999999,1185.4527499999999,971.65049999999997]
[57,null,{"$f":"C959*$M$3","v":3435.0242499999999},2988.82825,2724.6332500000003,2416.4057500000004,1676.1704999999999,1280.36725,1052.866]
[58,null,{"$f":"C960*$M$3","v":3554.4012499999999},3091.0814999999998,2810.252,2519.1482500000002,1742.7085,1382.6205,1140.44175]
[59,null,{"$f":"C961*$M$3","v":3674.2674999999999},3195.2917499999999,2895.3815,2620.9122499999999,1808.7572499999999,1433.01325,1234.867]
[60,null,{"$f":"C962*$M$3","v":3792.1767500000001},3296.5664999999999,2981.0002499999996,2723.1655000000001,1874.8059999999998,1547.49775,1336.6310000000001]
[61,null,{"$f":"C963*$M$3","v":3937.9732499999996},3423.7714999999998,3109.6729999999998,2825.4187500000003,1944.76875,1669.81025,1445.7337500000001]
[62,null,{"$f":"C964*$M$3","v":4187.4907499999999},3595.4982499999996,3262.319,2953.1129999999998,2033.3229999999999,1727.5417499999999,1563.1537499999999]
[63,null,{"$f":"C965*$M$3","v":4477.616},3854.8007499999999,3432.0887499999999,3104.2912500000002,2139.0009999999997,1864.0425,1690.3587500000001]
[64,null,{"$f":"C966*$M$3","v":4789.7574999999997},4134.65175,3627.7887500000002,3282.8675000000003,2262.2920000000004,2012.2852499999999,1827.838]
[65,null,{"$f":"C967*$M$3","v":5124.4044999999996},4436.0297499999997,3864.5857499999997,3528.471,2421.7874999999999,2077.8447499999997,1976.5700000000002]
[66,null,{"$f":"C968*$M$3","v":5484.9817499999999},4760.8917499999998,4142.9690000000001,3810.7682499999996,2608.19175,2243.2112499999998,2136.0655000000002]
[67,null,{"$f":"C969*$M$3","v":5872.4677500000007},5109.7269999999999,4474.6804999999995,4118.0172499999999,2817.5907500000003,2421.2982500000003,2308.2814999999996]
[68,null,{"$f":"C970*$M$3","v":6287.8410000000003},5485.9602500000001,4854.3384999999998,4465.3847500000002,3054.8769999999995,2731.9720000000002,2494.1964999999996]
[69,null,{"$f":"C971*$M$3","v":6734.0369999999994},5889.5915000000005,5296.1312500000004,4876.3547499999995,3336.6849999999999,2949.6882500000002,2694.7889999999998]
[70,null,{"$f":"C972*$M$3","v":7327.0079999999998},6371.9920000000002,5759.451,5426.7609999999995,3689.9234999999999,3185.0174999999999,2911.52675]
[71,null,{"$f":"C973*$M$3","v":8069.2002499999999},7017.8019999999997,6397.433,5975.6994999999997,4064.6889999999999,3587.181,3143.9205000000002]
[72,null,{"$f":"C974*$M$3","v":8925.8770000000004},7762.4404999999997,7077.9797500000004,6613.1922500000001,4498.6537500000004,3871.43525,3393.4380000000001]
[73,null,{"$f":"C975*$M$3","v":9915.1405000000013},8621.0742500000015,7859.3119999999999,7341.19625,4992.3069999999998,4177.7057500000001,3660.5684999999999]
[74,null,{"$f":"C976*$M$3","v":11053.135999999999},9610.8269999999993,8762.4675000000007,8185.1525000000001,5567.1757499999994,4691.9075000000003,3945.3119999999999]
[75,null,{"$f":"C977*$M$3","v":12358.944249999999},10747.354749999999,9758.5805,9210.6205000000009,6247.2332500000002,5056.3987500000003,4246.6900000000005]
[76,null,{"$f":"C978*$M$3","v":13859.963250000001},12051.695249999999,10979.259250000001,10327.089,7004.5922499999997,5444.8632499999994,4565.6809999999996]
[77,null,{"$f":"C979*$M$3","v":15564.510249999999},13535.10125,12340.35275,11598.1605,7868.6077499999992,6087.7377499999993,4898.3710000000001]
[78,null,{"$f":"C980*$M$3","v":17489.21975},15207.847,13865.834249999998,13030.684499999999,8840.258249999999,6536.8692499999997,5243.7815000000001]
[79,null,{"$f":"C981*$M$3","v":19650.236999999997},17085.588500000002,15579.187749999999,14642.273999999999,9933.732,7004.1030000000001,5597.9984999999997]
[80,"o más",{"$f":"C982*$M$3","v":22235.434000000001},19336.62775,17628.16675,16568.451250000002,11240.029500000001,7772.7147500000001,5954.1725000000006]
[1,"Hijo",{"$f":"C983*$M$3","v":847.38099999999997},738.27824999999996,637.49275,441.30349999999999,243.15725,140.904,82.683249999999987]
[2,"Hijos",{"$f":"C984*$M$3","v":1001.49475},872.33274999999992,752.95574999999997,522.02975000000004,287.18975,166.83425,97.360749999999996]
[3,"Hijos o más",{"$f":"C985*$M$3","v":1386.5345},1207.4690000000001,1043.0809999999999,722.62224999999989,397.76024999999998,230.43674999999999,135.52224999999999]

{"sheet":"Tablas Guayaquil","index":4,"n_rows":1198,"n_cols":17,"rows_kept":1198,"cut":false,"hidden":true,"merged":[[1128,0,1128,6],[1129,0,1129,6],[1130,0,1130,1],[1130,2,1130,6],[988,0,988,1],[988,2,988,6],[1057,0,1057,6],[1058,0,1058,6],[1059,0,1059,1],[1059,2,1059,6],[987,0,987,6],[774,0,774,1],[774,2,774,6],[843,0,843,6],[844,0,844,6],[845,0,845,1],[845,2,845,6],[915,0,915,6],[916,0,916,6],[917,0,917,1],[917,2,917,6],[986,0,986,6],[773,0,773,6],[561,0,561,1],[561,2,561,6],[630,0,630,6],[631,0,631,6],[632,0,632,1],[632,2,632,6],[701,0,701,6],[702,0,702,6],[703,0,703,1],[703,2,703,6],[772,0,772,6],[560,0,560,6],[425,0,425,6],[426,0,426,6],[427,0,427,1],[427,2,427,6],[457,0,457,6],[458,0,458,1],[458,2,458,6],[488,0,488,6],[489,0,489,6],[490,0,490,1],[490,2,490,6],[559,0,559,6],[356,0,356,1],[356,2,356,6],[142,0,142,6],[143,0,143,6],[144,0,144,1],[144,2,144,6],[213,0,213,6],[214,0,214,1],[214,2,214,6],[284,0,284,6],[285,0,285,6],[286,0,286,1],[286,2,286,6],[355,0,355,6],[73,0,73,1],[73,2,73,6],[1,0,1,6],[2,0,2,6],[3,0,3,1],[3,2,3,6],[72,0,72,6]]}
[]
["FLEX 500",null,null,null,null,null,null,null,null,null,"FACTOR MENSUAL:",null,{"$f":"1.06/12","v":8.8333333333333333E-2}]
["TARIFAS ANUALES",null,null,null,null,null,null,null,null,null,"FACTOR SEMESTRAL:",null,{"$f":"1.03/2","v":0.51500000000000001}]
["EDAD",null,null,null,null,null,null,null,null,null,"FACTOR TRIMESTRAL:",null,{"$f":"1.045/4","v":0.26124999999999998}]
[" "," ","F500-1","F500-2","F500-3","F500-4","F500-5","F500-6","F500-7"]
[18,null,2425,2074,1519,1047,571,329,189]
[19,null,2465,2074,1519,1048,577,334,194]
[20,null,2508,2074,1519,1052,583,339,198]
[21,null,2556,2074,1521,1058,590,346,204]
[22,null,2597,2074,1526,1066,599,353,209]
[23,null,2640,2080,1536,1077,609,361,214]
[24,null,2647,2090,1548,1092,620,370,222]
[25,null,2659,2104,1564,1108,633,380,229]
[26,null,2679,2125,1587,1127,649,391,237]
[27,null,2706,2152,1612,1149,665,403,246]
[28,null,2739,2184,1641,1175,684,417,255]
[29,null,2779,2220,1674,1204,705,432,267]
[30,null,2825,2265,1713,1236,729,448,278]
[31,null,2881,2315,1757,1271,753,466,292]
[32,null,2945,2373,1804,1310,782,485,305]
[33,null,3017,2436,1859,1355,811,507,320]
[34,null,3097,2507,1919,1404,844,529,337]
[35,null,3186,2585,1985,1457,880,555,355]
[36,null,3285,2672,2057,1513,920,583,375]
[37,null,3394,2767,2135,1577,963,612,396]
[38,null,3511,2869,2220,1646,1009,644,420]
[39,null,3640,2981,2315,1720,1059,679,444]
[40,null,3743,3103,2417,1801,1115,718,472]
[41,null,3827,3235,2526,1887,1173,759,503]
[42,null,3917,3379,2646,1984,1238,803,535]
[43,null,4066,3534,2774,2086,1308,853,571]
[44,null,4223,3673,2913,2197,1384,906,610]
[45,null,4379,3807,3063,2318,1465,963,651]
[46,null,4534,3943,3225,2447,1554,1024,696]
[47,null,4692,4079,3399,2587,1649,1091,746]
[48,null,4859,4223,3588,2739,1752,1165,800]
[49,null,5021,4366,3790,2902,1864,1245,858]
[50,null,5184,4510,4023,3091,1995,1336,926]
[51,null,5347,4651,4241,3318,2154,1449,1009]
[52,null,5512,4795,4372,3562,2323,1570,1099]
[53,null,5708,4962,4528,3824,2505,1699,1196]
[54,null,5903,5133,4681,4107,2701,1838,1300]
[55,null,6102,5305,4835,4266,2911,1987,1411]
[56,null,6296,5473,4988,4413,3081,2148,1530]
[57,null,6487,5644,5144,4561,3176,2320,1659]
[58,null,6713,5836,5306,4757,3303,2505,1797]
[59,null,6937,6032,5466,4949,3427,2704,1944]
[60,null,7160,6225,5630,5143,3554,2919,2105]
[61,null,7436,6464,5872,5334,3686,3149,2276]
[62,null,7769,6755,6160,5575,3853,3398,2462]
[63,null,8169,7102,6480,5861,4054,3665,2661]
[64,null,8640,7514,6849,6199,4502,3954,2873]
[65,null,9206,8002,7297,6663,4819,4266,3104]
[66,null,9866,8580,7824,7196,5191,4602,3353]
[67,null,10654,9266,8450,7776,5606,4965,3621]
[68,null,11561,10050,9167,8431,6079,5356,3908]
[69,null,12615,10970,10002,9207,6324,5778,4218]
[70,null,13836,12032,10875,10246,6992,6232,4549]
[71,null,15239,13252,12081,11283,7703,6720,4904]
[72,null,16856,14657,13367,12487,8525,7243,5282]
[73,null,18723,16279,14841,13862,9461,7803,5685]
[74,null,20873,18148,16547,15457,10552,8401,6109]
[75,null,23337,20295,18429,17392,11840,9034,6555]
[76,null,26173,22758,20734,19501,13276,9702,7019]
[77,null,29391,25560,23304,21742,14912,10402,7498]
[78,null,33026,28718,26183,23322,16058,11128,7985]
[79,null,37107,32265,29420,24981,17188,11874,8468]
[80,"o más",41703,36514,32504,26713,18353,12629,8937]
[1,"Hijo",1601,1391,1008,691,378,218,125]
[2,"Hijos",1892,1643,1192,816,446,256,147]
[3,"Hijos o más",2619,2276,1649,1130,618,355,205]
[]
["TARIFAS MENSUALES"]
["EDAD"]
[" "," ","F500-1","F500-2","F500-3","F500-4","F500-5"]
[18,null,{"$f":"+C6*$M$2","v":214.20833333333334},{"$f":"+D6*$M$2","v":183.20333333333332},134.17833333333334,92.484999999999999,50.438333333333333,29.061666666666667,16.695]
[19,null,{"$f":"+C7*$M$2","v":217.74166666666667},183.20333333333332,134.17833333333334,92.573333333333338,50.968333333333334,29.503333333333334,17.136666666666667]
[20,null,221.54,183.20333333333332,134.17833333333334,92.926666666666662,51.498333333333335,29.945,17.489999999999998]
[21,null,225.78,183.20333333333332,134.35499999999999,93.456666666666663,52.116666666666667,30.563333333333333,18.02]
[22,null,229.40166666666667,183.20333333333332,134.79666666666665,94.163333333333327,52.911666666666669,31.181666666666665,18.461666666666666]
[23,null,233.2,183.73333333333332,135.68,95.135000000000005,53.795000000000002,31.888333333333332,18.903333333333332]
[24,null,233.81833333333333,184.61666666666667,136.74,96.46,54.766666666666666,32.68333333333333,19.61]
[25,null,234.87833333333333,185.85333333333332,138.15333333333334,97.873333333333335,55.914999999999999,33.56666666666667,20.228333333333332]
[26,null,236.64500000000001,187.70833333333334,140.185,99.551666666666662,57.328333333333333,34.538333333333334,20.934999999999999]
[27,null,239.03,190.09333333333333,142.39333333333335,101.495,58.741666666666667,35.598333333333336,21.73]
[28,null,241.94499999999999,192.92,144.95500000000001,103.79166666666667,60.42,36.835000000000001,22.524999999999999]
[29,null,245.47833333333332,196.1,147.87,106.35333333333334,62.274999999999999,38.159999999999997,23.585000000000001]
[30,null,249.54166666666666,200.07499999999999,151.315,109.18,64.394999999999996,39.573333333333331,24.556666666666665]
[31,null,254.48833333333334,204.49166666666667,155.20166666666665,112.27166666666666,66.515000000000001,41.163333333333334,25.793333333333333]
[32,null,260.14166666666665,209.61500000000001,159.35333333333332,115.71666666666667,69.076666666666668,42.841666666666669,26.941666666666666]
[33,null,266.50166666666667,215.18,164.21166666666667,119.69166666666666,71.638333333333335,44.784999999999997,28.266666666666666]
[34,null,273.56833333333333,221.45166666666665,169.51166666666666,124.02,74.553333333333327,46.728333333333332,29.768333333333334]
[35,null,{"$f":"+C23*$M$2","v":281.43},228.34166666666667,175.34166666666667,128.70166666666665,77.733333333333334,49.024999999999999,31.358333333333334]
[36,null,290.17500000000001,236.02666666666667,181.70166666666665,133.64833333333334,81.266666666666666,51.498333333333335,33.125]
[37,null,299.80333333333334,244.41833333333332,188.59166666666667,139.30166666666668,85.064999999999998,54.06,34.979999999999997]
[38,null,310.13833333333332,253.42833333333334,196.1,145.39666666666668,89.12833333333333,56.886666666666663,37.1]
[39,null,321.53333333333336,263.32166666666666,204.49166666666667,151.93333333333334,93.545000000000002,59.978333333333332,39.22]
[40,null,330.63166666666666,274.09833333333336,213.50166666666667,159.08833333333334,98.49166666666666,63.423333333333332,41.693333333333335]
[41,null,338.05166666666668,285.75833333333333,223.13,166.685,103.61499999999999,67.045000000000002,44.431666666666665]
[42,null,346.00166666666667,298.47833333333335,233.73,175.25333333333333,109.35666666666667,70.931666666666672,47.258333333333333]
[43,null,359.16333333333336,312.17,245.03666666666666,184.26333333333332,115.54,75.348333333333329,50.438333333333333]
[44,null,373.03166666666664,324.44833333333332,257.315,194.06833333333333,122.25333333333333,80.03,53.883333333333333]
[45,null,386.81166666666667,336.28500000000003,270.565,204.75666666666666,129.40833333333333,85.064999999999998,57.505000000000003]
[46,null,400.50333333333333,348.29833333333335,284.875,216.15166666666667,137.27000000000001,90.453333333333333,61.48]
[47,null,414.46,360.31166666666667,300.245,228.51833333333335,145.66166666666666,96.37166666666667,65.896666666666661]
[48,null,429.21166666666664,373.03166666666664,316.94,241.94499999999999,154.76,102.90833333333333,70.666666666666671]
[49,null,443.52166666666665,385.66333333333336,334.78333333333336,256.34333333333331,164.65333333333334,109.97499999999999,75.790000000000006]
[50,null,457.92,398.38333333333333,355.36500000000001,273.03833333333336,176.22499999999999,118.01333333333334,81.796666666666667]
[51,null,{"$f":"+C39*$M$2","v":472.31833333333333},410.83833333333331,374.62166666666667,293.08999999999997,190.27,127.995,89.12833333333333]
[52,null,486.89333333333332,423.55833333333334,386.19333333333333,314.64333333333332,205.19833333333332,138.68333333333334,97.078333333333333]
[53,null,504.20666666666665,438.31,399.97333333333336,337.78666666666669,221.27500000000001,150.07833333333332,105.64666666666666]
[54,null,521.43166666666662,453.41500000000002,413.48833333333334,362.78500000000003,238.58833333333334,162.35666666666665,114.83333333333333]
[55,null,539.01,468.60833333333335,427.09166666666664,376.83,257.13833333333332,175.51833333333335,124.63833333333334]
[56,null,556.14666666666665,483.44833333333332,440.60666666666668,389.815,272.15499999999997,189.74,135.15]
[57,null,573.01833333333332,498.55333333333334,454.38666666666666,402.88833333333332,280.54666666666668,204.93333333333334,146.54499999999999]
[58,null,592.98166666666668,515.51333333333332,468.69666666666666,420.20166666666665,291.76499999999999,221.27500000000001,158.73500000000001]
[59,null,612.76833333333332,532.82666666666671,482.83,437.16166666666669,302.71833333333331,238.85333333333332,171.72]
[60,null,632.4666666666667,549.875,497.31666666666666,454.29833333333335,313.93666666666667,257.84500000000003,185.94166666666666]
[61,null,656.84666666666669,570.98666666666668,518.69333333333338,471.17,325.59666666666669,278.16166666666669,201.04666666666665]
[62,null,686.26166666666666,596.69166666666672,544.13333333333333,492.45833333333331,340.34833333333336,300.15666666666664,217.47666666666666]
[63,null,721.59500000000003,627.34333333333336,572.4,517.72166666666669,358.10333333333335,323.74166666666667,235.05500000000001]
[64,null,763.2,663.73666666666668,604.995,547.57833333333338,397.67666666666668,349.27,253.78166666666667]
[65,null,813.19666666666672,706.84333333333336,644.56833333333338,588.56500000000005,425.67833333333334,376.83,274.18666666666667]
[66,null,871.49666666666667,757.9,691.12,635.64666666666665,458.53833333333336,406.51,296.18166666666667]
[67,null,{"$f":"+C55*$M$2","v":941.10333333333335},818.49666666666667,746.41666666666663,686.88,495.19666666666666,438.57499999999999,319.85500000000002]
[68,null,1021.2216666666667,887.75,809.75166666666667,744.73833333333334,536.97833333333335,473.11333333333334,345.20666666666665]
[69,null,1114.325,969.01666666666665,883.51,813.28499999999997,558.62,510.39,372.59]
[70,null,1222.18,1062.8266666666666,960.625,905.06333333333328,617.62666666666667,550.49333333333334,401.82833333333332]
[71,null,1346.1116666666667,1170.5933333333332,1067.155,996.66499999999996,680.43166666666662,593.6,433.18666666666667]
[72,null,1488.9466666666667,1294.7016666666666,1180.7516666666666,1103.0183333333334,753.04166666666663,639.79833333333329,466.57666666666665]
[73,null,1653.865,1437.9783333333332,1310.9549999999999,1224.4766666666667,835.72166666666669,689.26499999999999,502.17500000000001]
[74,null,1843.7816666666668,1603.0733333333333,1461.6516666666666,1365.3683333333333,932.09333333333336,742.08833333333337,539.62833333333333]
[75,null,2061.4349999999999,1792.7249999999999,1627.895,1536.2933333333333,1045.8666666666666,798.00333333333333,579.02499999999998]
[76,null,2311.9483333333333,2010.29,1831.5033333333333,1722.5883333333334,1172.7133333333334,857.01,620.01166666666666]
[77,null,2596.2049999999999,2257.8000000000002,2058.52,1920.5433333333333,1317.2266666666667,918.84333333333336,662.32333333333338]
[78,null,2917.2966666666666,2536.7566666666667,2312.8316666666665,2060.11,1418.4566666666667,982.97333333333336,705.3416666666667]
[79,null,3277.7849999999999,2850.0749999999998,2598.7666666666669,2206.6550000000002,1518.2733333333333,1048.8699999999999,748.00666666666666]
[80,"o más",3683.7649999999999,3225.4033333333332,2871.1866666666665,2359.6483333333335,1621.1816666666666,1115.5616666666667,789.43499999999995]
[1,"Hijo",141.42166666666665,122.87166666666667,89.04,61.038333333333334,33.39,19.256666666666668,11.041666666666666]
[2,"Hijos",167.12666666666667,145.13166666666666,105.29333333333334,72.08,39.396666666666668,22.613333333333333,12.984999999999999]
[3,"Hijos o más",{"$f":"+C71*$M$2","v":231.345},201.04666666666665,145.66166666666666,99.816666666666663,54.59,31.358333333333334,18.108333333333334]
[]
["FLEX 100"]
["TARIFAS ANUALES"]
["EDAD"]
[" "," ","F100-1","F100-2","F100-3","F100-4","F100-5"]
[18,null,3048,2986,2821,2573,1991]
[19,null,3105,3044,2870,2619,2031]
[20,null,3157,3087,2916,2657,2070]
[21,null,3210,3145,2962,2700,2115]
[22,null,3260,3205,3013,2752,2162]
[23,null,3321,3253,3066,2792,2206]
[24,null,3376,3307,3118,2842,2250]
[25,null,3427,3359,3159,2891,2303]
[26,null,3483,3414,3216,2932,2342]
[27,null,3532,3464,3260,2979,2388]
[28,null,3598,3529,3325,3032,2445]
[29,null,3663,3590,3384,3083,2508]
[30,null,3729,3651,3441,3140,2562]
[31,null,3788,3712,3496,3191,2619]
[32,null,3856,3774,3561,3245,2672]
[33,null,3958,3878,3656,3329,2756]
[34,null,4063,3983,3752,3421,2836]
[35,null,4168,4086,3853,3511,2916]
[36,null,4272,4189,3949,3598,3004]
[37,null,4376,4293,4046,3692,3080]
[38,null,4486,4398,4148,3779,3170]
[39,null,4595,4500,4243,3873,3254]
[40,null,4704,4608,4343,3958,3345]
[41,null,4814,4717,4443,4049,3428]
[42,null,4919,4820,4542,4138,3524]
[43,null,5112,5011,4720,4307,3669]
[44,null,5310,5203,4901,4473,3831]
[45,null,5510,5391,5082,4636,3984]
[46,null,5695,5588,5263,4802,4133]
[47,null,5896,5775,5446,4966,4293]
[48,null,6103,5977,5635,5141,4448]
[49,null,6308,6183,5826,5312,4614]
[50,null,6513,6388,6018,5486,4778]
[51,null,6718,6591,6207,5662,4940]
[52,null,6927,6785,6400,5837,5102]
[53,null,7170,7032,6626,6041,5303]
[54,null,7417,7273,6853,6251,5496]
[55,null,7659,7512,7082,6456,5693]
[56,null,7908,7751,7307,6665,5892]
[57,null,8152,7991,7527,6862,6089]
[58,null,8433,8270,7764,7103,6347]
[59,null,8711,8540,8003,7340,6605]
[60,null,8999,8812,8239,7580,6862]
[61,null,9339,9151,8597,7864,7119]
[62,null,9757,9568,9016,8222,7443]
[63,null,10263,10055,9477,8638,7824]
[64,null,10856,10635,10027,9141,8273]
[65,null,11563,11327,10683,9739,8887]
[66,null,12394,12146,11448,10441,9602]
[67,null,13382,13121,12363,11274,10373]
[68,null,14522,14227,13409,12225,11249]
[69,null,15847,15533,14635,13343,12289]
[70,null,17384,17030,15919,14636,13670]
[71,null,19137,18755,17677,16116,15051]
[72,null,21177,20748,19559,17834,16662]
[73,null,23519,23044,21723,19806,18495]
[74,null,26224,25697,24214,22077,20625]
[75,null,29318,28726,26965,24684,23203]
[76,null,32880,32209,30338,27681,26021]
[77,null,36922,36177,34092,31090,29221]
[78,null,41488,40649,38313,34931,32829]
[79,null,46613,45676,43045,39246,36885]
[80,"o más",52748,51682,48710,44412,41737]
[1,"Hijo",1566,1531,1441,1320,777]
[2,"Hijos",2631,2578,2428,2215,1157]
[3,"Hijos o más",3858,3778,3561,3250,1655]
[]
["TARIFAS MENSUALES"]
["EDAD"]
[" "," ","F100-1","F100-2","F100-3","F100-4","F100-5"]
[18,null,{"$f":"+C147*$M$2","v":269.24},263.76333333333332,249.18833333333333,227.28166666666667,175.87166666666667]
[19,null,274.27499999999998,268.88666666666666,253.51666666666668,231.345,179.405]
[20,null,278.86833333333334,272.685,257.58,234.70166666666665,182.85]
[21,null,283.55,277.80833333333334,261.64333333333332,238.5,186.82499999999999]
[22,null,287.96666666666664,283.10833333333335,266.14833333333331,243.09333333333333,190.97666666666666]
[23,null,293.35500000000002,287.34833333333336,270.83,246.62666666666667,194.86333333333334]
[24,null,298.21333333333331,292.11833333333334,275.42333333333335,251.04333333333332,198.75]
[25,null,302.71833333333331,296.71166666666664,279.04500000000002,255.37166666666667,203.43166666666667]
[26,null,307.66500000000002,301.57,284.08,258.99333333333334,206.87666666666667]
[27,null,311.99333333333334,305.98666666666668,287.96666666666664,263.14499999999998,210.94]
[28,null,317.82333333333332,311.72833333333335,293.70833333333331,267.82666666666665,215.97499999999999]
[29,null,323.565,317.11666666666667,298.92,272.33166666666665,221.54]
[30,null,329.39499999999998,322.505,303.95499999999998,277.36666666666667,226.31]
[31,null,334.60666666666668,327.89333333333332,308.81333333333333,281.87166666666667,231.345]
[32,null,340.61333333333334,333.37,314.55500000000001,286.64166666666665,236.02666666666667]
[33,null,349.62333333333333,342.55666666666667,322.94666666666666,294.06166666666667,243.44666666666666]
[34,null,{"$f":"+C163*$M$2","v":358.89833333333331},351.83166666666665,331.42666666666668,302.18833333333333,250.51333333333332]
[35,null,368.17333333333335,360.93,340.34833333333336,310.13833333333332,257.58]
[36,null,377.36,370.02833333333331,348.82833333333332,317.82333333333332,265.35333333333335]
[37,null,386.54666666666668,379.21499999999997,357.39666666666665,326.12666666666667,272.06666666666666]
[38,null,396.26333333333332,388.49,366.40666666666664,333.81166666666667,280.01666666666665]
[39,null,405.89166666666665,397.5,374.79833333333335,342.11500000000001,287.43666666666667]
[40,null,415.52,407.04,383.63166666666666,349.62333333333333,295.47500000000002]
[41,null,425.23666666666668,416.66833333333335,392.46499999999997,357.66166666666669,302.80666666666667]
[42,null,434.51166666666666,425.76666666666665,401.21,365.52333333333331,311.28666666666669]
[43,null,451.56,442.63833333333332,416.93333333333334,380.45166666666665,324.09500000000003]
[44,null,469.05,459.59833333333336,432.92166666666668,395.11500000000001,338.40499999999997]
[45,null,486.71666666666664,476.20499999999998,448.91,409.51333333333332,351.92]
[46,null,503.05833333333334,493.60666666666668,464.89833333333331,424.17666666666668,365.08166666666665]
[47,null,520.81333333333328,510.125,481.06333333333333,438.66333333333336,379.21499999999997]
[48,null,539.09833333333336,527.96833333333336,497.75833333333333,454.12166666666667,392.90666666666664]
[49,null,557.20666666666671,546.16499999999996,514.63,469.22666666666669,407.57]
[50,null,{"$f":"+C179*$M$2","v":575.31500000000005},564.27333333333331,531.59,484.59666666666669,422.05666666666667]
[51,null,593.42333333333329,582.20500000000004,548.28499999999997,500.14333333333332,436.36666666666667]
[52,null,611.88499999999999,599.3416666666667,565.33333333333337,515.60166666666669,450.67666666666668]
[53,null,633.35,621.16,585.29666666666662,533.62166666666667,468.43166666666667]
[54,null,655.16833333333329,642.44833333333338,605.34833333333336,552.17166666666662,485.48]
[55,null,676.54499999999996,663.56,625.57666666666671,570.28,502.88166666666666]
[56,null,698.54,684.67166666666662,645.45166666666671,588.74166666666667,520.46]
[57,null,720.09333333333336,705.87166666666667,664.88499999999999,606.14333333333332,537.86166666666668]
[58,null,744.91499999999996,730.51666666666665,685.82,627.43166666666662,560.65166666666664]
[59,null,769.47166666666669,754.36666666666667,706.93166666666662,648.36666666666667,583.44166666666672]
[60,null,794.91166666666663,778.39333333333332,727.77833333333331,669.56666666666672,606.14333333333332]
[61,null,824.94500000000005,808.33833333333337,759.40166666666664,694.65333333333331,628.84500000000003]
[62,null,861.86833333333334,845.17333333333329,796.4133333333333,726.27666666666664,657.46500000000003]
[63,null,906.56500000000005,888.19166666666672,837.13499999999999,763.02333333333331,691.12]
[64,null,958.94666666666672,939.42499999999995,885.71833333333336,807.45500000000004,730.78166666666664]
[65,null,1021.3983333333333,1000.5516666666666,943.66499999999996,860.27833333333331,785.01833333333332]
[66,null,{"$f":"+C195*$M$2","v":1094.8033333333333},1072.8966666666668,1011.24,922.2883333333333,848.17666666666662]
[67,null,1182.0766666666666,1159.0216666666668,1092.0650000000001,995.87,916.28166666666664]
[68,null,1282.7766666666666,1256.7183333333332,1184.4616666666666,1079.875,993.66166666666663]
[69,null,1399.8183333333334,1372.0816666666667,1292.7583333333334,1178.6316666666667,1085.5283333333334]
[70,null,1535.5866666666666,1504.3166666666666,1406.1783333333333,1292.8466666666666,1207.5166666666667]
[71,null,1690.4349999999999,1656.6916666666666,1561.4683333333332,1423.58,1329.5050000000001]
[72,null,1870.635,1832.74,1727.7116666666666,1575.3366666666666,1471.81]
[73,null,2077.5116666666668,2035.5533333333333,1918.865,1749.53,1633.7249999999999]
[74,null,2316.4533333333334,2269.9016666666666,2138.9033333333332,1950.135,1821.875]
[75,null,2589.7566666666667,2537.4633333333331,2381.9083333333333,2180.42,2049.5983333333334]
[76,null,2904.4,2845.1283333333331,2679.8566666666666,2445.1550000000002,2298.5216666666665]
[77,null,3261.4433333333332,3195.6350000000002,3011.46,2746.2833333333333,2581.1883333333335]
[78,null,3664.7733333333335,3590.6616666666669,3384.3150000000001,3085.5716666666667,2899.895]
[79,null,4117.4816666666666,4034.7133333333331,3802.3083333333334,3466.73,3258.1750000000002]
[80,"o más",4659.4066666666668,4565.2433333333329,4302.7166666666662,3923.06,3686.7683333333334]
[1,"Hijo",138.33000000000001,135.23833333333334,127.28833333333333,116.6,68.635000000000005]
[2,"Hijos",{"$f":"+C211*$M$2","v":232.405},227.72333333333333,214.47333333333333,195.65833333333333,102.20166666666667]
[3,"Hijos o más",340.79,333.72333333333336,314.55500000000001,287.08333333333331,146.19166666666666]
[]
[]
["FLEX 50"]
["TARIFAS ANUALES"]
["EDAD"]
[" "," ","F50-1","F50-2","F50-3","F50-4","F50-5"]
[18,null,2424,2375,2239,2043,1577]
[19,null,2463,2415,2272,2074,1611]
[20,null,2508,2454,2313,2106,1645]
[21,null,2549,2493,2358,2145,1684]
[22,null,2589,2537,2392,2180,1717]
[23,null,2633,2582,2429,2218,1754]
[24,null,2674,2625,2473,2257,1791]
[25,null,2720,2665,2513,2290,1821]
[26,null,2759,2709,2552,2327,1859]
[27,null,2808,2751,2589,2363,1898]
[28,null,2856,2796,2634,2405,1943]
[29,null,2909,2849,2686,2449,1986]
[30,null,2958,2895,2733,2488,2034]
[31,null,3008,2945,2781,2533,2074]
[32,null,3054,3000,2824,2578,2126]
[33,null,3140,3079,2904,2647,2185]
[34,null,3228,3165,2980,2718,2250]
[35,null,3307,3241,3054,2788,2313]
[36,null,3393,3325,3136,2856,2381]
[37,null,3477,3407,3209,2923,2447]
[38,null,3561,3493,3290,3004,2513]
[39,null,3648,3574,3367,3072,2585]
[40,null,3734,3656,3445,3142,2655]
[41,null,3818,3740,3524,3210,2720]
[42,null,3904,3823,3607,3288,2790]
[43,null,4057,3976,3743,3417,2916]
[44,null,4214,4132,3891,3550,3037]
[45,null,4371,4276,4037,3681,3165]
[46,null,4525,4430,4177,3813,3283]
[47,null,4679,4582,4323,3939,3407]
[48,null,4843,4744,4473,4081,3533]
[49,null,5007,4909,4621,4219,3663]
[50,null,5169,5067,4776,4356,3791]
[51,null,5333,5228,4926,4494,3917]
[52,null,5497,5386,5079,4633,4048]
[53,null,5693,5577,5255,4792,4202]
[54,null,5890,5767,5436,4958,4361]
[55,null,6082,5958,5616,5119,4520]
[56,null,6275,6151,5795,5281,4673]
[57,null,6469,6338,5980,5447,4831]
[58,null,6698,6557,6167,5636,5038]
[59,null,6920,6780,6355,5824,5242]
[60,null,7145,6996,6539,6015,5446]
[61,null,7412,7268,6823,6243,5649]
[62,null,7746,7589,7155,6522,5903]
[63,null,8147,7982,7527,6859,6207]
[64,null,8614,8441,7956,7252,6562]
[65,null,9177,8992,8472,7728,7052]
[66,null,9838,9641,9088,8288,7620]
[67,null,10620,10407,9809,8944,8230]
[68,null,11524,11288,10639,9706,8928]
[69,null,12573,12324,11616,10589,9747]
[70,null,13791,13514,12629,11616,10845]
[71,null,15191,14881,14024,12788,11943]
[72,null,16804,16463,15517,14151,13221]
[73,null,18660,18280,17237,15713,14674]
[74,null,20804,20381,19214,17519,16366]
[75,null,23261,22793,21396,19587,18403]
[76,null,26082,25556,24068,21963,20643]
[77,null,29295,28705,27054,24671,23183]
[78,null,32917,32249,30398,27712,26048]
[79,null,36983,36238,34157,31142,29267]
[80,"o más",41850,41004,38644,35242,33116]
[1,"Hijo",1236,1215,1140,1042,620]
[2,"Hijos",2083,2044,1925,1756,915]
[3,"Hijos o más",3061,3000,2824,2578,1319]
[]
["TARIFAS MENSUALES"]
["EDAD"]
[" "," ","F50-1","F50-2","F50-3","F50-4","F50-5"]
[18,null,{"$f":"+C289*$M$2","v":214.12},209.79166666666666,197.77833333333334,180.465,139.30166666666668]
[19,null,217.565,213.32499999999999,200.69333333333333,183.20333333333332,142.30500000000001]
[20,null,221.54,216.77,204.315,186.03,145.30833333333334]
[21,null,225.16166666666666,220.215,208.29,189.47499999999999,148.75333333333333]
[22,null,228.69499999999999,224.10166666666666,211.29333333333332,192.56666666666666,151.66833333333332]
[23,null,232.58166666666668,228.07666666666665,214.56166666666667,195.92333333333335,154.93666666666667]
[24,null,236.20333333333332,231.875,218.44833333333332,199.36833333333334,158.20500000000001]
[25,null,240.26666666666668,235.40833333333333,221.98166666666665,202.28333333333333,160.85499999999999]
[26,null,243.71166666666667,239.29499999999999,225.42666666666668,205.55166666666668,164.21166666666667]
[27,null,248.04,243.005,228.69499999999999,208.73166666666665,167.65666666666667]
[28,null,252.28,246.98,232.67,212.44166666666666,171.63166666666666]
[29,null,256.96166666666664,251.66166666666666,237.26333333333332,216.32833333333332,175.43]
[30,null,261.29000000000002,255.72499999999999,241.41499999999999,219.77333333333334,179.67]
[31,null,265.70666666666665,260.14166666666665,245.655,223.74833333333333,183.20333333333332]
[32,null,269.77,265,249.45333333333332,227.72333333333333,187.79666666666665]
[33,null,277.36666666666667,271.97833333333335,256.52,233.81833333333333,193.00833333333333]
[34,null,{"$f":"+C305*$M$2","v":285.14},279.57499999999999,263.23333333333335,240.09,198.75]
[35,null,292.11833333333334,286.28833333333336,269.77,246.27333333333334,204.315]
[36,null,299.71499999999997,293.70833333333331,277.01333333333332,252.28,210.32166666666666]
[37,null,307.13499999999999,300.95166666666665,283.46166666666664,258.19833333333332,216.15166666666667]
[38,null,314.55500000000001,308.54833333333335,290.61666666666667,265.35333333333335,221.98166666666665]
[39,null,322.24,315.70333333333332,297.41833333333335,271.36,228.34166666666667]
[40,null,329.83666666666664,322.94666666666666,304.30833333333334,277.54333333333335,234.52500000000001]
[41,null,337.25666666666666,330.36666666666667,311.28666666666669,283.55,240.26666666666668]
[42,null,344.85333333333335,337.69833333333332,318.61833333333334,290.44,246.45]
[43,null,358.36833333333334,351.21333333333331,330.63166666666666,301.83499999999998,257.58]
[44,null,372.23666666666668,364.99333333333334,343.70499999999998,313.58333333333331,268.26833333333332]
[45,null,386.10500000000002,377.71333333333331,356.60166666666669,325.15499999999997,279.57499999999999]
[46,null,399.70833333333331,391.31666666666666,368.96833333333331,336.815,289.99833333333333]
[47,null,413.31166666666667,404.74333333333334,381.86500000000001,347.94499999999999,300.95166666666665]
[48,null,427.79833333333335,419.05333333333334,395.11500000000001,360.48833333333334,312.08166666666665]
[49,null,442.28500000000003,433.62833333333333,408.18833333333333,372.67833333333334,323.565]
[50,null,{"$f":"+C321*$M$2","v":456.59500000000003},447.58499999999998,421.88,384.78,334.87166666666667]
[51,null,471.08166666666665,461.80666666666667,435.13,396.97,346.00166666666667]
[52,null,485.56833333333333,475.76333333333332,448.64499999999998,409.24833333333333,357.57333333333332]
[53,null,502.88166666666666,492.63499999999999,464.19166666666666,423.29333333333335,371.17666666666668]
[54,null,520.2833333333333,509.41833333333335,480.18,437.95666666666665,385.22166666666669]
[55,null,537.24333333333334,526.29,496.08,452.17833333333334,399.26666666666665]
[56,null,554.29166666666663,543.33833333333337,511.89166666666665,466.48833333333334,412.78166666666664]
[57,null,571.42833333333328,559.85666666666668,528.23333333333335,481.15166666666664,426.73833333333334]
[58,null,591.65666666666664,579.20166666666671,544.75166666666667,497.84666666666669,445.02333333333331]
[59,null,611.26666666666665,598.9,561.35833333333335,514.45333333333338,463.04333333333335]
[60,null,631.14166666666665,617.98,577.61166666666668,531.32500000000005,481.06333333333333]
[61,null,654.72666666666669,642.00666666666666,602.69833333333338,551.46500000000003,498.995]
[62,null,684.23,670.36166666666668,632.02499999999998,576.11,521.43166666666662]
[63,null,719.65166666666664,705.07666666666671,664.88499999999999,605.87833333333333,548.28499999999997]
[64,null,760.90333333333331,745.62166666666667,702.78,640.59333333333336,579.64333333333332]
[65,null,810.63499999999999,794.29333333333329,748.36,682.64,622.92666666666662]
[66,null,{"$f":"+C337*$M$2","v":869.02333333333331},851.62166666666667,802.77333333333331,732.10666666666668,673.1]
[67,null,938.1,919.28499999999997,866.4616666666667,790.05333333333328,726.98333333333335]
[68,null,1017.9533333333334,997.10666666666668,939.77833333333331,857.36333333333334,788.64]
[69,null,1110.615,1088.6199999999999,1026.08,935.36166666666668,860.98500000000001]
[70,null,1218.2049999999999,1193.7366666666667,1115.5616666666667,1026.08,957.97500000000002]
[71,null,1341.8716666666667,1314.4883333333332,1238.7866666666666,1129.6066666666666,1054.9649999999999]
[72,null,1484.3533333333332,1454.2316666666666,1370.6683333333333,1250.0050000000001,1167.855]
[73,null,1648.3,1614.7333333333333,1522.6016666666667,1387.9816666666666,1296.2033333333334]
[74,null,1837.6866666666667,1800.3216666666667,1697.2366666666667,1547.5116666666668,1445.6633333333334]
[75,null,2054.7216666666668,2013.3816666666667,1889.98,1730.1849999999999,1625.5983333333334]
[76,null,2303.91,2257.4466666666667,2126.0066666666667,1940.0650000000001,1823.4649999999999]
[77,null,2587.7249999999999,2535.6083333333331,2389.77,2179.2716666666665,2047.8316666666667]
[78,null,2907.6683333333335,2848.6616666666669,2685.1566666666668,2447.8933333333334,2300.9066666666668]
[79,null,3266.8316666666665,3201.0233333333335,3017.2016666666668,2750.8766666666666,2585.2516666666666]
[80,"o más",3696.75,3622.02,3413.5533333333333,3113.0433333333335,2925.2466666666664]
[1,"Hijo",109.18,107.325,100.7,92.043333333333337,54.766666666666666]
[2,"Hijos",{"$f":"+C353*$M$2","v":183.99833333333333},180.55333333333334,170.04166666666666,155.11333333333334,80.825000000000003]
[3,"Hijos o más",270.38833333333332,265,249.45333333333332,227.72333333333333,116.51166666666667]
[]
["ESSENTIAL"]
["TARIFAS ANUALES"]
["EDAD"]
[" "," ","ET1","ET2","ET3","ET4","ET5","ET6"]
[18,-24,{"$f":"L430*85%","v":4695.3999999999996},{"$f":"M430*85%","v":3968.65},3107.6,2264.4,1766.3,1335.35,null,null,null,5524,4669,3656,2664,2078,1571]
[25,-29,{"$f":"L431*85%","v":5208.8},4369.8499999999995,3511.35,2522.7999999999997,1977.1,1488.35,null,null,null,6128,5141,4131,2968,2326,1751]
[30,-34,6025.65,5014.1499999999996,4130.1499999999996,2929.1,2283.9499999999998,1723.8,null,null,null,7089,5899,4859,3446,2687,2028]
[35,-39,6663.15,5524.15,4617.2,3261.45,2540.65,1915.05,null,null,null,7839,6499,5432,3837,2989,2253]
[40,-44,7514.8499999999995,6201.5999999999995,5269.15,3686.45,2880.65,2160.6999999999998,null,null,null,8841,7296,6199,4337,3389,2542]
[45,-49,8711.65,7145.95,6182.05,4299.3,3348.15,2513.4499999999998,null,null,null,10249,8407,7273,5058,3939,2957]
[50,-54,9538.6999999999989,7790.25,6807.65,4709.8499999999995,3672.85,2749.75,null,null,null,11222,9165,8009,5541,4321,3235]
[55,-59,11273.55,9163,8131.0999999999995,5587.05,4363.05,3255.5,null,null,null,13263,10780,9566,6573,5133,3830]
[60,null,11886.4,9591.4,8691.25,5921.0999999999995,4612.95,3445.9,null,null,null,13984,11284,10225,6966,5427,4054]
[61,null,13378.15,10805.199999999999,9777.5499999999993,6669.0999999999995,5200.3,3889.6,null,null,null,15739,12712,11503,7846,6118,4576]
[62,null,14882.65,12013.05,10874.05,7417.0999999999995,5783.4,4329.8999999999996,null,null,null,17509,14133,12793,8726,6804,5094]
[63,null,16370.15,13220.05,11964.6,8168.5,6365.65,4762.55,null,null,null,19259,15553,14076,9610,7489,5603]
[64,null,17863.599999999999,14433.85,13057.699999999999,8910.5499999999993,6950.45,5200.3,null,null,null,21016,16981,15362,10483,8177,6118]
[65,null,17938.399999999998,14444.9,13187.75,8964.1,6991.25,5220.7,null,null,null,21104,16994,15515,10546,8225,6142]
[66,null,18008.95,14460.199999999999,13302.5,9021.0499999999993,7023.55,5230.05,null,null,null,21187,17012,15650,10613,8263,6153]
[67,null,20020.05,16069.25,14791.699999999999,10029.15,7816.5999999999995,5820.8,null,null,null,23553,18905,17402,11799,9196,6848]
[68,null,22032.85,17695.3,16276.65,11029.6,8600.2999999999993,6412.4,null,null,null,25921,20818,19149,12976,10118,7544]
[69,null,23035,18488.349999999999,17021.25,11539.6,8981.9499999999989,6709.9,null,null,null,27100,21751,20025,13576,10567,7894]
[70,null,23198.2,18530.849999999999,17311.95,11663.699999999999,9080.5499999999993,6743.9,null,null,null,27292,21801,20367,13722,10683,7934]
[71,null,26106.899999999998,20852.2,19476.05,13124.85,10217,7590.5,null,null,null,30714,24532,22913,15441,12020,8930]
[72,null,29013.05,23176.1,21658,14589.4,11356.85,8443.9,null,null,null,34133,27266,25480,17164,13361,9934]
[73,null,31924.3,25516.149999999998,23826.35,16053.949999999999,12501.8,9289.65,null,null,null,37558,30019,28031,18887,14708,10929]
[74,null,34830.449999999997,27834.95,26003.200000000001,17517.649999999998,13642.5,10142.199999999999,null,null,null,40977,32747,30592,20609,16050,11932]
[75,"o más",38047.699999999997,30342.45,28515.8,19166.649999999998,14927.699999999999,11085.699999999999,null,null,null,44762,35697,33548,22549,17562,13042]
[1,"Hijo",2141.15,1926.95,1140.7,923.94999999999993,719.1,532.1,null,null,null,2519,2267,1342,1087,846,626]
[2,"Hijos",3512.2,3250.4,1694.8999999999999,1446.7,1127.0999999999999,834.69999999999993,null,null,null,4132,3824,1994,1702,1326,982]
[3,"Hijos o más",{"$f":"L456*85%","v":5140.8},{"$f":"M456*85%","v":4760.8499999999995},2431,2101.1999999999998,1636.25,1207,null,null,null,6048,5601,2860,2472,1925,1420]
[]
["TARIFAS MENSUALES"]
["EDAD"]
[" "," ","ET1","ET2","ET3","ET4","ET5","ET6"]
[18,-24,{"$f":"+C430*$M$2","v":414.76033333333328},350.56408333333331,274.50466666666665,200.02200000000002,156.02316666666667,117.95591666666665]
[25,-29,460.1106666666667,386.00341666666662,310.16924999999998,222.8473333333333,174.64383333333333,131.47091666666665]
[30,-34,532.26574999999991,442.91658333333328,364.82991666666663,258.73716666666667,201.74891666666664,152.26900000000001]
[35,-39,588.57824999999991,487.96658333333329,407.85266666666666,288.09474999999998,224.42408333333333,169.16274999999999]
[40,-44,663.81174999999996,547.80799999999999,465.44158333333331,325.63641666666666,254.45741666666669,190.86183333333332]
[45,-49,769.52908333333335,631.22558333333336,546.08108333333337,379.7715,295.75324999999998,222.02141666666665]
[50,-54,842.58516666666662,688.13874999999996,601.34241666666662,416.03674999999993,324.43508333333335,242.89458333333334]
[55,-59,995.83024999999998,809.39833333333331,718.24716666666666,493.52275000000003,385.40275000000003,287.56916666666666]
[60,null,1049.9653333333333,847.2403333333333,767.72708333333333,523.03049999999996,407.47724999999997,304.38783333333333]
[61,null,1181.7365833333333,954.45933333333323,863.68358333333322,589.10383333333323,459.35983333333337,343.5813333333333]
[62,null,1314.6340833333334,1061.15275,960.54108333333329,655.17716666666661,510.86699999999996,382.47449999999998]
[63,null,1446.0299166666666,1167.7710833333333,1056.873,721.55083333333334,562.29908333333333,420.69191666666666]
[64,null,1577.9513333333332,1274.9900833333334,1153.4301666666665,787.09858333333329,613.95641666666666,459.35983333333337]
[65,null,1584.5586666666666,1275.9661666666666,1164.9179166666668,791.82883333333336,617.5604166666667,461.16183333333333]
[66,null,1590.7905833333334,1277.3176666666666,1175.0541666666666,796.85941666666656,620.41358333333335,461.98775000000001]
[67,null,1768.4377499999998,1419.4504166666666,1306.6001666666666,885.90824999999995,690.4663333333333,514.17066666666665]
[68,null,{"$f":"+C446*$M$2","v":1946.2350833333333},1563.0848333333333,1437.7707499999999,974.28133333333335,759.69316666666657,566.42866666666669]
[69,null,2034.7583333333334,1633.1375833333332,1503.54375,1019.3313333333334,793.4055833333332,592.70783333333327]
[70,null,2049.1743333333334,1636.8917499999998,1529.22225,1030.2935,802.11524999999995,595.7111666666666]
[71,null,2306.1095,1841.9443333333334,1720.3844166666665,1159.36175,902.50166666666667,670.49416666666662]
[72,null,2562.8194166666667,2047.2221666666665,1913.1233333333332,1288.7303333333332,1003.1884166666667,745.87783333333334]
[73,null,2819.9798333333333,2253.9265833333329,2104.6609166666667,1418.0989166666666,1104.3256666666666,820.58574999999996]
[74,null,3076.6897499999995,2458.7539166666666,2296.9493333333335,1547.3924166666666,1205.0875000000001,895.89433333333318]
[75,"o más",3360.8801666666664,2680.2497499999999,2518.8956666666668,1693.0540833333332,1318.6134999999999,979.23683333333327]
[1,"Hijo",189.13491666666667,170.21391666666668,100.76183333333334,81.615583333333333,63.520499999999998,47.002166666666668]
[2,"Hijos",310.24433333333332,287.11866666666668,149.71616666666665,127.79183333333334,99.56049999999999,73.731833333333327]
[3,"Hijos o más",454.10400000000004,420.54174999999998,214.73833333333334,185.60599999999999,144.53541666666666,106.61833333333334]
[]
["ESSENTIAL 500"]
["TARIFAS SEMESTRALES"]
["EDAD"]
[" "," ","F500-1","F500-2","F500-3","F500-4","F500-5"]
[18,null,{"$f":"+C6*$M$3","v":1248.875},{"$f":"+D6*$M$3","v":1068.1100000000001},782.28499999999997,539.20500000000004,294.065,169.435,97.335000000000008]
[19,null,{"$f":"+C7*$M$3","v":1269.4750000000001},1068.1100000000001,782.28499999999997,539.72,297.15500000000003,172.01,99.91]
[20,null,1291.6200000000001,1068.1100000000001,782.28499999999997,541.78,300.245,174.58500000000001,101.97]
[21,null,1316.3400000000001,1068.1100000000001,783.31500000000005,544.87,303.85000000000002,178.19,105.06]
[22,null,1337.4549999999999,1068.1100000000001,785.89,548.99,308.48500000000001,181.79500000000002,107.63500000000001]
[23,null,1359.6000000000001,1071.2,791.04,554.65499999999997,313.63499999999999,185.91499999999999,110.21000000000001]
[24,null,1363.2049999999999,1076.3500000000001,797.22,562.38,319.3,190.55,114.33]
[25,null,1369.385,1083.56,805.46,570.62,325.995,195.70000000000002,117.935]
[26,null,1379.6849999999999,1094.375,817.30500000000006,580.40499999999997,334.23500000000001,201.36500000000001,122.05500000000001]
[27,null,1393.5900000000001,1108.28,830.18000000000006,591.73500000000001,342.47500000000002,207.54500000000002,126.69]
[28,null,1410.585,1124.76,845.11500000000001,605.125,352.26,214.755,131.32500000000002]
[29,null,1431.1849999999999,1143.3,862.11,620.06000000000006,363.07499999999999,222.48000000000002,137.505]
[30,null,1454.875,1166.4750000000001,882.19500000000005,636.54,375.435,230.72,143.17000000000002]
[31,null,1483.7150000000001,1192.2250000000001,904.85500000000002,654.56500000000005,387.79500000000002,239.99,150.38]
[32,null,1516.675,1222.095,929.06000000000006,674.65,402.73,249.77500000000001,157.07500000000002]
[33,null,1553.7550000000001,1254.54,957.38499999999999,697.82500000000005,417.66500000000002,261.10500000000002,164.8]
[34,null,1594.9550000000002,1291.105,988.28500000000008,723.06000000000006,434.66,272.435,173.55500000000001]
[35,null,{"$f":"+C23*$M$3","v":1640.79},1331.2750000000001,1022.275,750.35500000000002,453.2,285.82499999999999,182.82500000000002]
[36,null,1691.7750000000001,1376.08,1059.355,779.19500000000005,473.8,300.245,193.125]
[37,null,1747.91,1425.0050000000001,1099.5250000000001,812.15499999999997,495.94499999999999,315.18,203.94]
[38,null,1808.165,1477.5350000000001,1143.3,847.69,519.63499999999999,331.66,216.3]
[39,null,1874.6000000000001,1535.2150000000001,1192.2250000000001,885.80000000000007,545.38499999999999,349.685,228.66]
[40,null,1927.645,1598.0450000000001,1244.7550000000001,927.51499999999999,574.22500000000002,369.77,243.08]
[41,null,1970.905,1666.0250000000001,1300.8900000000001,971.80500000000006,604.09500000000003,390.88499999999999,259.04500000000002]
[42,null,2017.2550000000001,1740.1849999999999,1362.69,1021.76,637.57000000000005,413.54500000000002,275.52500000000003]
[43,null,2093.9900000000002,1820.01,1428.6100000000001,1074.29,673.62,439.29500000000002,294.065]
[44,null,2174.8450000000003,1891.595,1500.1949999999999,1131.4549999999999,712.76,466.59000000000003,314.15000000000003]
[45,null,2255.1849999999999,1960.605,1577.4449999999999,1193.77,754.47500000000002,495.94499999999999,335.26499999999999]
[46,null,2335.0100000000002,2030.645,1660.875,1260.2049999999999,800.31000000000006,527.36,358.44]
[47,null,2416.38,2100.6849999999999,1750.4850000000001,1332.3050000000001,849.23500000000001,561.86500000000001,384.19]
[48,null,2502.3850000000002,2174.8450000000003,1847.82,1410.585,902.28,599.97500000000002,412]
[49,null,2585.8150000000001,2248.4900000000002,1951.8500000000001,1494.53,959.96,641.17500000000007,441.87]
[50,null,2669.76,2322.65,2071.8450000000003,1591.865,1027.425,688.04,476.89]
[51,null,{"$f":"+C39*$M$3","v":2753.7049999999999},2395.2649999999999,2184.1150000000002,1708.77,1109.31,746.23500000000001,519.63499999999999]
[52,null,2838.6800000000003,2469.4250000000002,2251.58,1834.43,1196.345,808.55000000000007,565.98500000000001]
[53,null,2939.62,2555.4300000000003,2331.92,1969.3600000000001,1290.075,874.98500000000001,615.94000000000005]
[54,null,3040.0450000000001,2643.4949999999999,2410.7150000000001,2115.105,1391.0150000000001,946.57,669.5]
[55,null,3142.53,2732.0750000000003,2490.0250000000001,2196.9900000000002,1499.165,1023.3050000000001,726.66499999999996]
[56,null,3242.44,2818.5950000000003,2568.8200000000002,2272.6950000000002,1586.7150000000001,1106.22,787.95]
[57,null,3340.8050000000003,2906.66,2649.16,2348.915,1635.64,1194.8,854.38499999999999]
[58,null,3457.1950000000002,3005.54,2732.59,2449.855,1701.0450000000001,1290.075,925.45500000000004]
[59,null,3572.5550000000003,3106.48,2814.9900000000002,2548.7350000000001,1764.905,1392.56,1001.1600000000001]
[60,null,3687.4,3205.875,2899.4500000000003,2648.645,1830.31,1503.2850000000001,1084.075]
[61,null,3829.54,3328.96,3024.08,2747.01,1898.29,1621.7350000000001,1172.1400000000001]
[62,null,4001.0350000000003,3478.8250000000003,3172.4,2871.125,1984.2950000000001,1749.97,1267.93]
[63,null,4207.0349999999999,3657.53,3337.2000000000003,3018.415,2087.81,1887.4750000000001,1370.415]
[64,null,4449.6000000000004,3869.71,3527.2350000000001,3192.4850000000001,2318.5300000000002,2036.31,1479.595]
[65,null,4741.09,4121.03,3757.9549999999999,3431.4450000000002,2481.7849999999999,2196.9900000000002,1598.56]
[66,null,5080.99,4418.7,4029.36,3705.94,2673.3650000000002,2370.0300000000002,1726.7950000000001]
[67,null,{"$f":"+C55*$M$3","v":5486.81},4771.99,4351.75,4004.6400000000003,2887.09,2556.9749999999999,1864.8150000000001]
[68,null,5953.915,5175.75,4721.0050000000001,4341.9650000000001,3130.6849999999999,2758.34,2012.6200000000001]
[69,null,6496.7250000000004,5649.55,5151.03,4741.6050000000005,3256.86,2975.67,2172.27]
[70,null,7125.54,6196.4800000000005,5600.625,5276.6900000000005,3600.88,3209.48,2342.7350000000001]
[71,null,7848.085,6824.78,6221.7150000000001,5810.7449999999999,3967.0450000000001,3460.8,2525.56]
[72,null,8680.84,7548.3550000000005,6884.0050000000001,6430.8050000000003,4390.375,3730.145,2720.23]
[73,null,9642.3449999999993,8383.6849999999995,7643.1149999999998,7138.93,4872.415,4018.5450000000001,2927.7750000000001]
[74,null,10749.595000000001,9346.2199999999993,8521.7049999999999,7960.3550000000005,5434.28,4326.5150000000003,3146.1350000000002]
[75,null,12018.555,10451.925000000001,9490.9349999999995,8956.880000000001,6097.6,4652.51,3375.8250000000003]
[76,null,13479.095000000001,11720.37,10678.01,10043.014999999999,6837.14,4996.53,3614.7850000000003]
[77,null,15136.365,13163.4,12001.56,11197.130000000001,7679.68,5357.03,3861.4700000000003]
[78,null,17008.39,14789.77,13484.245000000001,12010.83,8269.8700000000008,5730.92,4112.2750000000005]
[79,null,19110.105,16616.475000000002,15151.300000000001,12865.215,8851.82,6115.1100000000006,4361.0200000000004]
[80,"o más",21477.045000000002,18804.71,16739.560000000001,13757.195,9451.7950000000001,6503.9350000000004,4602.5550000000003]
[1,"Hijo",824.51499999999999,716.36500000000001,519.12,355.86500000000001,194.67000000000002,112.27,64.375]
[2,"Hijos",974.38,846.14499999999998,613.88,420.24,229.69,131.84,75.704999999999998]
[3,"Hijos o más",{"$f":"+C71*$M$3","v":1348.7850000000001},1172.1400000000001,849.23500000000001,581.95000000000005,318.27,182.82500000000002,105.575]
[]
["ESSENTIAL 100"]
["TARIFAS SEMESTRALES"]
["EDAD"]
[" "," ","F100-1","F100-2","F100-3","F100-4","F100-5"]
[18,null,{"$f":"+C147*$M$3","v":1569.72},{"$f":"+D147*$M$3","v":1537.79},1452.8150000000001,1325.095,{"$f":"+G147*$M$3","v":1025.365}]
[19,null,{"$f":"+C148*$M$3","v":1599.075},1567.66,1478.05,1348.7850000000001,1045.9649999999999]
[20,null,1625.855,1589.8050000000001,1501.74,1368.355,1066.05]
[21,null,1653.15,1619.675,1525.43,1390.5,1089.2250000000001]
[22,null,1678.9,1650.575,1551.6949999999999,1417.28,1113.43]
[23,null,1710.3150000000001,1675.2950000000001,1578.99,1437.88,1136.0899999999999]
[24,null,1738.64,1703.105,1605.77,1463.63,1158.75]
[25,null,1764.905,1729.885,1626.885,1488.865,1186.0450000000001]
[26,null,1793.7450000000001,1758.21,1656.24,1509.98,1206.1300000000001]
[27,null,1818.98,1783.96,1678.9,1534.1849999999999,1229.82]
[28,null,1852.97,1817.4349999999999,1712.375,1561.48,1259.175]
[29,null,1886.4449999999999,1848.8500000000001,1742.76,1587.7450000000001,1291.6200000000001]
[30,null,1920.4349999999999,1880.2650000000001,1772.115,1617.1000000000001,1319.43]
[31,null,1950.8200000000002,1911.68,1800.44,1643.365,1348.7850000000001]
[32,null,1985.8400000000001,1943.6100000000001,1833.915,1671.175,1376.08]
[33,null,2038.3700000000001,1997.17,1882.8400000000001,1714.4349999999999,1419.3400000000001]
[34,null,2092.4450000000002,2051.2449999999999,1932.28,1761.8150000000001,1460.54]
[35,null,{"$f":"+C164*$M$3","v":2146.52},2104.29,1984.2950000000001,1808.165,1501.74]
[36,null,2200.08,2157.335,2033.7350000000001,1852.97,1547.06]
[37,null,2253.64,2210.895,2083.69,1901.38,1586.2]
[38,null,2310.29,2264.9700000000003,2136.2200000000003,1946.1849999999999,1632.55]
[39,null,2366.4250000000002,2317.5,2185.145,1994.595,1675.81]
[40,null,2422.56,2373.12,2236.645,2038.3700000000001,1722.675]
[41,null,2479.21,2429.2550000000001,2288.145,2085.2350000000001,1765.42]
[42,null,2533.2849999999999,2482.3000000000002,2339.13,2131.0700000000002,1814.8600000000001]
[43,null,2632.6800000000003,2580.665,2430.8000000000002,2218.105,1889.5350000000001]
[44,null,2734.65,2679.5450000000001,2524.0149999999999,2303.5950000000003,1972.9650000000001]
[45,null,2837.65,2776.3650000000002,2617.23,2387.54,2051.7600000000002]
[46,null,2932.9250000000002,2877.82,2710.4450000000002,2473.0300000000002,2128.4949999999999]
[47,null,3036.44,2974.125,2804.69,2557.4900000000002,2210.895]
[48,null,3143.0450000000001,3078.1550000000002,2902.0250000000001,2647.6150000000002,2290.7200000000003]
[49,null,3248.62,3184.2449999999999,3000.39,2735.6800000000003,2376.21]
[50,null,3354.1950000000002,3289.82,3099.27,2825.29,2460.67]
[51,null,{"$f":"+C180*$M$3","v":3459.77},3394.3650000000002,3196.605,2915.9300000000003,2544.1]
[52,null,3567.4050000000002,3494.2750000000001,3296,3006.0550000000003,2627.53]
[53,null,3692.55,3621.48,3412.39,3111.1150000000002,2731.0450000000001]
[54,null,3819.7550000000001,3745.5950000000003,3529.2950000000001,3219.2649999999999,2830.44]
[55,null,3944.3850000000002,3868.6800000000003,3647.23,3324.84,2931.895]
[56,null,4072.62,3991.7650000000003,3763.105,3432.4749999999999,3034.38]
[57,null,4198.28,4115.3649999999998,3876.4050000000002,3533.9300000000003,3135.835]
[58,null,4342.9949999999999,4259.05,3998.46,3658.0450000000001,3268.7049999999999]
[59,null,4486.165,4398.1000000000004,4121.5450000000001,3780.1,3401.5750000000003]
[60,null,4634.4849999999997,4538.18,4243.085,3903.7000000000003,3533.9300000000003]
[61,null,4809.585,4712.7650000000003,4427.4549999999999,4049.96,3666.2850000000003]
[62,null,5024.8550000000005,4927.5200000000004,4643.24,4234.33,3833.145]
[63,null,5285.4449999999997,5178.3249999999998,4880.6549999999997,4448.57,4029.36]
[64,null,5590.84,5477.0250000000005,5163.9049999999997,4707.6149999999998,4260.5950000000003]
[65,null,5954.9449999999997,5833.4049999999997,5501.7449999999999,5015.585,4576.8050000000003]
[66,null,6382.91,6255.1900000000005,5895.72,5377.1149999999998,4945.03]
[67,null,{"$f":"+C196*$M$3","v":6891.7300000000005},6757.3150000000005,6366.9450000000006,5806.1100000000006,5342.0950000000003]
[68,null,7478.83,7326.9049999999997,6905.6350000000002,6295.875,5793.2350000000006]
[69,null,8161.2049999999999,7999.4949999999999,7537.0250000000005,6871.6450000000004,6328.835]
[70,null,8952.76,8770.4500000000007,8198.2849999999999,7537.54,7040.05]
[71,null,9855.5550000000003,9658.8250000000007,9103.6550000000007,8299.74,7751.2650000000003]
[72,null,10906.155000000001,10685.220000000001,10072.885,9184.51,8580.93]
[73,null,12112.285,11867.66,11187.345000000001,10200.09,9524.9250000000011]
[74,null,13505.36,13233.955,12470.210000000001,11369.655000000001,10621.875]
[75,null,15098.77,14793.890000000001,13886.975,12712.26,11949.545]
[76,null,16933.2,16587.635000000002,15624.07,14255.715,13400.815000000001]
[77,null,19014.830000000002,18631.154999999999,17557.38,16011.35,15048.815000000001]
[78,null,21366.32,20934.235000000001,19731.195,17989.465,16906.935000000001]
[79,null,24005.695,23523.14,22168.174999999999,20211.690000000002,18995.775000000001]
[80,"o más",27165.22,26616.23,25085.65,22872.18,21494.555]
[1,"Hijo",806.49,788.46500000000003,742.11500000000001,679.80000000000007,400.15500000000003]
[2,"Hijos",1354.9650000000001,1327.67,1250.42,1140.7250000000001,595.85500000000002]
[3,"Hijos o más",{"$f":"+C212*$M$3","v":1986.8700000000001},1945.67,1833.915,1673.75,852.32500000000005]
[]
["ESSENTIAL 50"]
["TARIFAS SEMESTRALES"]
["EDAD"]
[" "," ","F50-1","F50-2","F50-3","F50-4","F50-5"]
[18,null,{"$f":"+C289*$M$3","v":1248.3600000000001},{"$f":"+D289*$M$3","v":1223.125},1153.085,1052.145,812.15499999999997]
[19,null,{"$f":"+C290*$M$3","v":1268.4449999999999},1243.7250000000001,1170.08,1068.1100000000001,829.66500000000008]
[20,null,1291.6200000000001,1263.81,1191.1949999999999,1084.5899999999999,847.17500000000007]
[21,null,1312.7350000000001,1283.895,1214.3700000000001,1104.675,867.26]
[22,null,1333.335,1306.5550000000001,1231.8800000000001,1122.7,884.255]
[23,null,1355.9950000000001,1329.73,1250.9349999999999,1142.27,903.31000000000006]
[24,null,1377.1100000000001,1351.875,1273.595,1162.355,922.36500000000001]
[25,null,1400.8,1372.4750000000001,1294.1949999999999,1179.3500000000001,937.81500000000005]
[26,null,1420.885,1395.135,1314.28,1198.405,957.38499999999999]
[27,null,1446.1200000000001,1416.7650000000001,1333.335,1216.9449999999999,977.47]
[28,null,1470.8400000000001,1439.94,1356.51,1238.575,1000.645]
[29,null,1498.135,1467.2350000000001,1383.29,1261.2350000000001,1022.7900000000001]
[30,null,1523.3700000000001,1490.925,1407.4950000000001,1281.32,1047.51]
[31,null,1549.1200000000001,1516.675,1432.2150000000001,1304.4950000000001,1068.1100000000001]
[32,null,1572.81,1545,1454.3600000000001,1327.67,1094.8900000000001]
[33,null,1617.1000000000001,1585.6849999999999,1495.56,1363.2049999999999,1125.2750000000001]
[34,null,1662.42,1629.9750000000001,1534.7,1399.77,1158.75]
[35,null,{"$f":"+C306*$M$3","v":1703.105},1669.115,1572.81,1435.82,1191.1949999999999]
[36,null,1747.395,1712.375,1615.04,1470.8400000000001,1226.2149999999999]
[37,null,1790.655,1754.605,1652.635,1505.345,1260.2049999999999]
[38,null,1833.915,1798.895,1694.3500000000001,1547.06,1294.1949999999999]
[39,null,1878.72,1840.6100000000001,1734.0050000000001,1582.08,1331.2750000000001]
[40,null,1923.01,1882.8400000000001,1774.175,1618.13,1367.325]
[41,null,1966.27,1926.1000000000001,1814.8600000000001,1653.15,1400.8]
[42,null,2010.56,1968.845,1857.605,1693.32,1436.8500000000001]
[43,null,2089.355,2047.64,1927.645,1759.7550000000001,1501.74]
[44,null,2170.21,2127.98,2003.865,1828.25,1564.0550000000001]
[45,null,2251.0650000000001,2202.14,2079.0549999999998,1895.7150000000001,1629.9750000000001]
[46,null,2330.375,2281.4500000000003,2151.1550000000002,1963.6950000000002,1690.7450000000001]
[47,null,2409.6849999999999,2359.73,2226.3450000000003,2028.585,1754.605]
[48,null,2494.145,2443.16,2303.5950000000003,2101.7150000000001,1819.4950000000001]
[49,null,2578.605,2528.1350000000002,2379.8150000000001,2172.7849999999999,1886.4449999999999]
[50,null,2662.0349999999999,2609.5050000000001,2459.64,2243.34,1952.365]
[51,null,{"$f":"+C322*$M$3","v":2746.4949999999999},2692.42,2536.89,2314.41,2017.2550000000001]
[52,null,2830.9549999999999,2773.79,2615.6849999999999,2385.9949999999999,2084.7200000000003]
[53,null,2931.895,2872.1550000000002,2706.3250000000003,2467.88,2164.0300000000002]
[54,null,3033.35,2970.0050000000001,2799.54,2553.37,2245.915]
[55,null,3132.23,3068.37,2892.2400000000002,2636.2849999999999,2327.8000000000002]
[56,null,3231.625,3167.7649999999999,2984.4250000000002,2719.7150000000001,2406.5950000000003]
[57,null,3331.5350000000003,3264.07,3079.7000000000003,2805.2049999999999,2487.9650000000001]
[58,null,3449.4700000000003,3376.855,3176.0050000000001,2902.54,2594.5700000000002]
[59,null,3563.8,3491.7000000000003,3272.8250000000003,2999.36,2699.63]
[60,null,3679.6750000000002,3602.94,3367.585,3097.7249999999999,2804.69]
[61,null,3817.1800000000003,3743.02,3513.8450000000003,3215.145,2909.2350000000001]
[62,null,3989.19,3908.335,3684.8250000000003,3358.83,3040.0450000000001]
[63,null,4195.7049999999999,4110.7300000000005,3876.4050000000002,3532.3850000000002,3196.605]
[64,null,4436.21,4347.1149999999998,4097.34,3734.78,3379.4300000000003]
[65,null,4726.1549999999997,4630.88,4363.08,3979.92,3631.78]
[66,null,5066.57,4965.1149999999998,4680.32,4268.32,3924.3]
[67,null,{"$f":"+C338*$M$3","v":5469.3},5359.6050000000005,5051.6350000000002,4606.16,4238.45]
[68,null,5934.8600000000006,5813.32,5479.085,4998.59,4597.92]
[69,null,6475.0950000000003,6346.8600000000006,5982.24,5453.335,5019.7049999999999]
[70,null,7102.3649999999998,6959.71,6503.9350000000004,5982.24,5585.1750000000002]
[71,null,7823.3649999999998,7663.7150000000001,7222.3600000000006,6585.8200000000006,6150.6450000000004]
[72,null,8654.06,8478.4449999999997,7991.2550000000001,7287.7650000000003,6808.8150000000005]
[73,null,9609.9,9414.2000000000007,8877.0550000000003,8092.1950000000006,7557.1100000000006]
[74,null,10714.06,10496.215,9895.2100000000009,9022.2849999999999,8428.49]
[75,null,11979.415000000001,11738.395,11018.94,10087.305,9477.5450000000001]
[76,null,13432.23,13161.34,12395.02,11310.945,10631.145]
[77,null,15086.925000000001,14783.075000000001,13932.81,12705.565000000001,11939.245000000001]
[78,null,16952.255000000001,16608.235000000001,15654.970000000001,14271.68,13414.720000000001]
[79,null,19046.244999999999,18662.57,17590.855,16038.130000000001,15072.505000000001]
[80,"o más",21552.75,21117.06,19901.66,18149.63,17054.740000000002]
[1,"Hijo",636.54,625.72500000000002,587.1,536.63,319.3]
[2,"Hijos",1072.7450000000001,1052.6600000000001,991.375,904.34,471.22500000000002]
[3,"Hijos o más",{"$f":"+C354*$M$3","v":1576.415},1545,1454.3600000000001,1327.67,679.28499999999997]
[]
["ESSENTIAL 500"]
["TARIFAS TRIMESTRALES"]
["EDAD"]
[" "," ","F500-1","F500-2","F500-3","F500-4","F500-5"]
[18,null,{"$f":"+C6*$M$4","v":633.53125},{"$f":"+D6*$M$4","v":541.83249999999998},396.83874999999995,273.52875,149.17374999999998,85.951249999999987,49.376249999999999]
[19,null,{"$f":"+C7*$M$4","v":643.98124999999993},541.83249999999998,396.83874999999995,273.78999999999996,150.74124999999998,87.257499999999993,50.682499999999997]
[20,null,655.21499999999992,541.83249999999998,396.83874999999995,274.83499999999998,152.30875,88.563749999999999,51.727499999999999]
[21,null,667.755,541.83249999999998,397.36124999999998,276.40249999999997,154.13749999999999,90.392499999999998,53.294999999999995]
[22,null,678.46624999999995,541.83249999999998,398.66749999999996,278.49250000000001,156.48874999999998,92.221249999999998,54.601249999999993]
[23,null,689.69999999999993,543.4,401.28,281.36624999999998,159.10124999999999,94.311249999999987,55.907499999999999]
[24,null,691.52874999999995,546.01249999999993,404.41499999999996,285.28499999999997,161.97499999999999,96.662499999999994,57.997499999999995]
[25,null,694.66374999999994,549.66999999999996,408.59499999999997,289.46499999999997,165.37124999999997,99.274999999999991,59.826249999999995]
[26,null,699.88874999999996,555.15625,414.60374999999999,294.42874999999998,169.55124999999998,102.14874999999999,61.916249999999998]
[27,null,706.9425,562.20999999999992,421.13499999999999,300.17624999999998,173.73124999999999,105.28375,64.267499999999998]
[28,null,715.56374999999991,570.56999999999994,428.71124999999995,306.96875,178.69499999999999,108.94125,66.618749999999991]
[29,null,726.01374999999996,579.97499999999991,437.33249999999998,314.54499999999996,184.18124999999998,112.85999999999999,69.753749999999997]
[30,null,738.03125,591.73124999999993,447.52124999999995,322.90499999999997,190.45124999999999,117.03999999999999,72.627499999999998]
[31,null,752.66125,604.79374999999993,459.01624999999996,332.04874999999998,196.72125,121.74249999999999,76.284999999999997]
[32,null,769.38124999999991,619.94624999999996,471.29499999999996,342.23749999999995,204.29749999999999,126.70625,79.681249999999991]
[33,null,788.19124999999997,636.40499999999997,485.66374999999999,353.99374999999998,211.87374999999997,132.45374999999999,83.6]
[34,null,809.09124999999995,654.9537499999999,501.33874999999995,366.79499999999996,220.49499999999998,138.20124999999999,88.041249999999991]
[35,null,{"$f":"+C23*$M$4","v":832.34249999999997},675.33124999999995,518.58124999999995,380.64124999999996,229.89999999999998,144.99374999999998,92.743749999999991]
[36,null,858.20624999999995,698.06,537.39125000000001,395.27124999999995,240.35,152.30875,97.96875]
[37,null,886.68249999999989,722.87874999999997,557.76874999999995,411.99124999999998,251.58374999999998,159.88499999999999,103.455]
[38,null,917.24874999999997,749.52625,579.97499999999991,430.01749999999998,263.60124999999999,168.24499999999998,109.72499999999999]
[39,null,950.94999999999993,778.78625,604.79374999999993,449.34999999999997,276.66374999999999,177.38874999999999,115.99499999999999]
[40,null,977.85874999999999,810.65874999999994,631.44124999999997,470.51124999999996,291.29374999999999,187.57749999999999,123.30999999999999]
[41,null,999.80374999999992,845.14374999999995,659.9174999999999,492.97874999999999,306.44624999999996,198.28874999999999,131.40875]
[42,null,1023.31625,882.76374999999996,691.26749999999993,518.31999999999994,323.42749999999995,209.78375,139.76874999999998]
[43,null,1062.2424999999998,923.25749999999994,724.70749999999998,544.96749999999997,341.71499999999997,222.84625,149.17374999999998]
[44,null,1103.25875,959.57124999999996,761.0212499999999,573.96624999999995,361.57,236.6925,159.36249999999998]
[45,null,1144.0137499999998,994.5787499999999,800.2087499999999,605.57749999999999,382.73124999999999,251.58374999999998,170.07374999999999]
[46,null,1184.5074999999999,1030.1087499999999,842.53124999999989,639.27874999999995,405.98249999999996,267.52,181.82999999999998]
[47,null,1225.7849999999999,1065.6387499999998,887.98874999999998,675.85374999999999,430.80124999999998,285.02375000000001,194.89249999999998]
[48,null,1269.4137499999999,1103.25875,937.3649999999999,715.56374999999991,457.71,304.35624999999999,209]
[49,null,1311.7362499999999,1140.6174999999998,990.13749999999993,758.14749999999992,486.96999999999997,325.25624999999997,224.15249999999997]
[50,null,1354.32,1178.2375,1051.00875,807.52374999999995,521.19374999999991,349.03,241.91749999999999]
[51,null,{"$f":"+C39*$M$4","v":1396.9037499999999},1215.07375,1107.9612499999998,866.82749999999999,562.73249999999996,378.55124999999998,263.60124999999999]
[52,null,1440.01,1252.6937499999999,1142.1849999999999,930.57249999999999,606.88374999999996,410.16249999999997,287.11374999999998]
[53,null,1491.2149999999999,1296.3225,1182.9399999999998,999.02,654.43124999999998,443.86374999999998,312.45499999999998]
[54,null,1542.1587499999998,1340.9962499999999,1222.9112499999999,1072.9537499999999,705.6362499999999,480.17749999999995,339.625]
[55,null,1594.1474999999998,1385.9312499999999,1263.14375,1114.4924999999998,760.49874999999997,519.10374999999999,368.62374999999997]
[56,null,1644.83,1429.82125,1303.115,1152.89625,804.91125,561.16499999999996,399.71249999999998]
[57,null,1694.72875,1474.4949999999999,1343.87,1191.56125,829.7299999999999,606.09999999999991,433.41374999999999]
[58,null,1753.7712499999998,1524.655,1386.1924999999999,1242.7662499999999,862.90874999999994,654.43124999999998,469.46624999999995]
[59,null,1812.2912499999998,1575.86,1427.9924999999998,1292.92625,895.30374999999992,706.42,507.86999999999995]
[60,null,1870.55,1626.28125,1470.8374999999999,1343.6087499999999,928.48249999999996,762.58875,549.93124999999998]
[61,null,1942.655,1688.7199999999998,1534.06,1393.5074999999999,962.96749999999997,822.67624999999998,594.6049999999999]
[62,null,2029.6512499999999,1764.7437499999999,1609.3,1456.46875,1006.5962499999999,887.72749999999996,643.19749999999999]
[63,null,2134.1512499999999,1855.3974999999998,1692.8999999999999,1531.18625,1059.1074999999998,957.48124999999993,695.18624999999997]
[64,null,2257.1999999999998,1963.0324999999998,1789.30125,1619.48875,1176.1474999999998,1032.9824999999998,750.57124999999996]
[65,null,2405.0674999999997,2090.5225,1906.3412499999999,1740.7087499999998,1258.9637499999999,1114.4924999999998,810.92]
[66,null,2577.4924999999998,2241.5249999999996,2044.0199999999998,1879.9549999999999,1356.1487499999998,1202.2724999999998,875.97124999999994]
[67,null,{"$f":"+C55*$M$4","v":2783.3574999999996},2420.7424999999998,2207.5625,2031.4799999999998,1464.5674999999999,1297.1062499999998,945.98624999999993]
[68,null,3020.3112499999997,2625.5625,2394.8787499999999,2202.5987499999997,1588.1387499999998,1399.2549999999999,1020.9649999999999]
[69,null,3295.6687499999998,2865.9124999999999,2613.0225,2405.3287499999997,1652.145,1509.5024999999998,1101.9524999999999]
[70,null,3614.6549999999997,3143.3599999999997,2841.09375,2676.7674999999999,1826.6599999999999,1628.11,1188.42625]
[71,null,3981.1887499999998,3462.0849999999996,3156.1612499999997,2947.6837499999997,2012.4087499999998,1755.6,1281.1699999999998]
[72,null,4403.63,3829.1412499999997,3492.1287499999999,3262.2287499999998,2227.15625,1892.2337499999999,1379.9224999999999]
[73,null,4891.38375,4252.8887500000001,3877.2112499999998,3621.4474999999998,2471.6862499999997,2038.5337499999998,1485.20625]
[74,null,5453.07125,4741.165,4322.9037499999995,4038.1412499999997,2756.71,2194.76125,1595.9762499999999]
[75,null,6096.7912499999993,5302.0687499999995,4814.5762500000001,4543.66,3093.2,2360.1324999999997,1712.4937499999999]
[76,null,6837.69625,5945.5274999999992,5416.7574999999997,5094.6362499999996,3468.3549999999996,2534.6475,1833.7137499999999]
[77,null,7678.3987499999994,6677.5499999999993,6088.1699999999992,5680.0974999999999,3895.7599999999998,2717.5225,1958.8525]
[78,null,8628.0424999999996,7502.5774999999994,6840.3087499999992,6092.8724999999995,4195.1525000000001,2907.1899999999996,2086.0812499999997]
[79,null,9694.2037499999988,8429.2312499999989,7685.9749999999995,6526.2862499999992,4490.3649999999998,3102.0825,2212.2649999999999]
[80,"o más",10894.908749999999,9539.2824999999993,8491.67,6978.7712499999998,4794.7212499999996,3299.3262499999996,2334.7912499999998]
[1,"Hijo",418.26124999999996,363.39874999999995,263.33999999999997,180.52374999999998,98.752499999999998,56.952499999999993,32.65625]
[2,"Hijos",494.28499999999997,429.23374999999999,311.40999999999997,213.17999999999998,116.5175,66.88,38.403749999999995]
[3,"Hijos o más",{"$f":"+C71*$M$4","v":684.21375},594.6049999999999,430.80124999999998,295.21249999999998,161.45249999999999,92.743749999999991,53.556249999999999]
[]
["ESSENTIAL 100"]
["TARIFAS TRIMESTRALES"]
["EDAD"]
[" "," ","F100-1","F100-2","F100-3","F100-4","F100-5"]
[18,null,{"$f":"+C147*$M$4","v":796.29},{"$f":"+D147*$M$4","v":780.09249999999997},736.98624999999993,672.19624999999996,520.14874999999995]
[19,null,{"$f":"+C148*$M$4","v":811.18124999999998},795.24499999999989,749.78749999999991,684.21375,530.59875]
[20,null,824.7662499999999,806.47874999999999,761.80499999999995,694.1412499999999,540.78749999999991]
[21,null,838.61249999999995,821.63124999999991,773.82249999999999,705.375,552.54374999999993]
[22,null,851.67499999999995,837.30624999999998,787.1462499999999,718.95999999999992,564.82249999999999]
[23,null,867.61124999999993,849.84624999999994,800.99249999999995,729.41,576.3175]
[24,null,881.9799999999999,863.9537499999999,814.57749999999999,742.47249999999997,587.8125]
[25,null,895.30374999999992,877.53874999999994,825.28874999999994,755.27374999999995,601.65874999999994]
[26,null,909.93374999999992,891.90749999999991,840.18,765.9849999999999,611.84749999999997]
[27,null,922.7349999999999,904.96999999999991,851.67499999999995,778.26374999999996,623.86500000000001]
[28,null,939.97749999999996,921.95124999999996,868.65624999999989,792.1099999999999,638.75624999999991]
[29,null,956.9587499999999,937.88749999999993,884.06999999999994,805.43374999999992,655.21499999999992]
[30,null,974.20124999999996,953.8237499999999,898.96124999999995,820.32499999999993,669.32249999999999]
[31,null,989.6149999999999,969.76,913.32999999999993,833.64874999999995,684.21375]
[32,null,1007.3799999999999,985.95749999999998,930.31124999999997,847.75624999999991,698.06]
[33,null,1034.0274999999999,1013.1274999999999,955.12999999999988,869.70124999999996,720.005]
[34,null,1061.45875,1040.5587499999999,980.20999999999992,893.73624999999993,740.90499999999997]
[35,null,{"$f":"+C164*$M$4","v":1088.8899999999999},1067.4675,1006.5962499999999,917.24874999999997,761.80499999999995]
[36,null,1116.06,1094.37625,1031.67625,939.97749999999996,784.79499999999996]
[37,null,1143.23,1121.5462499999999,1057.0174999999999,964.53499999999997,804.65]
[38,null,1171.9675,1148.9775,1083.665,987.26374999999996,828.16249999999991]
[39,null,1200.4437499999999,1175.625,1108.4837499999999,1011.82125,850.10749999999996]
[40,null,1228.9199999999998,1203.8399999999999,1134.6087499999999,1034.0274999999999,873.88124999999991]
[41,null,1257.6575,1232.3162499999999,1160.7337499999999,1057.80125,895.56499999999994]
[42,null,1285.0887499999999,1259.2249999999999,1186.5974999999999,1081.0525,920.64499999999998]
[43,null,1335.51,1309.12375,1233.0999999999999,1125.2037499999999,958.52624999999989]
[44,null,1387.2375,1359.2837499999998,1280.38625,1168.57125,1000.8487499999999]
[45,null,1439.4875,1408.3987499999998,1327.6724999999999,1211.155,1040.82]
[46,null,1487.8187499999999,1459.865,1374.95875,1254.5224999999998,1079.7462499999999]
[47,null,1540.33,1508.71875,1422.7674999999999,1297.3674999999998,1121.5462499999999]
[48,null,1594.4087499999998,1561.4912499999998,1472.14375,1343.0862499999998,1162.04]
[49,null,1647.9649999999999,1615.3087499999999,1522.0424999999998,1387.76,1205.4075]
[50,null,1701.5212499999998,1668.8649999999998,1572.2024999999999,1433.2175,1248.2524999999998]
[51,null,{"$f":"+C180*$M$4","v":1755.0774999999999},1721.8987499999998,1621.5787499999999,1479.1975,1290.5749999999998]
[52,null,1809.6787499999998,1772.58125,1672,1524.91625,1332.8974999999998]
[53,null,1873.1624999999999,1837.11,1731.0424999999998,1578.2112499999998,1385.4087499999998]
[54,null,1937.6912499999999,1900.07125,1790.3462499999998,1633.0737499999998,1435.83]
[55,null,2000.9137499999999,1962.5099999999998,1850.1724999999999,1686.6299999999999,1487.2962499999999]
[56,null,2065.9649999999997,2024.9487499999998,1908.9537499999999,1741.2312499999998,1539.2849999999999]
[57,null,2129.71,2087.6487499999998,1966.4287499999998,1792.6975,1590.7512499999998]
[58,null,2203.1212499999997,2160.5374999999999,2028.3449999999998,1855.6587499999998,1658.1537499999999]
[59,null,2275.7487499999997,2231.0749999999998,2090.7837500000001,1917.5749999999998,1725.5562499999999]
[60,null,2350.98875,2302.1349999999998,2152.4387499999998,1980.2749999999999,1792.6975]
[61,null,2439.8137499999998,2390.69875,2245.9662499999999,2054.4699999999998,1859.8387499999999]
[62,null,2549.0162499999997,2499.64,2355.4299999999998,2147.9974999999999,1944.4837499999999]
[63,null,2681.2087499999998,2626.8687499999996,2475.86625,2256.6774999999998,2044.0199999999998]
[64,null,2836.1299999999997,2778.3937499999997,2619.55375,2388.0862499999998,2161.32125]
[65,null,3020.8337499999998,2959.1787499999996,2790.9337499999997,2544.3137499999998,2321.7287499999998]
[66,null,3237.9324999999999,3173.1424999999999,2990.79,2727.7112499999998,2508.5225]
[67,null,{"$f":"+C196*$M$4","v":3496.0474999999997},3427.8612499999999,3229.8337499999998,2945.3325,2709.94625]
[68,null,3793.8724999999999,3716.8037499999996,3503.1012499999997,3193.78125,2938.80125]
[69,null,4140.0287499999995,4057.9962499999997,3823.3937499999997,3485.8587499999999,3210.5012499999998]
[70,null,4541.57,4449.0874999999996,4158.8387499999999,3823.6549999999997,3571.2874999999999]
[71,null,4999.5412499999993,4899.7437499999996,4618.11625,4210.3049999999994,3932.0737499999996]
[72,null,5532.49125,5420.415,5109.7887499999997,4659.1324999999997,4352.9474999999993]
[73,null,6144.3387499999999,6020.2449999999999,5675.13375,5174.3174999999992,4831.8187499999995]
[74,null,6851.0199999999995,6713.3412499999995,6325.9074999999993,5767.61625,5388.28125]
[75,null,7659.3274999999994,7504.6674999999996,7044.6062499999998,6448.6949999999997,6061.7837499999996]
[76,null,8589.9,8414.6012499999997,7925.8024999999998,7231.6612499999992,6797.9862499999999]
[77,null,9645.8724999999995,9451.2412499999991,8906.5349999999999,8122.2624999999998,7633.9862499999999]
[78,null,10838.74,10619.551249999999,10009.27125,9125.7237499999992,8576.5762500000001]
[79,null,12177.64625,11932.855,11245.506249999999,10253.0175,9636.2062499999993]
[80,"o más",13780.414999999999,13501.922499999999,12725.487499999999,11602.634999999998,10903.791249999998]
[1,"Hijo",409.11749999999995,399.97375,376.46124999999995,344.84999999999997,202.99124999999998]
[2,"Hijos",687.34875,673.50249999999994,634.31499999999994,578.66874999999993,302.26624999999996]
[3,"Hijos o más",{"$f":"+C212*$M$4","v":1007.9024999999999},987.00249999999994,930.31124999999997,849.06249999999989,432.36874999999998]
[]
["ESSENTIAL 50"]
["TARIFAS TRIMESTRALES"]
["EDAD"]
[" "," ","F50-1","F50-2","F50-3","F50-4","F50-5"]
[18,null,{"$f":"+C289*$M$4","v":633.27},{"$f":"+D289*$M$4","v":620.46875},584.93874999999991,533.73374999999999,411.99124999999998]
[19,null,{"$f":"+C290*$M$4","v":643.45875000000001},630.91874999999993,593.55999999999995,541.83249999999998,420.87374999999997]
[20,null,655.21499999999992,641.10749999999996,604.27125000000001,550.1925,429.75624999999997]
[21,null,665.92624999999998,651.29624999999999,616.02749999999992,560.38124999999991,439.94499999999999]
[22,null,676.37624999999991,662.79124999999999,624.91,569.52499999999998,448.56624999999997]
[23,null,687.87124999999992,674.5474999999999,634.57624999999996,579.45249999999999,458.23249999999996]
[24,null,698.58249999999998,685.78125,646.07124999999996,589.64125000000001,467.89874999999995]
[25,null,710.59999999999991,696.23124999999993,656.52125000000001,598.26249999999993,475.73624999999998]
[26,null,720.78874999999994,707.72624999999994,666.70999999999992,607.92874999999992,485.66374999999999]
[27,null,733.58999999999992,718.6987499999999,676.37624999999991,617.33375000000001,495.85249999999996]
[28,null,746.13,730.45499999999993,688.13249999999994,628.30624999999998,507.60874999999999]
[29,null,759.97624999999994,744.30124999999998,701.71749999999997,639.80124999999998,518.84249999999997]
[30,null,772.77749999999992,756.31874999999991,713.99624999999992,649.99,531.38249999999994]
[31,null,785.83999999999992,769.38124999999991,726.53625,661.74624999999992,541.83249999999998]
[32,null,797.85749999999996,783.75,737.77,673.50249999999994,555.41750000000002]
[33,null,820.32499999999993,804.38874999999996,758.67,691.52874999999995,570.83124999999995]
[34,null,843.31499999999994,826.85624999999993,778.52499999999998,710.07749999999999,587.8125]
[35,null,{"$f":"+C306*$M$4","v":863.9537499999999},846.71124999999995,797.85749999999996,728.3649999999999,604.27125000000001]
[36,null,886.42124999999999,868.65624999999989,819.28,746.13,622.03625]
[37,null,908.36624999999992,890.0787499999999,838.35124999999994,763.63374999999996,639.27874999999995]
[38,null,930.31124999999997,912.54624999999999,859.51249999999993,784.79499999999996,656.52125000000001]
[39,null,953.04,933.70749999999998,879.62874999999997,802.56,675.33124999999995]
[40,null,975.50749999999994,955.12999999999988,900.00624999999991,820.84749999999997,693.61874999999998]
[41,null,997.45249999999999,977.07499999999993,920.64499999999998,838.61249999999995,710.59999999999991]
[42,null,1019.92,998.75874999999996,942.3287499999999,858.9899999999999,728.88749999999993]
[43,null,1059.8912499999999,1038.73,977.85874999999999,892.69124999999997,761.80499999999995]
[44,null,1100.9075,1079.4849999999999,1016.5237499999999,927.43749999999989,793.41624999999999]
[45,null,1141.9237499999999,1117.105,1054.66625,961.66124999999988,826.85624999999993]
[46,null,1182.15625,1157.3374999999999,1091.24125,996.1462499999999,857.68374999999992]
[47,null,1222.3887499999998,1197.0474999999999,1129.38375,1029.06375,890.0787499999999]
[48,null,1265.2337499999999,1239.3699999999999,1168.57125,1066.1612499999999,922.99624999999992]
[49,null,1308.0787499999999,1282.4762499999999,1207.2362499999999,1102.2137499999999,956.9587499999999]
[50,null,1350.4012499999999,1323.7537499999999,1247.73,1138.0049999999999,990.39874999999995]
[51,null,{"$f":"+C322*$M$4","v":1393.2462499999999},1365.8149999999998,1286.9175,1174.0574999999999,1023.31625]
[52,null,1436.0912499999999,1407.0925,1326.8887499999998,1210.3712499999999,1057.54]
[53,null,1487.2962499999999,1456.9912499999998,1372.8687499999999,1251.9099999999999,1097.7725]
[54,null,1538.7624999999998,1506.6287499999999,1420.155,1295.2774999999999,1139.31125]
[55,null,1588.9224999999999,1556.5274999999999,1467.1799999999998,1337.3387499999999,1180.8499999999999]
[56,null,1639.34375,1606.9487499999998,1513.9437499999999,1379.6612499999999,1220.82125]
[57,null,1690.0262499999999,1655.8024999999998,1562.2749999999999,1423.0287499999999,1262.0987499999999]
[58,null,1749.8525,1713.0162499999999,1611.1287499999999,1472.405,1316.1775]
[59,null,1807.85,1771.2749999999999,1660.2437499999999,1521.52,1369.4724999999999]
[60,null,1866.6312499999999,1827.7049999999999,1708.3137499999998,1571.4187499999998,1422.7674999999999]
[61,null,1936.3849999999998,1898.7649999999999,1782.50875,1630.9837499999999,1475.80125]
[62,null,2023.6424999999999,1982.6262499999998,1869.2437499999999,1703.8724999999999,1542.1587499999998]
[63,null,2128.4037499999999,2085.2974999999997,1966.4287499999998,1791.9137499999999,1621.5787499999999]
[64,null,2250.4074999999998,2205.2112499999998,2078.5049999999997,1894.5849999999998,1714.3225]
[65,null,2397.49125,2349.16,2213.31,2018.9399999999998,1842.3349999999998]
[66,null,2570.1774999999998,2518.7112499999998,2374.2399999999998,2165.2399999999998,1990.7249999999999]
[67,null,{"$f":"+C338*$M$4","v":2774.4749999999999},2718.8287499999997,2562.6012499999997,2336.62,2150.0874999999996]
[68,null,3010.645,2948.99,2779.4387499999998,2535.6924999999997,2332.44]
[69,null,3284.69625,3219.645,3034.68,2766.3762499999998,2546.4037499999999]
[70,null,3602.8987499999998,3530.5324999999998,3299.3262499999996,3034.68,2833.2562499999999]
[71,null,3968.6487499999998,3887.6612499999997,3663.7699999999995,3340.8649999999998,3120.1087499999999]
[72,null,4390.0450000000001,4300.9587499999998,4053.8162499999999,3696.9487499999996,3453.9862499999999]
[73,null,4874.9249999999993,4775.6499999999996,4503.1662499999993,4105.0212499999998,3833.5824999999995]
[74,null,5435.0450000000001,5324.5362499999992,5019.6574999999993,4576.8387499999999,4275.6174999999994]
[75,null,6076.9362499999997,5954.6712499999994,5589.7049999999999,5117.1037499999993,4807.7837499999996]
[76,null,6813.9224999999997,6676.5049999999992,6287.7649999999994,5737.8337499999998,5392.9837499999994]
[77,null,7653.3187499999995,7499.1812499999996,7067.8574999999992,6445.2987499999999,6056.5587499999992]
[78,null,8599.5662499999999,8425.0512499999986,7941.4774999999991,7239.7599999999993,6805.04]
[79,null,9661.8087500000001,9467.1774999999998,8923.5162499999988,8135.8474999999999,7646.0037499999999]
[80,"o más",10933.3125,10712.295,10095.744999999999,9206.9724999999999,8651.5550000000003]
[1,"Hijo",322.90499999999997,317.41874999999999,297.82499999999999,272.22249999999997,161.97499999999999]
[2,"Hijos",544.18374999999992,533.995,502.90624999999994,458.755,239.04374999999999]
[3,"Hijos o más",{"$f":"+C354*$M$4","v":799.68624999999997},783.75,737.77,673.50249999999994,344.58875]
[]
[]
["ESSENTIAL 1000"]
["TARIFAS ANUALES"]
["EDAD"]
[" "," ","F50-1","F50-2","F50-3","F50-4","F50-5","F50-4","F50-5"]
[18,null,2853,2485,2131,1486,820,478,280]
[19,null,2901,2528,2131,1486,826,484,286]
[20,null,2951,2568,2131,1490,835,492,292]
[21,null,3006,2615,2131,1497,844,501,299]
[22,null,3056,2657,2136,1508,856,510,306]
[23,null,3106,2700,2147,1521,870,521,315]
[24,null,3157,2744,2164,1540,885,534,326]
[25,null,3206,2791,2185,1560,903,547,335]
[26,null,3257,2833,2213,1587,924,562,346]
[27,null,3307,2875,2246,1618,946,579,360]
[28,null,3369,2925,2285,1652,972,599,373]
[29,null,3428,2984,2330,1691,1002,618,388]
[30,null,3488,3035,2384,1734,1032,642,404]
[31,null,3546,3086,2441,1784,1066,667,423]
[32,null,3608,3134,2507,1838,1105,693,443]
[33,null,3706,3224,2580,1897,1146,723,464]
[34,null,3804,3307,2662,1964,1193,755,488]
[35,null,3902,3394,2751,2036,1243,790,512]
[36,null,4000,3479,2850,2115,1297,828,542]
[37,null,4101,3567,2956,2202,1357,870,571]
[38,null,4202,3656,3074,2296,1421,915,604]
[39,null,4304,3740,3202,2398,1491,965,641]
[40,null,4404,3828,3339,2509,1568,1018,679]
[41,null,4502,3918,3490,2630,1650,1075,721]
[42,null,4607,4002,3652,2762,1739,1139,767]
[43,null,4785,4163,3799,2902,1835,1207,818]
[44,null,4970,4323,3943,3056,1941,1280,872]
[45,null,5153,4479,4084,3222,2054,1360,931]
[46,null,5334,4639,4233,3399,2176,1447,996]
[47,null,5521,4799,4376,3591,2309,1541,1065]
[48,null,5716,4968,4528,3799,2454,1643,1141]
[49,null,5908,5138,4685,4023,2609,1753,1224]
[50,null,6100,5306,4837,4212,2789,1787,1320]
[51,null,6292,5473,4990,4355,3009,1937,1438]
[52,null,6486,5642,5144,4498,3154,2097,1564]
[53,null,6715,5839,5327,4674,3268,2185,1701]
[54,null,6946,6039,5508,4846,3384,2362,1848]
[55,null,7179,6242,5688,5020,3507,2554,2006]
[56,null,7408,6441,5869,5193,3624,2654,2175]
[57,null,7632,6641,6053,5367,3737,2867,2357]
[58,null,7897,6866,6243,5597,3887,3095,2554]
[59,null,8162,7098,6432,5822,4033,3208,2764]
[60,null,8424,7324,6624,6050,4181,3464,2992]
[61,null,8750,7606,6909,6276,4336,3738,3236]
[62,null,9302,7987,7248,6559,4534,3867,3500]
[63,null,9948,8564,7624,6897,4769,4173,3784]
[64,null,10640,9186,8059,7293,5044,4504,4093]
[65,null,11386,9855,8585,7839,5400,4651,4424]
[66,null,12186,10577,9205,8466,5815,5021,4782]
[67,null,13046,11352,9941,9149,6283,5420,5167]
[68,null,13969,12187,10784,9921,6811,6115,5584]
[69,null,14961,13085,11766,10833,7440,6604,6033]
[70,null,16278,14156,12795,12055,8228,7130,6518]
[71,null,17927,15590,14213,13275,9063,8029,7038]
[72,null,19831,17244,15726,14691,10030,8666,7597]
[73,null,22027,19152,17461,16310,11132,9352,8194]
[74,null,24557,21351,19468,18186,12414,10503,8832]
[75,null,27456,23877,21681,20462,13930,11319,9508]
[76,null,30792,26774,24393,22943,15618,12188,10221]
[77,null,34579,30070,27416,25767,17545,13628,10966]
[78,null,38855,33787,30805,28949,19712,14633,11739]
[79,null,43656,37959,34613,32531,22149,15679,12532]
[80,"o más",49400,42960,39165,36810,25062,17400,13329]
[1,"Hijo",1882,1640,1416,981,542,315,185]
[2,"Hijos",2225,1937,1673,1159,640,373,219]
[3,"Hijos o más",3081,2683,2317,1604,886,517,303]
[]
["ESSENTIAL 1000"]
["TARIFAS MENSUALES"]
["EDAD"]
[" "," ","F50-1","F50-2","F50-3","F50-4","F50-5"]
[18,null,{"$f":"C920*$M$2","v":252.01499999999999},{"$f":"D920*$M$2","v":219.50833333333333},188.23833333333334,131.26333333333332,72.433333333333337,42.223333333333336,24.733333333333334]
[19,null,{"$f":"C921*$M$2","v":256.255},223.30666666666667,188.23833333333334,131.26333333333332,72.963333333333338,42.75333333333333,25.263333333333332]
[20,null,260.67166666666668,226.84,188.23833333333334,131.61666666666667,73.75833333333334,43.46,25.793333333333333]
[21,null,265.52999999999997,230.99166666666667,188.23833333333334,132.23500000000001,74.553333333333327,44.255000000000003,26.411666666666665]
[22,null,269.94666666666666,234.70166666666665,188.68,133.20666666666668,75.61333333333333,45.05,27.03]
[23,null,274.36333333333334,238.5,189.65166666666667,134.35499999999999,76.849999999999994,46.021666666666668,27.824999999999999]
[24,null,278.86833333333334,242.38666666666666,191.15333333333334,136.03333333333333,78.174999999999997,47.17,28.796666666666667]
[25,null,283.19666666666666,246.53833333333333,193.00833333333333,137.80000000000001,79.765000000000001,48.318333333333335,29.591666666666665]
[26,null,287.70166666666665,250.24833333333333,195.48166666666665,140.185,81.62,49.643333333333331,30.563333333333333]
[27,null,292.11833333333334,253.95833333333334,198.39666666666668,142.92333333333335,83.563333333333333,51.145000000000003,31.8]
[28,null,297.59500000000003,258.375,201.84166666666667,145.92666666666668,85.86,52.911666666666669,32.948333333333331]
[29,null,302.80666666666667,263.58666666666664,205.81666666666666,149.37166666666667,88.51,54.59,34.273333333333333]
[30,null,308.10666666666668,268.09166666666664,210.58666666666667,153.16999999999999,91.16,56.71,35.686666666666667]
[31,null,313.23,272.59666666666669,215.62166666666667,157.58666666666667,94.163333333333327,58.918333333333337,37.365000000000002]
[32,null,318.70666666666665,276.83666666666664,221.45166666666665,162.35666666666665,97.608333333333334,61.215000000000003,39.131666666666668]
[33,null,327.36333333333334,284.78666666666669,227.9,167.56833333333333,101.23,63.865000000000002,40.986666666666665]
[34,null,336.02,292.11833333333334,235.14333333333335,173.48666666666668,105.38166666666666,66.691666666666663,43.106666666666669]
[35,null,{"$f":"C937*$M$2","v":344.67666666666668},299.80333333333334,243.005,179.84666666666666,109.79833333333333,69.783333333333331,45.226666666666667]
[36,null,353.33333333333331,307.31166666666667,251.75,186.82499999999999,114.56833333333333,73.14,47.876666666666665]
[37,null,362.255,315.08499999999998,261.11333333333334,194.51,119.86833333333334,76.849999999999994,50.438333333333333]
[38,null,371.17666666666668,322.94666666666666,271.53666666666669,202.81333333333333,125.52166666666666,80.825000000000003,53.353333333333332]
[39,null,380.18666666666667,330.36666666666667,282.84333333333331,211.82333333333332,131.70500000000001,85.24166666666666,56.62166666666667]
[40,null,389.02,338.14,294.94499999999999,221.62833333333333,138.50666666666666,89.923333333333332,59.978333333333332]
[41,null,397.67666666666668,346.09,308.28333333333336,232.31666666666666,145.75,94.958333333333329,63.688333333333333]
[42,null,406.95166666666665,353.51,322.59333333333331,243.97666666666666,153.61166666666668,100.61166666666666,67.751666666666665]
[43,null,422.67500000000001,367.73166666666668,335.57833333333332,256.34333333333331,162.09166666666667,106.61833333333334,72.256666666666661]
[44,null,439.01666666666665,381.86500000000001,348.29833333333335,269.94666666666666,171.45500000000001,113.06666666666666,77.026666666666671]
[45,null,455.18166666666667,395.64499999999998,360.75333333333333,284.61,181.43666666666667,120.13333333333334,82.23833333333333]
[46,null,471.17,409.77833333333331,373.91500000000002,300.245,192.21333333333334,127.81833333333333,87.98]
[47,null,487.68833333333333,423.91166666666669,386.54666666666668,317.20499999999998,203.96166666666667,136.12166666666667,94.075000000000003]
[48,null,504.91333333333336,438.84,399.97333333333336,335.57833333333332,216.77,145.13166666666666,100.78833333333333]
[49,null,521.87333333333333,453.85666666666668,413.84166666666664,355.36500000000001,230.46166666666667,154.84833333333333,108.12]
[50,null,538.83333333333337,468.69666666666666,427.26833333333332,372.06,246.36166666666668,157.85166666666666,116.6]
[51,null,{"$f":"C953*$M$2","v":555.79333333333329},483.44833333333332,440.78333333333336,384.69166666666666,265.79500000000002,171.10166666666666,127.02333333333333]
[52,null,572.92999999999995,498.37666666666667,454.38666666666666,397.32333333333332,278.60333333333335,185.23500000000001,138.15333333333334]
[53,null,593.1583333333333,515.77833333333331,470.55166666666668,412.87,288.67333333333335,193.00833333333333,150.255]
[54,null,613.56333333333328,533.44500000000005,486.54,428.06333333333333,298.92,208.64333333333335,163.24]
[55,null,634.14499999999998,551.37666666666667,502.44,443.43333333333334,309.78500000000003,225.60333333333332,177.19666666666666]
[56,null,654.37333333333333,568.95500000000004,518.42833333333328,458.71499999999997,320.12,234.43666666666667,192.125]
[57,null,674.16,586.62166666666667,534.68166666666662,474.08499999999998,330.10166666666669,253.25166666666667,208.20166666666665]
[58,null,697.56833333333338,606.49666666666667,551.46500000000003,494.40166666666664,343.35166666666669,273.39166666666665,225.60333333333332]
[59,null,720.97666666666669,626.99,568.16,514.27666666666664,356.24833333333333,283.37333333333333,244.15333333333334]
[60,null,744.12,646.95333333333338,585.12,534.41666666666663,369.32166666666666,305.98666666666668,264.29333333333335]
[61,null,772.91666666666663,671.86333333333334,610.29499999999996,554.38,383.01333333333332,330.19,285.84666666666669]
[62,null,821.67666666666662,705.51833333333332,640.24,579.37833333333333,400.50333333333333,341.58499999999998,309.16666666666669]
[63,null,878.74,756.48666666666668,673.45333333333338,609.23500000000001,421.26166666666666,368.61500000000001,334.25333333333333]
[64,null,939.86666666666667,811.43,711.87833333333333,644.21500000000003,445.55333333333334,397.85333333333335,361.54833333333335]
[65,null,1005.7633333333333,870.52499999999998,758.3416666666667,692.44500000000005,477,410.83833333333331,390.78666666666669]
[66,null,1076.43,934.30166666666662,813.10833333333335,747.83,513.6583333333333,443.52166666666665,422.41]
[67,null,{"$f":"C969*$M$2","v":1152.3966666666668},1002.76,878.12166666666667,808.16166666666663,554.99833333333333,478.76666666666665,456.41833333333335]
[68,null,1233.9283333333333,1076.5183333333334,952.5866666666667,876.35500000000002,601.63833333333332,540.1583333333333,493.25333333333333]
[69,null,1321.5550000000001,1155.8416666666667,1039.33,956.91499999999996,657.2,583.35333333333335,532.91499999999996]
[70,null,1437.89,1250.4466666666667,1130.2249999999999,1064.8583333333333,726.80666666666662,629.81666666666672,575.75666666666666]
[71,null,1583.5516666666667,1377.1166666666666,1255.4816666666666,1172.625,800.56500000000005,709.22833333333335,621.69000000000005]
[72,null,1751.7383333333332,1523.22,1389.13,1297.7049999999999,885.98333333333335,765.49666666666667,671.06833333333338]
[73,null,1945.7183333333332,1691.76,1542.3883333333333,1440.7166666666667,983.32666666666671,826.09333333333336,723.80333333333328]
[74,null,2169.2016666666668,1886.0050000000001,1719.6733333333334,1606.43,1096.57,927.76499999999999,780.16]
[75,null,2425.2800000000002,2109.1350000000002,1915.155,1807.4766666666667,1230.4833333333333,999.84500000000003,839.87333333333333]
[76,null,2719.96,2365.0366666666669,2154.7150000000001,2026.6316666666667,1379.59,1076.6066666666666,902.85500000000002]
[77,null,3054.4783333333335,2656.1833333333334,2421.7466666666664,2276.085,1549.8083333333334,1203.8066666666666,968.6633333333333]
[78,null,3432.1916666666666,2984.5183333333334,2721.1083333333331,2557.1616666666669,1741.2266666666667,1292.5816666666667,1036.9449999999999]
[79,null,3856.28,3353.0450000000001,3057.4816666666666,2873.5716666666667,1956.4949999999999,1384.9783333333332,1106.9933333333333]
[80,"o más",4363.666666666667,3794.8,3459.5749999999998,3251.55,2213.81,1537,1177.395]
[1,"Hijo",166.24333333333334,144.86666666666667,125.08,86.655000000000001,47.876666666666665,27.824999999999999,16.341666666666665]
[2,"Hijos",196.54166666666666,171.10166666666666,147.78166666666667,102.37833333333333,56.533333333333331,32.948333333333331,19.344999999999999]
[3,"Hijos o más",{"$f":"C985*$M$2","v":272.15499999999997},236.99833333333333,204.66833333333332,141.68666666666667,78.263333333333335,45.668333333333337,26.765000000000001]
[]
["ESSENTIAL 1000"]
["TARIFAS TRIMESTRAL"]
["EDAD"]
[" "," ","F50-1","F50-2","F50-3","F50-4","F50-5"]
[18,null,{"$f":"C920*$M$4","v":745.34624999999994},{"$f":"D920*$M$4","v":649.20624999999995},556.72375,388.21749999999997,214.22499999999999,124.8775,73.149999999999991]
[19,null,{"$f":"C921*$M$4","v":757.8862499999999},660.43999999999994,556.72375,388.21749999999997,215.79249999999999,126.44499999999999,74.717500000000001]
[20,null,770.9487499999999,670.89,556.72375,389.26249999999999,218.14374999999998,128.535,76.284999999999997]
[21,null,785.3175,683.16874999999993,556.72375,391.09124999999995,220.49499999999998,130.88624999999999,78.113749999999996]
[22,null,798.38,694.1412499999999,558.03,393.96499999999997,223.63,133.23749999999998,79.942499999999995]
[23,null,811.4425,705.375,560.90374999999995,397.36124999999998,227.28749999999999,136.11124999999998,82.293749999999989]
[24,null,824.7662499999999,716.87,565.34499999999991,402.32499999999999,231.20624999999998,139.50749999999999,85.16749999999999]
[25,null,837.5675,729.14874999999995,570.83124999999995,407.54999999999995,235.90875,142.90375,87.518749999999997]
[26,null,850.8912499999999,740.12124999999992,578.14625000000001,414.60374999999999,241.39499999999998,146.82249999999999,90.392499999999998]
[27,null,863.9537499999999,751.09375,586.76749999999993,422.70249999999999,247.14249999999998,151.26374999999999,94.05]
[28,null,880.15124999999989,764.15625,596.95624999999995,431.58499999999998,253.93499999999997,156.48874999999998,97.446249999999992]
[29,null,895.56499999999994,779.56999999999994,608.71249999999998,441.77374999999995,261.77249999999998,161.45249999999999,101.36499999999999]
[30,null,911.2399999999999,792.89374999999995,622.81999999999994,453.00749999999999,269.60999999999996,167.7225,105.54499999999999]
[31,null,926.39249999999993,806.21749999999997,637.71124999999995,466.07,278.49250000000001,174.25375,110.50874999999999]
[32,null,942.58999999999992,818.75749999999994,654.9537499999999,480.17749999999995,288.68124999999998,181.04624999999999,115.73374999999999]
[33,null,968.19249999999988,842.27,674.02499999999998,495.59124999999995,299.39249999999998,188.88374999999999,121.22]
[34,null,993.79499999999996,863.9537499999999,695.44749999999999,513.09499999999991,311.67124999999999,197.24374999999998,127.49]
[35,null,{"$f":"C937*$M$4","v":1019.3974999999999},886.68249999999989,718.6987499999999,531.90499999999997,324.73374999999999,206.38749999999999,133.76]
[36,null,1045,908.88874999999996,744.5625,552.54374999999993,338.84125,216.315,141.5975]
[37,null,1071.38625,931.87874999999997,772.255,575.27249999999992,354.51624999999996,227.28749999999999,149.17374999999998]
[38,null,1097.7725,955.12999999999988,803.08249999999998,599.82999999999993,371.23624999999998,239.04374999999999,157.79499999999999]
[39,null,1124.4199999999998,977.07499999999993,836.52249999999992,626.47749999999996,389.52374999999995,252.10624999999999,167.46124999999998]
[40,null,1150.5449999999998,1000.0649999999999,872.31374999999991,655.47624999999994,409.64,265.95249999999999,177.38874999999999]
[41,null,1176.1474999999998,1023.5775,911.76249999999993,687.08749999999998,431.06249999999994,280.84375,188.36124999999998]
[42,null,1203.5787499999999,1045.5225,954.08499999999992,721.57249999999999,454.31374999999997,297.56374999999997,200.37875]
[43,null,1250.08125,1087.58375,992.48874999999998,758.14749999999992,479.39374999999995,315.32874999999996,213.70249999999999]
[44,null,1298.4124999999999,1129.38375,1030.1087499999999,798.38,507.08624999999995,334.4,227.80999999999997]
[45,null,1346.2212499999998,1170.1387499999998,1066.9449999999999,841.74749999999995,536.60749999999996,355.29999999999995,243.22375]
[46,null,1393.5074999999999,1211.93875,1105.8712499999999,887.98874999999998,568.48,378.02875,260.20499999999998]
[47,null,1442.3612499999999,1253.73875,1143.23,938.14874999999995,603.22624999999994,402.58624999999995,278.23124999999999]
[48,null,1493.3049999999998,1297.8899999999999,1182.9399999999998,992.48874999999998,641.10749999999996,429.23374999999999,298.08625000000001]
[49,null,1543.4649999999999,1342.3025,1223.95625,1051.00875,681.60124999999994,457.97124999999994,319.77]
[50,null,1593.625,1386.1924999999999,1263.66625,1100.385,728.62624999999991,466.85374999999999,344.84999999999997]
[51,null,{"$f":"C953*$M$4","v":1643.7849999999999},1429.82125,1303.6374999999998,1137.7437499999999,786.10124999999994,506.04124999999999,375.67749999999995]
[52,null,1694.4675,1473.9724999999999,1343.87,1175.1025,823.98249999999996,547.84124999999995,408.59499999999997]
[53,null,1754.2937499999998,1525.4387499999998,1391.6787499999998,1221.0825,853.76499999999999,570.83124999999995,444.38624999999996]
[54,null,1814.6424999999999,1577.6887499999998,1438.9649999999999,1266.0174999999999,884.06999999999994,617.07249999999999,482.78999999999996]
[55,null,1875.5137499999998,1630.7224999999999,1485.99,1311.4749999999999,916.2037499999999,667.23249999999996,524.0675]
[56,null,1935.34,1682.7112499999998,1533.2762499999999,1356.6712499999999,946.77,693.35749999999996,568.21875]
[57,null,1993.86,1734.9612499999998,1581.3462499999998,1402.1287499999999,976.29124999999988,749.00374999999997,615.76625000000001]
[58,null,2063.0912499999999,1793.7424999999998,1630.9837499999999,1462.2162499999999,1015.4787499999999,808.56874999999991,667.23249999999996]
[59,null,2132.3224999999998,1854.3525,1680.36,1520.9974999999999,1053.6212499999999,838.08999999999992,722.09499999999991]
[60,null,2200.77,1913.395,1730.52,1580.5625,1092.2862499999999,904.96999999999991,781.66]
[61,null,2285.9375,1987.0674999999999,1804.9762499999999,1639.6049999999998,1132.78,976.5524999999999,845.40499999999997]
[62,null,2430.1475,2086.6037499999998,1893.54,1713.5387499999999,1184.5074999999999,1010.25375,914.37499999999989]
[63,null,2598.915,2237.3449999999998,1991.7699999999998,1801.8412499999999,1245.9012499999999,1090.19625,988.56999999999994]
[64,null,2779.7,2399.8424999999997,2105.4137499999997,1905.2962499999999,1317.7449999999999,1176.6699999999998,1069.2962499999999]
[65,null,2974.5924999999997,2574.6187499999996,2242.8312499999997,2047.9387499999998,1410.75,1215.07375,1155.77]
[66,null,3183.5924999999997,2763.24125,2404.8062499999996,2211.7424999999998,1519.1687499999998,1311.7362499999999,1249.2974999999999]
[67,null,{"$f":"C969*$M$4","v":3408.2674999999999},2965.7099999999996,2597.0862499999998,2390.17625,1641.4337499999999,1415.9749999999999,1349.8787499999999]
[68,null,3649.4012499999999,3183.8537499999998,2817.3199999999997,2591.8612499999999,1779.37375,1597.5437499999998,1458.82]
[69,null,3908.5612499999997,3418.4562499999997,3073.8674999999998,2830.1212499999997,1943.6999999999998,1725.2949999999998,1576.1212499999999]
[70,null,4252.6274999999996,3698.2549999999997,3342.6937499999999,3149.3687499999996,2149.5650000000001,1862.7124999999999,1702.8274999999999]
[71,null,4683.42875,4072.8874999999998,3713.1462499999998,3468.0937499999995,2367.7087499999998,2097.5762500000001,1838.6774999999998]
[72,null,5180.8487499999992,4504.9949999999999,4108.4174999999996,3838.0237499999998,2620.3374999999996,2263.9924999999998,1984.7162499999999]
[73,null,5754.55375,5003.46,4561.6862499999997,4260.9874999999993,2908.2349999999997,2443.21,2140.6824999999999]
[74,null,6415.5162499999997,5577.9487499999996,5086.0149999999994,4751.0924999999997,3243.1574999999998,2743.9087499999996,2307.3599999999997]
[75,null,7172.8799999999992,6237.8662499999991,5664.1612499999992,5345.6974999999993,3639.2124999999996,2957.0887499999999,2483.9649999999997]
[76,null,8044.41,6994.7074999999995,6372.6712499999994,5993.8587499999994,4080.2024999999999,3184.1149999999998,2670.2362499999999]
[77,null,9033.7637500000001,7855.7874999999995,7162.4299999999994,6731.6287499999999,4583.6312499999995,3560.3149999999996,2864.8674999999998]
[78,null,10150.86875,8826.8537500000002,8047.8062499999996,7562.9262499999995,5149.7599999999993,3822.8712499999997,3066.8137499999998]
[79,null,11405.13,9916.7887499999997,9042.6462499999998,8498.7237499999992,5786.4262499999995,4096.1387500000001,3273.9849999999997]
[80,"o más",12905.75,11223.3,10231.856249999999,9616.6124999999993,6547.4474999999993,4545.75,3482.2012499999996]
[1,"Hijo",491.67249999999996,428.45,369.92999999999995,256.28625,141.5975,82.293749999999989,48.331249999999997]
[2,"Hijos",581.28125,506.04124999999999,437.07124999999996,302.78874999999999,167.2,97.446249999999992,57.213749999999997]
[3,"Hijos o más",{"$f":"C985*$M$4","v":804.91125},700.93374999999992,605.31624999999997,419.04499999999996,231.46749999999997,135.06625,79.158749999999998]
[]
["ESSENTIAL 1000"]
["TARIFAS SEMESTRAL"]
["EDAD"]
[" "," ","F50-1","F50-2","F50-3","F50-4","F50-5"]
[18,null,{"$f":"C920*$M$3","v":1469.2950000000001},{"$f":"D920*$M$3","v":1279.7750000000001},1097.4649999999999,765.29,422.3,246.17000000000002,144.20000000000002]
[19,null,{"$f":"C921*$M$3","v":1494.0150000000001},1301.92,1097.4649999999999,765.29,425.39,249.26000000000002,147.29]
[20,null,1519.7650000000001,1322.52,1097.4649999999999,767.35,430.02500000000003,253.38,150.38]
[21,null,1548.0900000000001,1346.7250000000001,1097.4649999999999,770.95500000000004,434.66,258.01499999999999,153.98500000000001]
[22,null,1573.8400000000001,1368.355,1100.04,776.62,440.84000000000003,262.65000000000003,157.59]
[23,null,1599.5900000000001,1390.5,1105.7049999999999,783.31500000000005,448.05,268.315,162.22499999999999]
[24,null,1625.855,1413.16,1114.46,793.1,455.77500000000003,275.01,167.89000000000001]
[25,null,1651.0900000000001,1437.365,1125.2750000000001,803.4,465.04500000000002,281.70499999999998,172.52500000000001]
[26,null,1677.355,1458.9950000000001,1139.6949999999999,817.30500000000006,475.86,289.43,178.19]
[27,null,1703.105,1480.625,1156.69,833.27,487.19,298.185,185.4]
[28,null,1735.0350000000001,1506.375,1176.7750000000001,850.78,500.58000000000004,308.48500000000001,192.095]
[29,null,1765.42,1536.76,1199.95,870.86500000000001,516.03,318.27,199.82]
[30,null,1796.32,1563.0250000000001,1227.76,893.01,531.48,330.63,208.06]
[31,null,1826.19,1589.29,1257.115,918.76,548.99,343.505,217.845]
[32,null,1858.1200000000001,1614.01,1291.105,946.57,569.07500000000005,356.89499999999998,228.14500000000001]
[33,null,1908.5900000000001,1660.3600000000001,1328.7,976.95500000000004,590.19000000000005,372.34500000000003,238.96]
[34,null,1959.06,1703.105,1370.93,1011.46,614.39499999999998,388.82499999999999,251.32]
[35,null,{"$f":"C937*$M$3","v":2009.53},1747.91,1416.7650000000001,1048.54,640.14499999999998,406.85,263.68]
[36,null,2060,1791.6849999999999,1467.75,1089.2250000000001,667.95500000000004,426.42,279.13]
[37,null,2112.0149999999999,1837.0050000000001,1522.3400000000001,1134.03,698.85500000000002,448.05,294.065]
[38,null,2164.0300000000002,1882.8400000000001,1583.1100000000001,1182.44,731.81500000000005,471.22500000000002,311.06]
[39,null,2216.56,1926.1000000000001,1649.03,1234.97,767.86500000000001,496.97500000000002,330.11500000000001]
[40,null,2268.06,1971.42,1719.585,1292.135,807.52,524.27,349.685]
[41,null,2318.5300000000002,2017.77,1797.3500000000001,1354.45,849.75,553.625,371.315]
[42,null,2372.605,2061.0300000000002,1880.78,1422.43,895.58500000000004,586.58500000000004,395.005]
[43,null,2464.2750000000001,2143.9450000000002,1956.4850000000001,1494.53,945.02499999999998,621.60500000000002,421.27000000000004]
[44,null,2559.5500000000002,2226.3450000000003,2030.645,1573.8400000000001,999.61500000000001,659.2,449.08]
[45,null,2653.7950000000001,2306.6849999999999,2103.2600000000002,1659.3300000000002,1057.81,700.4,479.46500000000003]
[46,null,2747.01,2389.085,2179.9949999999999,1750.4850000000001,1120.6400000000001,745.20500000000004,512.94000000000005]
[47,null,2843.3150000000001,2471.4850000000001,2253.64,1849.365,1189.135,793.61500000000001,548.47500000000002]
[48,null,2943.7400000000002,2558.52,2331.92,1956.4850000000001,1263.81,846.14499999999998,587.61500000000001]
[49,null,3042.62,2646.07,2412.7750000000001,2071.8450000000003,1343.635,902.79500000000007,630.36]
[50,null,3141.5,2732.59,2491.0550000000003,2169.1799999999998,1436.335,920.30500000000006,679.80000000000007]
[51,null,{"$f":"C953*$M$3","v":3240.38},2818.5950000000003,2569.85,2242.8250000000003,1549.635,997.55500000000006,740.57]
[52,null,3340.29,2905.63,2649.16,2316.4700000000003,1624.31,1079.9549999999999,805.46]
[53,null,3458.2249999999999,3007.085,2743.4050000000002,2407.11,1683.02,1125.2750000000001,876.01499999999999]
[54,null,3577.19,3110.085,2836.62,2495.69,1742.76,1216.43,951.72]
[55,null,3697.1849999999999,3214.63,2929.32,2585.3000000000002,1806.105,1315.31,1033.0899999999999]
[56,null,3815.12,3317.1150000000002,3022.5349999999999,2674.395,1866.3600000000001,1366.81,1120.125]
[57,null,3930.48,3420.1150000000002,3117.2950000000001,2764.0050000000001,1924.5550000000001,1476.5050000000001,1213.855]
[58,null,4066.9549999999999,3535.9900000000002,3215.145,2882.4549999999999,2001.8050000000001,1593.925,1315.31]
[59,null,4203.43,3655.4700000000003,3312.48,2998.33,2076.9949999999999,1652.1200000000001,1423.46]
[60,null,4338.3599999999997,3771.86,3411.36,3115.75,2153.2150000000001,1783.96,1540.88]
[61,null,4506.25,3917.09,3558.1350000000002,3232.14,2233.04,1925.07,1666.54]
[62,null,4790.53,4113.3050000000003,3732.7200000000003,3377.8850000000002,2335.0100000000002,1991.5050000000001,1802.5]
[63,null,5123.22,4410.46,3926.36,3551.9549999999999,2456.0349999999999,2149.0950000000003,1948.76]
[64,null,5479.6,4730.79,4150.3850000000002,3755.895,2597.66,2319.56,2107.895]
[65,null,5863.79,5075.3249999999998,4421.2750000000005,4037.085,2781,2395.2649999999999,2278.36]
[66,null,6275.79,5447.1549999999997,4740.5749999999998,4359.99,2994.7249999999999,2585.8150000000001,2462.73]
[67,null,{"$f":"C969*$M$3","v":6718.6900000000005},5846.28,5119.6149999999998,4711.7349999999997,3235.7449999999999,2791.3,2661.0050000000001]
[68,null,7194.0349999999999,6276.3050000000003,5553.76,5109.3150000000005,3507.665,3149.2249999999999,2875.76]
[69,null,7704.915,6738.7750000000005,6059.49,5578.9949999999999,3831.6,3401.06,3106.9949999999999]
[70,null,8383.17,7290.34,6589.4250000000002,6208.3249999999998,4237.42,3671.9500000000003,3356.77]
[71,null,9232.4050000000007,8028.85,7319.6950000000006,6836.625,4667.4449999999997,4134.9350000000004,3624.57]
[72,null,10212.965,8880.66,8098.89,7565.8649999999998,5165.45,4462.99,3912.4549999999999]
[73,null,11343.905000000001,9863.2800000000007,8992.4150000000009,8399.65,5732.9800000000005,4816.28,4219.91]
[74,null,12646.855,10995.764999999999,10026.02,9365.7900000000009,6393.21,5409.0450000000001,4548.4800000000005]
[75,null,14139.84,12296.655000000001,11165.715,10537.93,7173.95,5829.2849999999999,4896.62]
[76,null,15857.880000000001,13788.61,12562.395,11815.645,8043.27,6276.82,5263.8150000000005]
[77,null,17808.185000000001,15486.050000000001,14119.24,13270.005000000001,9035.6750000000011,7018.42,5647.49]
[78,null,20010.325000000001,17400.305,15864.575000000001,14908.735000000001,10151.68,7535.9949999999999,6045.585]
[79,null,22482.84,19548.885000000002,17825.695,16753.465,11406.735000000001,8074.6850000000004,6453.9800000000005]
[80,"o más",25441,22124.400000000001,20169.975000000002,18957.150000000001,12906.93,8961,6864.4350000000004]
[1,"Hijo",969.23,844.6,729.24,505.21500000000003,279.13,162.22499999999999,95.275000000000006]
[2,"Hijos",1145.875,997.55500000000006,861.59500000000003,596.88499999999999,329.6,192.095,112.785]
[3,"Hijos o más",{"$f":"C985*$M$3","v":1586.7150000000001},1381.7450000000001,1193.2550000000001,826.06000000000006,456.29,266.255,156.04500000000002]

{"sheet":"Tablas Resto de Ecuador","index":5,"n_rows":1198,"n_cols":17,"rows_kept":1198,"cut":false,"hidden":true,"merged":[[1128,0,1128,6],[1129,0,1129,6],[1130,0,1130,1],[1130,2,1130,6],[988,0,988,1],[988,2,988,6],[1057,0,1057,6],[1058,0,1058,6],[1059,0,1059,1],[1059,2,1059,6],[987,0,987,6],[774,0,774,1],[774,2,774,6],[843,0,843,6],[844,0,844,6],[845,0,845,1],[845,2,845,6],[915,0,915,6],[916,0,916,6],[917,0,917,1],[917,2,917,6],[986,0,986,6],[773,0,773,6],[561,0,561,1],[561,2,561,6],[630,0,630,6],[631,0,631,6],[632,0,632,1],[632,2,632,6],[701,0,701,6],[702,0,702,6],[703,0,703,1],[703,2,703,6],[772,0,772,6],[560,0,560,6],[425,0,425,6],[426,0,426,6],[427,0,427,1],[427,2,427,6],[457,0,457,6],[458,0,458,1],[458,2,458,6],[488,0,488,6],[489,0,489,6],[490,0,490,1],[490,2,490,6],[559,0,559,6],[356,0,356,1],[356,2,356,6],[142,0,142,6],[143,0,143,6],[144,0,144,1],[144,2,144,6],[213,0,213,6],[214,0,214,1],[214,2,214,6],[284,0,284,6],[285,0,285,6],[286,0,286,1],[286,2,286,6],[355,0,355,6],[73,0,73,1],[73,2,73,6],[1,0,1,6],[2,0,2,6],[3,0,3,1],[3,2,3,6],[72,0,72,6]]}
[]
["FLEX 500",null,null,null,null,null,null,null,null,null,"FACTOR MENSUAL:",null,{"$f":"1.06/12","v":8.8333333333333333E-2}]
["TARIFAS ANUALES",null,null,null,null,null,null,null,null,null,"FACTOR SEMESTRAL:",null,{"$f":"1.03/2","v":0.51500000000000001}]
["EDAD",null,null,null,null,null,null,null,null,null,"FACTOR TRIMESTRAL:",null,{"$f":"1.045/4","v":0.26124999999999998}]
[" "," ","F500-1","F500-2","F500-3","F500-4","F500-5","F500-6","F500-7"]
[18,null,2232,1909,1398,964,523,301,173]
[19,null,2268,1909,1398,965,529,305,177]
[20,null,2308,1909,1398,967,534,309,181]
[21,null,2351,1909,1400,974,541,316,186]
[22,null,2389,1909,1404,982,549,322,191]
[23,null,2429,1913,1412,992,558,330,196]
[24,null,2436,1922,1425,1004,569,337,202]
[25,null,2447,1936,1440,1019,581,347,210]
[26,null,2465,1955,1460,1037,594,357,216]
[27,null,2489,1980,1483,1058,610,369,224]
[28,null,2519,2008,1510,1081,628,381,234]
[29,null,2557,2043,1540,1108,647,395,243]
[30,null,2600,2084,1577,1137,668,409,254]
[31,null,2651,2131,1616,1170,691,425,266]
[32,null,2710,2183,1660,1206,716,443,279]
[33,null,2777,2242,1710,1247,743,463,292]
[34,null,2850,2306,1765,1291,774,483,308]
[35,null,2932,2378,1826,1340,806,507,324]
[36,null,3023,2458,1893,1392,843,532,343]
[37,null,3122,2545,1964,1451,883,559,361]
[38,null,3231,2640,2043,1513,925,588,383]
[39,null,3349,2743,2131,1582,972,620,405]
[40,null,3444,2855,2224,1657,1022,655,431]
[41,null,3520,2976,2324,1737,1075,693,459]
[42,null,3604,3110,2434,1825,1135,734,489]
[43,null,3741,3251,2552,1920,1199,779,521]
[44,null,3885,3380,2680,2022,1268,827,557]
[45,null,4030,3503,2819,2133,1342,879,594]
[46,null,4172,3628,2968,2252,1425,936,636]
[47,null,4317,3752,3127,2380,1511,996,681]
[48,null,4470,3885,3301,2519,1607,1063,731]
[49,null,4619,4016,3487,2670,1709,1137,783]
[50,null,4770,4150,3701,2844,1829,1220,846]
[51,null,4919,4280,3902,3053,1974,1323,922]
[52,null,5071,4412,4022,3278,2129,1434,1004]
[53,null,5251,4566,4166,3519,2296,1551,1092]
[54,null,5432,4722,4306,3779,2476,1678,1187]
[55,null,5614,4881,4448,3925,2669,1814,1288]
[56,null,5792,5035,4589,4060,2824,1961,1397]
[57,null,5969,5193,4734,4197,2912,2118,1515]
[58,null,6175,5368,4882,4377,3027,2287,1641]
[59,null,6382,5550,5029,4553,3142,2468,1776]
[60,null,6587,5727,5180,4731,3257,2665,1922]
[61,null,6841,5947,5403,4908,3378,2874,2078]
[62,null,7148,6215,5667,5129,3533,3102,2248]
[63,null,7516,6534,5961,5393,3717,3346,2429]
[64,null,7948,6914,6302,5704,4126,3611,2624]
[65,null,8470,7363,6713,6130,4417,3895,2834]
[66,null,9077,7894,7198,6619,4758,4203,3061]
[67,null,9802,8524,7774,7154,5139,4533,3305]
[68,null,10637,9247,8433,7757,5573,4891,3569]
[69,null,11606,10092,9202,8471,5797,5276,3851]
[70,null,12729,11069,10005,9427,6410,5690,4154]
[71,null,14020,12192,11114,10380,7061,6136,4477]
[72,null,15508,13485,12297,11488,7815,6613,4823]
[73,null,17224,14977,13655,12753,8673,7125,5190]
[74,null,19203,16696,15223,14221,9673,7671,5578]
[75,null,21470,18671,16955,16001,10853,8248,5985]
[76,null,24080,20937,19076,17941,12169,8859,6409]
[77,null,27040,23516,21440,20003,13670,9497,6846]
[78,null,30385,26421,24089,21457,14720,10160,7290]
[79,null,34139,29683,27067,22983,15756,10842,7731]
[80,"o más",38368,33594,29903,24576,16824,11531,8160]
[1,"Hijo",1472,1280,927,635,347,198,114]
[2,"Hijos",1741,1512,1096,752,409,235,134]
[3,"Hijos o más",2410,2094,1518,1041,567,324,187]
[]
["TARIFAS MENSUALES"]
["EDAD"]
[" "," ","F500-1","F500-2","F500-3","F500-4","F500-5"]
[18,null,{"$f":"+C6*$M$2","v":197.16},{"$f":"+D6*$M$2","v":168.62833333333333},123.49,85.153333333333336,46.198333333333331,26.588333333333335,15.281666666666666]
[19,null,{"$f":"+C7*$M$2","v":200.34},168.62833333333333,123.49,85.24166666666666,46.728333333333332,26.941666666666666,15.635]
[20,null,203.87333333333333,168.62833333333333,123.49,85.418333333333337,47.17,27.295000000000002,15.988333333333333]
[21,null,207.67166666666665,168.62833333333333,123.66666666666667,86.036666666666662,47.788333333333334,27.913333333333334,16.43]
[22,null,211.02833333333334,168.62833333333333,124.02,86.743333333333339,48.494999999999997,28.443333333333332,16.871666666666666]
[23,null,214.56166666666667,168.98166666666665,124.72666666666666,87.626666666666665,49.29,29.15,17.313333333333333]
[24,null,215.18,169.77666666666667,125.875,88.686666666666667,50.261666666666663,29.768333333333334,17.843333333333334]
[25,null,216.15166666666667,171.01333333333332,127.2,90.01166666666667,51.321666666666665,30.651666666666667,18.55]
[26,null,217.74166666666667,172.69166666666666,128.96666666666667,91.601666666666659,52.47,31.535,19.079999999999998]
[27,null,219.86166666666668,174.9,130.99833333333333,93.456666666666663,53.883333333333333,32.594999999999999,19.786666666666665]
[28,null,222.51166666666666,177.37333333333333,133.38333333333333,95.48833333333333,55.473333333333336,33.655000000000001,20.67]
[29,null,225.86833333333334,180.465,136.03333333333333,97.873333333333335,57.151666666666664,34.891666666666666,21.465]
[30,null,229.66666666666666,184.08666666666667,139.30166666666668,100.435,59.006666666666668,36.12833333333333,22.436666666666667]
[31,null,234.17166666666665,188.23833333333334,142.74666666666667,103.35,61.038333333333334,37.541666666666664,23.496666666666666]
[32,null,239.38333333333333,192.83166666666668,146.63333333333333,106.53,63.24666666666667,39.131666666666668,24.645]
[33,null,245.30166666666668,198.04333333333332,151.05000000000001,110.15166666666667,65.631666666666661,40.898333333333333,25.793333333333333]
[34,null,251.75,203.69666666666666,155.90833333333333,114.03833333333333,68.37,42.664999999999999,27.206666666666667]
[35,null,{"$f":"+C23*$M$2","v":258.99333333333334},210.05666666666667,161.29666666666665,118.36666666666666,71.196666666666673,44.784999999999997,28.62]
[36,null,267.03166666666664,217.12333333333333,167.215,122.96,74.465000000000003,46.993333333333332,30.298333333333332]
[37,null,275.77666666666664,224.80833333333334,173.48666666666668,128.17166666666665,77.998333333333335,49.37833333333333,31.888333333333332]
[38,null,285.40499999999997,233.2,180.465,133.64833333333334,81.708333333333329,51.94,33.831666666666663]
[39,null,295.82833333333332,242.29833333333335,188.23833333333334,139.74333333333334,85.86,54.766666666666666,35.774999999999999]
[40,null,304.22000000000003,252.19166666666666,196.45333333333332,146.36833333333334,90.276666666666671,57.858333333333334,38.071666666666665]
[41,null,310.93333333333334,262.88,205.28666666666666,153.435,94.958333333333329,61.215000000000003,40.545000000000002]
[42,null,318.35333333333335,274.71666666666664,215.00333333333333,161.20833333333334,100.25833333333334,64.836666666666673,43.195]
[43,null,330.45499999999998,287.17166666666668,225.42666666666668,169.6,105.91166666666666,68.811666666666667,46.021666666666668]
[44,null,343.17500000000001,298.56666666666666,236.73333333333332,178.61,112.00666666666666,73.051666666666662,49.201666666666668]
[45,null,355.98333333333335,309.43166666666667,249.01166666666666,188.41499999999999,118.54333333333334,77.644999999999996,52.47]
[46,null,368.52666666666664,320.47333333333336,262.17333333333335,198.92666666666668,125.875,82.68,56.18]
[47,null,381.33499999999998,331.42666666666668,276.21833333333331,210.23333333333332,133.47166666666666,87.98,60.155000000000001]
[48,null,394.85,343.17500000000001,291.58833333333331,222.51166666666666,141.95166666666665,93.898333333333326,64.571666666666673]
[49,null,408.01166666666666,354.74666666666667,308.01833333333332,235.85,150.96166666666667,100.435,69.165000000000006]
[50,null,421.35,366.58333333333331,326.92166666666668,251.22,161.56166666666667,107.76666666666667,74.73]
[51,null,{"$f":"+C39*$M$2","v":434.51166666666666},378.06666666666666,344.67666666666668,269.68166666666667,174.37,116.86499999999999,81.443333333333328]
[52,null,447.93833333333333,389.72666666666669,355.27666666666664,289.55666666666667,188.06166666666667,126.67,88.686666666666667]
[53,null,463.83833333333331,403.33,367.99666666666667,310.84500000000003,202.81333333333333,137.005,96.46]
[54,null,479.82666666666665,417.11,380.36333333333334,333.81166666666667,218.71333333333334,148.22333333333333,104.85166666666666]
[55,null,495.90333333333331,431.15499999999997,392.90666666666664,346.70833333333331,235.76166666666666,160.23666666666668,113.77333333333333]
[56,null,511.62666666666667,444.75833333333333,405.36166666666668,358.63333333333333,249.45333333333332,173.22166666666666,123.40166666666667]
[57,null,527.26166666666666,458.71499999999997,418.17,370.73500000000001,257.22666666666669,187.09,133.82499999999999]
[58,null,545.45833333333337,474.17333333333335,431.24333333333334,386.63499999999999,267.38499999999999,202.01833333333335,144.95500000000001]
[59,null,563.74333333333334,490.25,444.22833333333335,402.18166666666667,277.54333333333335,218.00666666666666,156.88]
[60,null,581.85166666666669,505.88499999999999,457.56666666666666,417.90499999999997,287.70166666666665,235.40833333333333,169.77666666666667]
[61,null,604.2883333333333,525.31833333333338,477.26499999999999,433.54,298.39,253.87,183.55666666666667]
[62,null,631.40666666666664,548.99166666666667,500.58499999999998,453.06166666666667,312.08166666666665,274.01,198.57333333333332]
[63,null,663.9133333333333,577.16999999999996,526.55499999999995,476.38166666666666,328.33499999999998,295.56333333333333,214.56166666666667]
[64,null,702.07333333333338,610.73666666666668,556.67666666666662,503.85333333333335,364.46333333333331,318.97166666666669,231.78666666666666]
[65,null,748.18333333333328,650.39833333333331,592.98166666666668,541.48333333333335,390.16833333333335,344.05833333333334,250.33666666666667]
[66,null,801.80166666666662,697.30333333333328,635.82333333333338,584.67833333333328,420.29,371.26499999999999,270.38833333333332]
[67,null,{"$f":"+C55*$M$2","v":865.84333333333336},752.95333333333338,686.70333333333338,631.93666666666661,453.94499999999999,400.41500000000002,291.94166666666666]
[68,null,939.60166666666669,816.81833333333338,744.91499999999996,685.20166666666671,492.28166666666664,432.03833333333336,315.26166666666666]
[69,null,1025.1966666666667,891.46,812.84333333333336,748.27166666666665,512.06833333333338,466.04666666666668,340.17166666666668]
[70,null,1124.395,977.76166666666666,883.77499999999998,832.71833333333336,566.2166666666667,502.61666666666667,366.93666666666667]
[71,null,1238.4333333333334,1076.96,981.73666666666668,916.9,623.72166666666669,542.01333333333332,395.46833333333331]
[72,null,1369.8733333333332,1191.175,1086.2349999999999,1014.7733333333333,690.32500000000005,584.14833333333331,426.03166666666664]
[73,null,1521.4533333333334,1322.9683333333332,1206.1916666666666,1126.5150000000001,766.11500000000001,629.375,458.45]
[74,null,1696.2650000000001,1474.8133333333333,1344.6983333333333,1256.1883333333333,854.44833333333338,677.60500000000002,492.72333333333336]
[75,null,1896.5166666666667,1649.2716666666668,1497.6916666666666,1413.4216666666666,958.68166666666662,728.57333333333338,528.67499999999995]
[76,null,2127.0666666666666,1849.4349999999999,1685.0466666666666,1584.7883333333334,1074.9283333333333,782.54499999999996,566.12833333333333]
[77,null,2388.5333333333333,2077.2466666666664,1893.8666666666666,1766.9316666666666,1207.5166666666667,838.90166666666664,604.73]
[78,null,2684.0083333333332,2333.855,2127.8616666666667,1895.3683333333333,1300.2666666666667,897.4666666666667,643.95000000000005]
[79,null,3015.6116666666667,2621.9983333333334,2390.9183333333335,2030.165,1391.78,957.71,682.90499999999997]
[80,"o más",3389.1733333333332,2967.47,2641.4316666666668,2170.88,1486.12,1018.5716666666667,720.8]
[1,"Hijo",130.02666666666667,113.06666666666666,81.885000000000005,56.091666666666669,30.651666666666667,17.489999999999998,10.07]
[2,"Hijos",153.78833333333333,133.56,96.813333333333333,66.426666666666662,36.12833333333333,20.758333333333333,11.836666666666666]
[3,"Hijos o más",{"$f":"+C71*$M$2","v":212.88333333333333},184.97,134.09,91.954999999999998,50.085000000000001,28.62,16.518333333333334]
[]
["FLEX 100"]
["TARIFAS ANUALES"]
["EDAD"]
[" "," ","F100-1","F100-2","F100-3","F100-4","F100-5"]
[18,null,2825,2768,2614,2385,1846]
[19,null,2879,2822,2661,2428,1884]
[20,null,2927,2862,2703,2463,1919]
[21,null,2975,2916,2746,2503,1962]
[22,null,3022,2972,2794,2552,2004]
[23,null,3079,3014,2842,2589,2045]
[24,null,3130,3066,2890,2634,2086]
[25,null,3177,3113,2929,2680,2135]
[26,null,3229,3164,2982,2718,2171]
[27,null,3274,3211,3022,2762,2213]
[28,null,3335,3271,3083,2811,2267]
[29,null,3395,3328,3136,2857,2325]
[30,null,3457,3385,3190,2912,2375]
[31,null,3512,3440,3241,2958,2428]
[32,null,3574,3499,3301,3008,2477]
[33,null,3669,3595,3389,3086,2555]
[34,null,3767,3693,3478,3172,2630]
[35,null,3865,3788,3572,3255,2703]
[36,null,3961,3884,3661,3335,2784]
[37,null,4056,3979,3751,3422,2856]
[38,null,4158,4077,3845,3503,2939]
[39,null,4260,4172,3933,3590,3017]
[40,null,4361,4272,4027,3669,3100]
[41,null,4462,4372,4119,3754,3178]
[42,null,4560,4468,4211,3835,3267]
[43,null,4739,4645,4376,3994,3401]
[44,null,4922,4823,4543,4146,3551]
[45,null,5109,4998,4711,4298,3694]
[46,null,5279,5181,4879,4451,3832]
[47,null,5465,5354,5049,4604,3979]
[48,null,5659,5542,5223,4765,4123]
[49,null,5847,5732,5400,4923,4278]
[50,null,6037,5922,5578,5086,4429]
[51,null,6227,6109,5754,5249,4579]
[52,null,6421,6291,5932,5411,4729]
[53,null,6647,6519,6142,5600,4916]
[54,null,6875,6742,6352,5794,5095]
[55,null,7099,6964,6565,5985,5277]
[56,null,7331,7186,6774,6178,5462]
[57,null,7557,7409,6977,6361,5644]
[58,null,7818,7667,7197,6585,5883]
[59,null,8075,7917,7419,6804,6122]
[60,null,8342,8168,7637,7026,6361]
[61,null,8657,8484,7969,7291,6599]
[62,null,9045,8869,8357,7621,6899]
[63,null,9514,9321,8786,8008,7253]
[64,null,10065,9859,9295,8474,7669]
[65,null,10720,10500,9904,9029,8239]
[66,null,11489,11260,10612,9679,8901]
[67,null,12405,12164,11461,10451,9616]
[68,null,13462,13188,12431,11333,10428]
[69,null,14690,14400,13567,12369,11392]
[70,null,16116,15788,14756,13568,12671]
[71,null,17739,17387,16387,14939,13953]
[72,null,19631,19234,18131,16532,15446]
[73,null,21802,21362,20137,18360,17145]
[74,null,24310,23821,22448,20466,19119]
[75,null,27178,26630,24996,22882,21510]
[76,null,30480,29858,28123,25660,24121]
[77,null,34226,33537,31603,28821,27089]
[78,null,38460,37681,35516,32381,30433]
[79,null,43210,42342,39903,36381,34193]
[80,"o más",48897,47910,45154,41171,38690]
[1,"Hijo",1452,1419,1336,1224,720]
[2,"Hijos",2440,2390,2251,2054,1073]
[3,"Hijos o más",3577,3502,3301,3013,1534]
[]
["TARIFAS MENSUALES"]
["EDAD"]
[" "," ","F100-1","F100-2","F100-3","F100-4","F100-5"]
[18,null,{"$f":"+C147*$M$2","v":249.54166666666666},244.50666666666666,230.90333333333334,210.67500000000001,163.06333333333333]
[19,null,254.31166666666667,249.27666666666667,235.05500000000001,214.47333333333333,166.42]
[20,null,258.55166666666668,252.81,238.76499999999999,217.565,169.51166666666666]
[21,null,262.79166666666669,257.58,242.56333333333333,221.09833333333333,173.31]
[22,null,266.94333333333333,262.52666666666664,246.80333333333334,225.42666666666668,177.02]
[23,null,271.97833333333335,266.23666666666668,251.04333333333332,228.69499999999999,180.64166666666668]
[24,null,276.48333333333335,270.83,255.28333333333333,232.67,184.26333333333332]
[25,null,280.63499999999999,274.98166666666668,258.72833333333335,236.73333333333332,188.59166666666667]
[26,null,285.22833333333335,279.48666666666668,263.41000000000003,240.09,191.77166666666668]
[27,null,289.20333333333332,283.63833333333332,266.94333333333333,243.97666666666666,195.48166666666665]
[28,null,294.59166666666664,288.93833333333333,272.33166666666665,248.30500000000001,200.25166666666667]
[29,null,299.89166666666665,293.97333333333336,277.01333333333332,252.36833333333334,205.375]
[30,null,305.36833333333334,299.00833333333333,281.78333333333336,257.22666666666669,209.79166666666666]
[31,null,310.22666666666669,303.86666666666667,286.28833333333336,261.29000000000002,214.47333333333333]
[32,null,315.70333333333332,309.07833333333332,291.58833333333331,265.70666666666665,218.80166666666668]
[33,null,324.09500000000003,317.55833333333334,299.36166666666668,272.59666666666669,225.69166666666666]
[34,null,{"$f":"+C163*$M$2","v":332.75166666666667},326.21499999999997,307.22333333333336,280.19333333333333,232.31666666666666]
[35,null,341.40833333333336,334.60666666666668,315.52666666666664,287.52499999999998,238.76499999999999]
[36,null,349.88833333333332,343.08666666666664,323.38833333333332,294.59166666666664,245.92]
[37,null,358.28,351.47833333333335,331.33833333333331,302.27666666666664,252.28]
[38,null,367.29,360.13499999999999,339.64166666666665,309.43166666666667,259.61166666666668]
[39,null,376.3,368.52666666666664,347.41500000000002,317.11666666666667,266.50166666666667]
[40,null,385.22166666666669,377.36,355.71833333333331,324.09500000000003,273.83333333333331]
[41,null,394.14333333333332,386.19333333333333,363.84500000000003,331.60333333333335,280.72333333333336]
[42,null,402.8,394.67333333333335,371.97166666666669,338.75833333333333,288.58499999999998]
[43,null,418.61166666666668,410.30833333333334,386.54666666666668,352.80333333333334,300.42166666666668]
[44,null,434.77666666666664,426.03166666666664,401.29833333333335,366.23,313.67166666666668]
[45,null,451.29500000000002,441.49,416.13833333333332,379.65666666666664,326.30333333333334]
[46,null,466.31166666666667,457.65499999999997,430.97833333333335,393.17166666666668,338.49333333333334]
[47,null,482.74166666666667,472.93666666666667,445.995,406.68666666666667,351.47833333333335]
[48,null,499.87833333333333,489.54333333333335,461.36500000000001,420.90833333333336,364.19833333333332]
[49,null,516.48500000000001,506.32666666666665,477,434.86500000000001,377.89]
[50,null,{"$f":"+C179*$M$2","v":533.26833333333332},523.11,492.72333333333336,449.26333333333332,391.22833333333335]
[51,null,550.05166666666662,539.62833333333333,508.27,463.66166666666669,404.47833333333335]
[52,null,567.18833333333328,555.70500000000004,523.99333333333334,477.97166666666669,417.72833333333335]
[53,null,587.15166666666664,575.84500000000003,542.54333333333329,494.66666666666669,434.24666666666667]
[54,null,607.29166666666663,595.54333333333329,561.09333333333336,511.80333333333334,450.05833333333334]
[55,null,627.07833333333338,615.15333333333331,579.9083333333333,528.67499999999995,466.13499999999999]
[56,null,647.57166666666672,634.76333333333332,598.37,545.72333333333336,482.47666666666669]
[57,null,667.53499999999997,654.4616666666667,616.30166666666662,561.88833333333332,498.55333333333334]
[58,null,690.59,677.25166666666667,635.73500000000001,581.67499999999995,519.66499999999996]
[59,null,713.29166666666663,699.33500000000004,655.34500000000003,601.02,540.77666666666664]
[60,null,736.87666666666667,721.50666666666666,674.60166666666669,620.63,561.88833333333332]
[61,null,764.70166666666671,749.42,703.92833333333328,644.0383333333333,582.91166666666663]
[62,null,798.97500000000002,783.42833333333328,738.20166666666671,673.18833333333328,609.41166666666663]
[63,null,840.40333333333331,823.35500000000002,776.09666666666669,707.37333333333333,640.68166666666662]
[64,null,889.07500000000005,870.87833333333333,821.05833333333328,748.53666666666663,677.42833333333328]
[65,null,946.93333333333328,927.5,874.85333333333335,797.56166666666661,727.77833333333331]
[66,null,{"$f":"+C195*$M$2","v":1014.8616666666667},994.63333333333333,937.39333333333332,854.97833333333335,786.255]
[67,null,1095.7750000000001,1074.4866666666667,1012.3883333333333,923.17166666666662,849.4133333333333]
[68,null,1189.1433333333334,1164.94,1098.0716666666667,1001.0816666666667,921.14]
[69,null,1297.6166666666666,1272,1198.4183333333333,1092.595,1006.2933333333333]
[70,null,1423.58,1394.6066666666666,1303.4466666666667,1198.5066666666667,1119.2716666666668]
[71,null,1566.9449999999999,1535.8516666666667,1447.5183333333334,1319.6116666666667,1232.5150000000001]
[72,null,1734.0716666666667,1699.0033333333333,1601.5716666666667,1460.3266666666666,1364.3966666666668]
[73,null,1925.8433333333332,1886.9766666666667,1778.7683333333334,1621.8,1514.4749999999999]
[74,null,2147.3833333333332,2104.1883333333335,1982.9066666666668,1807.83,1688.845]
[75,null,2400.7233333333334,2352.3166666666666,2207.98,2021.2433333333333,1900.05]
[76,null,2692.4,2637.4566666666665,2484.1983333333333,2266.6333333333332,2130.6883333333335]
[77,null,3023.2966666666666,2962.4349999999999,2791.5983333333334,2545.855,2392.8616666666667]
[78,null,3397.3,3328.4883333333332,3137.2466666666664,2860.3216666666667,2688.2483333333334]
[79,null,3816.8833333333332,3740.21,3524.7649999999999,3213.6550000000002,3020.3816666666667]
[80,"o más",4319.2349999999997,4232.05,3988.6033333333335,3636.7716666666665,3417.6166666666668]
[1,"Hijo",128.26,125.345,118.01333333333334,108.12,63.6]
[2,"Hijos",{"$f":"+C211*$M$2","v":215.53333333333333},211.11666666666667,198.83833333333334,181.43666666666667,94.781666666666666]
[3,"Hijos o más",315.96833333333331,309.34333333333331,291.58833333333331,266.14833333333331,135.50333333333333]
[]
[]
["FLEX 50"]
["TARIFAS ANUALES"]
["EDAD"]
[" "," ","F50-1","F50-2","F50-3","F50-4","F50-5"]
[18,null,2247,2201,2075,1894,1463]
[19,null,2284,2239,2107,1923,1493]
[20,null,2325,2274,2145,1952,1525]
[21,null,2363,2311,2186,1989,1562]
[22,null,2401,2352,2218,2021,1592]
[23,null,2441,2395,2252,2056,1625]
[24,null,2480,2434,2292,2091,1660]
[25,null,2522,2470,2330,2123,1689]
[26,null,2558,2512,2366,2158,1723]
[27,null,2602,2550,2401,2191,1759]
[28,null,2647,2592,2442,2230,1801]
[29,null,2697,2641,2490,2270,1841]
[30,null,2742,2684,2534,2306,1885]
[31,null,2789,2730,2578,2348,1923]
[32,null,2832,2781,2618,2390,1970]
[33,null,2912,2855,2692,2454,2025]
[34,null,2992,2934,2763,2520,2086]
[35,null,3066,3005,2832,2585,2145]
[36,null,3145,3083,2907,2647,2207]
[37,null,3223,3158,2974,2711,2268]
[38,null,3301,3238,3051,2784,2330]
[39,null,3382,3313,3122,2848,2396]
[40,null,3461,3389,3194,2913,2462]
[41,null,3539,3467,3267,2975,2522]
[42,null,3618,3544,3343,3047,2586]
[43,null,3761,3686,3471,3168,2703]
[44,null,3906,3830,3607,3290,2816]
[45,null,4051,3963,3743,3412,2934]
[46,null,4194,4107,3872,3535,3044]
[47,null,4338,4248,4007,3651,3158]
[48,null,4489,4398,4146,3784,3275]
[49,null,4643,4551,4284,3911,3395]
[50,null,4792,4698,4428,4038,3513]
[51,null,4944,4846,4566,4166,3630]
[52,null,5096,4993,4709,4295,3752]
[53,null,5277,5170,4872,4443,3896]
[54,null,5460,5347,5039,4595,4043]
[55,null,5639,5523,5205,4745,4189]
[56,null,5817,5702,5372,4895,4332]
[57,null,5997,5876,5543,5050,4479]
[58,null,6210,6077,5716,5226,4671]
[59,null,6415,6285,5891,5399,4860]
[60,null,6624,6486,6061,5576,5049]
[61,null,6870,6737,6325,5787,5237]
[62,null,7181,7036,6632,6047,5472]
[63,null,7552,7399,6977,6358,5754]
[64,null,7986,7825,7375,6722,6083]
[65,null,8507,8336,7853,7164,6538]
[66,null,9120,8938,8425,7683,7064]
[67,null,9845,9647,9094,8291,7629]
[68,null,10683,10465,9863,8997,8276]
[69,null,11655,11425,10768,9816,9036]
[70,null,12785,12527,11706,10768,10054]
[71,null,14081,13796,12999,11855,11071]
[72,null,15578,15261,14385,13119,12257]
[73,null,17298,16945,15979,14566,13602]
[74,null,19285,18893,17811,16240,15172]
[75,null,21563,21130,19835,18158,17060]
[76,null,24178,23691,22311,20359,19137]
[77,null,27157,26611,25080,22870,21491]
[78,null,30514,29895,28179,25689,24147]
[79,null,34283,33594,31663,28869,27130]
[80,"o más",38795,38012,35824,32670,30698]
[1,"Hijo",1146,1126,1058,966,575]
[2,"Hijos",1931,1896,1785,1629,848]
[3,"Hijos o más",2838,2781,2618,2390,1223]
[]
["TARIFAS MENSUALES"]
["EDAD"]
[" "," ","F50-1","F50-2","F50-3","F50-4","F50-5"]
[18,null,{"$f":"+C289*$M$2","v":198.48500000000001},194.42166666666665,183.29166666666666,167.30333333333334,129.23166666666665]
[19,null,201.75333333333333,197.77833333333334,186.11833333333334,169.86500000000001,131.88166666666666]
[20,null,205.375,200.87,189.47499999999999,172.42666666666668,134.70833333333334]
[21,null,208.73166666666665,204.13833333333332,193.09666666666666,175.69499999999999,137.97666666666666]
[22,null,212.08833333333334,207.76,195.92333333333335,178.52166666666668,140.62666666666667]
[23,null,215.62166666666667,211.55833333333334,198.92666666666668,181.61333333333334,143.54166666666666]
[24,null,219.06666666666666,215.00333333333333,202.46,184.70500000000001,146.63333333333333]
[25,null,222.77666666666667,218.18333333333334,205.81666666666666,187.53166666666667,149.19499999999999]
[26,null,225.95666666666668,221.89333333333335,208.99666666666667,190.62333333333333,152.19833333333332]
[27,null,229.84333333333333,225.25,212.08833333333334,193.53833333333333,155.37833333333333]
[28,null,233.81833333333333,228.96,215.71,196.98333333333332,159.08833333333334]
[29,null,238.23500000000001,233.28833333333333,219.95,200.51666666666668,162.62166666666667]
[30,null,242.21,237.08666666666667,223.83666666666667,203.69666666666666,166.50833333333333]
[31,null,246.36166666666668,241.15,227.72333333333333,207.40666666666667,169.86500000000001]
[32,null,250.16,245.655,231.25666666666666,211.11666666666667,174.01666666666668]
[33,null,257.22666666666669,252.19166666666666,237.79333333333332,216.77,178.875]
[34,null,{"$f":"+C305*$M$2","v":264.29333333333335},259.17,244.065,222.6,184.26333333333332]
[35,null,270.83,265.44166666666666,250.16,228.34166666666667,189.47499999999999]
[36,null,277.80833333333334,272.33166666666665,256.78500000000003,233.81833333333333,194.95166666666665]
[37,null,284.69833333333332,278.95666666666665,262.70333333333332,239.47166666666666,200.34]
[38,null,291.58833333333331,286.02333333333331,269.505,245.92,205.81666666666666]
[39,null,298.74333333333334,292.64833333333331,275.77666666666664,251.57333333333332,211.64666666666668]
[40,null,305.72166666666669,299.36166666666668,282.13666666666666,257.315,217.47666666666666]
[41,null,312.61166666666668,306.25166666666667,288.58499999999998,262.79166666666669,222.77666666666667]
[42,null,319.58999999999997,313.05333333333334,295.29833333333335,269.15166666666664,228.43]
[43,null,332.22166666666669,325.59666666666669,306.60500000000002,279.83999999999997,238.76499999999999]
[44,null,345.03,338.31666666666666,318.61833333333334,290.61666666666667,248.74666666666667]
[45,null,357.83833333333331,350.065,330.63166666666666,301.39333333333332,259.17]
[46,null,370.47,362.78500000000003,342.02666666666664,312.25833333333333,268.88666666666666]
[47,null,383.19,375.24,353.95166666666665,322.505,278.95666666666665]
[48,null,396.52833333333331,388.49,366.23,334.25333333333333,289.29166666666669]
[49,null,410.13166666666666,402.005,378.42,345.47166666666669,299.89166666666665]
[50,null,{"$f":"+C321*$M$2","v":423.29333333333335},414.99,391.14,356.69,310.315]
[51,null,436.72,428.06333333333333,403.33,367.99666666666667,320.64999999999998]
[52,null,450.14666666666665,441.04833333333335,415.96166666666664,379.39166666666665,331.42666666666668]
[53,null,466.13499999999999,456.68333333333334,430.36,392.46499999999997,344.14666666666665]
[54,null,482.3,472.31833333333333,445.11166666666668,405.89166666666665,357.13166666666666]
[55,null,498.11166666666668,487.86500000000001,459.77499999999998,419.14166666666665,370.02833333333331]
[56,null,513.83500000000004,503.67666666666668,474.52666666666664,432.39166666666665,382.66]
[57,null,529.73500000000001,519.04666666666662,489.63166666666666,446.08333333333331,395.64499999999998]
[58,null,548.54999999999995,536.80166666666662,504.91333333333336,461.63,412.60500000000002]
[59,null,566.6583333333333,555.17499999999995,520.37166666666667,476.91166666666669,429.3]
[60,null,585.12,572.92999999999995,535.38833333333332,492.54666666666668,445.995]
[61,null,606.85,595.10166666666669,558.70833333333337,511.185,462.60166666666669]
[62,null,634.32166666666672,621.51333333333332,585.82666666666671,534.15166666666664,483.36]
[63,null,667.09333333333336,653.57833333333338,616.30166666666662,561.62333333333333,508.27]
[64,null,705.43,691.20833333333337,651.45833333333337,593.77666666666664,537.33166666666671]
[65,null,751.45166666666671,736.34666666666669,693.68166666666662,632.82000000000005,577.52333333333331]
[66,null,{"$f":"+C337*$M$2","v":805.6},789.52333333333331,744.20833333333337,678.66499999999996,623.98666666666668]
[67,null,869.64166666666665,852.15166666666664,803.30333333333328,732.37166666666667,673.89499999999998]
[68,null,943.66499999999996,924.4083333333333,871.23166666666668,794.73500000000001,731.04666666666662]
[69,null,1029.5250000000001,1009.2083333333334,951.17333333333329,867.08,798.18]
[70,null,1129.3416666666667,1106.5516666666667,1034.03,951.17333333333329,888.10333333333335]
[71,null,1243.8216666666667,1218.6466666666668,1148.2449999999999,1047.1916666666666,977.93833333333328]
[72,null,1376.0566666666666,1348.0550000000001,1270.675,1158.845,1082.7016666666666]
[73,null,1527.99,1496.8083333333334,1411.4783333333332,1286.6633333333334,1201.51]
[74,null,1703.5083333333334,1668.8816666666667,1573.3050000000001,1434.5333333333333,1340.1933333333334]
[75,null,1904.7316666666666,1866.4833333333333,1752.0916666666667,1603.9566666666667,1506.9666666666667]
[76,null,2135.7233333333334,2092.7049999999999,1970.8050000000001,1798.3783333333333,1690.4349999999999]
[77,null,2398.8683333333333,2350.6383333333333,2215.4,2020.1833333333334,1898.3716666666667]
[78,null,2695.4033333333332,2640.7249999999999,2489.145,2269.1950000000002,2132.9850000000001]
[79,null,3028.3316666666665,2967.47,2796.8983333333335,2550.0949999999998,2396.4833333333331]
[80,"o más",3426.8916666666669,3357.7266666666665,3164.4533333333334,2885.85,2711.6566666666668]
[1,"Hijo",101.23,99.463333333333338,93.456666666666663,85.33,50.791666666666664]
[2,"Hijos",{"$f":"+C353*$M$2","v":170.57166666666666},167.48,157.67500000000001,143.89500000000001,74.906666666666666]
[3,"Hijos o más",250.69,245.655,231.25666666666666,211.11666666666667,108.03166666666667]
[]
["ESSENTIAL"]
["TARIFAS ANUALES"]
["EDAD"]
[" "," ","ET1","ET2","ET3","ET4","ET5","ET6"]
[18,-24,{"$f":"L430*85%","v":4352.8499999999995},{"$f":"M430*85%","v":3679.65},2881.5,2091.85,1626.8999999999999,1230.8,null,null,null,5121,4329,3390,2461,1914,1448]
[25,-29,{"$f":"L431*85%","v":4828},4051.1,3254.65,2331.5499999999997,1821.55,1371.05,null,null,null,5680,4766,3829,2743,2143,1613]
[30,-34,5586.2,4648.6499999999996,3829.25,2707.25,2103.75,1587.8,null,null,null,6572,5469,4505,3185,2475,1868]
[35,-39,6177.8,5121.25,4279.75,3014.95,2340.0499999999997,1764.6,null,null,null,7268,6025,5035,3547,2753,2076]
[40,-44,6965.75,5749.4,4884.95,3406.7999999999997,2653.7,1991.55,null,null,null,8195,6764,5747,4008,3122,2343]
[45,-49,8075.8499999999995,6624.9,5730.7,3973.75,3084.65,2316.25,null,null,null,9501,7794,6742,4675,3629,2725]
[50,-54,8842.5499999999993,7221.5999999999995,6311.25,4352.8499999999995,3384.7,2533.85,null,null,null,10403,8496,7425,5121,3982,2981]
[55,-59,10451.6,8493.1999999999989,7537.8,5163.75,4020.5,2998.7999999999997,null,null,null,12296,9992,8868,6075,4730,3528]
[60,null,11018.55,8891.85,8057.15,5472.3,4250,3174.75,null,null,null,12963,10461,9479,6438,5000,3735]
[61,null,12402.35,10017.25,9063.5499999999993,6163.3499999999995,4790.5999999999995,3582.75,null,null,null,14591,11785,10663,7251,5636,4215]
[62,null,13796.35,11135.85,10080.15,6854.4,5328.65,3989.0499999999997,null,null,null,16231,13101,11859,8064,6269,4693]
[63,null,15175.9,12254.449999999999,11090.8,7548.8499999999995,5865,4387.7,null,null,null,17854,14417,13048,8881,6900,5162]
[64,null,16559.7,13380.699999999999,12104,8235.65,6403.9,4790.5999999999995,null,null,null,19482,15742,14240,9689,7534,5636]
[65,null,16628.55,13390.9,12225.55,8284.9499999999989,6439.5999999999995,4809.3,null,null,null,19563,15754,14383,9747,7576,5658]
[66,null,16694,13404.5,12331.8,8338.5,6470.2,4817.8,null,null,null,19640,15770,14508,9810,7612,5668]
[67,null,18558.05,14895.4,13711.35,9270.1,7200.3499999999995,5363.5,null,null,null,21833,17524,16131,10906,8471,6310]
[68,null,20424.649999999998,16404.149999999998,15089.199999999999,10194.049999999999,7922.8499999999995,5907.5,null,null,null,24029,19299,17752,11993,9321,6950]
[69,null,21352.85,17139.399999999998,15778.55,10665.8,8274.75,6182.05,null,null,null,25121,20164,18563,12548,9735,7273]
[70,null,21505,17178.5,16048,10779.699999999999,8365.6999999999989,6213.5,null,null,null,25300,20210,18880,12682,9842,7310]
[71,null,24201.200000000001,19329.849999999999,18054.849999999999,12130.35,9413.75,6992.95,null,null,null,28472,22741,21241,14271,11075,8227]
[72,null,26894.85,21484.6,20077,13483.55,10462.65,7779.2,null,null,null,31641,25276,23620,15863,12309,9152]
[73,null,29593.599999999999,23654.649999999998,22087.25,14838.449999999999,11517.5,8558.65,null,null,null,34816,27829,25985,17457,13550,10069]
[74,null,32288.1,25803.45,24105.149999999998,16190.8,12568.1,9344.0499999999993,null,null,null,37986,30357,28359,19048,14786,10993]
[75,"o más",35271.599999999999,28127.35,26434.149999999998,17714,13752.15,10212.75,null,null,null,41496,33091,31099,20840,16179,12015]
[1,"Hijo",1983.8999999999999,1786.7,1056.55,854.25,663,490.45,null,null,null,2334,2102,1243,1005,780,577]
[2,"Hijos",3256.35,3014.1,1569.95,1337.8999999999999,1038.7,769.25,null,null,null,3831,3546,1847,1574,1222,905]
[3,"Hijos o más",{"$f":"L456*85%","v":4765.95},{"$f":"M456*85%","v":4413.2},2254.1999999999998,1942.25,1507.8999999999999,1111.8,null,null,null,5607,5192,2652,2285,1774,1308]
[]
["TARIFAS MENSUALES"]
["EDAD"]
[" "," ","ET1","ET2","ET3","ET4","ET5","ET6"]
[18,-24,{"$f":"+C430*$M$2","v":384.50174999999996},325.03575000000001,254.5325,184.78008333333332,143.70949999999999,108.72066666666666]
[25,-29,426.47333333333336,357.84716666666668,287.49408333333332,205.95358333333331,160.90358333333333,121.10941666666666]
[30,-34,493.44766666666663,410.63074999999998,338.25041666666664,239.14041666666665,185.83125000000001,140.25566666666666]
[35,-39,545.70566666666673,452.37708333333336,378.04458333333332,266.32058333333333,206.70441666666665,155.87299999999999]
[40,-44,615.30791666666664,507.86366666666663,431.50391666666667,300.93399999999997,234.41016666666664,175.92024999999998]
[45,-49,713.36674999999991,585.19949999999994,506.21183333333329,351.01458333333335,272.47741666666667,204.60208333333333]
[50,-54,781.09191666666663,637.9079999999999,557.49374999999998,384.50174999999996,298.98183333333333,223.82341666666665]
[55,-59,923.22466666666674,750.23266666666655,665.83900000000006,456.13125000000002,355.14416666666665,264.89399999999995]
[60,null,973.30524999999989,785.44675000000007,711.71491666666668,483.38650000000001,375.41666666666669,280.43624999999997]
[61,null,1095.5409166666666,884.85708333333332,800.61358333333328,544.42924999999991,423.16966666666661,316.47624999999999]
[62,null,1218.6775833333334,983.66674999999998,890.41324999999995,605.47199999999998,470.69741666666664,352.36608333333334]
[63,null,1340.5378333333333,1082.4764166666666,979.6873333333333,666.81508333333329,518.07500000000005,387.58016666666663]
[64,null,1462.7735,1181.9618333333333,1069.1866666666667,727.48241666666661,565.6778333333333,423.16966666666661]
[65,null,1468.8552499999998,1182.8628333333334,1079.9235833333332,731.83724999999993,568.8313333333333,424.82150000000001]
[66,null,1474.6366666666668,1184.0641666666666,1089.309,736.5675,571.53433333333328,425.57233333333335]
[67,null,1639.2944166666666,1315.7603333333334,1211.1692499999999,818.85883333333334,636.0309166666666,473.77583333333331]
[68,null,{"$f":"+C446*$M$2","v":1804.1774166666664},1449.0332499999997,1332.8793333333333,900.47441666666657,699.85174999999992,521.82916666666665]
[69,null,1886.1684166666666,1513.9803333333332,1393.7719166666666,942.14566666666656,730.93624999999997,546.08108333333337]
[70,null,1899.6083333333333,1517.4341666666667,1417.5733333333333,952.20683333333318,738.97016666666661,548.85916666666662]
[71,null,2137.7726666666667,1707.4700833333332,1594.8450833333332,1071.5142499999999,831.54791666666665,617.71058333333326]
[72,null,2375.7117499999999,1897.8063333333332,1773.4683333333332,1191.0469166666667,924.20074999999997,687.16266666666661]
[73,null,2614.1013333333331,2089.494083333333,1951.0404166666667,1310.72975,1017.3791666666667,756.01408333333325]
[74,null,2852.1154999999999,2279.3047500000002,2129.2882499999996,1430.1873333333333,1110.1821666666667,825.39108333333331]
[75,"o más",3115.6579999999999,2484.5825833333333,2335.0165833333331,1564.7366666666667,1214.77325,902.12625000000003]
[1,"Hijo",175.24449999999999,157.82516666666666,93.328583333333327,75.458749999999995,58.564999999999998,43.323083333333329]
[2,"Hijos",287.64425,266.24549999999999,138.67891666666668,118.18116666666666,91.751833333333337,67.950416666666669]
[3,"Hijos o más",420.99224999999996,389.83266666666663,199.12099999999998,171.56541666666666,133.19783333333331,98.208999999999989]
[]
["ESSENTIAL 500"]
["TARIFAS SEMESTRALES"]
["EDAD"]
[" "," ","F500-1","F500-2","F500-3","F500-4","F500-5"]
[18,null,{"$f":"+C6*$M$3","v":1149.48},{"$f":"+D6*$M$3","v":983.13499999999999},719.97,496.46000000000004,269.34500000000003,155.01500000000001,89.094999999999999]
[19,null,{"$f":"+C7*$M$3","v":1168.02},983.13499999999999,719.97,496.97500000000002,272.435,157.07500000000002,91.155000000000001]
[20,null,1188.6200000000001,983.13499999999999,719.97,498.005,275.01,159.13499999999999,93.215000000000003]
[21,null,1210.7650000000001,983.13499999999999,721,501.61,278.61500000000001,162.74,95.79]
[22,null,1230.335,983.13499999999999,723.06000000000006,505.73,282.73500000000001,165.83,98.365000000000009]
[23,null,1250.9349999999999,985.19500000000005,727.18000000000006,510.88,287.37,169.95000000000002,100.94]
[24,null,1254.54,989.83,733.875,517.06000000000006,293.03500000000003,173.55500000000001,104.03]
[25,null,1260.2049999999999,997.04000000000008,741.6,524.78499999999997,299.21500000000003,178.70500000000001,108.15]
[26,null,1269.4750000000001,1006.825,751.9,534.05500000000006,305.91000000000003,183.85500000000002,111.24000000000001]
[27,null,1281.835,1019.7,763.745,544.87,314.15000000000003,190.035,115.36]
[28,null,1297.2850000000001,1034.1200000000001,777.65,556.71500000000003,323.42,196.215,120.51]
[29,null,1316.855,1052.145,793.1,570.62,333.20499999999998,203.42500000000001,125.14500000000001]
[30,null,1339,1073.26,812.15499999999997,585.55500000000006,344.02,210.63500000000002,130.81]
[31,null,1365.2650000000001,1097.4649999999999,832.24,602.55000000000007,355.86500000000001,218.875,136.99]
[32,null,1395.65,1124.2450000000001,854.9,621.09,368.74,228.14500000000001,143.685]
[33,null,1430.155,1154.6300000000001,880.65,642.20500000000004,382.64499999999998,238.44499999999999,150.38]
[34,null,1467.75,1187.5899999999999,908.97500000000002,664.86500000000001,398.61,248.745,158.62]
[35,null,{"$f":"+C23*$M$3","v":1509.98},1224.67,940.39,690.1,415.09000000000003,261.10500000000002,166.86]
[36,null,1556.845,1265.8700000000001,974.89499999999998,716.88,434.14500000000004,273.98,176.64500000000001]
[37,null,1607.8300000000002,1310.675,1011.46,747.26499999999999,454.745,287.88499999999999,185.91499999999999]
[38,null,1663.9650000000001,1359.6000000000001,1052.145,779.19500000000005,476.375,302.82,197.245]
[39,null,1724.7350000000001,1412.645,1097.4649999999999,814.73,500.58000000000004,319.3,208.57500000000002]
[40,null,1773.66,1470.325,1145.3600000000001,853.35500000000002,526.33000000000004,337.32499999999999,221.965]
[41,null,1812.8,1532.64,1196.8600000000001,894.55500000000006,553.625,356.89499999999998,236.38500000000002]
[42,null,1856.06,1601.65,1253.51,939.875,584.52499999999998,378.01,251.83500000000001]
[43,null,1926.615,1674.2650000000001,1314.28,988.80000000000007,617.48500000000001,401.185,268.315]
[44,null,2000.7750000000001,1740.7,1380.2,1041.33,653.02,425.90500000000003,286.85500000000002]
[45,null,2075.4500000000003,1804.0450000000001,1451.7850000000001,1098.4950000000001,691.13,452.685,305.91000000000003]
[46,null,2148.58,1868.42,1528.52,1159.78,733.875,482.04,327.54000000000002]
[47,null,2223.2550000000001,1932.28,1610.405,1225.7,778.16499999999996,512.94000000000005,350.71500000000003]
[48,null,2302.0500000000002,2000.7750000000001,1700.0150000000001,1297.2850000000001,827.60500000000002,547.44500000000005,376.46500000000003]
[49,null,2378.7849999999999,2068.2400000000002,1795.8050000000001,1375.05,880.13499999999999,585.55500000000006,403.245]
[50,null,2456.5500000000002,2137.25,1906.0150000000001,1464.66,941.93500000000006,628.30000000000007,435.69]
[51,null,{"$f":"+C39*$M$3","v":2533.2849999999999},2204.2000000000003,2009.53,1572.2950000000001,1016.61,681.34500000000003,474.83]
[52,null,2611.5650000000001,2272.1799999999998,2071.33,1688.17,1096.4349999999999,738.51,517.06000000000006]
[53,null,2704.2649999999999,2351.4900000000002,2145.4900000000002,1812.2850000000001,1182.44,798.76499999999999,562.38]
[54,null,2797.48,2431.83,2217.59,1946.1849999999999,1275.1400000000001,864.17000000000007,611.30500000000006]
[55,null,2891.21,2513.7150000000001,2290.7200000000003,2021.375,1374.5350000000001,934.21,663.32]
[56,null,2982.88,2593.0250000000001,2363.335,2090.9,1454.3600000000001,1009.9150000000001,719.45500000000004]
[57,null,3074.0349999999999,2674.395,2438.0100000000002,2161.4549999999999,1499.68,1090.77,780.22500000000002]
[58,null,3180.125,2764.52,2514.23,2254.1550000000002,1558.905,1177.8050000000001,845.11500000000001]
[59,null,3286.73,2858.25,2589.9349999999999,2344.7950000000001,1618.13,1271.02,914.64]
[60,null,3392.3050000000003,2949.4050000000002,2667.7000000000003,2436.4650000000001,1677.355,1372.4750000000001,989.83]
[61,null,3523.1150000000002,3062.7049999999999,2782.5450000000001,2527.62,1739.67,1480.1100000000001,1070.17]
[62,null,3681.2200000000003,3200.7249999999999,2918.5050000000001,2641.4349999999999,1819.4950000000001,1597.53,1157.72]
[63,null,3870.7400000000002,3365.01,3069.915,2777.395,1914.2550000000001,1723.19,1250.9349999999999]
[64,null,4093.2200000000003,3560.71,3245.53,2937.56,2124.89,1859.665,1351.3600000000001]
[65,null,4362.05,3791.9450000000002,3457.1950000000002,3156.9500000000003,2274.7550000000001,2005.925,1459.51]
[66,null,4674.6549999999997,4065.4100000000003,3706.9700000000003,3408.7850000000003,2450.37,2164.5450000000001,1576.415]
[67,null,{"$f":"+C55*$M$3","v":5048.03},4389.8599999999997,4003.61,3684.31,2646.585,2334.4949999999999,1702.075]
[68,null,5478.0550000000003,4762.2049999999999,4342.9949999999999,3994.855,2870.0950000000003,2518.8650000000002,1838.0350000000001]
[69,null,5977.09,5197.38,4739.03,4362.5650000000005,2985.4549999999999,2717.14,1983.2650000000001]
[70,null,6555.4350000000004,5700.5349999999999,5152.5749999999998,4854.9049999999997,3301.15,2930.35,2139.31]
[71,null,7220.3,6278.88,5723.71,5345.7,3636.415,3160.04,2305.6550000000002]
[72,null,7986.62,6944.7750000000005,6332.9549999999999,5916.32,4024.7249999999999,3405.6950000000002,2483.8450000000003]
[73,null,8870.36,7713.1549999999997,7032.3249999999998,6567.7950000000001,4466.5950000000003,3669.375,2672.85]
[74,null,9889.5450000000001,8598.44,7839.8450000000003,7323.8150000000005,4981.5950000000003,3950.5650000000001,2872.67]
[75,null,11057.050000000001,9615.5650000000005,8731.8250000000007,8240.5149999999994,5589.2950000000001,4247.72,3082.2750000000001]
[76,null,12401.2,10782.555,9824.14,9239.6149999999998,6267.0349999999999,4562.3850000000002,3300.6350000000002]
[77,null,13925.6,12110.74,11041.6,10301.545,7040.05,4890.9549999999999,3525.69]
[78,null,15648.275,13606.815000000001,12405.835000000001,11050.355,7580.8,5232.4000000000005,3754.35]
[79,null,17581.584999999999,15286.745000000001,13939.505000000001,11836.245000000001,8114.34,5583.63,3981.4650000000001]
[80,"o más",19759.52,17300.91,15400.045,12656.64,8664.36,5938.4650000000001,4202.4000000000005]
[1,"Hijo",758.08,659.2,477.40500000000003,327.02500000000003,178.70500000000001,101.97,58.71]
[2,"Hijos",896.61500000000001,778.68000000000006,564.44000000000005,387.28000000000003,210.63500000000002,121.02500000000001,69.010000000000005]
[3,"Hijos o más",{"$f":"+C71*$M$3","v":1241.1500000000001},1078.4100000000001,781.77,536.11500000000001,292.005,166.86,96.305000000000007]
[]
["ESSENTIAL 100"]
["TARIFAS SEMESTRALES"]
["EDAD"]
[" "," ","F100-1","F100-2","F100-3","F100-4","F100-5"]
[18,null,{"$f":"+C147*$M$3","v":1454.875},{"$f":"+D147*$M$3","v":1425.52},1346.21,1228.2750000000001,{"$f":"+G147*$M$3","v":950.69}]
[19,null,{"$f":"+C148*$M$3","v":1482.6849999999999},1453.33,1370.415,1250.42,970.26]
[20,null,1507.405,1473.93,1392.0450000000001,1268.4449999999999,988.28500000000008]
[21,null,1532.125,1501.74,1414.19,1289.0450000000001,1010.4300000000001]
[22,null,1556.33,1530.58,1438.91,1314.28,1032.06]
[23,null,1585.6849999999999,1552.21,1463.63,1333.335,1053.175]
[24,null,1611.95,1578.99,1488.3500000000001,1356.51,1074.29]
[25,null,1636.155,1603.1949999999999,1508.4349999999999,1380.2,1099.5250000000001]
[26,null,1662.9349999999999,1629.46,1535.73,1399.77,1118.0650000000001]
[27,null,1686.1100000000001,1653.665,1556.33,1422.43,1139.6949999999999]
[28,null,1717.5250000000001,1684.5650000000001,1587.7450000000001,1447.665,1167.5050000000001]
[29,null,1748.425,1713.92,1615.04,1471.355,1197.375]
[30,null,1780.355,1743.2750000000001,1642.8500000000001,1499.68,1223.125]
[31,null,1808.68,1771.6000000000001,1669.115,1523.3700000000001,1250.42]
[32,null,1840.6100000000001,1801.9850000000001,1700.0150000000001,1549.1200000000001,1275.655]
[33,null,1889.5350000000001,1851.425,1745.335,1589.29,1315.825]
[34,null,1940.0050000000001,1901.895,1791.17,1633.5800000000002,1354.45]
[35,null,{"$f":"+C164*$M$3","v":1990.4750000000001},1950.8200000000002,1839.5800000000002,1676.325,1392.0450000000001]
[36,null,2039.915,2000.26,1885.415,1717.5250000000001,1433.76]
[37,null,2088.84,2049.1849999999999,1931.7650000000001,1762.3300000000002,1470.8400000000001]
[38,null,2141.37,2099.6550000000002,1980.175,1804.0450000000001,1513.585]
[39,null,2193.9,2148.58,2025.4950000000001,1848.8500000000001,1553.7550000000001]
[40,null,2245.915,2200.08,2073.9050000000002,1889.5350000000001,1596.5]
[41,null,2297.9299999999998,2251.58,2121.2849999999999,1933.31,1636.67]
[42,null,2348.4,2301.02,2168.665,1975.0250000000001,1682.5050000000001]
[43,null,2440.585,2392.1750000000002,2253.64,2056.91,1751.5150000000001]
[44,null,2534.83,2483.8450000000003,2339.645,2135.19,1828.7650000000001]
[45,null,2631.1350000000002,2573.9700000000003,2426.165,2213.4700000000003,1902.41]
[46,null,2718.6849999999999,2668.2150000000001,2512.6849999999999,2292.2649999999999,1973.48]
[47,null,2814.4749999999999,2757.31,2600.2350000000001,2371.06,2049.1849999999999]
[48,null,2914.3850000000002,2854.13,2689.8450000000003,2453.9749999999999,2123.3450000000003]
[49,null,3011.2049999999999,2951.98,2781,2535.3450000000003,2203.17]
[50,null,3109.0550000000003,3049.83,2872.67,2619.29,2280.9349999999999]
[51,null,{"$f":"+C180*$M$3","v":3206.9050000000002},3146.1350000000002,2963.31,2703.2350000000001,2358.1849999999999]
[52,null,3306.8150000000001,3239.8650000000002,3054.98,2786.665,2435.4349999999999]
[53,null,3423.2049999999999,3357.2850000000003,3163.13,2884,2531.7400000000002]
[54,null,3540.625,3472.13,3271.28,2983.91,2623.9250000000002]
[55,null,3655.9850000000001,3586.46,3380.9749999999999,3082.2750000000001,2717.6550000000002]
[56,null,3775.4650000000001,3700.79,3488.61,3181.67,2812.9300000000003]
[57,null,3891.855,3815.6350000000002,3593.1550000000002,3275.915,2906.66]
[58,null,4026.27,3948.5050000000001,3706.4549999999999,3391.2750000000001,3029.7449999999999]
[59,null,4158.625,4077.2550000000001,3820.7850000000003,3504.06,3152.83]
[60,null,4296.13,4206.5200000000004,3933.0550000000003,3618.39,3275.915]
[61,null,4458.3550000000005,4369.26,4104.0349999999999,3754.8650000000002,3398.4850000000001]
[62,null,4658.1750000000002,4567.5349999999999,4303.8550000000005,3924.8150000000001,3552.9850000000001]
[63,null,4899.71,4800.3150000000005,4524.79,4124.12,3735.2950000000001]
[64,null,5183.4750000000004,5077.3850000000002,4786.9250000000002,4364.1099999999997,3949.5350000000003]
[65,null,5520.8,5407.5,5100.5600000000004,4649.9350000000004,4243.085]
[66,null,5916.835,5798.9000000000005,5465.18,4984.6850000000004,4584.0150000000003]
[67,null,{"$f":"+C196*$M$3","v":6388.5749999999998},6264.46,5902.415,5382.2650000000003,4952.24]
[68,null,6932.93,6791.8200000000006,6401.9650000000001,5836.4949999999999,5370.42]
[69,null,7565.35,7416,6987.0050000000001,6370.0349999999999,5866.88]
[70,null,8299.74,8130.8200000000006,7599.34,6987.52,6525.5650000000005]
[71,null,9135.5850000000009,8954.3050000000003,8439.3050000000003,7693.585,7185.7950000000001]
[72,null,10109.965,9905.51,9337.4650000000001,8513.98,7954.6900000000005]
[73,null,11228.03,11001.43,10370.555,9455.4,8829.6750000000011]
[74,null,12519.65,12267.815000000001,11560.720000000001,10539.99,9846.2849999999999]
[75,null,13996.67,13714.45,12872.94,11784.23,11077.65]
[76,null,15697.2,15376.87,14483.345000000001,13214.9,12422.315000000001]
[77,null,17626.39,17271.555,16275.545,14842.815000000001,13950.835000000001]
[78,null,19806.900000000001,19405.715,18290.740000000002,16676.215,15672.995000000001]
[79,null,22253.15,21806.13,20550.045000000002,18736.215,17609.395]
[80,"o más",25181.955000000002,24673.65,23254.31,21203.065000000002,19925.350000000002]
[1,"Hijo",747.78,730.78499999999997,688.04,630.36,370.8]
[2,"Hijos",1256.6000000000001,1230.8500000000001,1159.2650000000001,1057.81,552.59500000000003]
[3,"Hijos o más",{"$f":"+C212*$M$3","v":1842.155},1803.53,1700.0150000000001,1551.6949999999999,790.01]
[]
["ESSENTIAL 50"]
["TARIFAS SEMESTRALES"]
["EDAD"]
[" "," ","F50-1","F50-2","F50-3","F50-4","F50-5"]
[18,null,{"$f":"+C289*$M$3","v":1157.2049999999999},{"$f":"+D289*$M$3","v":1133.5150000000001},1068.625,975.41000000000008,753.44500000000005]
[19,null,{"$f":"+C290*$M$3","v":1176.26},1153.085,1085.105,990.34500000000003,768.89499999999998]
[20,null,1197.375,1171.1100000000001,1104.675,1005.28,785.375]
[21,null,1216.9449999999999,1190.165,1125.79,1024.335,804.43000000000006]
[22,null,1236.5150000000001,1211.28,1142.27,1040.8150000000001,819.88]
[23,null,1257.115,1233.425,1159.78,1058.8399999999999,836.875]
[24,null,1277.2,1253.51,1180.3800000000001,1076.865,854.9]
[25,null,1298.83,1272.05,1199.95,1093.345,869.83500000000004]
[26,null,1317.3700000000001,1293.68,1218.49,1111.3700000000001,887.34500000000003]
[27,null,1340.03,1313.25,1236.5150000000001,1128.365,905.88499999999999]
[28,null,1363.2049999999999,1334.88,1257.6300000000001,1148.45,927.51499999999999]
[29,null,1388.9549999999999,1360.115,1282.3500000000001,1169.05,948.11500000000001]
[30,null,1412.13,1382.26,1305.01,1187.5899999999999,970.77499999999998]
[31,null,1436.335,1405.95,1327.67,1209.22,990.34500000000003]
[32,null,1458.48,1432.2150000000001,1348.27,1230.8500000000001,1014.5500000000001]
[33,null,1499.68,1470.325,1386.38,1263.81,1042.875]
[34,null,1540.88,1511.01,1422.9449999999999,1297.8,1074.29]
[35,null,{"$f":"+C306*$M$3","v":1578.99},1547.575,1458.48,1331.2750000000001,1104.675]
[36,null,1619.675,1587.7450000000001,1497.105,1363.2049999999999,1136.605]
[37,null,1659.845,1626.3700000000001,1531.6100000000001,1396.165,1168.02]
[38,null,1700.0150000000001,1667.57,1571.2650000000001,1433.76,1199.95]
[39,null,1741.73,1706.1949999999999,1607.8300000000002,1466.72,1233.94]
[40,null,1782.415,1745.335,1644.91,1500.1949999999999,1267.93]
[41,null,1822.585,1785.5050000000001,1682.5050000000001,1532.125,1298.83]
[42,null,1863.27,1825.16,1721.645,1569.2049999999999,1331.79]
[43,null,1936.915,1898.29,1787.5650000000001,1631.52,1392.0450000000001]
[44,null,2011.5900000000001,1972.45,1857.605,1694.3500000000001,1450.24]
[45,null,2086.2649999999999,2040.9450000000002,1927.645,1757.18,1511.01]
[46,null,2159.91,2115.105,1994.0800000000002,1820.5250000000001,1567.66]
[47,null,2234.0700000000002,2187.7200000000003,2063.605,1880.2650000000001,1626.3700000000001]
[48,null,2311.835,2264.9700000000003,2135.19,1948.76,1686.625]
[49,null,2391.145,2343.7649999999999,2206.2600000000002,2014.165,1748.425]
[50,null,2467.88,2419.4700000000003,2280.42,2079.5700000000002,1809.1949999999999]
[51,null,{"$f":"+C322*$M$3","v":2546.16},2495.69,2351.4900000000002,2145.4900000000002,1869.45]
[52,null,2624.44,2571.395,2425.1350000000002,2211.9250000000002,1932.28]
[53,null,2717.6550000000002,2662.55,2509.08,2288.145,2006.44]
[54,null,2811.9,2753.7049999999999,2595.085,2366.4250000000002,2082.145]
[55,null,2904.085,2844.3450000000003,2680.5750000000003,2443.6750000000002,2157.335]
[56,null,2995.7550000000001,2936.53,2766.58,2520.9250000000002,2230.98]
[57,null,3088.4549999999999,3026.14,2854.645,2600.75,2306.6849999999999]
[58,null,3198.15,3129.6550000000002,2943.7400000000002,2691.39,2405.5650000000001]
[59,null,3303.7249999999999,3236.7750000000001,3033.8650000000002,2780.4850000000001,2502.9]
[60,null,3411.36,3340.29,3121.415,2871.64,2600.2350000000001]
[61,null,3538.05,3469.5550000000003,3257.375,2980.3050000000003,2697.0550000000003]
[62,null,3698.2150000000001,3623.54,3415.48,3114.2049999999999,2818.08]
[63,null,3889.28,3810.4850000000001,3593.1550000000002,3274.37,2963.31]
[64,null,4112.79,4029.875,3798.125,3461.83,3132.7449999999999]
[65,null,4381.1050000000005,4293.04,4044.2950000000001,3689.46,3367.07]
[66,null,4696.8,4603.07,4338.875,3956.7449999999999,3637.96]
[67,null,{"$f":"+C338*$M$3","v":5070.1750000000002},4968.2049999999999,4683.41,4269.8649999999998,3928.9349999999999]
[68,null,5501.7449999999999,5389.4750000000004,5079.4449999999997,4633.4549999999999,4262.1400000000003]
[69,null,6002.3249999999998,5883.875,5545.52,5055.24,4653.54]
[70,null,6584.2750000000005,6451.4049999999997,6028.59,5545.52,5177.8100000000004]
[71,null,7251.7150000000001,7104.9400000000005,6694.4850000000006,6105.3249999999998,5701.5650000000005]
[72,null,8022.67,7859.415,7408.2750000000005,6756.2849999999999,6312.3550000000005]
[73,null,8908.4699999999993,8726.6750000000011,8229.1849999999995,7501.49,7005.03]
[74,null,9931.7749999999996,9729.8950000000004,9172.6650000000009,8363.6,7813.58]
[75,null,11104.945,10881.95,10215.025,9351.3700000000008,8785.9]
[76,null,12451.67,12200.865,11490.165000000001,10484.885,9855.5550000000003]
[77,null,13985.855,13704.665000000001,12916.2,11778.050000000001,11067.865]
[78,null,15714.710000000001,15395.925000000001,14512.184999999999,13229.835000000001,12435.705]
[79,null,17655.744999999999,17300.91,16306.445,14867.535,13971.95]
[80,"o más",19979.424999999999,19576.18,18449.36,16825.05,15809.470000000001]
[1,"Hijo",590.19000000000005,579.89,544.87,497.49,296.125]
[2,"Hijos",994.46500000000003,976.44,919.27499999999998,838.93500000000006,436.72]
[3,"Hijos o más",{"$f":"+C354*$M$3","v":1461.57},1432.2150000000001,1348.27,1230.8500000000001,629.84500000000003]
[]
["ESSENTIAL 500"]
["TARIFAS TRIMESTRALES"]
["EDAD"]
[" "," ","F500-1","F500-2","F500-3","F500-4","F500-5"]
[18,null,{"$f":"+C6*$M$4","v":583.11},{"$f":"+D6*$M$4","v":498.72624999999999},365.22749999999996,251.84499999999997,136.63374999999999,78.63624999999999,45.196249999999999]
[19,null,{"$f":"+C7*$M$4","v":592.51499999999999},498.72624999999999,365.22749999999996,252.10624999999999,138.20124999999999,79.681249999999991,46.241249999999994]
[20,null,602.96499999999992,498.72624999999999,365.22749999999996,252.62875,139.50749999999999,80.726249999999993,47.286249999999995]
[21,null,614.1987499999999,498.72624999999999,365.75,254.45749999999998,141.33624999999998,82.554999999999993,48.592499999999994]
[22,null,624.12624999999991,498.72624999999999,366.79499999999996,256.54749999999996,143.42624999999998,84.122499999999988,49.89875]
[23,null,634.57624999999996,499.77124999999995,368.88499999999999,259.15999999999997,145.7775,86.212499999999991,51.204999999999998]
[24,null,636.40499999999997,502.12249999999995,372.28125,262.29499999999996,148.65124999999998,88.041249999999991,52.772499999999994]
[25,null,639.27874999999995,505.78,376.2,266.21375,151.78625,90.653749999999988,54.862499999999997]
[26,null,643.98124999999993,510.74374999999998,381.42499999999995,270.91624999999999,155.18249999999998,93.266249999999999,56.429999999999993]
[27,null,650.25124999999991,517.27499999999998,387.43374999999997,276.40249999999997,159.36249999999998,96.40124999999999,58.519999999999996]
[28,null,658.08875,524.58999999999992,394.48749999999995,282.41125,164.065,99.536249999999995,61.132499999999993]
[29,null,668.0162499999999,533.73374999999999,402.32499999999999,289.46499999999997,169.02875,103.19374999999999,63.483749999999993]
[30,null,679.25,544.44499999999994,411.99124999999998,297.04124999999999,174.51499999999999,106.85124999999999,66.357500000000002]
[31,null,692.5737499999999,556.72375,422.17999999999995,305.66249999999997,180.52374999999998,111.03124999999999,69.492499999999993]
[32,null,707.98749999999995,570.30874999999992,433.67499999999995,315.0675,187.05499999999998,115.73374999999999,72.888750000000002]
[33,null,725.49124999999992,585.72249999999997,446.73749999999995,325.77875,194.10874999999999,120.95874999999999,76.284999999999997]
[34,null,744.5625,602.4425,461.10624999999999,337.27374999999995,202.20749999999998,126.18374999999999,80.464999999999989]
[35,null,{"$f":"+C23*$M$4","v":765.9849999999999},621.25249999999994,477.04249999999996,350.07499999999999,210.5675,132.45374999999999,84.644999999999996]
[36,null,789.75874999999996,642.15249999999992,494.54624999999999,363.65999999999997,220.23374999999999,138.98499999999999,89.608750000000001]
[37,null,815.62249999999995,664.88124999999991,513.09499999999991,379.07374999999996,230.68374999999997,146.03874999999999,94.311249999999987]
[38,null,844.09875,689.69999999999993,533.73374999999999,395.27124999999995,241.65624999999997,153.61499999999998,100.05874999999999]
[39,null,874.92624999999998,716.60874999999999,556.72375,413.29749999999996,253.93499999999997,161.97499999999999,105.80624999999999]
[40,null,899.74499999999989,745.86874999999998,581.02,432.89124999999996,266.9975,171.11874999999998,112.59875]
[41,null,919.59999999999991,777.4799999999999,607.14499999999998,453.79124999999999,280.84375,181.04624999999999,119.91374999999999]
[42,null,941.54499999999996,812.48749999999995,635.88249999999994,476.78124999999994,296.51874999999995,191.75749999999999,127.75124999999998]
[43,null,977.33624999999995,849.3237499999999,666.70999999999992,501.59999999999997,313.23874999999998,203.51374999999999,136.11124999999998]
[44,null,1014.95625,883.02499999999998,700.15,528.24749999999995,331.26499999999999,216.05374999999998,145.51624999999999]
[45,null,1052.8374999999999,915.15874999999994,736.46375,557.24624999999992,350.59749999999997,229.63874999999999,155.18249999999998]
[46,null,1089.9349999999999,947.81499999999994,775.39,588.33499999999992,372.28125,244.52999999999997,166.155]
[47,null,1127.8162499999999,980.20999999999992,816.92874999999992,621.77499999999998,394.74874999999997,260.20499999999998,177.91125]
[48,null,1167.7874999999999,1014.95625,862.3862499999999,658.08875,419.82874999999996,277.70875000000001,190.97375]
[49,null,1206.7137499999999,1049.1799999999998,910.97874999999999,697.53749999999991,446.47624999999999,297.04124999999999,204.55874999999997]
[50,null,1246.1624999999999,1084.1875,966.8862499999999,742.995,477.82624999999996,318.72499999999997,221.01749999999998]
[51,null,{"$f":"+C39*$M$4","v":1285.0887499999999},1118.1499999999999,1019.3974999999999,797.59624999999994,515.70749999999998,345.63374999999996,240.87249999999997]
[52,null,1324.7987499999999,1152.635,1050.7474999999999,856.37749999999994,556.20124999999996,374.63249999999999,262.29499999999996]
[53,null,1371.82375,1192.8674999999998,1088.3674999999998,919.33874999999989,599.82999999999993,405.19874999999996,285.28499999999997]
[54,null,1419.11,1233.6224999999999,1124.9424999999999,987.26374999999996,646.8549999999999,438.3775,310.10374999999999]
[55,null,1466.6574999999998,1275.1612499999999,1162.04,1025.40625,697.27625,473.90749999999997,336.48999999999995]
[56,null,1513.1599999999999,1315.39375,1198.87625,1060.675,737.77,512.31124999999997,364.96625]
[57,null,1559.4012499999999,1356.6712499999999,1236.7574999999999,1096.4662499999999,760.76,553.32749999999999,395.79374999999999]
[58,null,1613.21875,1402.3899999999999,1275.4224999999999,1143.4912499999998,790.80374999999992,597.47874999999999,428.71124999999995]
[59,null,1667.2974999999999,1449.9375,1313.8262499999998,1189.4712499999998,820.84749999999997,644.76499999999999,463.97999999999996]
[60,null,1720.85375,1496.1787499999998,1353.2749999999999,1235.9737499999999,850.8912499999999,696.23124999999993,502.12249999999995]
[61,null,1787.2112499999998,1553.6537499999999,1411.5337499999998,1282.2149999999999,882.50249999999994,750.83249999999998,542.87749999999994]
[62,null,1867.415,1623.6687499999998,1480.5037499999999,1339.9512499999998,922.99624999999992,810.39749999999992,587.29]
[63,null,1963.5549999999998,1707.0074999999999,1557.31125,1408.9212499999999,971.06624999999997,874.14249999999993,634.57624999999996]
[64,null,2076.415,1806.2824999999998,1646.3974999999998,1490.1699999999998,1077.9175,943.37374999999997,685.52]
[65,null,2212.7874999999999,1923.5837499999998,1753.7712499999998,1601.4624999999999,1153.9412499999999,1017.5687499999999,740.38249999999994]
[66,null,2371.36625,2062.3074999999999,1880.4775,1729.2137499999999,1243.0274999999999,1098.0337499999998,799.68624999999997]
[67,null,{"$f":"+C55*$M$4","v":2560.7725},2226.895,2030.9574999999998,1868.9824999999998,1342.5637499999998,1184.2462499999999,863.43124999999998]
[68,null,2778.9162499999998,2415.7787499999999,2203.1212499999997,2026.5162499999999,1455.94625,1277.7737499999998,932.40124999999989]
[69,null,3032.0674999999997,2636.5349999999999,2404.0225,2213.0487499999999,1514.4662499999999,1378.355,1006.0737499999999]
[70,null,3325.4512499999996,2891.7762499999999,2613.8062499999996,2462.80375,1674.6125,1486.5124999999998,1085.2324999999998]
[71,null,3662.7249999999999,3185.16,2903.5324999999998,2711.7749999999996,1844.68625,1603.03,1169.6162499999998]
[72,null,4051.4649999999997,3522.9562499999997,3212.5912499999999,3001.24,2041.6687499999998,1727.6462499999998,1260.00875]
[73,null,4499.7699999999995,3912.7412499999996,3567.3687499999996,3331.7212499999996,2265.82125,1861.4062499999998,1355.8874999999998]
[74,null,5016.7837499999996,4361.83,3977.0087499999995,3715.2362499999999,2527.07125,2004.0487499999999,1457.2524999999998]
[75,null,5609.0374999999995,4877.7987499999999,4429.4937499999996,4180.2612499999996,2835.3462499999996,2154.79,1563.58125]
[76,null,6290.9,5469.7912499999993,4983.6049999999996,4687.0862499999994,3179.1512499999999,2314.4137499999997,1674.3512499999999]
[77,null,7064.2,6143.5549999999994,5601.2,5225.7837499999996,3571.2874999999999,2481.0912499999999,1788.5174999999999]
[78,null,7938.0812499999993,6902.4862499999999,6293.2512499999993,5605.6412499999997,3845.6,2654.2999999999997,1904.5124999999998]
[79,null,8918.8137499999993,7754.6837499999992,7071.2537499999999,6004.3087499999992,4116.2550000000001,2832.4724999999999,2019.7237499999999]
[80,"o más",10023.64,8776.432499999999,7812.1587499999996,6420.48,4395.2699999999995,3012.4737499999997,2131.7999999999997]
[1,"Hijo",384.55999999999995,334.4,242.17874999999998,165.89374999999998,90.653749999999988,51.727499999999999,29.782499999999999]
[2,"Hijos",454.83624999999995,395.01,286.33,196.45999999999998,106.85124999999999,61.393749999999997,35.0075]
[3,"Hijos o más",{"$f":"+C71*$M$4","v":629.61249999999995},547.0575,396.57749999999999,271.96125000000001,148.12875,84.644999999999996,48.853749999999998]
[]
["ESSENTIAL 100"]
["TARIFAS TRIMESTRALES"]
["EDAD"]
[" "," ","F100-1","F100-2","F100-3","F100-4","F100-5"]
[18,null,{"$f":"+C147*$M$4","v":738.03125},{"$f":"+D147*$M$4","v":723.14},682.90749999999991,623.08124999999995,482.26749999999998]
[19,null,{"$f":"+C148*$M$4","v":752.13874999999996},737.24749999999995,695.18624999999997,634.31499999999994,492.19499999999999]
[20,null,764.67874999999992,747.69749999999999,706.15874999999994,643.45875000000001,501.33874999999995]
[21,null,777.21875,761.80499999999995,717.39249999999993,653.90874999999994,512.57249999999999]
[22,null,789.49749999999995,776.43499999999995,729.9325,666.70999999999992,523.54499999999996]
[23,null,804.38874999999996,787.40749999999991,742.47249999999997,676.37624999999991,534.25624999999991]
[24,null,817.71249999999998,800.99249999999995,755.01249999999993,688.13249999999994,544.96749999999997]
[25,null,829.99124999999992,813.2712499999999,765.20124999999996,700.15,557.76874999999995]
[26,null,843.57624999999996,826.59499999999991,779.0474999999999,710.07749999999999,567.17374999999993]
[27,null,855.33249999999998,838.87374999999997,789.49749999999995,721.57249999999999,578.14625000000001]
[28,null,871.26874999999995,854.54874999999993,805.43374999999992,734.37374999999997,592.25374999999997]
[29,null,886.94374999999991,869.43999999999994,819.28,746.3912499999999,607.40625]
[30,null,903.1412499999999,884.33124999999995,833.38749999999993,760.76,620.46875]
[31,null,917.51,898.69999999999993,846.71124999999995,772.77749999999992,634.31499999999994]
[32,null,933.70749999999998,914.11374999999998,862.3862499999999,785.83999999999992,647.11624999999992]
[33,null,958.52624999999989,939.19374999999991,885.37624999999991,806.21749999999997,667.49374999999998]
[34,null,984.12874999999997,964.79624999999999,908.62749999999994,828.68499999999995,687.08749999999998]
[35,null,{"$f":"+C164*$M$4","v":1009.7312499999999},989.6149999999999,933.18499999999995,850.36874999999998,706.15874999999994]
[36,null,1034.81125,1014.6949999999999,956.43624999999997,871.26874999999995,727.31999999999994]
[37,null,1059.6299999999999,1039.5137499999998,979.9487499999999,893.99749999999995,746.13]
[38,null,1086.2774999999999,1065.11625,1004.5062499999999,915.15874999999994,767.81374999999991]
[39,null,1112.925,1089.9349999999999,1027.4962499999999,937.88749999999993,788.19124999999997]
[40,null,1139.31125,1116.06,1052.05375,958.52624999999989,809.875]
[41,null,1165.6975,1142.1849999999999,1076.0887499999999,980.73249999999996,830.25249999999994]
[42,null,1191.3,1167.2649999999999,1100.12375,1001.89375,853.50374999999997]
[43,null,1238.06375,1213.5062499999999,1143.23,1043.4324999999999,888.5112499999999]
[44,null,1285.8724999999999,1260.00875,1186.8587499999999,1083.1424999999999,927.6987499999999]
[45,null,1334.7262499999999,1305.7275,1230.74875,1122.8525,965.05749999999989]
[46,null,1379.1387499999998,1353.5362499999999,1274.6387499999998,1162.82375,1001.1099999999999]
[47,null,1427.7312499999998,1398.7324999999998,1319.05125,1202.7949999999998,1039.5137499999998]
[48,null,1478.4137499999999,1447.8474999999999,1364.50875,1244.8562499999998,1077.13375]
[49,null,1527.5287499999999,1497.4849999999999,1410.75,1286.13375,1117.6274999999998]
[50,null,1577.16625,1547.1224999999999,1457.2524999999998,1328.7175,1157.0762499999998]
[51,null,{"$f":"+C180*$M$4","v":1626.8037499999998},1595.9762499999999,1503.2324999999998,1371.30125,1196.2637499999998]
[52,null,1677.4862499999999,1643.5237499999998,1549.7349999999999,1413.62375,1235.4512499999998]
[53,null,1736.5287499999999,1703.0887499999999,1604.5974999999999,1463,1284.3049999999998]
[54,null,1796.0937499999998,1761.3474999999999,1659.4599999999998,1513.6824999999999,1331.0687499999999]
[55,null,1854.61375,1819.3449999999998,1715.1062499999998,1563.58125,1378.6162499999998]
[56,null,1915.2237499999999,1877.3425,1769.7075,1614.0024999999998,1426.9475]
[57,null,1974.2662499999999,1935.6012499999999,1822.7412499999998,1661.81125,1474.4949999999999]
[58,null,2042.4524999999999,2003.0037499999999,1880.2162499999999,1720.33125,1536.9337499999999]
[59,null,2109.59375,2068.3162499999999,1938.2137499999999,1777.5449999999998,1599.3724999999999]
[60,null,2179.3474999999999,2133.89,1995.1662499999998,1835.5424999999998,1661.81125]
[61,null,2261.6412499999997,2216.4449999999997,2081.9012499999999,1904.7737499999998,1723.98875]
[62,null,2363.0062499999999,2317.0262499999999,2183.2662499999997,1990.9862499999999,1802.36375]
[63,null,2485.5324999999998,2435.1112499999999,2295.3424999999997,2092.0899999999997,1894.8462499999998]
[64,null,2629.4812499999998,2575.6637499999997,2428.3187499999999,2213.8325,2003.5262499999999]
[65,null,2800.6,2743.125,2587.4199999999996,2358.8262499999996,2152.4387499999998]
[66,null,3001.5012499999998,2941.6749999999997,2772.3849999999998,2528.6387499999996,2325.38625]
[67,null,{"$f":"+C196*$M$4","v":3240.8062499999996},3177.8449999999998,2994.1862499999997,2730.32375,2512.1799999999998]
[68,null,3516.9474999999998,3445.3649999999998,3247.5987499999997,2960.7462499999997,2724.3149999999996]
[69,null,3837.7624999999998,3761.9999999999995,3544.3787499999999,3231.4012499999999,2976.16]
[70,null,4210.3049999999994,4124.6149999999998,3855.0049999999997,3544.64,3310.2987499999999]
[71,null,4634.3137499999993,4542.3537499999993,4281.1037499999993,3902.8137499999998,3645.2212499999996]
[72,null,5128.5987499999992,5024.8824999999997,4736.7237500000001,4318.9849999999997,4035.2674999999999]
[73,null,5695.7725,5580.8224999999993,5260.7912499999993,4796.5499999999993,4479.1312499999995]
[74,null,6350.9874999999993,6223.2362499999999,5864.54,5346.7424999999994,4994.8387499999999]
[75,null,7100.2524999999996,6957.0874999999996,6530.2049999999999,5977.9224999999997,5619.4874999999993]
[76,null,7962.9,7800.4024999999992,7347.1337499999991,6703.6749999999993,6301.6112499999999]
[77,null,8941.5424999999996,8761.5412500000002,8256.2837499999987,7529.4862499999999,7077.0012499999993]
[78,null,10047.674999999999,9844.1612499999992,9278.5549999999985,8459.5362499999992,7950.6212499999992]
[79,null,11288.612499999999,11061.8475,10424.658749999999,9504.5362499999992,8932.9212499999994]
[80,"o más",12774.341249999999,12516.487499999999,11796.4825,10755.92375,10107.762499999999]
[1,"Hijo",379.33499999999998,370.71374999999995,349.03,319.77,188.1]
[2,"Hijos",637.44999999999993,624.38749999999993,588.0737499999999,536.60749999999996,280.32124999999996]
[3,"Hijos o más",{"$f":"+C212*$M$4","v":934.49124999999992},914.89749999999992,862.3862499999999,787.1462499999999,400.75749999999999]
[]
["ESSENTIAL 50"]
["TARIFAS TRIMESTRALES"]
["EDAD"]
[" "," ","F50-1","F50-2","F50-3","F50-4","F50-5"]
[18,null,{"$f":"+C289*$M$4","v":587.02874999999995},{"$f":"+D289*$M$4","v":575.0112499999999},542.09375,494.80749999999995,382.20874999999995]
[19,null,{"$f":"+C290*$M$4","v":596.69499999999994},584.93874999999991,550.45375000000001,502.38374999999996,390.04624999999999]
[20,null,607.40625,594.08249999999998,560.38124999999991,509.96,398.40625]
[21,null,617.33375000000001,603.74874999999997,571.09249999999997,519.62624999999991,408.07249999999999]
[22,null,627.2612499999999,614.45999999999992,579.45249999999999,527.98624999999993,415.90999999999997]
[23,null,637.71124999999995,625.69374999999991,588.33499999999992,537.13,424.53124999999994]
[24,null,647.9,635.88249999999994,598.78499999999997,546.27374999999995,433.67499999999995]
[25,null,658.87249999999995,645.28749999999991,608.71249999999998,554.63374999999996,441.25124999999997]
[26,null,668.27749999999992,656.26,618.11749999999995,563.77749999999992,450.13374999999996]
[27,null,679.77249999999992,666.1875,627.2612499999999,572.39874999999995,459.53874999999999]
[28,null,691.52874999999995,677.16,637.97249999999997,582.58749999999998,470.51124999999996]
[29,null,704.59124999999995,689.96124999999995,650.51249999999993,593.03749999999991,480.96124999999995]
[30,null,716.34749999999997,701.19499999999994,662.00749999999994,602.4425,492.45624999999995]
[31,null,728.62624999999991,713.21249999999998,673.50249999999994,613.41499999999996,502.38374999999996]
[32,null,739.8599999999999,726.53625,683.95249999999999,624.38749999999993,514.66249999999991]
[33,null,760.76,745.86874999999998,703.28499999999997,641.10749999999996,529.03125]
[34,null,781.66,766.50749999999994,721.8337499999999,658.34999999999991,544.96749999999997]
[35,null,{"$f":"+C306*$M$4","v":800.99249999999995},785.05624999999998,739.8599999999999,675.33124999999995,560.38124999999991]
[36,null,821.63124999999991,805.43374999999992,759.4537499999999,691.52874999999995,576.57875000000001]
[37,null,842.00874999999996,825.02749999999992,776.95749999999998,708.24874999999997,592.51499999999999]
[38,null,862.3862499999999,845.9274999999999,797.0737499999999,727.31999999999994,608.71249999999998]
[39,null,883.5474999999999,865.5212499999999,815.62249999999995,744.04,625.95499999999993]
[40,null,904.18624999999997,885.37624999999991,834.43249999999989,761.0212499999999,643.19749999999999]
[41,null,924.56374999999991,905.75374999999997,853.50374999999997,777.21875,658.87249999999995]
[42,null,945.20249999999999,925.86999999999989,873.35874999999999,796.02874999999995,675.59249999999997]
[43,null,982.56124999999997,962.96749999999997,906.79874999999993,827.64,706.15874999999994]
[44,null,1020.4424999999999,1000.5875,942.3287499999999,859.51249999999993,735.68]
[45,null,1058.32375,1035.33375,977.85874999999999,891.38499999999999,766.50749999999994]
[46,null,1095.6824999999999,1072.9537499999999,1011.56,923.51874999999995,795.24499999999989]
[47,null,1133.3025,1109.79,1046.8287499999999,953.8237499999999,825.02749999999992]
[48,null,1172.75125,1148.9775,1083.1424999999999,988.56999999999994,855.59374999999989]
[49,null,1212.9837499999999,1188.94875,1119.1949999999999,1021.74875,886.94374999999991]
[50,null,1251.9099999999999,1227.3525,1156.8149999999998,1054.9275,917.7712499999999]
[51,null,{"$f":"+C322*$M$4","v":1291.6199999999999},1266.0174999999999,1192.8674999999998,1088.3674999999998,948.33749999999998]
[52,null,1331.33,1304.4212499999999,1230.2262499999999,1122.0687499999999,980.20999999999992]
[53,null,1378.6162499999998,1350.6624999999999,1272.81,1160.7337499999999,1017.8299999999999]
[54,null,1426.425,1396.9037499999999,1316.4387499999998,1200.4437499999999,1056.2337499999999]
[55,null,1473.1887499999998,1442.88375,1359.8062499999999,1239.6312499999999,1094.37625]
[56,null,1519.6912499999999,1489.6474999999998,1403.4349999999999,1278.8187499999999,1131.7349999999999]
[57,null,1566.7162499999999,1535.1049999999998,1448.1087499999999,1319.3125,1170.1387499999998]
[58,null,1622.3625,1587.6162499999998,1493.3049999999998,1365.2925,1220.2987499999999]
[59,null,1675.9187499999998,1641.95625,1539.0237499999998,1410.48875,1269.675]
[60,null,1730.52,1694.4675,1583.43625,1456.7299999999998,1319.05125]
[61,null,1794.7874999999999,1760.04125,1652.40625,1511.85375,1368.16625]
[62,null,1876.0362499999999,1838.155,1732.61,1579.7787499999999,1429.56]
[63,null,1972.9599999999998,1932.98875,1822.7412499999998,1661.0274999999999,1503.2324999999998]
[64,null,2086.3424999999997,2044.2812499999998,1926.7187499999998,1756.1224999999999,1589.1837499999999]
[65,null,2222.4537499999997,2177.7799999999997,2051.5962500000001,1871.5949999999998,1708.0524999999998]
[66,null,2382.6,2335.0524999999998,2201.03125,2007.1837499999999,1845.4699999999998]
[67,null,{"$f":"+C338*$M$4","v":2572.0062499999999},2520.2787499999999,2375.8074999999999,2166.0237499999998,1993.0762499999998]
[68,null,2790.9337499999997,2733.9812499999998,2576.7087499999998,2350.4662499999999,2162.105]
[69,null,3044.8687499999996,2984.78125,2813.14,2564.4299999999998,2360.6549999999997]
[70,null,3340.0812499999997,3272.6787499999996,3058.1924999999997,2813.14,2626.6074999999996]
[71,null,3678.6612499999997,3604.2049999999999,3395.98875,3097.1187499999996,2892.2987499999999]
[72,null,4069.7524999999996,3986.9362499999997,3758.0812499999997,3427.3387499999999,3202.1412499999997]
[73,null,4519.1025,4426.8812499999995,4174.5137500000001,3805.3674999999998,3553.5224999999996]
[74,null,5038.2062499999993,4935.7962499999994,4653.1237499999997,4242.7,3963.6849999999999]
[75,null,5633.3337499999998,5520.2124999999996,5181.8937499999993,4743.7774999999992,4456.9249999999993]
[76,null,6316.5024999999996,6189.2737499999994,5828.7487499999997,5318.7887499999997,4999.5412499999993]
[77,null,7094.7662499999997,6952.1237499999997,6552.15,5974.7874999999995,5614.5237499999994]
[78,null,7971.7824999999993,7810.0687499999995,7361.7637499999992,6711.2512499999993,6308.4037499999995]
[79,null,8956.4337500000001,8776.432499999999,8271.9587499999998,7542.0262499999999,7087.7124999999996]
[80,"o más",10135.193749999999,9930.6350000000002,9359.0199999999986,8535.0374999999985,8019.8524999999991]
[1,"Hijo",299.39249999999998,294.16749999999996,276.40249999999997,252.36749999999998,150.21875]
[2,"Hijos",504.47374999999994,495.33,466.33124999999995,425.57624999999996,221.54]
[3,"Hijos o más",{"$f":"+C354*$M$4","v":741.4274999999999},726.53625,683.95249999999999,624.38749999999993,319.50874999999996]
[]
[]
["ESSENTIAL 1000"]
["TARIFAS ANUALES"]
["EDAD"]
[" "," ","F50-1","F50-2","F50-3","F50-4","F50-5","F50-4","F50-5"]
[18,null,2626,2286,1961,1367,752,437,256]
[19,null,2669,2326,1961,1367,758,442,261]
[20,null,2714,2363,1961,1370,765,449,266]
[21,null,2766,2406,1961,1377,774,457,273]
[22,null,2812,2445,1965,1387,785,466,280]
[23,null,2858,2484,1976,1400,797,476,288]
[24,null,2905,2525,1991,1417,812,488,297]
[25,null,2950,2568,2011,1436,827,499,306]
[26,null,2997,2607,2036,1460,847,513,316]
[27,null,3043,2646,2066,1488,867,530,329]
[28,null,3101,2692,2102,1520,891,547,341]
[29,null,3154,2746,2144,1556,918,564,355]
[30,null,3208,2793,2193,1596,946,586,370]
[31,null,3263,2840,2246,1641,977,609,386]
[32,null,3319,2883,2306,1691,1013,632,404]
[33,null,3409,2966,2374,1747,1051,660,424]
[34,null,3500,3043,2449,1808,1094,690,445]
[35,null,3590,3122,2531,1874,1139,721,468]
[36,null,3680,3202,2621,1946,1189,756,494]
[37,null,3773,3282,2720,2025,1244,794,521]
[38,null,3867,3364,2829,2113,1303,835,552]
[39,null,3960,3441,2946,2207,1367,881,585]
[40,null,4051,3521,3072,2309,1437,929,620]
[41,null,4142,3605,3212,2420,1512,982,658]
[42,null,4238,3682,3360,2541,1594,1039,700]
[43,null,4403,3830,3495,2670,1682,1102,747]
[44,null,4573,3978,3628,2812,1779,1169,796]
[45,null,4740,4122,3758,2964,1883,1241,850]
[46,null,4908,4268,3894,3127,1995,1321,910]
[47,null,5079,4415,4025,3305,2117,1407,972]
[48,null,5259,4570,4166,3495,2249,1501,1042]
[49,null,5435,4727,4311,3701,2391,1601,1118]
[50,null,5613,4882,4449,3876,2557,1631,1206]
[51,null,5789,5035,4591,4006,2758,1768,1313]
[52,null,5968,5190,4734,4139,2891,1914,1428]
[53,null,6178,5373,4901,4301,2996,1995,1554]
[54,null,6390,5556,5068,4458,3102,2157,1687]
[55,null,6604,5743,5233,4618,3215,2331,1831]
[56,null,6815,5926,5400,4778,3322,2423,1986]
[57,null,7021,6109,5569,4939,3426,2617,2152]
[58,null,7265,6318,5744,5149,3562,2826,2331]
[59,null,7510,6531,5918,5357,3697,2929,2524]
[60,null,7751,6738,6093,5566,3832,3163,2732]
[61,null,8049,6998,6356,5775,3975,3413,2955]
[62,null,8559,7349,6668,6036,4156,3531,3195]
[63,null,9152,7879,7015,6345,4372,3810,3455]
[64,null,9790,8451,7415,6710,4624,4113,3736]
[65,null,10474,9067,7899,7212,4950,4247,4040]
[66,null,11211,9731,8468,7789,5331,4585,4366]
[67,null,12003,10444,9146,8417,5759,4949,4718]
[68,null,12852,11213,9922,9127,6244,5584,5098]
[69,null,13764,12038,10825,9967,6820,6029,5508]
[70,null,14976,13024,11772,11092,7542,6510,5951]
[71,null,16493,14344,13076,12214,8308,7332,6426]
[72,null,18244,15866,14467,13517,9195,7913,6936]
[73,null,20266,17621,16064,15005,10204,8539,7482]
[74,null,22592,19644,17910,16730,11379,9590,8064]
[75,null,25261,21967,19946,18826,12769,10335,8680]
[76,null,28329,24633,22441,21108,14317,11129,9332]
[77,null,31813,27665,25223,23706,16083,12443,10012]
[78,null,35747,31084,28341,26634,18069,13361,10718]
[79,null,40164,34922,31843,29928,20304,14316,11442]
[80,"o más",45448,39523,36031,33865,22974,15887,12170]
[1,"Hijo",1732,1509,1303,902,497,288,169]
[2,"Hijos",2047,1783,1539,1067,587,341,199]
[3,"Hijos o más",2834,2468,2132,1477,813,471,277]
[]
["ESSENTIAL 1000"]
["TARIFAS MENSUALES"]
["EDAD"]
[" "," ","F50-1","F50-2","F50-3","F50-4","F50-5"]
[18,null,{"$f":"C920*$M$2","v":231.96333333333334},{"$f":"D920*$M$2","v":201.93},173.22166666666666,120.75166666666667,66.426666666666662,38.601666666666667,22.613333333333333]
[19,null,{"$f":"C921*$M$2","v":235.76166666666666},205.46333333333334,173.22166666666666,120.75166666666667,66.956666666666663,39.043333333333337,23.055]
[20,null,239.73666666666668,208.73166666666665,173.22166666666666,121.01666666666667,67.575000000000003,39.661666666666669,23.496666666666666]
[21,null,244.33,212.53,173.22166666666666,121.63500000000001,68.37,40.368333333333332,24.114999999999998]
[22,null,248.39333333333335,215.97499999999999,173.57499999999999,122.51833333333333,69.341666666666669,41.163333333333334,24.733333333333334]
[23,null,252.45666666666668,219.42,174.54666666666665,123.66666666666667,70.401666666666671,42.046666666666667,25.44]
[24,null,256.60833333333335,223.04166666666666,175.87166666666667,125.16833333333334,71.726666666666659,43.106666666666669,26.234999999999999]
[25,null,260.58333333333331,226.84,177.63833333333332,126.84666666666666,73.051666666666662,44.078333333333333,27.03]
[26,null,264.73500000000001,230.285,179.84666666666666,128.96666666666667,74.818333333333328,45.314999999999998,27.913333333333334]
[27,null,268.79833333333335,233.73,182.49666666666667,131.44,76.584999999999994,46.81666666666667,29.061666666666667]
[28,null,273.92166666666668,237.79333333333332,185.67666666666668,134.26666666666668,78.704999999999998,48.318333333333335,30.121666666666666]
[29,null,278.60333333333335,242.56333333333333,189.38666666666666,137.44666666666666,81.09,49.82,31.358333333333334]
[30,null,283.37333333333333,246.715,193.715,140.97999999999999,83.563333333333333,51.763333333333335,32.68333333333333]
[31,null,288.23166666666668,250.86666666666667,198.39666666666668,144.95500000000001,86.301666666666662,53.795000000000002,34.096666666666664]
[32,null,293.17833333333334,254.66499999999999,203.69666666666666,149.37166666666667,89.481666666666669,55.826666666666668,35.686666666666667]
[33,null,301.12833333333333,261.99666666666667,209.70333333333332,154.31833333333333,92.838333333333338,58.3,37.453333333333333]
[34,null,309.16666666666669,268.79833333333335,216.32833333333332,159.70666666666668,96.63666666666667,60.95,39.30833333333333]
[35,null,{"$f":"C937*$M$2","v":317.11666666666667},275.77666666666664,223.57166666666666,165.53666666666666,100.61166666666666,63.688333333333333,41.34]
[36,null,325.06666666666666,282.84333333333331,231.52166666666668,171.89666666666668,105.02833333333334,66.78,43.636666666666663]
[37,null,333.28166666666664,289.91000000000003,240.26666666666668,178.875,109.88666666666667,70.13666666666667,46.021666666666668]
[38,null,341.58499999999998,297.15333333333331,249.89500000000001,186.64833333333334,115.09833333333333,73.75833333333334,48.76]
[39,null,349.8,303.95499999999998,260.23,194.95166666666665,120.75166666666667,77.821666666666673,51.674999999999997]
[40,null,357.83833333333331,311.02166666666665,271.36,203.96166666666667,126.935,82.061666666666667,54.766666666666666]
[41,null,365.87666666666667,318.44166666666666,283.72666666666669,213.76666666666668,133.56,86.743333333333339,58.123333333333335]
[42,null,374.35666666666668,325.24333333333334,296.8,224.45500000000001,140.80333333333334,91.778333333333336,61.833333333333336]
[43,null,388.93166666666667,338.31666666666666,308.72500000000002,235.85,148.57666666666665,97.343333333333334,65.984999999999999]
[44,null,403.94833333333332,351.39,320.47333333333336,248.39333333333335,157.14500000000001,103.26166666666667,70.313333333333333]
[45,null,418.7,364.11,331.95666666666665,261.82,166.33166666666668,109.62166666666667,75.083333333333329]
[46,null,433.54,377.00666666666666,343.97,276.21833333333331,176.22499999999999,116.68833333333333,80.38333333333334]
[47,null,448.64499999999998,389.99166666666667,355.54166666666669,291.94166666666666,187.00166666666667,124.285,85.86]
[48,null,464.54500000000002,403.68333333333334,367.99666666666667,308.72500000000002,198.66166666666666,132.58833333333334,92.043333333333337]
[49,null,480.09166666666664,417.55166666666668,380.80500000000001,326.92166666666668,211.20500000000001,141.42166666666665,98.756666666666661]
[50,null,495.815,431.24333333333334,392.995,342.38,225.86833333333334,144.07166666666666,106.53]
[51,null,{"$f":"C953*$M$2","v":511.36166666666668},444.75833333333333,405.53833333333336,353.86333333333334,243.62333333333333,156.17333333333335,115.98166666666667]
[52,null,527.17333333333329,458.45,418.17,365.61166666666668,255.37166666666667,169.07,126.14]
[53,null,545.72333333333336,474.61500000000001,432.92166666666668,379.92166666666668,264.64666666666665,176.22499999999999,137.27000000000001]
[54,null,564.45000000000005,490.78,447.67333333333335,393.79,274.01,190.535,149.01833333333335]
[55,null,583.35333333333335,507.29833333333335,462.24833333333333,407.92333333333335,283.99166666666667,205.905,161.73833333333334]
[56,null,601.99166666666667,523.46333333333337,477,422.05666666666667,293.44333333333333,214.03166666666667,175.43]
[57,null,620.18833333333328,539.62833333333333,491.92833333333334,436.27833333333331,302.63,231.16833333333332,190.09333333333333]
[58,null,641.74166666666667,558.09,507.38666666666666,454.82833333333332,314.64333333333332,249.63,205.905]
[59,null,663.38333333333333,576.90499999999997,522.75666666666666,473.20166666666665,326.56833333333333,258.72833333333335,222.95333333333332]
[60,null,684.67166666666662,595.19000000000005,538.21500000000003,491.66333333333336,338.49333333333334,279.39833333333331,241.32666666666665]
[61,null,710.995,618.15666666666664,561.44666666666672,510.125,351.125,301.48166666666668,261.02499999999998]
[62,null,756.04499999999996,649.16166666666663,589.00666666666666,533.17999999999995,367.11333333333334,311.90499999999997,282.22500000000002]
[63,null,808.42666666666662,695.97833333333335,619.6583333333333,560.47500000000002,386.19333333333333,336.55,305.19166666666666]
[64,null,864.7833333333333,746.505,654.99166666666667,592.7166666666667,408.45333333333332,363.315,330.01333333333332]
[65,null,925.20333333333338,800.91833333333329,697.745,637.05999999999995,437.25,375.15166666666664,356.86666666666667]
[66,null,990.30499999999995,859.57166666666672,748.00666666666666,688.02833333333331,470.90499999999997,405.00833333333333,385.66333333333336]
[67,null,{"$f":"C969*$M$2","v":1060.2650000000001},922.55333333333328,807.89666666666665,743.50166666666667,508.71166666666664,437.16166666666669,416.75666666666666]
[68,null,1135.26,990.48166666666668,876.44333333333338,806.21833333333336,551.55333333333328,493.25333333333333,450.32333333333332]
[69,null,1215.82,1063.3566666666666,956.20833333333337,880.41833333333329,602.43333333333328,532.56166666666661,486.54]
[70,null,1322.88,1150.4533333333334,1039.8599999999999,979.79333333333329,666.21,575.04999999999995,525.67166666666662]
[71,null,1456.8816666666667,1267.0533333333333,1155.0466666666666,1078.9033333333334,733.87333333333333,647.66,567.63]
[72,null,1611.5533333333333,1401.4966666666667,1277.9183333333333,1194.0016666666666,812.22500000000002,698.98166666666668,612.67999999999995]
[73,null,1790.1633333333334,1556.5216666666668,1418.9866666666667,1325.4416666666666,901.35333333333335,754.27833333333331,660.91]
[74,null,1995.6266666666666,1735.22,1582.05,1477.8166666666666,1005.145,847.11666666666667,712.32]
[75,null,2231.3883333333333,1940.4183333333333,1761.8966666666668,1662.9633333333334,1127.9283333333333,912.92499999999995,766.73333333333335]
[76,null,2502.395,2175.915,1982.2883333333334,1864.54,1264.6683333333333,983.06166666666661,824.32666666666671]
[77,null,2810.1483333333335,2443.7416666666668,2228.0316666666668,2094.0300000000002,1420.665,1099.1316666666667,884.39333333333332]
[78,null,3157.6516666666666,2745.7533333333331,2503.4549999999999,2352.67,1596.095,1180.2216666666666,946.75666666666666]
[79,null,3547.82,3084.7766666666666,2812.7983333333332,2643.64,1793.52,1264.58,1010.71]
[80,"o más",4014.5733333333333,3491.1983333333333,3182.7383333333332,2991.4083333333333,2029.37,1403.3516666666667,1075.0166666666667]
[1,"Hijo",152.99333333333334,133.29499999999999,115.09833333333333,79.676666666666662,43.901666666666664,25.44,14.928333333333333]
[2,"Hijos",180.81833333333333,157.49833333333333,135.94499999999999,94.251666666666665,51.851666666666667,30.121666666666666,17.578333333333333]
[3,"Hijos o más",{"$f":"C985*$M$2","v":250.33666666666667},218.00666666666666,188.32666666666665,130.46833333333333,71.814999999999998,41.604999999999997,24.468333333333334]
[]
["ESSENTIAL 1000"]
["TARIFAS TRIMESTRAL"]
["EDAD"]
[" "," ","F50-1","F50-2","F50-3","F50-4","F50-5"]
[18,null,{"$f":"C920*$M$4","v":686.0424999999999},{"$f":"D920*$M$4","v":597.21749999999997},512.31124999999997,357.12874999999997,196.45999999999998,114.16624999999999,66.88]
[19,null,{"$f":"C921*$M$4","v":697.27625},607.6674999999999,512.31124999999997,357.12874999999997,198.02749999999997,115.4725,68.186250000000001]
[20,null,709.03249999999991,617.33375000000001,512.31124999999997,357.91249999999997,199.85624999999999,117.30125,69.492499999999993]
[21,null,722.61749999999995,628.5675,512.31124999999997,359.74124999999998,202.20749999999998,119.39124999999999,71.321249999999992]
[22,null,734.63499999999999,638.75624999999991,513.35624999999993,362.35374999999999,205.08124999999998,121.74249999999999,73.149999999999991]
[23,null,746.65249999999992,648.94499999999994,516.23,365.75,208.21624999999997,124.35499999999999,75.239999999999995]
[24,null,758.93124999999998,659.65625,520.14874999999995,370.19124999999997,212.13499999999999,127.49,77.591249999999988]
[25,null,770.6875,670.89,525.37374999999997,375.15499999999997,216.05374999999998,130.36374999999998,79.942499999999995]
[26,null,782.96624999999995,681.0787499999999,531.90499999999997,381.42499999999995,221.27874999999997,134.02124999999998,82.554999999999993]
[27,null,794.98374999999999,691.26749999999993,539.74249999999995,388.73999999999995,226.50375,138.46249999999998,85.951249999999987]
[28,null,810.1362499999999,703.28499999999997,549.14749999999992,397.09999999999997,232.77374999999998,142.90375,89.086249999999993]
[29,null,823.98249999999996,717.39249999999993,560.12,406.505,239.82749999999999,147.345,92.743749999999991]
[30,null,838.08999999999992,729.67124999999999,572.92124999999999,416.95499999999998,247.14249999999998,153.0925,96.662499999999994]
[31,null,852.4587499999999,741.94999999999993,586.76749999999993,428.71124999999995,255.24124999999998,159.10124999999999,100.84249999999999]
[32,null,867.08874999999989,753.18374999999992,602.4425,441.77374999999995,264.64625000000001,165.10999999999999,105.54499999999999]
[33,null,890.60124999999994,774.86749999999995,620.20749999999998,456.40374999999995,274.57374999999996,172.42499999999998,110.77]
[34,null,914.37499999999989,794.98374999999999,639.80124999999998,472.34,285.8075,180.26249999999999,116.25624999999999]
[35,null,{"$f":"C937*$M$4","v":937.88749999999993},815.62249999999995,661.22375,489.58249999999998,297.56374999999997,188.36124999999998,122.26499999999999]
[36,null,961.4,836.52249999999992,684.73624999999993,508.39249999999998,310.62624999999997,197.505,129.0575]
[37,null,985.69624999999996,857.4224999999999,710.59999999999991,529.03125,324.995,207.43249999999998,136.11124999999998]
[38,null,1010.25375,878.84499999999991,739.07624999999996,552.02125000000001,340.40875,218.14374999999998,144.20999999999998]
[39,null,1034.55,898.96124999999995,769.64249999999993,576.57875000000001,357.12874999999997,230.16125,152.83124999999998]
[40,null,1058.32375,919.86124999999993,802.56,603.22624999999994,375.41624999999999,242.70124999999999,161.97499999999999]
[41,null,1082.0974999999999,941.80624999999998,839.13499999999999,632.22499999999991,395.01,256.54749999999996,171.90249999999997]
[42,null,1107.1775,961.9224999999999,877.8,663.83624999999995,416.43249999999995,271.43874999999997,182.875]
[43,null,1150.2837499999998,1000.5875,913.06874999999991,697.53749999999991,439.42249999999996,287.89749999999998,195.15374999999997]
[44,null,1194.69625,1039.2524999999998,947.81499999999994,734.63499999999999,464.76374999999996,305.40125,207.95499999999998]
[45,null,1238.3249999999998,1076.8724999999999,981.77749999999992,774.34499999999991,491.93374999999997,324.21124999999995,222.06249999999997]
[46,null,1282.2149999999999,1115.0149999999999,1017.3074999999999,816.92874999999992,521.19374999999991,345.11124999999998,237.73749999999998]
[47,null,1326.8887499999998,1153.4187499999998,1051.53125,863.43124999999998,553.06624999999997,367.57874999999996,253.93499999999997]
[48,null,1373.9137499999999,1193.9124999999999,1088.3674999999998,913.06874999999991,587.55124999999998,392.13624999999996,272.22249999999997]
[49,null,1419.89375,1234.9287499999998,1126.24875,966.8862499999999,624.64874999999995,418.26124999999996,292.07749999999999]
[50,null,1466.39625,1275.4224999999999,1162.30125,1012.6049999999999,668.0162499999999,426.09875,315.0675]
[51,null,{"$f":"C953*$M$4","v":1512.3762499999998},1315.39375,1199.3987499999998,1046.5674999999999,720.52749999999992,461.89,343.02124999999995]
[52,null,1559.1399999999999,1355.8874999999998,1236.7574999999999,1081.31375,755.27374999999995,500.03249999999997,373.065]
[53,null,1614.0024999999998,1403.69625,1280.38625,1123.63625,782.70499999999993,521.19374999999991,405.98249999999996]
[54,null,1669.3874999999998,1451.5049999999999,1324.0149999999999,1164.6524999999999,810.39749999999992,563.51625000000001,440.72874999999999]
[55,null,1725.2949999999998,1500.3587499999999,1367.1212499999999,1206.4524999999999,839.91874999999993,608.97375,478.34875]
[56,null,1780.4187499999998,1548.1674999999998,1410.75,1248.2524999999998,867.87249999999995,633.00874999999996,518.84249999999997]
[57,null,1834.2362499999999,1595.9762499999999,1454.9012499999999,1290.3137499999998,895.0424999999999,683.69124999999997,562.20999999999992]
[58,null,1897.9812499999998,1650.5774999999999,1500.62,1345.17625,930.57249999999999,738.2924999999999,608.97375]
[59,null,1961.9875,1706.2237499999999,1546.0774999999999,1399.5162499999999,965.84124999999995,765.20124999999996,659.39499999999998]
[60,null,2024.9487499999998,1760.3024999999998,1591.7962499999999,1454.1174999999998,1001.1099999999999,826.3337499999999,713.7349999999999]
[61,null,2102.80125,1828.2275,1660.5049999999999,1508.71875,1038.46875,891.6462499999999,771.99374999999998]
[62,null,2236.0387499999997,1919.92625,1742.0149999999999,1576.905,1085.7549999999999,922.47374999999988,834.69374999999991]
[63,null,2390.96,2058.3887500000001,1832.6687499999998,1657.6312499999999,1142.1849999999999,995.36249999999995,902.61874999999998]
[64,null,2557.6374999999998,2207.82375,1937.1687499999998,1752.9875,1208.02,1074.52125,976.03]
[65,null,2736.3325,2368.7537499999999,2063.61375,1884.1349999999998,1293.1875,1109.5287499999999,1055.4499999999998]
[66,null,2928.8737499999997,2542.2237499999997,2212.2649999999999,2034.8762499999998,1392.7237499999999,1197.83125,1140.6174999999998]
[67,null,{"$f":"C969*$M$4","v":3135.7837499999996},2728.4949999999999,2389.3924999999999,2198.9412499999999,1504.5387499999999,1292.92625,1232.5774999999999]
[68,null,3357.5849999999996,2929.3962499999998,2592.1224999999999,2384.42875,1631.2449999999999,1458.82,1331.8525]
[69,null,3595.8449999999998,3144.9274999999998,2828.03125,2603.8787499999999,1781.7249999999999,1575.0762499999998,1438.9649999999999]
[70,null,3912.4799999999996,3402.52,3075.4349999999999,2897.7849999999999,1970.3474999999999,1700.7375,1554.6987499999998]
[71,null,4308.7962499999994,3747.37,3416.1049999999996,3190.9074999999998,2170.4649999999997,1915.4849999999999,1678.7924999999998]
[72,null,4766.2449999999999,4144.9924999999994,3779.5037499999999,3531.3162499999999,2402.1937499999999,2067.2712499999998,1812.03]
[73,null,5294.4924999999994,4603.4862499999999,4196.7199999999993,3920.0562499999996,2665.7949999999996,2230.8137499999998,1954.6724999999999]
[74,null,5902.16,5131.9949999999999,4678.9874999999993,4370.7124999999996,2972.7637499999996,2505.3874999999998,2106.7199999999998]
[75,null,6599.4362499999997,5738.8787499999999,5210.8924999999999,4918.2924999999996,3335.9012499999999,2700.0187499999997,2267.6499999999996]
[76,null,7400.9512499999992,6435.3712499999992,5862.7112499999994,5514.4649999999992,3740.3162499999999,2907.4512499999996,2437.9849999999997]
[77,null,8311.1462499999998,7227.4812499999998,6589.50875,6193.1924999999992,4201.6837500000001,3250.7337499999999,2615.6349999999998]
[78,null,9338.9037499999995,8120.6949999999997,7404.0862499999994,6958.1324999999997,4720.5262499999999,3490.5612499999997,2800.0774999999999]
[79,null,10492.844999999999,9123.3724999999995,8318.9837499999994,7818.69,5304.42,3740.0549999999998,2989.2224999999999]
[80,"o más",11873.289999999999,10325.383749999999,9413.0987499999992,8847.2312499999989,6001.9574999999995,4150.4787499999993,3179.4124999999999]
[1,"Hijo",452.48499999999996,394.22624999999999,340.40875,235.64749999999998,129.84125,75.239999999999995,44.151249999999997]
[2,"Hijos",534.77874999999995,465.80874999999997,402.06374999999997,278.75374999999997,153.35374999999999,89.086249999999993,51.988749999999996]
[3,"Hijos o más",{"$f":"C985*$M$4","v":740.38249999999994},644.76499999999999,556.98500000000001,385.86624999999998,212.39624999999998,123.04875,72.366249999999994]
[]
["ESSENTIAL 1000"]
["TARIFAS SEMESTRAL"]
["EDAD"]
[" "," ","F50-1","F50-2","F50-3","F50-4","F50-5"]
[18,null,{"$f":"C920*$M$3","v":1352.39},{"$f":"D920*$M$3","v":1177.29},1009.9150000000001,704.005,387.28000000000003,225.05500000000001,131.84]
[19,null,{"$f":"C921*$M$3","v":1374.5350000000001},1197.8900000000001,1009.9150000000001,704.005,390.37,227.63,134.41499999999999]
[20,null,1397.71,1216.9449999999999,1009.9150000000001,705.55000000000007,393.97500000000002,231.23500000000001,136.99]
[21,null,1424.49,1239.0900000000001,1009.9150000000001,709.15499999999997,398.61,235.35500000000002,140.595]
[22,null,1448.18,1259.175,1011.975,714.30500000000006,404.27500000000003,239.99,144.20000000000002]
[23,null,1471.8700000000001,1279.26,1017.64,721,410.45499999999998,245.14000000000001,148.32]
[24,null,1496.075,1300.375,1025.365,729.755,418.18,251.32,152.95500000000001]
[25,null,1519.25,1322.52,1035.665,739.54,425.90500000000003,256.98500000000001,157.59]
[26,null,1543.4549999999999,1342.605,1048.54,751.9,436.20499999999998,264.19499999999999,162.74]
[27,null,1567.145,1362.69,1063.99,766.32,446.505,272.95,169.435]
[28,null,1597.0150000000001,1386.38,1082.53,782.80000000000007,458.86500000000001,281.70499999999998,175.61500000000001]
[29,null,1624.31,1414.19,1104.1600000000001,801.34,472.77000000000004,290.45999999999998,182.82500000000002]
[30,null,1652.1200000000001,1438.395,1129.395,821.94,487.19,301.79000000000002,190.55]
[31,null,1680.4449999999999,1462.6000000000001,1156.69,845.11500000000001,503.15500000000003,313.63499999999999,198.79]
[32,null,1709.2850000000001,1484.7450000000001,1187.5899999999999,870.86500000000001,521.69500000000005,325.48,208.06]
[33,null,1755.635,1527.49,1222.6100000000001,899.70500000000004,541.26499999999999,339.90000000000003,218.36]
[34,null,1802.5,1567.145,1261.2350000000001,931.12,563.41,355.35,229.17500000000001]
[35,null,{"$f":"C937*$M$3","v":1848.8500000000001},1607.8300000000002,1303.4650000000001,965.11,586.58500000000004,371.315,241.02]
[36,null,1895.2,1649.03,1349.8150000000001,1002.19,612.33500000000004,389.34000000000003,254.41]
[37,null,1943.095,1690.23,1400.8,1042.875,640.66,408.91,268.315]
[38,null,1991.5050000000001,1732.46,1456.9349999999999,1088.1949999999999,671.04500000000007,430.02500000000003,284.28000000000003]
[39,null,2039.4,1772.115,1517.19,1136.605,704.005,453.71500000000003,301.27500000000003]
[40,null,2086.2649999999999,1813.3150000000001,1582.08,1189.135,740.05500000000006,478.435,319.3]
[41,null,2133.13,1856.575,1654.18,1246.3,778.68000000000006,505.73,338.87]
[42,null,2182.5700000000002,1896.23,1730.4,1308.615,820.91,535.08500000000004,360.5]
[43,null,2267.5450000000001,1972.45,1799.925,1375.05,866.23,567.53,384.70499999999998]
[44,null,2355.0950000000003,2048.67,1868.42,1448.18,916.18500000000006,602.03499999999997,409.94]
[45,null,2441.1,2122.83,1935.3700000000001,1526.46,969.745,639.11500000000001,437.75]
[46,null,2527.62,2198.02,2005.41,1610.405,1027.425,680.31500000000005,468.65000000000003]
[47,null,2615.6849999999999,2273.7249999999999,2072.875,1702.075,1090.2550000000001,724.60500000000002,500.58000000000004]
[48,null,2708.3850000000002,2353.5500000000002,2145.4900000000002,1799.925,1158.2350000000001,773.01499999999999,536.63]
[49,null,2799.0250000000001,2434.4050000000002,2220.165,1906.0150000000001,1231.365,824.51499999999999,575.77]
[50,null,2890.6950000000002,2514.23,2291.2350000000001,1996.14,1316.855,839.96500000000003,621.09]
[51,null,{"$f":"C953*$M$3","v":2981.335},2593.0250000000001,2364.3650000000002,2063.09,1420.3700000000001,910.52,676.19500000000005]
[52,null,3073.52,2672.85,2438.0100000000002,2131.585,1488.865,985.71,735.42000000000007]
[53,null,3181.67,2767.0950000000003,2524.0149999999999,2215.0149999999999,1542.94,1027.425,800.31000000000006]
[54,null,3290.85,2861.34,2610.02,2295.87,1597.53,1110.855,868.80500000000006]
[55,null,3401.06,2957.645,2694.9949999999999,2378.27,1655.7250000000001,1200.4649999999999,942.96500000000003]
[56,null,3509.7249999999999,3051.89,2781,2460.67,1710.8300000000002,1247.845,1022.7900000000001]
[57,null,3615.8150000000001,3146.1350000000002,2868.0349999999999,2543.585,1764.39,1347.7550000000001,1108.28]
[58,null,3741.4749999999999,3253.77,2958.16,2651.7350000000001,1834.43,1455.39,1200.4649999999999]
[59,null,3867.65,3363.4650000000001,3047.77,2758.855,1903.9550000000002,1508.4349999999999,1299.8600000000001]
[60,null,3991.7650000000003,3470.07,3137.895,2866.4900000000002,1973.48,1628.9449999999999,1406.98]
[61,null,4145.2349999999997,3603.9700000000003,3273.34,2974.125,2047.125,1757.6949999999999,1521.825]
[62,null,4407.8850000000002,3784.7350000000001,3434.02,3108.54,2140.34,1818.4650000000001,1645.425]
[63,null,4713.28,4057.6849999999999,3612.7249999999999,3267.6750000000002,2251.58,1962.15,1779.325]
[64,null,5041.8500000000004,4352.2650000000003,3818.7249999999999,3455.65,2381.36,2118.1950000000002,1924.04]
[65,null,5394.1100000000006,4669.5050000000001,4067.9850000000001,3714.1800000000003,2549.25,2187.2049999999999,2080.6]
[66,null,5773.665,5011.4650000000001,4361.0200000000004,4011.335,2745.4650000000001,2361.2750000000001,2248.4900000000002]
[67,null,{"$f":"C969*$M$3","v":6181.5450000000001},5378.66,4710.1900000000005,4334.7550000000001,2965.8850000000002,2548.7350000000001,2429.77]
[68,null,6618.78,5774.6949999999997,5109.83,4700.4049999999997,3215.6600000000003,2875.76,2625.4700000000003]
[69,null,7088.46,6199.57,5574.875,5133.0050000000001,3512.3,3104.9349999999999,2836.62]
[70,null,7712.64,6707.3600000000006,6062.58,5712.38,3884.13,3352.65,3064.7649999999999]
[71,null,8493.8950000000004,7387.16,6734.14,6290.21,4278.62,3775.98,3309.39]
[72,null,9395.66,8170.99,7450.5050000000001,6961.2550000000001,4735.4250000000002,4075.1950000000002,3572.04]
[73,null,10436.99,9074.8150000000005,8272.9600000000009,7727.5749999999998,5255.06,4397.585,3853.23]
[74,null,11634.880000000001,10116.66,9223.65,8615.9500000000007,5860.1850000000004,4938.8500000000004,4152.96]
[75,null,13009.415000000001,11313.005000000001,10272.19,9695.39,6576.0349999999999,5322.5250000000005,4470.2]
[76,null,14589.434999999999,12685.995000000001,11557.115,10870.62,7373.2550000000001,5731.4350000000004,4805.9800000000005]
[77,null,16383.695,14247.475,12989.845000000001,12208.59,8282.7450000000008,6408.1450000000004,5156.18]
[78,null,18409.705000000002,16008.26,14595.615,13716.51,9305.5349999999999,6880.915,5519.77]
[79,null,20684.46,17984.830000000002,16399.145,15412.92,10456.56,7372.74,5892.63]
[80,"o más",23405.72,20354.345000000001,18555.965,17440.475000000002,11831.61,8181.8050000000003,6267.55]
[1,"Hijo",891.98,777.13499999999999,671.04500000000007,464.53000000000003,255.95500000000001,148.32,87.034999999999997]
[2,"Hijos",1054.2049999999999,918.245,792.58500000000004,549.505,302.30500000000001,175.61500000000001,102.485]
[3,"Hijos o más",{"$f":"C985*$M$3","v":1459.51},1271.02,1097.98,760.65499999999997,418.69499999999999,242.565,142.655]